{"text_format":"1","workbook":"xlsx","n_sheets":278,"sheets":["PRESENTACION","SINOPSIS - ÍNDICE DE CUADROS","SINOPSIS - ÍNDICE DE GRÁFICOS","SINOPSIS - ÍNDICE DE MAPAS","Indicadores Escogidos","O I-1.1.1","O I-1.1.2","I-1.1.1","I-1.2.1","I-1.2.2","I-1.2.3","I-1.2.4","I-1.2.5","I-1.2.6","I-1.2.7","I-1.2.8","I.1.2.9","I.1.2.10","I-1.2.11","I-1-2-12","I-1.2.13","I-1.2.14","I-1.2.15","I.2.1.1","I.2.2.1","I.2.2.2","I.2.2.3","I.2.3.1","I.2.3.2","I.2.4.1","I.2.4.2","I.2.4.3","I.2.7.1","I.2.7.2","I.2.7.3","I.2.7.4","I.2.7.5","I.2.7.6","I.2.8.1","I.2.8.2","I.2.9.1","I.2.9.2","I.2.9.3","I.2.9.4","I.2.9.5","I.2.9.6","I.2.9.7","I.2.9.8","I.2.9.9","I-3.1.1","I-3.1.2","I-3.1.3","I-3.1.4","I-3.1.5","I-3.1.6","I.3.1.7","I-3.1.8","I-3.1.9","I-3.1.10","I-3.1.11","I-3.1.12","I-3.1.13","I-.3.1.14","I-3.4.1","I-4.4.1","I-4.4.2","G I-1.2.1","G I-1.2.2.","G I-1.2.3","G I-1.2.4 ","G I-1.2.5","G I-1.2.6","G I-1.2.7","G I-1.2.8","G I-1.2.9","G I-1.2.10 ","G I-1.2.11","G I-1.2.12","G I-1.2.13","G I-1.2.14","G I-1.2.15","G I-1.2.16","G I-1.2.17","G I-1.2.18","G I-1.2.19","G I-1.2.20","G I-1.2.21","G I-1.2.22","O I-2.1.1","G I-2.1.1","G I-2.1.2","G I-2.1.3","G I-2.1.4","G I-2.1.5","G I-2.2.1","G I-2.2.2","G I-2.2.3","G I-2.2.4","G I-2.3.1","G I-2.3.2","G I-2.3.3","G I-2.3.4","G I-2.3.5","G I-2.3.6","GI-2.3.7","GI-2.3.8","GI-2.3.9","G I-2.3.10","G I-2.3.11","GI-2.3.12","GI-2.3.13","GI-2.3.14","GI-2.3.15","GI-2.3.16","GI-2.3.17","G I-2.4.1.","G I-.2.5.1","G I-.2.5.2","G I-2.5.3","G-.2.5.4","G I-2.5.5","GI-.2.6.1","GI-.2.6.2.","GI-.2.6.3.","G I-2.7.1.","G I-2.7.2","G I-2.7.3","G I-2.7.4","G I-2.7.5","G I-2.7.6","G I-2.7.7","G I-2.7.8","G I-2.9.1","G I-3.1.1","G I-3.1.2","G.I-3.1.3","G I-3.2.1 ","G I-3.2.2","G I-3.2.3","G I-3.2.4","G I-3.2.5","G I-3.3.1","G I-3.3.2","G I-3.4.1","G I-3.4.2","G I-3.4.3","G I-4.1.1 ","G I-4.1.2","G I_4.1.3","G I 4.2.1","G I 4.2.2","G I-4.2.3","G I-4.3.1","G I-4.3.2","M I-1.2.1","M I-1.2.2","M I-1.2.3","M I-1.2.4","M I-1.2.5","M I-1.2.6","M I-3.1","M I-3.2","M II-1","M II-2","M II-3","M II-4","M II-5","M II-6","M II-7","M II-8","PRIMERA INFANCIA E INICIAL"," II-1.1.1","II-1.1.2","II-1.2.1","II-1.2.2","II-1.2.3","II-1.2.4","II-1.2.5","II-1.2.6","II-1.2.7","II-1.3.1","II-1.3.2","II-1.3.3","II-1.3.4"," PRIMARIA","II-2.1.1"," II-2.1.2 ","II-2.1.3","II-2.1.4","II-2.2.1","II-2.2.2","II-2.2.3","II-2.2.4","II-2.2.5","II-2.2.6","II-2.2.7","II-2.2.8","II-2.2.9","II-2.2.10","II-2.2.11","II-2.2.12","II-2.2.13","II-2.2.14 ","II-2.2.15","II-2.2.16","II-2.2.17","II-2.2.18 ","II-2.3.1","II-2.3.2","MEDIA BASICA","II-3.1.1","II-3.1.2","II-3.2.1","II-3.2.2","II-3.2.3","II-3.2.4","II-3.2.5 ","II-3.2.6 ","II-3.3.1","II-3.3.2","II-3.4.1","MEDIA SUPERIOR","II-4.1.1","II-4.2.1","II-4.2.2 ","II-4.2.3 ","II-4.2.4 ","II-4.2.5","II-4.2.6","II-4.2.7","II-4.2.8 ","II_4_2_9","II_4_2_10","II-4.2.11 ","II-4.3.1 ","II-4.3.2","II-4.4.1","TERCIARIA NO UNIVERSITARIA ","II-5.1.1  ","II-5.2.1","II-5.2.2","II-5.3.1","II-5.3.2","FORMACIÓN EN EDUCACIÓN ","II-6.1.1","II-6.2.1 ","II-6.2.2","II-6.2.3 ","II-6.3.1 ","II-6.3.2","II-6.3.3","EDUCACIÓN UNIVERSITARIA","II-7.1.1 ","II-7.2.2 ","II-7.2.3 ","II-7.2.4","II-7.2.5","II-7.2.6","II-7.2.7 ","II-7.2.8 ","II-7.2.9 ","II-7.2.10 ","EDUCACIÓN DE JÓVENES Y ADULTOS"," II-8.1.1"," II-8.1.2","II-8.1.3","II-8.1.4","II-8.1.5","II-8.1.6","II-8.1.7","II-8.1.8","II-8.1.9","II-8.1.10","II-8.2.1","II-8.2.2","II-8.3.1 ","II-8.4.1","II-8.4.2"],"not_rendered":{"charts":0,"images":106,"macros":1,"external_links":1,"defined_names":481,"comments":0,"pivot_tables":0},"unopened":[],"bounds":{"document_bytes":16777216,"sheet_cells":100000,"rows_first":2000,"rows_last":500,"rows_between":2000,"halvings":0,"cell_chars":16384,"cell_head_chars":4096},"cells_cut":0,"cells_raw":0,"read":"whole","date_system":"1900"}

{"sheet":"PRESENTACION","index":0,"n_rows":26,"n_cols":7,"rows_kept":26,"cut":false,"hidden":false,"merged":[[4,1,4,9],[22,1,22,4],[23,1,31,4],[22,6,22,13],[23,6,23,13],[24,6,24,13],[25,6,31,13]]}
[]
[]
[]
[]
[]
[]
[]
[]
[]
[]
[]
[]
[]
[]
[]
[]
[]
[]
[]
[]
[]
[]
[null,"Autoridades:",null,null,null,null,"Esta publicación ha sido elaborada por los integrantes del Área de Investigación y Estadística de la Dirección de Educación\ndel Ministerio de Educación y Cultura:"]
[null,"Sr. José Alberto Mujica Cordano\nPresidente de la República\n\nDr. Ricardo Ehrlich\nMinistro de Educación y Cultura\n\nMtro. Oscar Gómez\nSubsecretario de Educación y Cultura\n\nSr. Pablo Álvarez\nDirector General de Secretaría\n\nMtro. Luis Garibaldi\nDirector de Educación"]
[null,null,null,null,null,null,"Mag. Gabriel Errandonea Lennon (Coordinador)"]
[null,null,null,null,null,null,"Lic. Gabriel Gómez\nLic. Leandro Pereira\nLic. Carla Orós\nLic. Daniel Zoppis \nLic. Daniel Manber\nSra. Nathalia Ascue\nLic. Felipe Maestro."]

{"sheet":"SINOPSIS - ÍNDICE DE CUADROS","index":1,"n_rows":0,"n_cols":0,"rows_kept":0,"cut":false,"hidden":false,"merged":[[21,0,21,4],[10,0,10,4],[12,0,12,4],[14,0,14,4],[15,0,15,4],[19,0,19,4],[37,0,37,4],[39,0,39,4],[23,0,23,4],[25,0,25,4],[27,0,27,4],[30,0,30,4],[33,0,33,4],[35,0,35,4]]}

{"sheet":"SINOPSIS - ÍNDICE DE GRÁFICOS","index":2,"n_rows":18,"n_cols":6,"rows_kept":18,"cut":false,"hidden":false,"merged":[]}
[]
[]
[]
[]
[]
[]
[]
[]
[]
[]
[]
[]
[]
[]
[]
[]
[]
[null,null,null,null,null,"Gráfico I-1.2.3         ASISTENCIA A ALGÚN ESTABLECIMIENTO EDUCATIVO POR EDADES SIMPLES SEGÚN GRANDES ÁREAS. "]

{"sheet":"SINOPSIS - ÍNDICE DE MAPAS","index":3,"n_rows":10,"n_cols":1,"rows_kept":10,"cut":false,"hidden":false,"merged":[]}
[]
[]
[]
[]
[]
[]
[]
[]
[]
["Mapa II-1         INDICADORES ESCOGIDOS EN EDUCACIÓN EN LA PRIMERA INFANCIA Y EDUCACIÓN INICIAL. AÑO 2012. "]

{"sheet":"Indicadores Escogidos","index":4,"n_rows":61,"n_cols":4,"rows_kept":61,"cut":false,"hidden":false,"merged":[[8,0,8,2],[3,0,3,3],[4,0,4,2],[5,0,5,2],[6,0,6,2],[7,0,7,2],[31,0,31,2],[20,0,20,2],[9,0,9,2],[10,0,10,3],[11,0,11,2],[12,0,12,2],[13,0,13,2],[14,0,14,2],[15,0,15,2],[16,0,16,2],[17,0,17,2],[18,0,18,2],[19,0,19,2],[26,0,26,2],[27,0,27,2],[28,0,28,2],[29,0,29,2],[30,0,30,2],[21,0,21,2],[22,0,22,2],[23,0,23,2],[24,0,24,3],[25,0,25,2],[43,0,43,3],[44,0,44,2],[45,0,45,2],[37,0,37,3],[32,0,32,2],[61,0,61,3],[60,0,60,3],[59,0,59,2],[48,0,48,2],[58,0,58,2],[49,0,49,2],[50,0,50,3],[51,0,51,2],[52,0,52,2],[53,0,53,2],[54,0,54,2],[0,0,0,2],[2,0,2,3],[55,0,55,2],[56,0,56,2],[57,0,57,3],[46,0,46,2],[47,0,47,2],[42,0,42,2],[33,0,33,2],[38,0,38,2],[39,0,39,2],[40,0,40,2],[41,0,41,2],[34,0,34,2],[35,0,35,2],[36,0,36,2]]}
["Ministerio de Educación y Cultura\nDirección de Educación\n"]
[]
["INDICADORES ESCOGIDOS."]
["INICIAL"]
["Cantidad de Establecimientos de Educación Inicial y Primera Infancia (Supervisados por CEIP, públicos y privados) ",null,null,249]
["Cantidad de Centros CAIF (Supervisados por el INAU)",null,null,336]
["Cantidad de Centros de Educación Infantil Privados (Supervisados por el MEC)",null,null,454]
["Cantidad de alumnos en Educación Inicial y Primera Infancia (Supervisados por CEIP públicos y privados)",null,null,109602]
["Cantidad de alumnos en Centros CAIF (Supervisados por el INAU)",null,null,45620]
["Cantidad de alumnos en Centros de Educación Infantil Privados (Supervisados por el MEC)",null,null,21255]
["EDUCACIÓN PRIMARIA"]
["Cantidad de establecimientos",null,null,2421]
["Cantidad de alumnos",null,null,319238]
["Porcentaje de alumnos de educación pública",null,null,83.4]
["Porcentaje de alumnos de Montevideo en educación pública",null,null,71.3]
["Porcentaje de alumnos del Resto del País en educación pública",null,null,90.1]
["Porcentaje de alumnos de educación pública que se encuentran en Área Urbana",null,null,93.8]
["Razón Público/Privado en Educación Primaria",null,null,5]
["Porcentaje de alumnos que no aprobaron en 1ero",null,null,13.7]
["Porcentaje de alumnos que no aprobaron de 1ero a 6to",null,null,5.6]
["Porcentaje de alumnos que no aprobaron de 1ero a 6to en escuelas rurales",null,null,4.0999999999999996]
["Porcentaje de alumnos que no aprobaron de 1ero a 6to en escuelas urbanas",null,null,5.7]
["Porcentaje de personas de 14 a 15 que culminaron primaria",null,null,96.7]
["Porcentaje de personas de 15 a 20 que no culminaron educación media básica, no estudian, no trabajan y no buscan trabajo",null,null,9.4]
["EDUCACIÓN MEDIA"]
["Cantidad de establecimientos dependientes del CES",null,null,471]
["Cantidad de establecimientos dependientes del CETP (UTU)",null,null,235]
["Porcentaje de establecimientos dependientes del CES en Montevideo",null,null,37.4]
["Porcentaje de establecimientos dependientes del CETP (UTU) en Montevideo",null,null,21.7]
["Cantidad de alumnos en Educación Media Básica",null,null,181444]
["Cantidad de alumnos en Educación Media Superior",null,null,153682]
["Razón Público/Privado en Educación Media Básica",null,null,5]
["Razón Público/Privado en Educación Media Superior",null,null,5.8]
["Porcentaje de no aprobación de 1º a 3º año diurno público en Educación Media Básica General",null,null,28.6]
["Porcentaje de desvinculación de 1º a 3º año diurno público en Educación Media Básica General",null,null,3.5]
["Porcentaje de personas de 17 a 18 años que culminaron ciclo básico",null,null,64.400000000000006]
["Porcentaje de personas de 21 a 22 años que culminaron segundo ciclo ",null,null,36.799999999999997]
["EDUCACIÓN TERCIARIA"]
["Cantidad de matriculados en cursos de grado en universidades e institutos universitarios",null,null,151081]
["Cantidad de matriculados en ofertas terciarias de Formación en Educación",null,null,22754]
["Cantidad de matriculados en ofertas terciarias del Ministerio del Interior y del Ministerio de Defensa Nacional",null,null,572]
["Cantidad de ingresos en cursos de grado en universidades e institutos universitarios",null,null,23275]
["Cantidad de egresos en cursos de grado en universidades e institutos universitarios",null,null,7826]
["LOGRO EDUCATIVO Y ASISTENCIA"]
["Porcentaje personas de 25 años o más con primaria completa o menos como nivel máximo alcanzado ",null,null,37.700000000000003]
["Porcentaje personas de 25 a 29 años con primaria completa o menos como nivel máximo alcanzado",null,null,16.2]
["Tasa de analfabetismo (Uruguay)",null,null,1.6]
["Tasa de analfabetismo (MERCOSUR)",null,null,7.7]
["Tasa de analfabetismo (UNASUR)",null,null,8.1999999999999993]
["Porcentaje de jóvenes de 15 a 20 años que no asiste a ningún establecimiento, no trabaja y no busca trabajo",null,null,13]
["CONTEXTO DE LA EDUCACIÓN"]
["Cantidad de alumnos atendidos por el Programa Maestros Comunitarios",null,null,15608]
["Cantidad de alumnos atendidos por los CECAP’s",null,null,2135]
["Alumnos atendidos por el Programa de Educación Física Escolar",null,null,306532]
["Razón alumnos/docente en el Programa Maestros Comunitarios",null,null,29]
["Razón alumnos/educadores en los CECAP’s",null,null,8]
["Razón alumnos/docente en el Programa de Educación Física Escolar",null,null,309.89999999999998]
["GASTO"]
["Gasto público en educación como porcentaje de gasto del Gobierno Central",null,null,20.5]
["Gasto público en educación como % del PBI (Uruguay)",null,null,4.5999999999999996]
["Notas: La categoría Centros de Educación Infantil Privados incluye el Proyecto Nuestros Niños de la Intendencia de Montevideo.\nLa categoría CAIF incluye Centros Diurnos.\nPara Educación Primaria, en todos los casos se consideró educación común.\nPara Educación Media, la relación matriculados en educación pública, matriculados en educación privada, se realiza sin incorporar en el sector público la matrícula del CETP (UTU), por no contar con información sobre la matrícula técnico-vocacional en educación media del sector privado."]

{"sheet":"O I-1.1.1","index":5,"n_rows":38,"n_cols":67,"rows_kept":38,"cut":false,"hidden":false,"merged":[[16,25,22,28],[19,33,32,36],[19,37,23,39],[21,49,24,54],[37,2,39,41],[26,25,32,28],[27,49,32,54],[28,37,32,39],[34,2,34,4],[34,10,34,11],[34,15,34,20],[34,24,34,28],[34,33,34,39],[34,49,34,56],[1,1,1,63],[3,66,43,66],[5,10,7,39],[6,60,42,62],[9,21,9,42],[10,10,11,11],[10,15,11,20],[10,24,11,39],[10,49,11,56],[13,33,16,39],[13,49,18,56],[14,2,32,5],[14,10,32,11],[14,15,32,16],[14,17,32,20],[16,24,32,24]]}
[]
[null,"Organigrama I-1.1.1\nSISTEMA NACIONAL DE EDUCACIÓN - 2012"]
[]
[null,null,null,null,null,null,null,null,null,null,null,null,null,null,null,null,null,null,null,null,null,null,null,null,null,null,null,null,null,null,null,null,null,null,null,null,null,null,null,null,null,null,null,null,null,null,null,null,null,null,null,null,null,null,null,null,null,null,null,null,null,null,null,null,null,null,"SISTEMA NACIONAL DE EDUCACIÓN - 2012"]
[]
[null,null,null,null,null,null,null,null,null,null,"ESCOLARIDAD OBLIGATORIA"]
[null,null,null,null,null,null,null,null,null,null,null,null,null,null,null,null,null,null,null,null,null,null,null,null,null,null,null,null,null,null,null,null,null,null,null,null,null,null,null,null,null,null,null,null,null,null,null,null,null,null,null,null,null,null,null,null,null,null,null,null,"CAMPO   LABORAL"]
[]
[]
[]
[null,null,null,null,null,null,null,null,null,null,"EDUC. INICIAL",null,null,null,null,"EDUCACIÓN PRIMARIA",null,null,null,null,null,null,null,null,"EDUCACIÓN MEDIA",null,null,null,null,null,null,null,null,null,null,null,null,null,null,null,null,null,null,null,null,null,null,null,null,"EDUCACIÓN TERCIARIA"]
[]
[]
[null,null,0,1,2,3,null,null,null,null,4,5,null,null,null,"1º","2º","3º","4º","5º","6º",null,null,null,null,null,null,null,null,null,null,null,null,"Formación\nprofesional técnica y tecnológica",null,null,null,null,null,null,null,null,null,null,null,null,null,null,null,"EDUCACIÓN UNIVERSITARIA"]
[null,null,"EDUCACIÓN\nEN LA PRIMERA INFANCIA",null,null,null,null,null,null,null,"EDUCACIÓN INICIAL",null,null,null,null,"EDUCACIÓN PRIMARIA",null,"Incluye:\n - Urbana común\n - Rural común\n - T.C.\n - Especial\n - Escuelas Aprender\n - Práctica"]
[null,null,null,null,null,null,null,null,null,null,null,null,null,null,null,null,null,null,null,null,null,null,null,null,null,null,"1º","2º","3º"]
[null,null,null,null,null,null,null,null,null,null,null,null,null,null,null,null,null,null,null,null,null,null,null,null,"EDUCACIÓN MEDIA BÁSICA","Educación media básica general (incluye 7º, 8º y 9º rural)"]
[]
[null,null,null,null,null,null,null,null,null,null,null,null,null,null,null,null,null,null,null,null,null,null,null,null,null,null,null,null,null,null,null,null,null,null,null,null,null,"1º","2º","3º"]
[null,null,null,null,null,null,null,null,null,null,null,null,null,null,null,null,null,null,null,null,null,null,null,null,null,null,null,null,null,null,null,null,null,"EDUCACIÓN MEDIA SUPERIOR",null,null,null,"Educación media tecnológica superior"]
[null,null,null,null,null,null,null,null,null,null,null,null,null,null,null,null,null,null,null,null,null,null,null,null,null,null,null,null,null,null,null,null,null,null,null,null,null,null,null,null,null,null,null,null,null,null,null,null,null,null,null,"1º","2º","3º","4º"]
[null,null,null,null,null,null,null,null,null,null,null,null,null,null,null,null,null,null,null,null,null,null,null,null,null,null,null,null,null,null,null,null,null,null,null,null,null,null,null,null,null,null,null,null,null,null,null,null,null,"FORMACIÓN EN EDUCACIÓN"]
[]
[]
[]
[null,null,null,null,null,null,null,null,null,null,null,null,null,null,null,null,null,null,null,null,null,null,null,null,null,null,"1º","2º","3º"]
[null,null,null,null,null,null,null,null,null,null,null,null,null,null,null,null,null,null,null,null,null,null,null,null,null,"Educación media básica tecnológica ",null,null,null,null,null,null,null,null,null,null,null,null,null,null,null,null,null,null,null,null,null,null,null,null,null,"1º","2º","3º","4º"]
[null,null,null,null,null,null,null,null,null,null,null,null,null,null,null,null,null,null,null,null,null,null,null,null,null,null,null,null,null,null,null,null,null,null,null,null,null,"4º","5º","6º",null,null,null,null,null,null,null,null,null,"EDUCACIÓN TERCIARIA NO UNIVERSITARIA\n(técnicas, policial, militar, artística, etc.)"]
[null,null,null,null,null,null,null,null,null,null,null,null,null,null,null,null,null,null,null,null,null,null,null,null,null,null,null,null,null,null,null,null,null,null,null,null,null,"Educación media general superior"]
[]
[]
[]
[]
[]
[null,null,"0-3 años",null,null,null,null,null,null,null,"4-5 años",null,null,null,null,"6 años",null,null,null,null,null,null,null,null,"12 años",null,null,null,null,null,null,null,null,"15 años",null,null,null,null,null,null,null,null,null,null,null,null,null,null,null,"18 años"]
[]
[]
[null,null,"EDUCACIÓN NO FORMAL"]

{"sheet":"O I-1.1.2","index":6,"n_rows":65,"n_cols":28,"rows_kept":65,"cut":false,"hidden":false,"merged":[[63,14,65,21],[64,7,65,10],[14,3,32,10],[14,25,36,34],[36,8,40,11],[37,2,39,5],[40,18,42,23],[45,5,47,12],[45,18,48,23],[45,27,48,32],[50,5,52,12],[50,18,57,23],[50,27,54,32],[55,5,57,12],[60,6,62,11],[1,1,1,35],[2,1,2,35],[5,16,7,21],[10,4,12,9],[10,16,12,21],[10,27,12,32]]}
[]
[null,"Organigrama I-1.1.2"]
[null,"ESTRUCTURA ORGANIZACIONAL DEL SISTEMA NACIONAL DE EDUCACIÓN - 2012"]
[]
[]
[null,null,null,null,null,null,null,null,null,null,null,null,null,null,null,null,"SNEP"]
[]
[]
[]
[]
[null,null,null,null,"MEC",null,null,null,null,null,null,null,null,null,null,null,"ANEP",null,null,null,null,null,null,null,null,null,null,"UdelaR"]
[]
[]
[]
[null,null,null,""]
[]
[]
[]
[]
[]
[]
[]
[]
[]
[]
[]
[]
[]
[]
[]
[]
[]
[]
[]
[]
[]
[null,null,null,null,null,null,null,null,"Habilita y/o autoriza y/o supervisa"]
[null,null,"Autoriza / supervisa"]
[]
[]
[null,null,null,null,null,null,null,null,null,null,null,null,null,null,null,null,null,null,"SECTOR PRIVADO"]
[]
[]
[]
[]
[null,null,null,null,null,"Centros de educación en la primera infancia de Intervención social (INAU)",null,null,null,null,null,null,null,null,null,null,null,null,"UNIVERSIDADES PRIVADAS",null,null,null,null,null,null,null,null,"INSTITUTOS UNIVERSITARIOS PRIVADOS"]
[]
[]
[]
[]
[null,null,null,null,null,"Centros de educación inicial, primaria y media privados (ANEP)",null,null,null,null,null,null,null,null,null,null,null,null,"Tres o más áreas disciplinarias no afines orgánicamente estructuradas en facultades, departamentos o unidades académicas equivalentes.",null,null,null,null,null,null,null,null,"Al menos una carrera completa de grado universitario, una maestría o un doctorado."]
[]
[]
[]
[]
[null,null,null,null,null,"Centros de educación infantil privados (MEC)"]
[]
[]
[]
[]
[null,null,null,null,null,null,"Consejo Consultivo de Enseñanza Universitaria Privada"]
[]
[]
[null,null,null,null,null,null,null,null,null,null,null,null,null,null,"Reconocimiento de carreras universitarias y terciarias no universitarias privadas"]
[null,null,null,null,null,null,null,"y coordina …"]

{"sheet":"I-1.1.1","index":7,"n_rows":28,"n_cols":6,"rows_kept":28,"cut":false,"hidden":false,"merged":[[29,1,29,5],[21,5,26,5],[27,0,27,5],[21,2,21,3],[24,2,24,3],[25,2,25,3],[26,2,26,3],[28,0,28,5],[7,2,7,3],[7,4,8,4],[8,2,8,3],[0,0,0,2],[9,0,10,1],[2,0,2,5],[3,0,3,1],[3,2,3,3],[4,2,4,3],[4,4,6,4],[5,2,5,3],[6,2,6,3],[4,0,6,1],[7,0,8,1],[7,5,8,5],[4,5,6,5],[11,0,11,1],[11,2,11,3],[16,5,17,5],[17,2,17,3],[16,0,17,1],[16,2,16,3],[16,4,17,4],[18,5,19,5],[9,4,10,4],[9,5,10,5],[10,2,10,3],[9,2,9,3],[30,0,34,5],[12,5,15,5],[20,0,26,1],[20,2,20,3],[22,3,23,3],[22,4,23,4],[18,2,18,3],[19,2,19,3],[12,4,13,4],[12,0,13,1],[12,3,13,3],[14,0,15,1],[14,3,15,3],[14,4,15,4],[18,4,19,4],[18,0,19,1]]}
["Ministerio de Educación y Cultura\nDirección de Educación"]
[]
["Cuadro I-1.1.1\nUNIVERSO CUBIERTO POR EL ANUARIO ESTADÍSTICO DE EDUCACIÓN 2012 POR FORMA DE ADMINISTRACIÓN, MATRÍCULA Y FUENTE DE INFORMACIÓN SEGÚN TIPO DE OFERTA Y NIVEL EDUCATIVO\n"]
["Nivel\n(Edad teórica)",null,"Descripción\n(Oferta por forma de administración)",null,"Matricula 2012","Fuentes\nde información"]
["EDUCACIÓN EN LA PRIMERA INFANCIA\n0 a 3 años",null,"PÚBLICO: centros de educación infantil gestionados por organismos públicos (por ej. centros de INAU o intendencias).",null,49586,"· Área de Educación en la Primera Infancia y Área de Investigación y Estadística de la Dirección de Educación del Ministerio de Educación y Cultura – Registro Nacional de Centros de Educación en la Primera Infancia;\n· Sistema de Información Para la Infancia (SIPI) de INAU"]
[null,null,"PRIVADO: Centros de Educación Infantil Privados bajo supervisión del MEC En todos los casos la matrícula reportada excluye a los niños matriculados en centros que ya han sido habilitados por ANEP."]
[null,null,"PÚBLICO/PRIVADO: CAIF (modalidad diaria)"]
["EDUCACIÓN INICIAL\n3 a 5 años\n(4 y 5 años obligatorio)",null,"PUBLICO:Esta.del Consejo de Educación Inicial y Primaria (CEIP) Jardines y clases jardineras en escuelas de educación común.",null,109602,"· Área de Educación en la Primera Infancia, AIEde la Dir. de Edu. del MEC;\n· Depto. de Estadística Educativa del CEIP;\n· SIPI de INAU."]
[null,null,"PRIVADO: jardines de infantes privados, jardines en colegios privados y clases jardineras en colegios privados (bajo supervisión de ANEP)."]
["EDUCACIÓN PRIMARIA\n6 a 11 años\n (obligatorio)",null,"PUBLICO: Establecimientos del Consejo de Educación Inicial y Primaria.",null,329742,"· Departamento de Estadística Educativa del CEIP."]
[null,null,"PRIVADO: Establecimientos privados bajo supervisión de ANEP."]
["EDUCACIÓN FORMAL DE JÓVENES Y ADULTOS",null,"Dirección Sectorial de Educación de Jóvenes y Adultos de la ANEP (Niveles I y II y Acreditación).",null,4388,"· Dirección Sectorial de Educación de Jóvenes y Adultos de la ANEP"]
["EDUCACIÓN MEDIA\nBÁSICA\n12 a 14 años",null,"PÚBLICO: establecimientos del Consejo de Educación Secundaria, del Consejo de Educación Técnico Profesional y del Ciclo Básico Rural (7º, 8º y 9º)","MEDIA BÁSICA\n12 a 14 años (obligatorio)",181444,"· Departamento de Estadística del CES (oficiales, habilitados privados y habilitados militares);\n· Departamento de Estadística del CETP y              · Departamento de Estadística del CEIP(para 7º, 8º y 9º) a través de planillas estadísticas."]
[null,null,"PRIVADO: liceos habilitados privados bajo supervisión de ANEP."]
["EDUCACIÓN MEDIA SUPERIOR\n15 a 17 años",null,"PÚBLICO: establecimientos del Consejo de Educación Secundaria, del Consejo de Educación Técnico Profesional  y los Habilitados Liceo Militar y Escuela Naval.","MEDIA SUPERIOR\n15 a 17 años",153682]
[null,null,"PRIVADO: liceos habilitados privados bajo supervisión de ANEP."]
["FORMACIÓN EN EDUCACIÓN",null,"PÚBLICOS: ANEP - CONSEJO DE FORMACIÓN EN EDUCACIÓN, CEN.FOR.ES - I.N.A.U.        ",null,22754,"· Of. de información para la Gestión del CFE de ANEP;                                                           · CEN.FOR.ES - I.N.A.U.                                        . C.I.E.P"]
[null,null,"PRIVADOS: C.I.E.P"]
["EDUCACIÓN TERCIARIA                     (18 y más años)",null,"PÚBLICOS: Inst. Terc. Univ. y No Univ. (UdelaR; CFE, Esc. Mun. de Arte Dramático, Esc. Nacional de Policía, Esc. Militar, Esc. Militar de Aeronáutica, Esc. Naval, IMES).",null,114455,"· Div. de Estadística de la DGP de la UdelaR;                                                                                                                                                                                                                                . Unidades de planeamiento y/o asuntos estudiantiles de univ. e inst. univ. y no univ. públicos y privados. "]
[null,null,"PRIVADOS: Univ. e Inst. Univ. Privados (UC, ORT, de Montevideo, de la Empresa; Fundación Politécnico de Punta del Este, Asociación Cristiana de Jóvenes, CLAEH, Crandon, BIOS,  Mariano Soler)."]
["EDUCACIÓN NO FORMAL",null,"Instituciones de Educación Técnico-Profesional públicas y privadas",null,83530]
[null,null,"Centros de Capacitación y Producción (CECAP) y Consejo De Capacitación Profesional (COCAP) del MEC.",null,3003,"· Relevamiento propio de Instituciones de Educación Técnico-profesional (Área de Investigación y Estadística, Dir. Edu., MEC.)                        · Departamento de Estadística del CETP; \n· Área de Educación No Formal de la Dirección de Educación del MEC;\n· Gerencia de Programas Especiales de CODICEN;\n· Oficina Nacional del Servicio Civil; e\n· Información brindada por las instituciones universitarias."]
[null,null,"PÚBLICO: Establecimientos del Consejo de Educación Técnico Profesional","TÉCNICO-PROFESIONAL DE INSERCIÓN LABORAL 15 y más años",9859]
[null,null,"INEFOP"]
[null,null,"Dir. Sectorial de Edu.de Jóvenes y Adultos de la ANEP (Talleres).",null,4291]
[null,null,"Escuela de Funcionarios Públicos de la ONSC.",null,4640]
[null,null,"Educación no terciaria en universidades e instituciones universitarias privadas.",null,4497]
["Nota:                                                                                                                                                                                                      Educación en la primera infancia de 0 a 3 años y Educación Inicial 3 a 5 años: Esta definición etaria responde a la lógica de los hechos: prácticamente la mitad de los niños atendidos en Centros de Educación Infantil Privados tienen 3 años (también existe una porción minoritaria de niños de 4 y 5 años). En términos teóricos, este nivel atendería a niños de 0 a 36 meses (o hasta 2 años cumplidos y 11 meses). Algo similar sucede en el caso del nivel “Educación Inicial”, donde la enorme mayoría de los niños tienen 4 o 5 años y cuya definición teórica apuntaría a aquellos de 3, 4 y 5.\nEducación Primaria: La matrícula de Educación Primaria Educación de Jóvenes y Adultos de la ANEP.                                                                     Educación Media: Media Básica incluye Ciclo Básico Rural, Educación Media Básica General (CEM) y Educación Media Tecnológica Básica (CETP); y Media Superior incluye Ciclo Superior de Secundaria, Bachillerato Tecnológico y Educación Media Tecnológica.                                                         Instituciones de Educación Técnico-profesional públicas y privadas: incluye a todas las ofertas de educación técnico-profesional públicas y privadas; no incluye ofertas de ANEP o UdelaR.\nTécnico-profesional de inserción laboral: incluye a los cursos de las ofertas de Nivel de Formación Profesional del CETP.\n                                                                             "]

{"sheet":"I-1.2.1","index":8,"n_rows":21,"n_cols":6,"rows_kept":21,"cut":false,"hidden":false,"merged":[[20,0,20,8],[0,0,0,3],[2,0,2,5],[18,0,18,8],[19,0,19,8],[4,5,5,5],[4,0,5,0],[4,1,5,1],[4,2,4,3],[4,4,5,4],[3,0,3,5],[17,0,17,6]]}
["Ministerio de Educación y Cultura\nDirección de Educación"]
[]
["Cuadro I-1.2.1\n"]
["TASA DE ANALFABETISMO Y PORCENTAJE DE POBLACIÓN POR ÁREA DEMOGRÁFICA SEGÚN AÑO LECTIVO. AÑO 2012."]
["AÑO LECTIVO","Fuente","TASA",null,"% de población rural","% de analfabetos rurales sobre total país"]
[null,null,"Total del país","Área Rural"]
[1963,"CENSO",8.8000000000000007,15.4,19.2,2.96]
[1975,"CENSO",5.7,10.3,17,1.75]
[1985,"CENSO",4.3,8.4,12.7,1.06]
[1996,"CENSO",3.1,6.2,9.1999999999999993,0.56999999999999995]
[2006,"ENHA",2.2000000000000002,3,6.4,0.19]
[2007,"ECH",2.1,3.4,6.6,0.21]
[2008,"ECH",1.9,3.1,6.2,0.19]
[2009,"ECH",1.8,3.4,7.9,0.27]
[2010,"ECH",2,3.2,5.8,0.19]
[2011,"ECH",1.7,3.4,8.58,0.28999999999999998]
[2012,"ECH",1.6,2.5,6.4,0.16]
["Fuente: 1963 a 1996: Censos de Población ."]
["2006: Encuesta Nacional de Hogares Ampliada (ENHA) 2006. Condiciones de vida de la población residente en el área rural. Enero-Marzo 200, INE."]
["2007 a  2012: Elaboración propia con base en las ECH de 2007 a 2011 y las Proyecciones Poblacionales, Revisión 2005 del INE. (ÁREA SOCIODEMOGRÁFICA) "]
["Nota Las tasas fueron calculadas sobre población con 15 y más años de edad. La evolución de la población rural con base en el total poblacional. "]

{"sheet":"I-1.2.2","index":9,"n_rows":27,"n_cols":3,"rows_kept":27,"cut":false,"hidden":false,"merged":[[26,1,26,2],[2,0,2,2],[3,0,3,2],[0,0,0,3],[25,1,25,2]]}
["Ministerio de Educación y Cultura\nDirección de Educación"]
[]
["Cuadro I-1.2.2"]
["TASA DE ANALFABETISMO POR DEPARTAMENTO"]
["DEPARTAMENTO","Población analfabeta","TASA DE ANALFABETISMO"]
["MONTEVIDEO",10192,0.95]
["RESTO DEL PAÍS",{"$f":"SUM(B8:B25)","v":31567},1.91]
["Artigas",1721,2.81]
["Canelones",6330,1.44]
["Cerro Largo",2151,3.03]
["Colonia",1431,1.38]
["Durazno",1020,2.12]
["Flores",391,1.84]
["Florida",1072,1.88]
["Lavalleja",958,1.89]
["Maldonado",1482,1.08]
["Paysandú",1643,1.73]
["Río Negro",988,2.1800000000000002]
["Rivera",3041,3.51]
["Rocha",1168,2.06]
["Salto",2225,2.14]
["San José",1522,1.69]
["Soriano",1462,2.11]
["Tacuarembó",2065,2.72]
["Treinta y Tres",897,2.19]
["Fuentes: ","Censo Nacional 2011, INE."]
["Notas:","En el relevamiento censal a las personas con más de 3º grado de educación primaria aprobado no les fue realizada la pregunta \"¿Sabe leer y escribir?\". Es posible suponer que el valor de la tasa pudiera haber sido levemente superior de no haber existido este filtro."]

{"sheet":"I-1.2.3","index":10,"n_rows":14,"n_cols":9,"rows_kept":14,"cut":false,"hidden":false,"merged":[[0,0,0,3],[13,0,13,8],[14,0,14,8],[6,0,6,1],[7,0,7,1],[8,0,8,1],[12,0,12,1],[9,0,9,1],[2,0,2,8],[3,0,3,8],[4,0,5,1],[4,2,4,8],[10,0,10,1],[11,0,11,1]]}
["Ministerio de Educación y Cultura\nDirección de Educación"]
[]
["Cuadro I-1.2.3\n"]
["TASA DE ANALFABETISMO SEGÚN TRAMOS DE EDAD. AÑO 2012."]
["TASA DE ANALFABETISMO",null,"TRAMOS DE EDAD"]
[null,null,"TOTAL","15 a 20 años","21 a 39 años","40 a 49 años","50 a 59 años","60 a 64 años","65 y más años"]
[2006,null,2.2000000000000002,1.2,1.4,1.4,2.1,2.6,4.7]
[2007,null,2.1,1.2,1.3,1.5,1.8,2.2999999999999998,4.7]
[2008,null,1.9,0.9,1.3,1.3,1.9,2,4]
[2009,null,1.8,1,1.1000000000000001,1.1000000000000001,1.5,2.2999999999999998,4.2]
[2010,null,2,1.2,1.3,1.3,1.8,2.1,4.5]
[2011,null,1.7,1.3,1.1000000000000001,1.2,1.6,1.8,3.6]
[2012,null,1.6,1,1.1000000000000001,1.3,1.6,2,3.2]
["Fuentes: Elaboración propia en base a la ECH 2012.\nNota: Población con 15 y más años para todo el país (Año 2006-2012)"]

{"sheet":"I-1.2.4","index":11,"n_rows":29,"n_cols":8,"rows_kept":29,"cut":false,"hidden":false,"merged":[[29,0,29,7],[28,0,28,7],[0,0,0,7],[2,0,2,7],[3,1,3,7]]}
["Ministerio de Educación y Cultura\nDirección de Educación"]
[]
["Cuadro I-1.2.4\nASISTENCIA A ALGÚN ESTABLECIMIENTO EDUCATIVO POR EDADES SIMPLES SEGÚN AÑO LECTIVO. AÑO 2012."]
["EDADES\nSIMPLES","AÑO LECTIVO"]
[null,2006,2007,2008,2009,2010,2011,2012]
[0,"s/d","s/d","s/d",6.4,7.9,6.1,7.3]
[1,"s/d","s/d","s/d",20.7,24,19.899999999999999,28.5]
[2,"s/d","s/d","s/d",40.700000000000003,41.1,41.3,44.6]
[3,46.3,49.4,49.9,58.5,61.3,60.4,63.8]
[4,76.5,78.900000000000006,81.2,86.6,86.1,86.1,89.1]
[5,95.2,94.7,96.4,97.3,97.3,96.3,97.7]
[6,99.3,99.3,99,98.9,99.3,98,98.8]
[7,99.6,99.5,99.1,98.7,99,98.6,99.7]
[8,99.8,99.7,99.1,98.8,98.8,98.9,99.8]
[9,99.8,99.9,99.3,98.8,99.2,98.4,99.7]
[10,99.6,99.8,99.1,98.9,99.3,98.5,99.6]
[11,99.6,99.9,99.1,99,98.5,97.6,98.9]
[12,98.5,99.8,97.5,98,98.3,97.7,97.6]
[13,95.2,95,94.3,94.5,95.6,96,96.6]
[14,90.2,88.7,89.7,91,91.2,92.4,92.6]
[15,82.1,82.1,82.6,83.8,82.1,85.2,87]
[16,76.599999999999994,74.599999999999994,73.3,77.7,78.099999999999994,77.7,80.099999999999994]
[17,66.900000000000006,65.5,67.7,70.2,66.400000000000006,68.2,68.8]
[18,55,53.4,52.8,53.3,49.2,49.1,53.9]
[19,47,46.3,45.3,44.9,44.2,45.2,45.5]
[20,40.5,39.299999999999997,42.2,41.4,40.5,39.299999999999997,39.200000000000003]
[21,35.6,37.1,39,37.6,36.1,36.799999999999997,36.700000000000003]
[22,34.299999999999997,31.5,33.5,32.700000000000003,32.1,36.6,31.4]
["Fuentes:Elaboración propia en base a ECH 2006 y ECH de 2007 a 2012 del INE.\nNota:Todo el país (Años 2006 a 2012)"]

{"sheet":"I-1.2.5","index":12,"n_rows":22,"n_cols":5,"rows_kept":22,"cut":false,"hidden":false,"merged":[[21,0,21,4],[22,0,22,4],[14,0,14,1],[15,0,15,1],[16,0,16,1],[17,0,17,1],[18,0,18,1],[20,0,20,1],[19,0,19,1],[0,0,0,1],[12,0,12,1],[13,0,13,4],[6,0,6,1],[7,0,7,1],[8,0,8,1],[9,0,9,1],[10,0,10,1],[2,0,2,4],[3,0,4,1],[3,2,3,4],[5,0,5,4],[11,0,11,1]]}
["Ministerio de Educación y Cultura\nDirección de Educación"]
[]
["Cuadro I-1.2.5\nASISTENCIA A ALGÚN ESTABLECIMIENTO EDUCATIVO POR EDADES SIMPLES SEGÚN AÑO LECTIVO Y PERTENENCIA DE LOS HOGARES A LOS QUINTILES EXTREMOS DE INGRESOS. AÑO 2012."]
["AÑO LECTIVO",null,"EDADES SIMPLES"]
[null,null,12,13,14]
["1er Quintil"]
[2006,null,97.5,93,83.7]
[2007,null,98.5,92.6,81.900000000000006]
[2008,null,96.9,90.2,81.8]
[2009,null,97.5,91.2,83.5]
[2010,null,97.8,92.6,83.7]
[2011,null,97.5,93.7,86.9]
[2012,null,96.526586620926238,94.039345664492672,85.739730602248699]
["Quintil Mayor"]
[2006,null,100,99.2,99.3]
[2007,null,99.1,100,100]
[2008,null,98.3,98.1,99.3]
[2009,null,98,94.5,91]
[2010,null,99.3,99.2,99.5]
[2011,null,97.9,99.5,100]
[2012,null,97.652824348723243,100,98.524945770065074]
["Fuentes:Elaboración propia en base a la ENHA 2006 y a las ECH 2007 a 2012.\nNota:Todo el país (Años 2006 a 2012)"]

{"sheet":"I-1.2.6","index":13,"n_rows":10,"n_cols":6,"rows_kept":10,"cut":false,"hidden":false,"merged":[[7,0,8,1],[10,0,10,4],[9,0,9,4],[0,0,0,4],[5,0,6,1],[2,0,2,5],[3,0,4,2],[3,3,3,5]]}
["Ministerio de Educación y Cultura\nDirección de Educación"]
[]
["Cuadro I-1.2.6\nDIFERENCIA DE ASISTENCIA ENTRE EL QUINTIL MAYOR Y EL PRIMER Y EL SEGUNDO QUINTIL Y EL PRIMERO DE INGRESOS DE LOS HOGARES PARA 2012 Y DIFERENCIA CON 2011"]
["DIFERENCIAS",null,null,"EDADES SIMPLES"]
[null,null,null,12,13,14]
["Entre el Quintil mayor y el 1erQuintil",null,"Diferencia 2012",1.1000000000000001,6,12.8]
[null,null,"Diferencia 2012-diferencia 2011 =",0.8,0.2,-0.3]
["Entre el 2do quintil y el 1erquintil",null,"Diferencia 2012",1.9,2.5,7.9]
[null,null,"Diferencia 2012-diferencia 2011 =",1.2,-0.5,3]
["Fuentes:Elaboración propia en base en las ECH 2011 y 2012.\nNotas:Las diferencias “2012-2011” son el resultado de restar a la diferencia entre quintiles de 2012, idéntica diferencia entre quintiles de 2011. Estos valores son interpretados como indicadores de evolución de la brecha entre el año de referencia y el anterior.\nTodo el país (Años 2011 y 2012)"]

{"sheet":"I-1.2.7","index":14,"n_rows":24,"n_cols":21,"rows_kept":24,"cut":false,"hidden":false,"merged":[[14,0,14,20],[22,1,22,20],[23,1,23,20],[3,0,3,9],[4,0,5,0],[4,1,4,20],[6,0,6,20]]}
["Ministerio de Educación y Cultura\nDirección de Educación"]
[]
["Cuadro I-1.2.7"]
["ASISTENCIA A ALGÚN ESTABLECIMIENTO EDUCATIVO POR EDADES SIMPLES SEGÚN GRANDES ÁREAS Y AÑO LECTIVO."]
["AÑO LECTIVO","EDADES SIMPLES"]
[null,3,4,5,6,7,8,9,10,11,12,13,14,15,16,17,18,19,20,21,22]
["Montevideo"]
[2006,53.7,79.400000000000006,95.8,99.1,99.5,99.7,99.8,99.6,99.6,99.1,96.8,93.3,86.1,79.099999999999994,72.900000000000006,62.7,55.1,51.3,47.9,46]
[2007,59.6,82.5,94.5,99.1,99.1,99.6,100,99.8,99.9,99.2,96.5,90.7,85.5,80.3,70.400000000000006,60.5,56.9,49.2,49.1,42.6]
[2008,61.5,86.5,96.5,99.1,98.9,99,99.4,98.8,98.9,98.1,96.2,92.8,87.3,79.099999999999994,74.099999999999994,57.6,54.2,51.5,48.5,45.9]
[2009,67.2,86.5,95.5,98.6,98.5,97.9,99.4,99.2,99.3,98.5,96.7,93.5,88.6,81.8,74.8,60.9,51,50.8,52,42]
[2010,72.2,89,95.6,99,98.4,99.2,98.5,99.3,98.2,97.9,96.9,93.6,85.9,82.1,70.900000000000006,56.8,52.6,50.5,48.6,44.2]
[2011,64.7,87.1,93.3,97.6,97.1,98.8,98.5,98.4,97.3,97.5,97.5,94.8,89.2,81.2,73,57,53.1,50.1,48.7,49.9]
[2012,68.7,88.7,96.7,98.9,99.8,99.7,99.8,99.5,98.8,98.2,97.9,94.7,88.6,82.1,73.2,59.3,53,49.3,45.3,40.4]
["Resto del país"]
[2006,41.9,74.8,94.8,99.4,99.6,99.8,99.8,99.6,99.5,98.2,94.4,88.4,79.7,75.099999999999994,63,49.6,41.8,33.1,25.9,24.5]
[2007,43.3,76.900000000000006,94.8,99.5,99.8,99.7,99.9,99.8,99.8,98.5,94.2,87.7,80.2,71.5,62.5,48.9,38.9,32.700000000000003,27.9,23]
[2008,42.8,78,96.3,98.9,99.2,99.1,99.2,99.3,99.1,97.1,93.4,88.1,79.900000000000006,69.900000000000006,63.6,49.7,39.1,35.200000000000003,31.2,23]
[2009,52.5,86.7,98.4,99.1,98.9,99.3,98.5,98.8,98.8,97.7,93.4,89.7,80.900000000000006,75.3,67.400000000000006,48.5,40.5,34,26.6,24.5]
[2010,58,86.3,98.4,99.5,99.2,98.4,99.6,99.3,98.8,98.7,95.4,91.7,81.3,77.2,64.8,45.6,39.4,34.799999999999997,28.9,23.7]
[2011,57.8,85.5,98,98.3,99.3,98.9,98.4,98.5,97.7,97.8,95.3,91.3,83.1,75.8,65.8,44.8,40.200000000000003,32.299999999999997,27.4,26]
[2012,60.7,89.4,98.3,98.7,99.7,99.8,99.6,99.6,99,97.3,96.1,91.5,86.1,79,66.5,50.6,41.3,32.6,29.7,23.6]
["Fuentes","Elaboración propia en base a la ENHA 2006 y a las ECH 2007 a 2012. "]
["Nota:","Todo el país (Años 2006 a 2012)"]

{"sheet":"I-1.2.8","index":15,"n_rows":19,"n_cols":6,"rows_kept":19,"cut":false,"hidden":false,"merged":[[3,0,4,0],[0,0,0,5],[2,0,2,5],[3,1,3,5],[18,1,18,5],[17,0,17,2]]}
["Ministerio de Educación y Cultura\nDirección de Educación"]
[]
["Cuadro I-1.2.8\nJÓVENES DE 15 A 20 AÑOS DE EDAD POR ASISTENCIA A ALGÚN ESTABLECIMIENTO DE EDUCACIÓN Y ACTIVIDAD SEGÚN NIVEL EDUCATIVO MÁXIMO ALCANZADO. AÑO 2012."]
["NIVEL EDUCATIVO MÁXIMO\nALCANZADO","ASISTENCIA A ALGÚN ESTABLECIMIENTO DE EDUCACIÓN Y ACTIVIDAD"]
[null,"TOTAL","Asiste y trabaja o busca trabajo","Asiste y no trabaja ni busca trabajo","No Asiste y trabaja o busca trabajo","No asiste, no trabaja y no busca trabajo"]
["TOTAL ",100,13.255138151846056,50.273369679178025,23.667274222946268,12.955465587044534]
["Sin instrucción ",0.17291159249641111,0,0,3.7743761794925564E-2,0.13516783070148555]
["Educación inicial ",1.7097601496846623E-2,0,0,0,1.7097601496846623E-2]
["Primaria incompleta ",2.2010742455280097,1.4839427714244237E-2,0.40163233704856688,0.72809974676194011,1.0565027340032582]
["Primaria completa ",8.3216929851444412,0.22355920447763603,0.72971272803522746,4.2776263367582299,3.0907947158733489]
["Media Básica incompleta ",29.301740406793876,2.4030195009435942,13.575495588496217,8.2174943948900747,5.10573092246399]
["Media Básica completa ",8.8172008322983366,0.65777376324660874,1.8765424133425812,4.5534461344903789,1.7294385212187686]
["Media Superior incompleta ",37.796022388180077,6.854847815216865,26.054486507411649,3.7782473345484457,1.108440731003113]
["Media Superior completa ",3.1398148297498261,0.3,0.33550010484378279,1.8775102021065533,0.62680452279949028]
["Terciaria Incompleta ",10.240464861202963,2.7010984402471085,7.3,0.15387841347161957,8.5488007484233117E-2]
["Terciaria Completa ",0.14322789812410278,0.1,0,4.3227898124102777E-2,0]
[]
["Fuentes: Elaboración propia en base a la ECH 2012. "]
["Nota: Todo el país (Año 2012)"]

{"sheet":"I.1.2.9","index":16,"n_rows":13,"n_cols":7,"rows_kept":13,"cut":false,"hidden":false,"merged":[[0,0,0,6],[2,0,2,6],[3,2,3,6],[5,0,5,1],[6,0,6,1],[4,0,4,1],[7,0,7,1],[8,0,8,1],[13,1,13,6],[9,0,9,1],[11,0,11,1],[10,0,10,1],[12,0,12,6]]}
["Ministerio de Educación y Cultura\nDirección de Educación"]
[]
["Cuadro I-1.2.9\nJÓVENES DE 15 A 20 AÑOS DE EDAD POR ASISTENCIA A ALGÚN ESTABLECIMIENTO DE EDUCACIÓN Y ACTIVIDAD SEGÚN AÑO LECTIVO. AÑO 2012."]
[null,null,"ASISTENCIA A ALGÚN ESTABLECIMIENTO DE EDUCACIÓN Y ACTIVIDAD"]
["AÑO LECTIVO",null,"Asiste y no trabaja y no busca trabajo","Asiste y trabaja o busca trabajo","No asiste y trabaja o busca trabajo","No asiste y no trabaja y no busca trabajo","TOTAL"]
[2006,null,47.9,14.4,25.7,12.1,100]
[2007,null,47.1,13.9,27.3,11.8,100]
[2008,null,48.2,13.3,25.9,12.6,100]
[2009,null,48.4,14.3,25.6,11.7,100]
[2010,null,48.2,13.2,26.2,12.4,100]
[2011,null,48.9,12.9,25.6,12.5,100]
[2012,null,50.2,13,23.7,13,100]
["Fuentes: Elaboración propia en base a la ENHA 2006 y a las ECH 2007 a 2012. \nNota:Todo el país (Años 2006 a 2012)"]

{"sheet":"I.1.2.10","index":17,"n_rows":14,"n_cols":8,"rows_kept":14,"cut":false,"hidden":false,"merged":[[11,0,11,1],[13,0,13,7],[14,0,14,7],[12,0,12,1],[0,0,0,6],[7,0,7,1],[8,0,8,1],[9,0,9,1],[10,0,10,1],[5,0,5,1],[6,0,6,1],[2,0,2,7],[3,2,4,2],[3,3,3,4],[3,6,3,7],[3,0,4,1]]}
["Ministerio de Educación y Cultura\nDirección de Educación"]
[]
["Cuadro I-1.2.10\nJÓVENES DE 12 A 29 AÑOS DE EDAD POR TRAMOS DE EDAD Y QUINTILES EXTREMOS DE INGRESO SEGÚN LA PRINCIPAL RAZÓN POR LA CUAL SE HAN DESVINCULADO DEL SISTEMA EDUCATIVO. AÑO 2012."]
["NIVEL EDUCATIVO MÁXIMO",null,"TOTAL","TRAMOS DE EDAD",null,null,"QUINTILES EXTREMOS DE INGRESO"]
[null,null,null,"12 a 17 años","18 a 29 años",null,"Primer\nquintil","Quintil mayor"]
["TOTAL  ",null,100,100,100,null,100,100]
["Comenzó a trabajar  ",null,27.4,5,30.2,null,20.3,32.299999999999997]
["No tenía interés o le interesaban otras cosas  ",null,47.6,64.8,45.4,null,44.1,53.4]
["Quedó ella o su pareja embarazada  ",null,7.1,4.7,7.4,null,11.5,1.4]
["Le resultaba difícil  ",null,5.4,8.1,5,null,6.5,3.3]
["Debió atender asuntos familiares  ",null,4,4,4,null,5.2,3.6]
["Otras razones  ",null,4,9.9,3.2,null,4.8,3.6]
["Dificultades económicas",null,4.5999999999999996,3.5,4.7,null,7.7,2.2999999999999998]
["Fuentes: Elaboración propia en base a la ECH 2012.\nNota: Jóvenes de 12 a 29 años de todo el país, que declararon haber asistido a educación media pero que hoy no lo hacen (Año 2012)"]

{"sheet":"I-1.2.11","index":18,"n_rows":20,"n_cols":5,"rows_kept":20,"cut":false,"hidden":false,"merged":[[19,0,19,4],[0,0,0,3],[6,0,7,0],[9,0,10,0],[12,0,16,0],[2,0,2,4],[3,1,3,3]]}
["Ministerio de Educación y Cultura\nDirección de Educación"]
[]
["Cuadro I-1.2.11\nSITUACIÓN DE LOS JÓVENES QUE NO ESTUDIAN Y NO TRABAJAN POR ASISTENCIA Y CONDICIÓN DE ACTIVIDAD SEGÚN SEXO, GRANDES ÁREAS Y QUINTILES DE INGRESOS DE LOS HOGARES."]
[null,"ASISTENCIA Y CONDICIÓN DE ACTIVIDAD ECONÓMICA",null,null,"Total"]
[null,null,"No estudia y no trabaja, pero en las últimas 4 semanas buscó trabajo","No estudia, no trabaja y no busca trabajo"]
[]
["SEXO","Hombre ",48.060647531242125,35.107635249536401,39.113630794591344]
[null,"Mujer ",51.939352468757875,64.892364750463599,60.886369205408656]
[]
["GRANDES ÁREAS","Montevideo ",37.757049735297294,33.009755704265096,34.477957719810206]
[null,"Resto del país ",62.242950264702699,66.990244295734897,65.522042280189794]
[]
["QUINTILES DE INGRESOS DE LOS HOGARES","1er quintil ",40.710195555875679,48.676933000080624,46.213049386291239]
[null,"2do quintil ",29.153311484856125,26.127549786342012,27.063331179969264]
[null,"3er quintil ",16.595238952713654,14.944771426267838,15.455213739947874]
[null,"4to quintil ",9.0215003421327467,6.7064419898411662,7.4224232028691715]
[null,"Quintil mayor ",4.5197536644217955,3.5443037974683538,3.8459824909224567]
[]
[null,"Total ",100,100,100]
["Fuente: Elaboración propia en base a la ECH 2012."]

{"sheet":"I-1-2-12","index":19,"n_rows":14,"n_cols":4,"rows_kept":14,"cut":false,"hidden":false,"merged":[[0,0,0,3],[13,0,13,3],[3,1,4,2],[2,0,2,3],[3,0,5,0],[3,3,5,3]]}
["Ministerio de Educación y Cultura\nDirección de Educación"]
[]
["Cuadro I-1.2.12\nSITUACIÓN DE LOS JÓVENES QUE NO ESTUDIAN Y NO TRABAJAN POR ASISTENCIA Y CONDICIÓN DE ACTIVIDAD SEGÚN NIVEL EDUCATIVO ALCANZADO"]
["NIVEL EDUCATIVO ALCANZADO","ASISTENCIA Y CONDICIÓN\nDE ACTIVIDAD ECONÓMICA",null,"Total"]
[]
[null,"No estudia y no trabaja, pero en las últimas 4 semanas buscó trabajo","No estudia, no trabaja y no busca trabajo"]
["Sin instrucción ",0.1,1.2,0.9]
["Educación inicial ",0,0.1,0.1]
["Educación Primaria ",18.8,31.6,27.6]
["Media Básica ",51,48.4,49.2]
["Media Superior ",26.6,17.100000000000001,20.100000000000001]
["Terciaria Completa ",3.5,1.6,2.1]
["Total",100,100,100]
["Fuente:Elaboración propia en base a la ECH 2012."]

{"sheet":"I-1.2.13","index":20,"n_rows":65,"n_cols":14,"rows_kept":65,"cut":false,"hidden":false,"merged":[[33,0,33,2],[34,0,34,2],[58,0,58,2],[63,1,63,2],[41,0,41,2],[42,0,42,2],[48,0,48,2],[44,0,44,2],[43,0,43,2],[45,0,45,2],[46,1,46,2],[39,0,39,2],[35,0,35,2],[36,1,36,2],[37,0,37,2],[3,0,3,13],[62,0,62,2],[50,0,50,2],[51,0,51,2],[52,0,52,2],[47,0,47,2],[53,1,53,2],[54,0,54,2],[57,0,57,2],[59,1,59,2],[55,0,55,2],[56,0,56,2],[31,0,31,2],[49,0,49,2],[40,0,40,2],[32,0,32,2],[71,0,71,12],[65,0,65,12],[66,0,66,12],[67,0,67,12],[60,0,60,2],[61,0,61,2],[68,0,68,12],[69,0,69,12],[70,0,70,12],[64,0,64,12],[27,0,27,2],[28,0,28,2],[19,0,19,2],[20,0,20,2],[21,1,21,2],[22,0,22,2],[23,0,23,2],[15,0,15,2],[24,1,24,2],[25,0,25,2],[26,0,26,2],[16,0,16,2],[2,0,2,13],[38,0,38,2],[30,1,30,2],[0,0,0,4],[4,0,5,2],[4,3,4,12],[6,0,6,2],[18,1,18,2],[7,0,7,2],[8,0,8,2],[9,0,9,2],[10,1,10,2],[11,0,11,2],[12,1,12,2],[13,0,13,2],[14,0,14,2]]}
["Ministerio de Educación y Cultura\nDirección de Educación"]
[]
["Cuadro I-1.2.13"]
["MATRÍCULA DEL SISTEMA EDUCATIVO POR AÑO LECTIVO SEGÚN NIVEL, FORMA DE ADMINISTRACIÓN Y MODALIDAD"]
["NIVEL/FORMA DE ADMINISTRACIÓN/MODALIDAD",null,null,"AÑO LECTIVO"]
[null,null,null,2002,2003,2004,2005,2006,2007,2008,2009,2010,2011,2012]
[]
["TOTAL SISTEMA  ",null,null,{"$f":"D9+D17+D29+D43+D45","v":943130},{"$f":"E9+E17+E29+E43+E45","v":949606},954690,937573,950464,949746,973186,986125,970759,966785,975512]
["Total Edu. en la Primera Infancia e Inicial  ",null,null,{"$f":"D11+D13","v":144319},133964,140628,133640,144052,141307,160934,173003,160504,{"$f":"M11+M13","v":156089},{"$f":"N11+N13","v":159188}]
[]
[null,"Primera Infancia1 ",null,38096,30345,35413,28069,37416,34429,47928,61112,50685,47845,49586]
[]
[null,"Total Educación Inicial2",null,{"$f":"D14+D15","v":106223},103619,105215,105571,106636,106878,113006,111891,109819,{"$f":"M14+M15","v":108244},{"$f":"N14+N15","v":109602}]
["Inicial pública  ",null,null,86906,85628,84612,83546,81833,81176,86001,83854,81875,79405,79985]
["Inicial privada  ",null,null,19317,17991,20603,22025,24803,25702,27005,28037,27944,28839,29617]
[]
["Total Educación Primaria",null,null,{"$f":"D19+D22+D25","v":365004},365495,367428,365840,365879,360653,354852,349271,347207,341607,334130]
[]
[null,"Primaria Común",null,{"$f":"D20+D21","v":353826},354843,355568,354777,353528,348579,342498,336865,330548,{"$f":"M20+M21","v":325509},{"$f":"N20+N21","v":319238}]
["Común pública",null,null,307756,311141,311350,309286,306030,300143,292542,286092,279445,273440,266349]
["Común privada ",null,null,46070,43702,44218,45491,47498,48436,49956,50773,51103,52069,52889.000000000015]
[null,"Primaria Especial  ",null,{"$f":"D23+D24","v":11178},10652,11860,11063,12351,12074,12354,12406,11808,{"$f":"M23+M24","v":11253},{"$f":"N23+N24","v":10504}]
["Especial pública ",null,null,9076,8884,8553,8379,8221,7913,7778,7535,7416,7286,6910]
["Especial privada  ",null,null,2102,1768,3307,2684,4130,4161,4576,4871,4392,3967,3594]
[null,"Programa Jóvenes y Adultos ANEP ",null,null,null,null,null,null,null,null,null,{"$f":"L26+L27","v":4851},{"$f":"M26+M27","v":4845},{"$f":"N26+N27","v":4388}]
["Educación Primaria (Niveles I y II y Programa de Alfabetización) ",null,null,null,null,null,null,null,null,null,null,3827,3804,3234]
["Pruebas de Acreditación ",null,null,null,null,null,null,null,null,null,null,1024,1041,1154]
[]
["Total Educación Media  ",null,null,{"$f":"D31+D37","v":295399},306417,306778,302311,300681,298925,310128,320420,322977,331659,335126]
[]
[null,"Total Educación Media Básica ",null,{"$f":"D32+D33+D36","v":162664},164180,161736,158131,160028,160367,171502,177015,177619,{"$f":"M32+M33+M36","v":182175},{"$f":"N32+N33+N36","v":181444}]
["Ciclo Básico Rural (7º, 8º y 9º) ",null,null,1498,1771,1869,1797,1818,1784,2028,1991,1934,1966,1916]
["Total Media Básica General  ",null,null,146588,147146,144374,140743,142350,142420,151798,155409,155444,{"$f":"M34+M35","v":156418},{"$f":"N34+N35","v":153287}]
["Pública  ",null,null,125367,127162,123869,120487,121195,120960,127681,130013,130073,130978,127593]
["Privada3",null,null,21221,19984,20505,20256,21155,21460,24117,25396,25371,25440,25694]
["Media Básica  Tecnológica ",null,null,14578,15263,15493,15591,15860,16163,17676,19615,20241,23791,26241]
[null,"Total Educación Media Superior  ",null,{"$f":"D38+D41","v":132735},142237,145042,144180,140653,138558,138626,143405,145358,149484,153682]
["Total Media Superior General  ",null,null,122617,129454,127356,124512,119418,112877,110507,112664,113327,{"$f":"M39+M40","v":116117},{"$f":"N39+N40","v":117497}]
["Pública  ",null,null,108589,115157,112669,108459,103938,97136,94506,96319,96902,99175,100265]
["Privada3",null,null,14028,14297,14687,16053,15480,15741,16001,16345,16425,16942,17232]
["Total Media Superior Tecnológica  ",null,null,10118,12783,17686,19668,21235,25681,28119,30741,32031,33367,36185]
[]
["Total Edu. Técnica (s/cont. educativa) ",null,null,36416,37219,32372,27146,28840,24419,19957,16769,11912,7546,9859]
[null,null,null,null,null,null,null,null,null,null,null,". "]
["Total Educación Terciaria ",null,null,{"$f":"D47+D54+D60","v":101992},106511,107484,108636,111012,124442,127315,126662,128159,129884,137209]
[]
[null,"Terciaria No Universitaria  ",null,{"$f":"D48+D52","v":5496},{"$f":"E48+E52","v":7238},{"$f":"F48+F52","v":6437},{"$f":"G48+G52","v":5454},{"$f":"H48","v":5726},{"$f":"I48","v":5786},6718,7179,7560,7339,8308]
["Terciaria No Universitaria Pública  ",null,null,{"$f":"D49+D50+D51","v":5148},6107,6129,5297,5726,5786,6718,7179,7560,{"$f":"M49+M50+M51","v":7339},{"$f":"N49+N50+N51","v":8308}]
["CETP ",null,null,2564,3514,3671,4024,3961,3896,4650,4964,6158,6780,7610]
["Terciaria Policial o Militar ",null,null,620,623,653,679,724,652,557,649,603,470,572]
["Otras terciaria pública4",null,null,1964,1970,1805,594,1041,1238,1511,1566,799,89,126]
["Terciaria No Universitaria Privada5",null,null,348,1131,308,157,"n/c","n/c","n/c","n/c","n/c","n/c","n/c"]
[]
[null,"Formación en Educación ",null,{"$f":"D55+D58","v":16735},{"$f":"E55+E58","v":19411},21397,20779,21537,22609,22747,20951,20703,21242,22754]
["Publica","Publica",null,{"$f":"D56","v":16610},{"$f":"E56","v":19298},{"$f":"F56+F57","v":21260},{"$f":"G56+G57","v":20631},21406,22456,22572,20855,20655,21149,22649]
["Consejo de Formación en Educación (CFE)",null,null,16610,19298,20968,20435,21175,21992,22108,20391,20191,20919,22331]
["CENFORES - INAU",null,null,"n/c","n/c",292,196,231,464,464,464,464,230,318]
["Privada",null,null,{"$f":"D59","v":125},{"$f":"E59","v":113},137,148,131,153,175,96,48,93,105]
["Centro de Inv. y Experim. Pedagógica (CIEP)",null,null,125,113,137,148,131,153,175,96,48,93,105]
[null,"Total Educación Universitaria6",null,{"$f":"D61+D62","v":79761},79862,79650,82403,83749,96047,97850,98532,99896,101303,{"$f":"N61+N62+N63","v":106147}]
["Universitaria Pública (UdelaR)7",null,null,70156,70156,70156,70156,70156,81774,81774,81774,81774,81774,85905]
["Universitaria Privada  ",null,null,9605,9706,9494,12247,13593,14273,16076,16758,18122,19529,20140]
["Seguridad y Defensa",null,null,"n/c","n/c","n/c","n/c","n/c","n/c","n/c","n/c","n/c","s/d",102]
[]
["Fuentes: Departamentos de Estadística (u oficinas productoras de información) del CEP, CES y CETP y de la Universidad de la República,  Dirección de Formación y Perfeccionamiento Docente, e instituciones privadas de educación terciaria\nNotas: \n1- Los datos de primera infancia consideran  la matrícula de CAÍF solo de niños de 2 a 5 años y la totalidad de la matrícula de los establecimientos privados del MEC. \n    Hoy se cuenta con información detallada sobre las desagregaciones de las ofertas de primera infancia e inicial. En el presente cuadro a fin de mantener la serie histórica se conservan los criterios utilizados en el pasado. Para un examen en detalle ver el apartado 1 de \"Educación inicial y en la primera infancia\" del capítulo 2 de la sinopsis estadística.                                                                                                                                                                                                                                                               \n2- La matrícula de Educación Inicial incluye la matrícula de los Centros Educativos de la Primera Infancia (CEPI) y los Centros de Educación Inicial en Colegios Autorizados por el CEIP.                                                                                                                           3- Los datos de secundaria privada corresponden a la educación secundaria habilitada, que se componen en su gran mayoría por liceos privados a los que se suma el Liceo Militar y el bachillerato de la Escuela Naval.\n4- La baja significativa de matriculados en la categoría “Otras terciaria pública” en 2005, responde a que el ISEF no reportó información para dicho año sí lo había hecho en 2004. En 2006 y 2007 reportó en UdelaR, institución de la cual pasó a formar parte.\n5- Algunas instituciones de educación terciaria no universitaria privada fueron reportadas en distintos niveles a lo largo de la serie o bien no reportaron en algunos de los años, lo que explica la irregularidad de la evolución de la matrícula en este nivel.\n6- Los datos de enseñanza terciaria universitaria pública y privada corresponden a carreras cortas y de grado (excluyen carreras de postgrado).\n7- Los datos de UdelaR del 2000 a 2006 corresponden a una proyección realizada del Censo 1999 de carreras de grado. El dato de 2007 corresponde al Censo 2007 y los datos 2008 a 2011 responden a la proyección del Censo 2007 (no incluyen carreras de postgrado). El dato de 2012 responde al resultado del VII Censo de Estudiantes de Grado de la UdelaR, es el número de estudiantes contados una sola vez independientemente de la cantidad de carreras que están inscriptos.\n"]

{"sheet":"I-1.2.14","index":21,"n_rows":17,"n_cols":9,"rows_kept":17,"cut":false,"hidden":false,"merged":[[16,0,16,8],[7,0,7,1],[8,0,8,1],[9,0,9,1],[15,0,15,1],[10,0,10,1],[11,0,11,1],[12,0,12,1],[13,0,13,1],[14,0,14,1],[6,0,6,1],[0,0,0,3],[2,0,2,8],[5,0,5,1],[3,2,3,8],[3,0,4,1]]}
["Ministerio de Educación y Cultura\nDirección de Educación"]
[]
["Cuadro I-1.2.14\nPORCENTAJE DE POBLACIÓN DE 25 AÑOS O MÁS POR TRAMOS DE EDAD SEGÚN NIVEL EDUCATIVO MÁXIMO ALCANZADO. AÑO 2012."]
["NIVEL EDUCATIVO MÁXIMO\nALCANZADO",null,"TRAMOS DE EDAD"]
[null,null,"TOTAL","25 a 29 años","30 a 39 años","40 a 49 años","50 a 59 años","60 a 69 años","70 y más años"]
["TOTAL ",null,{"$f":"SUM(C10:C16)","v":99.990029988231484},{"$f":"SUM(D10:D16)","v":99.998646288800757},100,99.984232932149041,99.978925588167684,99.999999999999986,99.981257988398383]
["Sin instrucción ",null,0.75449530236504314,0.24998533479534141,0.30242268302184971,0.34237061619202785,0.57858839757835845,0.93573187600301666,2.2766935404581652]
["Primaria incompleta ",null,10.691469188753826,2.5075243780825134,3.4661953509665859,4.9325895281642378,9.4394206452601725,17.887562057466376,28.639329957722936]
["Primaria completa ",null,26.247424413626462,13.451828186974591,17.924376720936937,25.237819940085142,28.236701225052823,33.886146664712754,39.018102939730603]
["HASTA PRIMARIA COMPLETA ",null,{"$f":"SUM(C7:C9)","v":37.693388904745333},16.209337899852446,21.692994754925373,30.51278008444141,38.254710267891355,52.709440598182148,69.934126437911701]
["Media Básica incompleta ",null,9.9360453068613221,13.864258865680263,12.454796172834342,10.981887893644871,9.4199883953888097,7.152022474721301,5.4339543801002854]
["Media Básica completa ",null,10.670942693936277,12.612978480504303,13.941817749614268,12.823631581186634,10.971010367515847,7.4955054131624381,4.5328015927637404]
["Media Superior incompleta ",null,14.165040837950166,18.421301999431442,18.742942920469879,15.313326676126907,13.786497049582344,10.986450116340995,6.6242257398485895]
["Media Superior completa ",null,8.6008456915864837,9.8026740308555897,9.2258727667713636,9.896212650193835,10.276375858029624,7.4987222148752055,4.3862452069609672]
["Terciaria incompleta ",null,7.9972201261304239,18.611272804393245,10.389781899099995,7.8067007535657362,5.8066846939557495,4.8627319224679306,2.817753908170288]
["Terciaria completa ",null,10.926546427021469,10.47682220808346,13.551793736284779,12.64969329298966,11.463658955803949,9.2951272602499806,6.2521507226428072]
["Fuentes:Elaboración propia en base a la ECH 2012.\nNota:Todo el país (Año 2012)"]

{"sheet":"I-1.2.15","index":22,"n_rows":29,"n_cols":11,"rows_kept":29,"cut":false,"hidden":false,"merged":[[0,0,0,3],[2,0,2,10],[3,0,4,0],[3,1,3,10]]}
["Ministerio de Educación y Cultura\nDirección de Educación"]
[]
["CUADRO I-1.2.15                                                                                                                                                                                                                                                                                                                                        PORCENTAJE DE POBLACIÓN POR NIVEL AL CUAL ASISTE SEGÚN NIVEL EDUCATIVO MÁXIMO ALCANZADO"]
["NIVEL EDUCATIVO MÁXIMO ALCANZADO","NIVEL EDUCATIVO AL CUAL ASISTE"]
[null,"No asiste","Preescolar","Primaria","Técnica","Media  básica","Media  superior","No  Universitaria","Magisterio o profesorado","Universitaria","Postgrado"]
[]
["TOTAL  ",{"$f":"SUM(B9:B26)","v":99.999999999999986},{"$f":"SUM(C9:C26)","v":100},100,100,100,100,100,100,100,100]
[]
["Sin instrucción  ",5.6,22.5]
["Inicial  ",0.1,77.5]
["Primaria incompleta  ",9.6999999999999993,null,100]
["Primaria completa  ",26.4,null,null,null,34.799999999999997]
["M. Básica incompleta  ",10.199999999999999,null,null,null,65.2]
["M. Básica completa  ",11.9,null,null,48.8,null,32.6]
["M. Sup. incompleta (CES)  ",12.9,null,null,21.3,null,59.3]
["M. Sup. completa (CES) ",7.9,null,null,18.899999999999999]
["M.Sup. incompleta (CETP)  ",0.5,null,null,0.6,null,8.1]
["M. sup. completa (CETP) ",0.6,null,null,1.2]
["Terc. no univ. incompleta  ",0.3,null,null,3.4,null,null,99.2,1.6,1.1000000000000001]
["Terc. no univ. completa  ",1.7,null,null,0.4,null,null,0.5,2,2.9]
["Mag. o prof. incompleto  ",0.6,null,null,0.5,null,null,null,78.8]
["Mag. o prof. completo  ",2.2000000000000002,null,null,0.4]
["Univ. o similar incompleta  ",3.7,null,null,4.0999999999999996,null,null,null,15.7,96]
["Univ. o similar completa  ",4.3,null,null,0.3,null,null,null,1.9]
["Posgrado incompleto  ",0.1,null,null,0.1,null,null,null,null,null,100]
["Posgrado completo  ",1.3,null,null,null,null,null,0.3]
[]
["Fuentes:","Elaboración propia con base en la Encuesta Continua de Hogares 2012"]
["Nota:","Todo el país (año 2012)"]

{"sheet":"I.2.1.1","index":23,"n_rows":8,"n_cols":6,"rows_kept":8,"cut":false,"hidden":false,"merged":[[0,0,0,1],[2,0,2,5],[3,0,4,0],[7,0,7,5],[3,1,3,4]]}
["Ministerio de Educación y Cultura\nDirección de Educación\n"]
[]
["Cuadro I-2.1.1\nTASA NETA DE MATRICULACIÓN ENTRE LOS NIÑOS DE 3 A 5 AÑOS POR AÑO LECTIVO Y TRAMOS DE EDAD. AÑO 2012."]
["TRAMOS\nDE EDAD","AÑO LECTIVO",null,null,null,"TOTAL"]
[null,2008,2009,2010,2011,2012]
["3 a 5 años ",76.8,81.2,81.900000000000006,81.5,83.9]
["4 y 5 años ",88.9,92,91.9,91.2,93.6]
["Fuente: Elaboración propia en base en las ECH 2008 a 2012."]

{"sheet":"I.2.2.1","index":24,"n_rows":12,"n_cols":3,"rows_kept":12,"cut":false,"hidden":false,"merged":[[11,0,11,2],[0,0,0,2],[2,0,2,2],[4,0,5,0],[4,1,5,1],[4,2,5,2]]}
["Ministerio de Educación y Cultura\nDirección de Educación"]
[]
["Cuadro I-2.2.1\nMATRÍCULA EN EDUCACIÓN PRIMARIA ESPECIAL SEGÚN REGIÓN Y FORMA DE ADMINISTRACIÓN. AÑO 2012."]
["REGIÓN Y FORMA DE ADMINISTRACIÓN","Cantidad\nabsoluta","Porcentaje"]
["TOTAL REGIÓN",{"$f":"SUM(B7+B8)","v":10504},100]
[]
["Montevideo ",5153,49.057501904036563]
["Resto del país ",5351,50.942498095963437]
["FORMA DE ADMINISTRACIÓN",{"$f":"B10+B11","v":10504},{"$f":"C10+C11","v":100}]
["Público ",6910,65.784463061690786]
["Privado ",3594,34.215536938309214]
["Fuente: Elaboración propia en base a información del Departamento de Estadística del CEIP."]

{"sheet":"I.2.2.2","index":25,"n_rows":11,"n_cols":14,"rows_kept":11,"cut":false,"hidden":false,"merged":[[10,0,10,5],[0,0,0,11],[2,0,2,13],[4,0,5,0],[4,1,4,13]]}
["Ministerio de Educación y Cultura\nDirección de Educación"]
[]
["Cuadro I-2.2.2\nMATRÍCULA EN EDUCACIÓN PRIMARIA PÚBLICA COMÚN POR AÑO LECTIVO SEGÚN ÁREAS DEMOGRÁFICAS. AÑOS 2001 A 2012."]
[]
["ÁREAS ","AÑO LECTIVO"]
[null,2000,2001,2002,2003,2004,2005,2006,2007,2008,2009,2010,2011,2012]
["TOTAL",{"$f":"SUM(B9+B8)","v":301182},{"$f":"SUM(C9+C8)","v":304452},307756,311141,311350,309286,306030,300143,292542,286092,279445,273440,266349]
["Urbana ",285077,288168,291484,294182,293879,292143,285826,280554,273491,267638,262192,256775,249885]
["Rural ",16105,16284,16272,16959,17471,17143,20204,19589,19051,18454,17253,16665,16464]
["% Urbana ",94.7,94.7,94.7,94.5,94.4,94.5,93.4,93.5,93.5,93.6,93.8,93.9,93.81863645067186]
["Fuente: Elaboración propia en base a información del Departamento de Estadística del CEIP."]

{"sheet":"I.2.2.3","index":26,"n_rows":12,"n_cols":3,"rows_kept":12,"cut":false,"hidden":false,"merged":[[0,0,0,2],[0,3,0,5],[2,0,2,2],[11,0,11,2]]}
["Ministerio de Educación y Cultura\nDirección de Educación\n"]
[]
["Cuadro I-2.2.3\nPORCENTAJE DE ASISTENCIA INSUFICIENTE Y ABANDONO INTERMITENTE DE  1.º A 6.º GRADO EN EDUCACIÓN PRIMARIA COMÚN PÚBLICA SEGÚN REGIONES Y CONTEXTO 1er QUINTIL Y QUINTIL MAYOR. AÑO 2012."]
[null,"ASISTENCIA INSUFICIENTE","ABANDONO INTERMITENTE"]
["TOTAL",6.6,1]
["MONTEVIDEO ",9,1.3]
["RESTO DEL PAÍS ",5.5,0.9]
["1Quintil-Urbano ",11.3,1.7]
["1Quintil-Rural ",6.4,0.9]
["5Quintil-Urbano ",2.9,0.4]
["5Quintil-Rural ",3.3,0.6]
["Fuente: Monitor Educativo de Enseñanza Estado de Situación 2012."]

{"sheet":"I.2.3.1","index":27,"n_rows":10,"n_cols":5,"rows_kept":10,"cut":false,"hidden":false,"merged":[[0,0,0,1],[2,0,2,4],[8,0,8,4],[9,0,9,4]]}
["Ministerio de Educación y Cultura\nDirección de Educación\n"]
[]
["Cuadro I-2.3.1\nPORCENTAJE DE PROMOCIÓN, NO PROMOCIÓN Y DESVINCULACIÓN DE 1º A 3º GRADO DE EDUCACIÓN MEDIA BÁSICA TÉCNICO PROFESIONAL PÚBLICA SEGÚN TIPO DE CURSO. AÑO 2012."]
["TIPO DE CURSO","% DE PROMOCIÓN","% DE NO PROMOCIÓN","% DE DESVINCULADOS","TOTAL"]
["TOTAL",61.6,18.2,20.100000000000001,{"$f":"B5+C5+D5","v":99.9}]
["Ciclo Básico Tecnológico",60,21.9,18.100000000000001,{"$f":"B6+C6+D6","v":100}]
["C.B.T Agrario",80.900000000000006,3.8,15.3,{"$f":"B7+C7+D7","v":100}]
["Formación Profesional Básica 2007",62,13.2,24.7,{"$f":"B8+C8+D8","v":99.9}]
["Fuente: Departamento de Estadística del CETP"]
["Nota:  No se incluye Articulación Educación Media Básica"]

{"sheet":"I.2.3.2","index":28,"n_rows":13,"n_cols":5,"rows_kept":13,"cut":false,"hidden":false,"merged":[[0,0,0,1],[2,0,2,4],[12,0,12,4]]}
["Ministerio de Educación y Cultura\nDirección de Educación\n"]
[]
["Cuadro I-2.3.2\nPORCENTAJE DE PROMOCIÓN, NO PROMOCIÓN Y DESVINCULACIÓN DE 1º A 3º GRADO DE EDUCACIÓN MEDIA BÁSICA TÉCNICO PROFESIONAL PÚBLICA SEGÚN TIPO DE CURSO. AÑO 2012."]
["TIPO DE CURSO","% DE PROMOCIÓN","% DE NO PROMOCIÓN","% DE DESVINCULADOS","TOTAL"]
["TOTAL",63,11.8,25.2,{"$f":"B5+C5+D5","v":100}]
["Curso Técnico",66.7,9.1999999999999993,24.1,{"$f":"B6+C6+D6","v":100}]
["Formación Profesional Superior",55.8,8.6,35.6,{"$f":"B7+C7+D7","v":100}]
["E.M.P. Especialización",67.099999999999994,4.0999999999999996,28.8,99.999999999999986]
["Educación Media Profesional",63,7.9,29.1,100]
["Educación Media Tecnológica",63.2,14.1,22.7,100]
["Bachillerato Profesional",58.2,15.6,26.2,100]
["Bachillerato Figari",51.4,17.8,30.8,100]
["Fuente: Departamento de Estadística del CETP"]

{"sheet":"I.2.4.1","index":29,"n_rows":22,"n_cols":4,"rows_kept":22,"cut":false,"hidden":false,"merged":[[2,0,2,3],[3,2,3,3],[21,0,21,3],[3,1,4,1],[3,0,4,0]]}
["Ministerio de Educación y Cultura\nDirección de Educación\n"]
[]
["Cuadro I-2.4.1.\nESTABLECIMIENTOS DE EDUCACIÓN TÉCNICO PROFESIONAL POR NIVEL EDUCATIVO IMPARTIDO EN EL ESTABLECIMIENTO SEGÚN GRANDES ÁREAS. AÑO 2012."]
[null,"TOTAL","GRANDES ÁREAS"]
[null,null,"Resto del País","Montevideo"]
["TOTAL",{"$f":"C6+D6","v":235},{"$f":"SUM(C7:C19)","v":184},{"$f":"SUM(D7:D19)","v":51}]
["Básica",{"$f":"C7+D7","v":25},19,6]
["Básica y Superior",14,14,0]
["Básica y JYA",0,0,0]
["Superior",9,8,1]
["Terciaria",76,60,16]
["JYA",7,4,3]
["Superior y Terciaria",6,3,3]
["Superior y JYA",12,8,4]
["Basica Superior y JYA",33,25,8]
["Superior Terciaria y JYA",12,5,7]
["Basica Superior y Terciaria",3,1,2]
["Basica Superior  JYA y Terciaria",37,36,1]
["Terciaria y JYA",1,1,0]
[]
["Fuente: Departamento de Estadísticas  CETP-UTU "]
["Nota: Dentro de la cantidad de establecimentos declarados se encuentran 114 reparticiones denominadas\nsatélites en las cuales se  imparten cursos administrados por el CETP. Estos son establecimientos que no forman parte de los activos de ANEP. "]

{"sheet":"I.2.4.2","index":30,"n_rows":13,"n_cols":11,"rows_kept":13,"cut":false,"hidden":false,"merged":[[2,0,2,6],[0,0,0,4],[3,0,6,1],[3,2,3,10],[12,0,12,10],[4,2,4,4],[8,0,8,1],[5,3,5,4],[10,0,10,1],[11,0,11,1],[4,8,4,10],[7,0,7,1],[9,0,9,1],[4,5,4,7],[5,6,5,7],[5,9,5,10]]}
["Ministerio de Educación y Cultura\nDirección de Educación\n"]
[]
["Cuadro  I.2.4.2\nALUMNOS MATRICULADOS EN EDUCACIÓN TÉCNICA POR GRANDES ÁREAS Y SEXO SEGÚN NIVEL Y TIPO DE CURSO. AÑO 2012."]
["NIVEL\nDEL CURSO",null,"GRANDES ÁREAS"]
[null,null,"TOTAL",null,null,"MONTEVIDEO",null,null,"RESTO DEL PAÍS"]
[null,null,null,"Sexo",null,null,"Sexo",null,null,"Sexo"]
[null,null,"Total","Femenino","Masculino","Total","Femenino","Masculino","Total","Femenino","Masculino"]
["TOTAL ",null,{"$f":"D8+E8","v":79895},{"$f":"SUM(D9:D12)","v":34718},{"$f":"SUM(E9:E12)","v":45177},{"$f":"G8+H8","v":29846},{"$f":"SUM(G9:G12)","v":12672},{"$f":"SUM(H9:H12)","v":17174},{"$f":"J8+K8","v":50049},{"$f":"SUM(J9:J12)","v":22046},{"$f":"SUM(K9:K12)","v":28003}]
["Educación Media Básica",null,{"$f":"+D9+E9","v":26241},{"$f":"+G9+J9","v":10256},15985,{"$f":"+G9+H9","v":4849},1873,2976,{"$f":"+J9+K9","v":21392},8383,13009]
["Educación Media Superior",null,{"$f":"+D10+E10","v":36185},16202,19983,{"$f":"+G10+H10","v":15569},6425,9144,{"$f":"+J10+K10","v":20616},9777,10839]
["Nivel  de Formación Profesional",null,{"$f":"+D11+E11","v":9859},4964,4895,4501,2261,2240,5358,2703,2655]
["Nivel Terciario",null,{"$f":"+D12+E12","v":7610},3296,4314,{"$f":"+G12+H12","v":4927},2113,2814,{"$f":"+J12+K12","v":2683},1183,1500]
["Fuente: Elaboración propia en base a información del Departamento de Estadísticas CETP - U.T.U"]

{"sheet":"I.2.4.3","index":31,"n_rows":16,"n_cols":7,"rows_kept":16,"cut":false,"hidden":false,"merged":[[0,0,0,5],[3,3,3,6],[15,0,15,6],[5,0,5,1],[7,0,7,1],[6,0,6,1],[13,0,13,1],[9,0,9,1],[8,0,8,1],[14,0,14,1],[12,0,12,1],[10,0,10,1],[11,0,11,1],[2,0,2,6],[3,0,4,1],[3,2,4,2]]}
["Ministerio de Educación y Cultura \nDirección de Educación Área de Investigación y Estadística"]
[]
["Cuadro I.2.4.3\nALUMNOS MATRICULADOS EN EDUCACIÓN MEDIA, TÉCNICA Y TERCIARIA POR NIVEL DEL CURSO SEGÚN SECTORES DE ESTUDIO. AÑO 2012."]
["ÁREAS\nDE ESTUDIO",null,"TOTAL","NIVEL DEL CURSO"]
[null,null,null,"Educación Media Básica","Educación Media Superior","Nivel de Formación Profesional","Nivel Terciario"]
["TOTAL ",null,{"$f":"SUM(D6:G6)","v":79895},{"$f":"SUM(D7:D15)","v":26241},{"$f":"SUM(E7:E15)","v":36185},{"$f":"SUM(F7:F15)","v":9859},{"$f":"SUM(G7:G15)","v":7610}]
["Agricultura y Pesca",null,{"$f":"SUM(D7:G7)","v":3155},210,2280,161,504]
["Artes y Artesanías",null,{"$f":"SUM(D8:G8)","v":958},0,129,829,0]
["Comercio y Administración",null,13682,0,12131,176,1375]
["Comunicación",null,769,0,0,0,769]
["Construcción",null,3259,151,2266,636,206]
["Industria",null,21301,4307,7924,5073,3997]
["Informática",null,8350,965,6003,1081,301]
["Programas Generales",null,17829,17829,0,0,0]
["Servicios",null,10592,2779,5452,1903,458]
["Fuente:Departamento de Estadísticas CETP - U.T.U"]

{"sheet":"I.2.7.1","index":32,"n_rows":38,"n_cols":14,"rows_kept":38,"cut":false,"hidden":false,"merged":[[36,0,36,9],[37,0,37,9],[0,0,0,2],[33,0,33,8],[2,0,2,13],[3,0,3,13],[4,1,4,13],[34,0,34,8],[35,0,35,8]]}
["Ministerio de Educación y Cultura\nDirección de Educación\n"]
[]
["Cuadro I-2.7.1"]
["EVOLUCIÓN DE LA MATRÍCULA DE LAS INSTITUCIONES UNIVERSITARIAS (2000 – 2012)"]
["INSTITUCIONES","AÑO LECTIVO"]
["UNIVERSITARIAS",2000,2001,2002,2003,2004,2005,2006,2007,2008,2009,2010,2011,2012]
[]
["TOTAL  ",78634,79678,79761,79862,79650,85019,86802,131000,132905,133699,135288,{"$f":"M10+M19+M30","v":136946},{"$f":"N10+N19+N30","v":155916}]
[]
["Total Universidades   ",78419,79340,79353,79449,79057,83621,85153,129122,130136,131409,132726,{"$f":"M12+M14","v":133910},{"$f":"N12+N14","v":153627}]
[]
["UdelaR ",70156,70156,70156,70156,70156,70156,70156,112891,112891,112891,112891,{"$f":"112891","v":112891},130941]
[]
["Universidades privadas  ",8263,9184,9197,9293,8901,13465,14997,16231,17245,18518,19835,{"$f":"SUM(M15:M18)","v":21019},{"$f":"SUM(N15:N18)","v":22686}]
["Univ Católica del Uruguay  ",4057,4180,3591,3849,3286,5580,5911,6401,7126,7227,7996,{"$f":"6655+2244","v":8899},9478]
["Univ ORT Uruguay  ",3445,3572,3900,3777,3827,5674,5863,6118,6442,7202,7199,{"$f":"6991+631","v":7622},7511]
["Univ de la Empresa ",0,609,909,790,872,911,1611,1756,1739,2064,2465,{"$f":"1667+472","v":2139},3475]
["Univ de Montevideo  ",575,775,749,824,916,1300,1612,1956,1938,2025,2175,{"$f":"1780+579","v":2359},2222]
["Total Institutos Universitarios  ",215,338,408,413,593,1398,1649,1878,2769,2290,2562,2930,{"$f":"SUM(N20:N29)","v":2132}]
["IU Autónomo del Sur ",215,211,218,184,195,318,428,414,428,515,605,691,"n/c"]
["IU Asoc Cristiana de Jóvenes ",0,93,140,141,184,407,508,449,352,346,427,515,587]
["IU CLAEH ",0,0,0,39,91,283,412,483,483,740,651,{"$f":"354+352","v":706},532]
["IU Monseñor Mariano Soler *",0,0,0,0,59,65,50,83,54,50,42,61,61]
["IU Asoc Psico del Uruguay",0,0,0,0,35,25,31,29,34,38,40,48,42]
["IU Crandon ",0,0,0,0,29,60,59,72,21,89,78,{"$f":"48+9","v":57},48]
["IU San Francisco de Asis ",0,0,0,0,0,83,161,202,202,237,380,489,441]
["IU Bios ",0,0,0,0,0,157,0,146,178,112,109,{"$f":"51+43","v":94},68]
["IU Maldonado – P del Este ","n/c","n/c","n/c","n/c","n/c","n/c","n/c","n/c",1017,"n/c","n/c","n/c",42]
["IU CEDIIAP ",0,34,50,49,0,0,0,0,0,163,230,{"$f":"227+42","v":269},311]
["Total Área Seguridad y Defensa","n/c","n/c","n/c","n/c","n/c","n/c","n/c","n/c","n/c","n/c","n/c",{"$f":"SUM(M31:M44)","v":106},{"$f":"SUM(N31:N33)","v":157}]
["Escuela de Policía","n/c","n/c","n/c","n/c","n/c","n/c","n/c","n/c","n/c","n/c","n/c","s/d",77]
["Escuela Naval","n/c","n/c","n/c","n/c","n/c","n/c","n/c","n/c","n/c","n/c","n/c","s/d",25]
["CALEN","n/c","n/c","n/c","n/c","n/c","n/c","n/c","n/c","n/c","n/c","n/c",106,55]
["Fuentes: Oficinas productoras de cada una de las instituciones"]
["Nota:   UdelaR incluye tecnicaturas y grado, no incluye matrícula de postgrados"]
["Las Universidades privadas incluyen grado y postgrado. "]
["Para el instituto CEDIIAP no se incluye información de los años anteriores por no haber reportado información en el períodos 2004-2008. "]
["El Instituto Universitario \"Instituto de Estudios para la Salud y el Desarrollo Florence Ninghtingale\" (INSADE), que registrara actividad en los años 2000 a 2003 de la serie presentada, luego no reportó información, por lo cual fue retirado de la tabla. Sin embargo la matrícula correspondiente a dichos años sigue incluida en el ítem \"Total de Institutos Universitarios\"."]

{"sheet":"I.2.7.2","index":33,"n_rows":30,"n_cols":14,"rows_kept":30,"cut":false,"hidden":false,"merged":[[29,0,29,12],[30,0,30,12],[0,0,0,1],[4,0,5,0],[4,1,4,12],[2,0,2,13],[3,0,3,13]]}
["Ministerio de Educación y Cultura\nDirección de Educación \n"]
[]
["Cuadro I-2.7.2"]
["INGRESOS A INSTITUCIONES UNIVERSITARIAS POR AÑO LECTIVO SEGÚN ÁREA DE CONOCIMIENTO.  AÑOS 2000 A 2012."]
["ÁREA DE CONOCIMIENTO","AÑO LECTIVO"]
[null,2000,2001,2002,2003,2004,2005,2006,2007,2008,2009,2010,2011,2012]
["TOTAL ",{"$f":"SUM(B8:B29)","v":18131},19265,20090,21169,21558,21964,22798,23014,23566,24981,26357,26283,{"$f":"SUM(N8:N29)","v":26854}]
["Agricultura, silvicultura y pesca  ",210,225,176,252,283,398,362,414,436,638,806,864,608]
["Arquitectura y construcción  ",788,704,756,645,602,628,648,665,646,832,770,754,688]
["Artes  ",488,539,574,642,710,809,744,752,746,839,1219,997,895]
["Ciencias de la vida  ",474,492,515,633,815,785,955,939,818,581,650,649,473]
["Ciencias físicas  ",505,374,545,540,653,624,771,653,687,760,636,667,711]
["Ciencias sociales y del comportamiento  ",2965,2466,3152,2933,3126,3353,2987,3057,4830,5692,5936,5399,3774]
["Derecho  ",2378,2033,2047,2087,1828,2000,1837,1754,1850,1855,2031,2005,2911]
["Docencia y ciencias de la educación  ",315,505,542,588,515,766,911,901,941,709,800,785,957]
["Enseñanza comercial y administración  ",2546,4252,3903,4132,3942,3828,4292,4885,3127,3253,4176,3661,5462]
["Humanidades  ",568,663,709,803,899,967,1038,889,909,791,541,707,806]
["Industria y producción  ",43,151,172,214,247,114,141,104,111,115,116,219,383]
["Informática  ",792,701,749,790,813,843,917,962,1186,1248,1319,1280,1128]
["Ingeniería y profesiones afines  ",720,676,672,752,767,570,701,633,671,686,856,828,891]
["Matemáticas y estadística  ",107,142,113,131,324,244,328,329,238,218,155,176,132]
["Medicina  ",3673,3817,3573,3960,4135,3633,3572,3562,3888,4823,4361,4656,4785]
["Otras  ","n/c","n/c","n/c","n/c","n/c","n/c","n/c","n/c","n/c","n/c",104,327,32]
["Periodismo e información  ",945,838,1118,1174,972,1170,1219,1036,1038,1049,816,1218,1027]
["Protección del medio ambiente  ","n/c","n/c","n/c","n/c","n/c","n/c","n/c","n/c","n/c","n/c","n/c",6,43]
["Servicios personales  ",8,0,0,14,8,0,318,328,331,272,411,327,491]
["Servicios de seguridad","n/c","n/c","n/c","n/c","n/c","n/c","n/c","n/c","n/c","n/c","n/c","s/d",102]
["Servicios sociales  ",311,367,457,498,508,724,573,626,594,87,146,82,0]
["Veterinaria  ",295,320,317,381,411,508,484,525,519,533,508,578,555]
["Fuente:Elaboración propia en base información de las oficinas productoras de las instituciones.\nNota:Las áreas corresponden a la clasificación CINE 1997 de UNESCO."]

{"sheet":"I.2.7.3","index":34,"n_rows":28,"n_cols":14,"rows_kept":28,"cut":false,"hidden":false,"merged":[[28,0,28,9],[27,0,27,9],[0,0,0,3],[3,0,4,0],[2,0,2,10],[3,1,3,12]]}
["Ministerio de Educación  y Cultura\nDirección de Educación\n"]
[]
["Cuadro I-2.7.3\nEGRESOS DE INSTITUCIONES UNIVERSITARIAS POR AÑO LECTIVO SEGÚN ÁREA DE CONOCIMIENTO. AÑOS 2000 A 2012."]
["INSTITUCIONES\nUNIVERSITARIAS","AÑO LECTIVO"]
[null,2000,2001,2002,2003,2004,2005,2006,2007,2008,2009,2010,2011,2012]
["TOTAL ",{"$f":"SUM(B7:B27)","v":4646},4402,5902,5697,6177,5514,6151,6381,7018,7185,7223,{"$f":"SUM(M7:M27)","v":7808},{"$f":"SUM(N7:N27)","v":9101}]
["Agricultura, silvicultura y pesca ",226,145,164,161,213,123,126,111,164,301,279,294,216]
["Arquitectura y construcción ",233,136,294,208,308,437,324,303,280,275,341,349,362]
["Artes ",40,33,39,60,46,42,104,120,181,184,211,162,184]
["Ciencias de la vida ",97,62,72,73,107,108,141,137,183,169,166,240,242]
["Ciencias físicas ",110,94,153,118,162,140,105,125,143,154,158,158,141]
["Ciencias sociales y del comportamiento ",381,534,739,671,655,634,689,641,923,720,746,930,1262]
["Derecho ",500,613,686,676,816,781,838,777,886,806,786,910,1013]
["Enseñanza comercial y administración ",914,865,1328,1509,1205,918,1032,1071,1135,1289,1280,1239,1999]
["Formación de personal docente y ciencias de la educación ",66,61,81,120,113,136,291,372,399,275,235,246,241]
["Humanidades ",80,33,74,33,73,64,76,75,92,90,66,75,68]
["Industria y producción ",0,12,8,16,10,26,16,31,33,24,27,25,45]
["Informática ",285,234,257,194,237,277,235,215,242,260,250,277,288]
["Ingeniería y profesiones afines ",133,124,187,201,224,214,200,204,194,257,222,232,275]
["Matemáticas y estadística ",9,4,6,9,10,12,5,13,27,19,14,11,21]
["Medicina ",1323,1311,1476,1276,1578,1243,1537,1726,1532,1874,1962,1953,2027]
["Periodismo e información ",120,78,208,249,289,174,191,213,234,242,201,241,280]
["Protección del medio ambiente","s/d","s/d","s/d","s/d","s/d","s/d","s/d","s/d","s/d","s/d","s/d",5,12]
["Servicios de Seguridad","n/c","n/c","n/c","n/c","n/c","n/c","n/c","n/c","n/c","n/c","n/c","s/d",41]
["Servicios personales ",0,0,0,16,7,19,96,145,194,67,51,181,125]
["Servicios sociales ",17,14,23,18,33,48,51,47,106,88,123,148,139]
["Veterinaria ",112,49,107,89,91,118,94,55,70,91,105,132,120]
["Fuente: Elaboración propia en base a información brindada por las oficinas productoras de las instituciones.\nNota: Las áreas corresponden a la clasificación CINE 1997 de UNESCO."]

{"sheet":"I.2.7.4","index":35,"n_rows":29,"n_cols":8,"rows_kept":29,"cut":false,"hidden":false,"merged":[[28,0,28,7],[2,0,3,7],[4,0,5,0],[4,3,4,7],[4,1,5,1],[4,2,5,2]]}
["Ministerio de Educación y Cultura Dirección de Educación \n"]
[]
["Cuadro I.2.7.4\nEGRESOS DE INSTITUCIONES UNIVERSITARIAS POR NIVEL ACADÉMICO SEGÚN ÁREA DE CONOCIMIENTO. AÑO 2012."]
[]
["INSTITUCIONES UNIVERSITARIAS","TOTAL","%","NIVEL ACADÉMICO"]
[null,null,null,"Carrera corta o tecnicatura","Carrera de grado, licenciatura","Postgrado de especialización","Maestría","Doctorado"]
["TOTAL ",{"$f":"SUM(D7:H7)","v":9101},{"$f":"SUM(C8:C28)","v":100.00000000000001},614,7213,434,789,51]
["Agricultura, silvicultura y pesca ",{"$f":"SUM(D8:H8)","v":216},{"$f":"(B8*100)/$B$7","v":2.3733655642237115},0,188,1,27,0]
["Arquitectura y construcción ",362,3.9775848807823317,1,361,0,0,0]
["Artes ",184,2.0217558510053841,26,158,0,0,0]
["Ciencias de la vida ",242,2.6590484562136028,0,190,0,41,11]
["Ciencias físicas ",141,1.5492802988682561,9,108,0,7,17]
["Ciencias sociales y del comportamiento ",1262,13.866608065047798,3,1113,92,54,0]
["Derecho ",1013,11.130644984067684,103,872,2,36,0]
["Enseñanza comercial y administración ",1999,21.964619272607404,185,1480,205,129,0]
["Formación de personal docente y ciencias de la educación ",241,2.6480606526755301,25,42,82,78,14]
["Humanidades ",68,0.74717064058894622,10,44,0,14,0]
["Industria y producción ",45,0.49445115921327326,0,45,0,0,0]
["Informática ",288,3.1644874189649488,20,228,19,16,5]
["Ingeniería y profesiones afines ",275,3.0216459729700031,33,222,1,16,3]
["Matemáticas y estadística ",21,0.23074387429952753,0,16,2,3,0]
["Medicina ",2027,22.272277771673444,137,1512,27,350,1]
["Periodismo e información ",280,3.0765849906603671,46,231,2,1,0]
["Protección del medio ambiente",12,0.13185364245687287,0,2,0,10,0]
["Servicios de seguridad",{"$f":"SUM(D25:H25)","v":41},{"$f":"(B25*100)/$B$7","v":0.45049994506098229},0,41,null,0]
["Servicios personales ",125,1.3734754422590925,16,109,0,0,0]
["Servicios sociales ",139,1.5273046917921107,0,137,1,1,0]
["Veterinaria ",120,1.3185364245687288,0,114,0,6,0]
["Fuente: Elaboración propia en base información de las oficinas productoras de las instituciones \nNota: Las áreas corresponden a la clasificación CINE 1997 de UNESCO."]

{"sheet":"I.2.7.5","index":36,"n_rows":32,"n_cols":8,"rows_kept":32,"cut":false,"hidden":false,"merged":[[31,0,31,10],[3,1,3,7],[4,1,5,2],[4,3,5,3],[4,4,5,4],[4,6,5,6],[4,7,5,7],[4,5,5,5],[2,0,2,6],[3,0,5,0],[0,0,0,1],[29,0,29,7],[30,0,30,7]]}
["Ministerio de Educación y Cultura \nDirección de Educación\n"]
[]
["Cuadro I-2.7.5\nINGRESOS A INSTITUCIONES UNIVERSITARIAS POR NIVEL ACADÉMICO SEGÚN ÁREA DE CONOCIMIENTO. AÑO 2012."]
["INSTITUCIONES UNIVERSITARIAS","NIVEL ACADÉMICO"]
[null,"TOTAL",null,"Carrera corta o tecnicatura","Carrera de grado, licenciatura","Postgrado de especialización","Maestría","Doctorado"]
[]
["TOTAL ",{"$f":"SUM(D7:H7)","v":26854},{"$f":"SUM(C8:C29)","v":100.00000000000001},2424,20851,1488,1965,126]
["Agricultura, silvicultura y pesca ",{"$f":"SUM(D8:H8)","v":608},{"$f":"(B8*100)/$B$7","v":2.2640947344902065},33,483,29,49,14]
["Arquitectura y construcción ",688,2.5620019363968125,5,650,33,0,0]
["Artes ",895,3.3328368213301558,48,847,0,0,0]
["Ciencias de la vida ",473,1.7613763312728086,0,340,0,102,31]
["Ciencias físicas ",711,2.6476502569449618,46,618,0,20,27]
["Ciencias sociales y del comportamiento ",3774,14.053772249944142,10,3073,418,256,17]
["Derecho ",2911,10.840098309376629,0,2731,26,154,0]
["Enseñanza comercial y administración ",5462,20.339614210173529,1276,3516,467,203,0]
["Formación de personal docente y ciencias de la educación ",957,3.5637149028077753,88,376,213,267,13]
["Humanidades ",806,3.0014150592090565,155,550,0,101,0]
["Industria y producción ",383,1.4262307291278766,50,329,0,4,0]
["Informática ",1128,4.2004915468831463,35,1030,22,38,3]
["Ingeniería y profesiones afines ",891,3.3179414612348253,96,707,29,51,8]
["Matemáticas y estadística ",132,0.49154688314590006,0,106,20,3,3]
["Medicina ",4785,17.818574514038875,375,3569,190,649,2]
["Periodismo e información ",1027,3.8243837044760558,55,915,8,49,0]
["Servicios de seguridad",{"$f":"SUM(D24:H24)","v":102},{"$f":"(B24*100)/$B$7","v":0.37983168243092275},0,102,0,0,0]
["Servicios personales ",491,1.8284054517017949,120,338,33,0,0]
["Servicios sociales ",0,0,0,0,0,0,0]
["Protección del medio ambiente",43,0.16012512102480078,0,35,0,7,1]
["Veterinaria ",555,2.0667312132270799,0,536,0,12,7]
["Otras",{"$f":"SUM(D29:H29)","v":32},{"$f":"(B29*100)/$B$7","v":0.11916288076264243},32,"n/c","n/c","n/c","n/c"]
["Fuente: Elaboración propia en base información de las oficinas productoras de las instituciones"]
["Nota: Las áreas corresponden a la clasificación CINE 1997 de UNESCO."]
["La categoría \"Otras\", refiere a estudiantes que ingresaron al Ciclo Inicial en UdelaR y no pueden ser clasificables por área."]

{"sheet":"I.2.7.6","index":37,"n_rows":13,"n_cols":4,"rows_kept":13,"cut":false,"hidden":false,"merged":[[0,0,0,3],[2,0,2,3],[12,0,12,3]]}
["Ministerio de Educación y Cultura\nDirección de Educación"]
[]
["Cuadro I-2.7.6\nINGRESOS, MATRÍCULA Y EGRESOS DE OFERTAS DE GRADO SEGÚN FORMA DE ADMINISTRACIÓN EN CANTIDADES ABSOLUTAS Y PORCENTAJES. AÑO 2012."]
["FORMA DE ADMINISTRACIÓN","INGRESOS","MATRÍCULA","EGRESOS"]
["TOTAL VALORES ABSOLUTOS",{"$f":"SUM(B6:B8)","v":23275},{"$f":"SUM(C6:C8)","v":151081},{"$f":"SUM(D6:D8)","v":7826}]
["Universidad de la República ",19334,130941,6315]
["Instituciones Universitarias Privadas ",3839,20038,1470]
["Área seguridad y defensa (oferta pública universitaria)",102,102,41]
["TOTAL PORCENTAJES",1,1,1]
["Universidad de la República ",{"$f":"B6/B5*100%","v":0.83067669172932335},{"$f":"C6/C5*100%","v":0.86669402505940518},{"$f":"D6/D5*100%","v":0.80692563250702787}]
["Instituciones Universitarias Privadas ",{"$f":"B7/B5*100%","v":0.16494092373791622},0.13263084041011114,0.18783542039355994]
["Área seguridad y defensa (oferta pública universitaria)",5.275680148960381E-3,7.7897679107384241E-4,6.4924782264449725E-3]
["Fuentes: Elaboración propia en base a información brindada por las oficinas productoras de las instituciones."]

{"sheet":"I.2.8.1","index":38,"n_rows":14,"n_cols":11,"rows_kept":14,"cut":false,"hidden":false,"merged":[[7,5,7,7],[0,0,0,5],[1,0,1,5],[2,0,2,5],[7,8,9,8],[4,0,4,10],[5,0,5,10],[6,0,9,0],[6,1,6,7],[6,8,6,10],[7,1,9,1],[7,9,8,10],[8,2,9,2],[8,3,8,4],[8,5,9,5],[8,6,8,7],[7,2,7,4]]}
["Ministerio de Educación y Cultura"]
["Dirección de Educación"]
[]
[]
["Cuadro I-2.8.1"]
["ALUMNOS MATRICULADOS EN EL PROGRAMA NACIONAL DE JÓVENES Y ADULTOS POR MODALIDAD, NIVEL Y SEXO SEGÚN GRANDES ÁREAS. AÑO 2012."]
["GRANDES ÁREAS","ALUMNOS MATRICULADOS\nEN EDUCACIÓN PRIMARIA",null,null,null,null,null,null,"ALUMNOS MATRICULADOS EN TALLERES"]
[null,"TOTAL Ed Primaria","PRIMER  TRAMO: NIVEL I",null,null,"PRIMER  TRAMO: NIVEL II",null,null,"TOTAL \n","SEXO"]
[null,null,"TOTAL\n","SEXO",null,"TOTAL\n","SEXO"]
[null,null,null,"Masculino","Femenino",null,"Masculino","Femenino",null,"Masculino","Femenino"]
["TOTAL ",{"$f":"C11+F11","v":2709},{"$f":"SUM(D11:E11)","v":1172},{"$f":"D12+D13","v":585},{"$f":"E12+E13","v":587},{"$f":"SUM(G11:H11)","v":1537},{"$f":"G12+G13","v":745},{"$f":"H12+H13","v":792},{"$f":"SUM(J11:K11)","v":4291},{"$f":"J12+J13","v":1879},{"$f":"K12+K13","v":2412}]
["Montevideo ",{"$f":"C12+F12","v":1280},{"$f":"SUM(D12:E12)","v":571},295,276,{"$f":"SUM(G12:H12)","v":709},406,303,{"$f":"SUM(J12:K12)","v":3603},1545,2058]
["Resto del País ",{"$f":"C13+F13","v":1429},{"$f":"SUM(D13:E13)","v":601},290,311,{"$f":"SUM(G13:H13)","v":828},339,489,{"$f":"SUM(J13:K13)","v":688},334,354]
["Fuentes: ANEP -CODICEN - Programa de Eduacación de Jóvenes y Adultos "]

{"sheet":"I.2.8.2","index":39,"n_rows":14,"n_cols":4,"rows_kept":14,"cut":false,"hidden":false,"merged":[[0,0,0,3],[2,0,2,3],[5,0,5,3],[13,0,13,3],[6,1,6,3],[7,1,9,1],[7,2,8,3],[6,0,9,0]]}
["Ministerio de Educación y Cultura"]
["Dirección de Educación"]
[]
[]
["Cuadro I.2.8.2"]
["ALUMNOS QUE RINDIERON LA PRUEBA DE ACREDITACIÓN EN EL PROGRAMA NACIONAL DE JÓVENES Y ADULTOS POR SEXO SEGÚN GRANDES ÁREAS. AÑO 2012."]
["GRANDES ÁREAS","ALUMNOS PARTICIPANTES EN PRUEBA DE ACREDITACIÓN"]
[null,"TOTAL\nPRUEBAS DE ACREDITACIÓN","SEXO"]
[]
[null,null,"Masculino","Femenino"]
["TOTAL",{"$f":"SUM(C11:D11)","v":1154},{"$f":"C12+C13","v":534},{"$f":"D12+D13","v":620}]
["Montevideo",{"$f":"SUM(C12:D12)","v":333},175,158]
["Resto del País ",{"$f":"SUM(C13:D13)","v":821},359,462]
["Fuentes : ANEP-CODICEN - Programa de Educación de jóvnes y Adultos ."]

{"sheet":"I.2.9.1","index":40,"n_rows":28,"n_cols":6,"rows_kept":28,"cut":false,"hidden":false,"merged":[[27,0,27,5],[0,0,0,3],[5,0,5,5],[6,0,7,0],[6,1,7,1],[6,2,6,3],[6,4,6,5]]}
["Ministerio de Educación y Cultura"]
["Dirección de Educación"]
[]
[]
["Cuadro I.2.9.1"]
["TOTAL DE INSTITUCIONES DEL RELEVAMIENTO TÉCNICO-PROFESIONAL POR FORMA DE ADMINISTRACIÓN,GRANDES ÁREAS SEGÚN ÁREA DE CONOCIMIENTO. AÑO 2012"]
["AREA DE CONOCIMIENTO","TOTAL","FORMA DE ADMINISTRACIÓN",null,"ÁREA GEOGRÁFICA "]
[null,null,"PÚBLICO","PRIVADO","MONTEVIDEO","RESTO DEL PAÍS"]
["TOTAL",{"$f":"SUM(B10:B27)","v":302},{"$f":"SUM(C10:C27)","v":11},{"$f":"SUM(D10:D27)","v":291},{"$f":"SUM(E10:E27)","v":191},{"$f":"SUM(F10:F27)","v":111}]
["Administración-Comercialización",{"$f":"C10+D10","v":25},1,24,20,5]
["Agraria",{"$f":"C11+D11","v":6},0,6,3,3]
["Artes-Artesanias",21,0,21,19,2]
["Comunicaciones",4,0,4,4,0]
["Construcción-Arquitectura",3,0,3,3,0]
["Diseños",4,0,4,3,1]
["Electrotecnia y Electrónica",2,0,2,2,0]
["Gastronomía",10,1,9,7,3]
["Gráficos",1,0,1,1,0]
["Hoteleria y Turismo",1,0,1,1,0]
["Idiomas",106,0,106,51,55]
["Informática",36,2,34,13,23]
["Marítima",2,0,2,1,1]
["Metal-Mecánica",1,0,1,1,0]
["Salud; Seguridad e Higiene",10,0,10,4,6]
["Servicios Personales-Estética",2,0,2,2,0]
["Vestimenta",3,0,3,3,0]
["Otros",{"$f":"C27+D27","v":65},7,58,53,12]
["Fuente: Elaboración propia en base a la información del Relevamiento de Instituciones de Formación Técnico-Profesional.Realizado por el Área de Investigación y Estadística."]

{"sheet":"I.2.9.2","index":41,"n_rows":29,"n_cols":4,"rows_kept":29,"cut":false,"hidden":false,"merged":[[6,0,6,3],[7,0,8,0],[7,2,7,3],[28,0,28,3],[0,0,0,3]]}
["Ministerio de Educación y Cultura"]
["Dirección de Educación"]
[]
[]
[]
["Cuadro I.2.9.2"]
["ALUMNOS MATRICULADOS POR REGIÓN SEGÚN ÁREA DE CONOCIMIENTO. AÑO 2012."]
["ÁREA DE CONOCIMIENTO",null,"REGIÓN"]
[null,"TOTAL","Montevideo","Resto del país"]
["TOTAL",{"$f":"C10+D10","v":83530},{"$f":"SUM(C11:C28)","v":66696},{"$f":"SUM(D11:D28)","v":16834.000000000004}]
["Administración-Comercialización",{"$f":"SUM(C11:D11)","v":3127},2784,343]
["Agraria",367,205.99999999999997,161]
["Artes-Artesanias",2855,2701,154]
["Comunicaciones",822,822,0]
["Construcción-Arquitectura",470,470,0]
["Diseños",147,135,12]
["Electrotecnia y Electrónica",120,120,0]
["Gastronomía",1650,1475,175]
["Gráficos",241,241,0]
["Hoteleria y Turismo",340,340,0]
["Idiomas",21256,12377,8879.0000000000018]
["Informática",7570.0000000000009,2992,4578.0000000000009]
["Marítima",72,51,21]
["Metal-Mecánica",387,387,0]
["Otros",42164,40553,1611]
["Salud, Seguridad e Higiene",1663,763,900]
["Servicios Personales-Estética",123,123,0]
["Vestimenta",156,156,0]
["Fuente: Área de Investigación y Estadística."]

{"sheet":"I.2.9.3","index":42,"n_rows":29,"n_cols":16,"rows_kept":29,"cut":false,"hidden":false,"merged":[[0,0,0,15],[1,0,1,1],[3,14,3,15],[3,0,3,13],[28,0,28,15],[4,3,4,6],[4,7,4,10],[5,5,5,9],[5,10,5,14],[6,1,6,2],[6,4,6,6],[6,7,6,9],[6,10,6,12],[6,13,6,15],[5,1,5,3],[4,0,7,0]]}
["Ministerio de Educación y Cultura\nDirección de Educación"]
["Área de Investigación y Estadística"]
[]
["Cuadro I.2.9.3 ALUMNOS DEL RELEVAMIENTO DE INSTITUCIONES DE FORMACIÓN TÉCNICO-PROFESIONAL DESVINCULADOS, INGRESADOS Y EGRESADOS POR TIPO DE INSTITUCIÓN Y REGIÓN SEGÚN ÁREA DE CONOCIMIENTO. AÑO 2012"]
["ÁREA DE CONOCIMIENTO"]
[null,"TOTAL",null,null,null,"TIPO DE INSTITUCIÓN",null,null,null,null,"ÁREA GEOGRÁFICA"]
[null,null,null,null,"PRIVADO",null,null,"PÚBLICO",null,null,"MONTEVIDEO",null,null,"RESTO DEL PÁIS"]
[null,"Desvinculados","Ingresos","Egresos","Desvinculados","Ingresos","Egresos","Desvinculados","Ingresos","Egresos","Desvinculados","Ingresos","Egresos","Desvinculados","Ingresos","Egresos"]
["TOTAL",{"$f":"SUM(E9+H9)","v":14550},{"$f":"SUM(F9+I9)","v":78533},56215.000000000015,{"$f":"SUM(E10:E28)","v":14453},{"$f":"SUM(F10:F28)","v":76348},{"$f":"SUM(G10:G28)","v":55395.000000000015},97,{"$f":"SUM(I10:I28)","v":2185},820,11807.999999999998,{"$f":"SUM(L10:L28)","v":57744},45257,2742,20789,10958]
["Administración-Comercialización",332.99999999999994,8908,3411,327.99999999999994,8820,3398,5,88,13,268.99999999999989,7461,3100,64,1447,311]
["Agraria",94,1193,746.99999999999989,94,1193,746.99999999999989,null,null,null,16,441,70,78,752,677]
["Artes-Artesanias",1511,3103,875.00000000000011,1511,3103,875.00000000000011,null,null,null,1494,2767,862.00000000000011,17,336,13]
["Comunicaciones",96,1110,701,96,983,701,null,127,null,96,1027,701,null,83]
["Construcción-Arquitectura",13,1892,457,13,1825,457,null,67,null,13,1700,457,null,192]
["Diseños",16,1239,24,16,1218,24,null,21,null,12,997,16,4,221,8]
["Electrotecnia y Electrónica",7,621,102,7,621,102,null,null,null,7,573,102,null,69]
["Gastronomía",305,1962,1203,305,1937,1178,0,25,25,284.00000000000006,1796,1141,21,166,62]
["Gráficos",31,1313,156,31,1313,156,null,null,null,31,1194,156,null,119]
["Hoteleria y Turismo",70,482,176,70,456,176,null,26,null,70,262,176,null,220]
["Idiomas",2953,15037,14798.000000000004,2953,15037,14798.000000000004,null,null,null,1657,8688,9118,1296.0000000000005,6349,5680]
["Informática",1207.0000000000002,11221,4949,1150.0000000000002,10950,4813,57,271,136,400.99999999999994,7878,1760,805.99999999999977,3343,3189]
["Marítima",2,72,70,2,72,70,null,null,null,1,51,50,1,21,20]
["Metal-Mecánica",0,1041,387,0,1026,387,null,15,null,0,805,387,null,236]
["Química",null,{"$f":"SUM(F24+I24)","v":251},null,null,15,null,null,236,null,null,251]
["Salud; Seguridad e Higiene",{"$f":"SUM(E25+H25)","v":264},{"$f":"SUM(F25+I25)","v":2824},{"$f":"SUM(G25+J25)","v":892},264,2695,892,null,129,null,78,1987,514,186,837,378.00000000000006]
["Servicios Personales-Estética",{"$f":"SUM(E26+H26)","v":6},{"$f":"SUM(F26+I26)","v":753},{"$f":"SUM(G26+J26)","v":110},6,753,110,null,null,null,6,729,110,null,24]
["Vestimenta",{"$f":"SUM(E27+H27)","v":114},{"$f":"SUM(F27+I27)","v":296},{"$f":"SUM(G27+J27)","v":122},114,296,122,null,null,null,114,281,122,null,15]
["Otros",{"$f":"SUM(E28+H28)","v":7527.9999999999991},{"$f":"SUM(F28+I28)","v":25215},{"$f":"SUM(G28+J28)","v":27035.000000000007},7492.9999999999991,24035,26389.000000000007,35,1180,646,7258.9999999999982,18856,26415,269,6359,620]
["Fuente: Elaboración propia en base a la información del Relevamiento de Instituciones de Formación Técnico-Profesional. Realizado por el Área de Investigación y Estadística."]

{"sheet":"I.2.9.4","index":43,"n_rows":30,"n_cols":7,"rows_kept":30,"cut":false,"hidden":false,"merged":[[7,6,8,6],[29,0,29,3],[0,0,0,3],[7,1,8,1],[7,2,8,2],[7,3,8,3],[7,4,8,4],[7,5,8,5]]}
["Ministerio de Educación y Cultura"]
["Dirección de Educación"]
[]
[]
[]
["Cuadro I.2.9.4"]
["CANTIDAD DE CURSOS POR TRAMOS DE DURACIÓN EN HORAS SEGÚN ÁREA DE CONOCIMIENTO. AÑO 2012."]
["ÁREA DE","TOTAL","0 a 40","41 a 140","141 a 320","321 a 440","440 y más "]
["CONOCIMIENTO"]
["TOTAL",{"$f":"SUM(C10:G10)","v":2004},{"$f":"SUM(C11:C29)","v":626},{"$f":"SUM(D11:D29)","v":858},{"$f":"SUM(E11:E29)","v":354},{"$f":"SUM(F11:F29)","v":78},{"$f":"SUM(G11:G29)","v":88}]
["Administración - Comercialización",230,86,83,40,13,8]
["Agraria",24,8,6,8,1,1]
["Artes - Artesanías",84,35,25,14,1,9]
["Comunicaciones",34,8,11,3,9,3]
["Construcción - Arquitectura",24,4,13,5,1,1]
["Electrotecnia y Electrónica",15,1,11,2,0,1]
["Gastronomía",72,13,28,7,14,10]
["Gráficos",16,6,5,3,0,2]
["Diseños",42,7,22,7,3,3]
["Hotelería y Turismo",24,8,4,5,4,3]
["Informática",321,160,135,19,2,5]
["Marítima",2,1,1,0,0,0]
["Metal - Mecánica",10,0,5,5,0,0]
["Química",2,1,0,0,1,0]
["Salud, Seguridad e Higiene",60,32,14,12,0,2]
["Servicios Personales - Estética",27,9,13,1,3,1]
["Idiomas",554,62,338,132,12,10]
["Vestimenta",48,16,18,11,1,2]
["Otros",415,169,126,80,13,27]
["Fuente:  Área de Investigación y Estadística."]

{"sheet":"I.2.9.5","index":44,"n_rows":25,"n_cols":6,"rows_kept":25,"cut":false,"hidden":false,"merged":[[6,0,6,5],[7,2,7,3],[7,4,7,5],[7,0,8,0],[0,0,0,3],[7,1,8,1],[5,0,5,5]]}
["Ministerio de Educación y Cultura"]
["Dirección de Educación"]
[]
[]
[]
["Cuadro I-2.9.5"]
["ALUMNOS MATRICULADOS EN EL CETP (UTU) POR SEXO Y GRANDES ÁREAS SEGÚN TIPO DE CURSOS DE NIVEL DE FORMACIÓN PROFESIONAL"]
["CURSOS DE NIVEL DE FORMACIÓN PROFESIONAL","TOTAL","SEXO",null,"GRANDES ÁREAS"]
[null,null,"Masculino","Femenino","Montevideo","Resto del País"]
["TOTAL ",9859,4964,4895,4501,5358]
[]
["Acreditación de saberes ",60,4,56,0,60]
["Capacitación Profesional ",213,129,84,107,106]
["Capacitación Profesional Básica ",4469,2274,2195,1100,3369]
["Curso Básico ",767,374,393,567,200]
["Curso Básico Especialización ",822,398,424,449,373]
["Form.Prof. en Artes y Artesanías ",502,290,212,483,19]
["Formación Profesional Acelerada ",14,13,1,14,0]
["Formación Profesional Básica ",1943,942,1001,960,983]
["Formación Profesional Especializada ",185,24,161,185,0]
["Capacitación Profesional Superior ",361,226,135,167,194]
["Capacitación Técnica ",65,14,51,65,0]
["E. M. P. Especialización ",73,7,66,70,3]
["Formación Profesional Superior ",385,269,116,334,51]
["Fuente: Procesamiento propio en base a datos proporcionados por el D.E. - CETP  (U.T.U) ."]

{"sheet":"I.2.9.6","index":45,"n_rows":9,"n_cols":7,"rows_kept":9,"cut":false,"hidden":false,"merged":[[0,0,0,3],[8,0,8,6],[3,2,3,3],[3,5,3,6],[3,0,4,0],[3,1,4,1],[2,0,2,2]]}
["Ministerio de Educación y Cultura\nDirección de Educación\n"]
[]
["Cuadro I.2.9.6\nALUMNOS INGRESADOS Y MATRICULADOS EN CECAP POR SEXO SEGÚN GRANDES ÁREAS. AÑO 2012."]
["NIVEL EDUCATIVO MÁXIMO\nALCANZADO","TOTAL","INGRESADOS",null,null,"MATRICULADOS"]
[null,null,"Masculino","Femenino","TOTAL","Masculino","Femenino"]
["TOTAL ",{"$f":"B7+B8","v":1044},562,482,2135,1171,964]
["Montevideo",{"$f":"C7+D7","v":284},146,138,{"$f":"F7+G7","v":697},352,345]
["Resto del país",{"$f":"C8+D8","v":760},416,344,{"$f":"F8+G8","v":1438},819,619]
["Fuente: Área de Educación No Formal de la Dirección de Educación - MEC"]

{"sheet":"I.2.9.7","index":46,"n_rows":10,"n_cols":5,"rows_kept":10,"cut":false,"hidden":false,"merged":[[0,0,0,4],[4,0,5,1],[10,0,10,1],[6,0,6,1],[8,0,8,1],[7,0,7,1],[9,0,9,7],[4,5,4,6],[3,0,3,4],[2,0,2,4],[4,2,5,2],[4,3,4,4]]}
["Ministerio de Educación y Cultura \nDirección de Educación\n"]
[]
["Cuadro I-2.9.7"]
["ALUMNOS MATRICULADOS DEL COCAP SEGÚN TIPO DE CURSO Y ÁREA DE FORMACIÓN. AÑO 2012."]
["TIPO DE CURSO ",null,"TOTAL","SEXO"]
[null,null,null,"Masculino","Femenino"]
["TOTAL ",null,{"$f":"C8+C9","v":868},{"$f":"D8+D9","v":860},{"$f":"E8+E9","v":8}]
["Cursos Abiertos ",null,{"$f":"D8+E8","v":770},764,6]
["Cursos Cerrados ",null,{"$f":"D9+E9","v":98},96,2]
["Fuente: COCAP"]

{"sheet":"I.2.9.8","index":47,"n_rows":11,"n_cols":5,"rows_kept":11,"cut":false,"hidden":false,"merged":[[10,0,10,4],[9,0,9,4],[0,0,0,4],[3,0,3,4],[4,0,4,1],[5,0,5,1],[6,0,6,1],[7,0,7,1],[8,0,8,1]]}
["Ministerio de Educación y Cultura\nDirección de Educación\n"]
[]
[]
["Cuadro I-2.9.8\nFUNCIONARIOS PARTICIPANTES EN LOS CURSOS DE LA ENAP DR. AQUILES LANZA, CANTIDAD DE CURSOS Y HORAS TIPO DE CURSO. AÑO 2012."]
["GRANDES ÁREAS",null,"FUNCIONARIOS PARTICIPANTES","CANTIDAD DE CURSOS","HORAS"]
["TOTAL ",null,{"$f":"SUM(C7:C9)","v":4640},{"$f":"SUM(D7:D9)","v":295},{"$f":"SUM(E7:E9)","v":9496}]
["Programas de Formación: Programa de Dirección Media, Diploma en Gestión Humana y Programa de Desarrollo Administrativo ",null,325,13,3100]
["Cursos y Seminarios ",null,3050,243,5446]
["Cursos e-learning",null,1265,39,950]
["Fuentes: Oficina Nacional del Servicio Civil - Escuela Nacional de Administración Pública \"Dr. Aquiles Lanza\""]
["Nota: Por no contar con información, no se incluye la \"Maestría en Políticas y Gestión Pública\"."]

{"sheet":"I.2.9.9","index":48,"n_rows":10,"n_cols":8,"rows_kept":10,"cut":false,"hidden":false,"merged":[[3,6,3,7],[4,3,4,4],[4,6,4,7],[5,0,5,1],[7,0,7,1],[4,2,5,2],[4,5,5,5],[0,0,0,2],[2,0,2,5],[8,0,8,1],[11,0,11,1],[3,0,4,1],[3,3,3,4]]}
["Ministerio de Educación y Cultura\nDirección de Educación\n"]
[]
["Cuadro I-2.9.9\nALUMNOS INGRESADOS Y MATRICULADOS EN CARRERAS NO TERCIARIAS EN UNIVERSIDADES E INSTITUTOS UNIVERSITARIOS. AÑO 2012."]
["UNIVERSIDADES E INSTITUTOS UNIVERSITARIOS",null,null,"INGRESADOS",null,null,"MATRICULADOS"]
[null,null,"TOTAL","SEXO",null,"TOTAL","SEXO"]
[null,null,null,"Masculino","Femenino",null,"Masculino","Femenino"]
["TOTAL ",null,{"$f":"C8+C9","v":1260},809,451,4497,3075,1422]
["Universidad ORT Uruguay ",null,{"$f":"D8+E8","v":956},640,316,{"$f":"G8+H8","v":3819},2703,1116]
["Universidad de la Empresa ",null,{"$f":"D9+E9","v":304},169,135,{"$f":"G9+H9","v":678},372,306]
["Fuente: Procesamiento propio en base a datos proporcionados por el  Área de Educación No Formal, Dirección de Educación, MEC."]

{"sheet":"I-3.1.1","index":49,"n_rows":15,"n_cols":7,"rows_kept":15,"cut":false,"hidden":false,"merged":[[0,0,0,2],[14,0,14,6],[10,0,10,1],[11,0,11,1],[12,0,12,1],[6,0,6,1],[7,0,7,1],[8,0,8,1],[9,0,9,1],[2,0,2,6],[3,0,3,6],[4,0,5,1],[4,2,4,4],[4,5,5,5]]}
["Ministerio de Educación y Cultura\nDirección de Educación\n"]
[]
["Cuadro I-3.1.1"]
["ESCUELAS, MAESTROS Y ALUMNOS ATENDIDOS POR EL PROGRAMA MAESTROS COMUNITARIOS SEGÚN AÑO LECTIVO. AÑO 2012."]
["AÑO LECTIVO",null,"Escuelas",null,null,"Maestros comunitarios","Alumnos"]
[null,null,"Total","Montevideo","Resto del país",null,"atendidos"]
[2005,null,{"$f":"+D7+E7","v":255},97,158,437,9292]
[2006,null,{"$f":"+D8+E8","v":252},95,157,433,14884]
[2007,null,334,101,233,553,18163]
[2008,null,334,100,234,533,16802]
[2009,null,337,101,236,553,16166]
[2010,null,337,101,236,553,16749]
[2011,null,342,104,238,554,15680]
[2012,null,327,101,226,539,15608]
["Fuente: Coordinación Técnica, Programa INFAMILIA / CEP INFAMILIA"]

{"sheet":"I-3.1.2","index":50,"n_rows":10,"n_cols":4,"rows_kept":10,"cut":false,"hidden":false,"merged":[[0,0,0,3],[12,1,12,3],[7,0,7,1],[5,0,5,1],[6,0,6,1],[8,0,8,1],[3,0,3,3],[4,0,4,1],[9,0,9,3]]}
["Ministerio de Educación y Cultura\nDirección de Educación\n"]
[]
["Cuadro I-3.1.2"]
["MAESTROS Y ESCUELAS DEL PROGRAMA MAESTROS COMUNITARIOS SEGÚN REQUERIMIENTO"]
["AÑO LECTIVO",null,"Maestros comunitarios","Escuelas"]
["Total ",null,{"$f":"SUM(C7:C9)","v":539},{"$f":"SUM(D7:D9)","v":327}]
["Requerimiento 1 ",null,268,145]
["Requerimiento 2 ",null,200,118]
["Requerimiento 3 ",null,71,64]
["Fuente: Coordinación Técnica, Programa INFAMILIA / CEP INFAMILIA Nota: Todo el país (Año 2012)."]

{"sheet":"I-3.1.3","index":51,"n_rows":18,"n_cols":5,"rows_kept":18,"cut":false,"hidden":false,"merged":[[8,0,8,1],[9,0,9,1],[5,0,5,4],[6,0,6,4],[7,0,7,1],[10,0,10,1],[11,0,11,1],[18,0,18,1],[13,0,13,1],[12,0,12,1],[15,0,15,1],[14,0,14,1],[17,0,17,4],[16,0,16,4]]}
["Ministerio de Educación y Cultura"]
["Dirección de Educación"]
[]
[]
[]
["Cuadro I-3.1.3"]
["ESCUELAS, MAESTROS Y ALUMNOS ATENDIDOS POR EL PROGRAMA EDUCACIÓN FÍSICA ESCOLAR SEGÚN AÑO LECTIVO."]
["AÑO LECTIVO",null,"Escuelas","Profesores","Alumnos atendidos"]
[2005,null,160,157,67462]
[2006,null,248,238,86473]
[2007,null,245,248,88023]
[2008,null,605,605,213858]
[2009,null,1004,973,325164]
[2010,null,1016,977,308260]
[2011,null,1016,977,306318]
[2012,null,1016,989,306532]
["Fuente: Coordinación Técnica, Programa INFAMILIA/CEP INFAMILIA"]
["Nota:  Todo el país (Año 2012)."]

{"sheet":"I-3.1.4","index":52,"n_rows":31,"n_cols":13,"rows_kept":31,"cut":false,"hidden":false,"merged":[[0,0,0,12],[29,1,29,12],[30,1,30,12],[4,7,4,8],[1,0,1,12],[2,0,2,12],[3,0,5,0],[3,3,3,6],[3,7,3,8],[3,10,4,12],[4,3,4,4],[4,5,4,6]]}
["Ministerio de Educación y Cultura\nDirección de Educación\n"]
["Cuadro I-3.1.4"]
["BECAS DE APOYO ECONÓMICO EN EDUCACIÓN MEDIA BÁSICA Y SUPERIOR OTORGADAS POR EL MEC, COMPROMISO EDUCATIVO Y BECAS OTORGADAS POR PUE EN 2012, SEGÚN SEXO Y GRANDES ÁREAS. AÑO 2012."]
["DEPARTAMENTO","TOTAL ",null,"BECAS MEC",null,null,null,"COMPROMISO\nEDUCATIVO",null,null,"PROGRAMA URUGUAY ESTUDIA"]
[null,"SEXO",null,"Sexo",null,"Nivel",null,"SEXO"]
[null,"Hombres","Mujeres","Hombres","Mujeres","CB","BACH","Hombres","Mujeres",null,"CEIP","CES","UTU"]
["TOTAL ",2671,4578,1199,1695,2027,867,1472,2883,null,1000,2805,1000]
[]
["Montevideo",728,1253,361,481,640,202,367,772]
[]
["Resto del país ",1943,3325,838,1214,1387,665,1105,2111]
["Artigas",178,291,70,88,114,44,108,203]
["Canelones",412,808,148,236,268,116,264,572]
["Cerro Largo",51,91,51,91,96,46]
["Colonia",104,166,62,65,83,44,42,101]
["Durazno",38,58,38,58,66,30]
["Flores",25,26,25,26,33,18]
["Florida",37,49,37,49,54,32]
["Lavalleja",27,42,27,42,47,22]
["Maldonado",70,110,34,33,40,27,36,77]
["Paysandú",280,547,31,59,58,32,249,488]
["Rio Negro",15,27,15,27,13,29]
["Rivera",248,457,51,76,87,40,197,381]
["Rocha",31,46,31,46,57,20]
["Salto",192,257,65,114,132,47,127,143]
["San José",39,50,39,50,72,17]
["Soriano",65,77,48,51,74,25,17,26]
["Tacuarembó",100,170,35,50,33,52,65,120]
["Treinta y Tres",31,53,31,53,60,24]
["Nota:","Para el Programa Uruguay Estudia se cuenta con el total de becas por Consejo desconcentrado de ANEP (CEIP, CES y CETP), por lo cual el total de becas otorgadas surge de sumar a estos totales globales la agregación del Total por Sexo de las Becas MEC y Compromiso Educativo. Además incluye 1.000 becas otorgadas a personas jóvenes y adultas para la culminación de educación primaria."]
["Fuente:","Área de Becas de la Dirección de Educación del Ministerio de Educación y Cultura."]

{"sheet":"I-3.1.5","index":53,"n_rows":32,"n_cols":10,"rows_kept":32,"cut":false,"hidden":false,"merged":[[3,0,3,3],[8,0,8,1],[9,0,9,1],[10,0,10,1],[11,0,11,1],[4,0,4,9],[6,9,7,9],[6,0,7,1],[6,2,7,2],[6,3,7,3],[6,4,7,4],[6,5,7,5],[20,0,20,1],[21,0,21,1],[12,0,12,1],[13,0,13,1],[14,0,14,1],[15,0,15,1],[16,0,16,1],[31,0,31,9],[30,0,30,9],[6,6,7,6],[6,7,6,8],[5,0,5,9],[22,0,22,1],[23,0,23,1],[29,0,29,1],[24,0,24,1],[25,0,25,1],[26,0,26,1],[27,0,27,1],[28,0,28,1],[17,0,17,1],[18,0,18,1],[19,0,19,1]]}
["Ministerio de Educación y Cultura"]
["Dirección de Educación"]
[]
[]
["Cuadro I-3.1.5"]
["BECAS DE APOYO ECONÓMICO EN EDUCACIÓN TERCIARIA SEGÚN INSTITUCIONES QUE LAS OTORGA POR GRANDES ÁREAS. AÑO 2012."]
["DEPARTAMENTO",null,"TOTAL","FONDO DE SOLIDARIDAD","ANII","BIENESTAR ESTUDIANTIL","CARLOS QUIJANO","JULIO CASTRO",null,"Programa Uruguay Estudia"]
[null,null,null,null,null,null,null,"IFD","IINN"]
["Total ",null,{"$f":"SUM(D9:J9)","v":8452},{"$f":"D11+D12","v":6677},{"$f":"E11+E12","v":171},{"$f":"F11+F12","v":390},14,{"$f":"H12","v":520},{"$f":"I11","v":80},600]
[]
["Montevideo ",null,{"$f":"SUM(D11:J11)","v":1205},917,135,73,"N/C","N/C",80,"N/C"]
["Resto del País ",null,{"$f":"SUM(D12:J12)","v":6633},{"$f":"SUM(D13:D30)","v":5760},{"$f":"SUM(E13:E30)","v":36},{"$f":"SUM(F13:F30)","v":317},"N/C",{"$f":"SUM(H13:H30)","v":520},"N/C","N/C"]
["Artigas ",null,377,314,null,19,"N/C",44,"N/C","N/C"]
["Canelones ",null,1151,1076,5,24,"N/C",46,"N/C","N/C"]
["Cerro Largo ",null,359,291,null,14,"N/C",54,"N/C","N/C"]
["Colonia ",null,445,407,6,13,"N/C",19,"N/C","N/C"]
["Durazno ",null,261,207,25,10,"N/C",19,"N/C","N/C"]
["Flores ",null,128,121,null,7,"N/C",0,"N/C","N/C"]
["Florida ",null,331,300,null,13,"N/C",18,"N/C","N/C"]
["Lavalleja ",null,219,183,null,9,"N/C",27,"N/C","N/C"]
["Maldonado ",null,199,159,null,8,"N/C",32,"N/C","N/C"]
["Paysandú ",null,495,424,null,34,"N/C",37,"N/C","N/C"]
["Rio Negro ",null,215,183,null,11,"N/C",21,"N/C","N/C"]
["Rivera ",null,428,341,null,28,"N/C",59,"N/C","N/C"]
["Rocha ",null,201,188,null,10,"N/C",3,"N/C","N/C"]
["Salto ",null,611,509,null,42,"N/C",60,"N/C","N/C"]
["San José ",null,306,260,null,15,"N/C",31,"N/C","N/C"]
["Soriano ",null,340,310,null,16,"N/C",14,"N/C","N/C"]
["Tacuarembó ",null,413,359,null,37,"N/C",17,"N/C","N/C"]
["Treinta y Tres ",null,{"$f":"SUM(D30:J30)","v":154},128,null,7,"N/C",19,"N/C","N/C"]
["Fuente: Área de Becas, Dir. de Edu, MEC; Fondo de Solidaridad."]
["Nota: El total no se corresponde con la suma de Montevideo y Resto del País, debido a que incluye las Becas Carlos Quijano y Programa Uruguay Estudia, para las cuales no se cuenta con información por Departamento."]

{"sheet":"I-3.1.6","index":54,"n_rows":10,"n_cols":9,"rows_kept":10,"cut":false,"hidden":false,"merged":[[3,0,3,7],[2,0,2,7],[0,0,0,7]]}
["Ministerio de Educación y Cultura\nDirección de Educación\n"]
[]
["Cuadro I-3.1.6"]
["BECAS DEL PROGRAMA URUGUAY ESTUDIA POR MODALIDAD SEGÚN AÑO LECTIVO."]
["AÑO","TOTAL","EP","CES\nTutoreado","EMB","EMS","CETP\n(UTU)","Magisterio y\nProfesorado"]
[2010,2248,937,20,"s/d",328,963,"s/d"," "]
[2011,2812,1026,21,"s/d",359,1406,"s/d"," "]
[2012,5405,1000,43,2012,750,1000,600," "]
["Nota: Todo el país, año 2012."]
["Fuente: PUE."]

{"sheet":"I.3.1.7","index":55,"n_rows":32,"n_cols":5,"rows_kept":32,"cut":false,"hidden":false,"merged":[[0,0,0,2],[4,0,4,4],[5,0,5,4],[6,0,7,1],[6,2,7,2],[6,3,6,4],[10,0,10,1],[11,0,11,1],[8,0,8,1],[9,0,9,1],[14,0,14,1],[15,0,15,1],[12,0,12,1],[13,0,13,1],[18,0,18,1],[19,0,19,1],[16,0,16,1],[17,0,17,1],[22,0,22,1],[23,0,23,1],[20,0,20,1],[21,0,21,1],[26,0,26,1],[27,0,27,1],[24,0,24,1],[25,0,25,1],[30,0,30,1],[28,0,28,1],[29,0,29,1]]}
["Ministerio de Educación y Cultura\nDirección de Educación\n"]
[]
[]
[]
["Cuadro I-3.1.7"]
["BECAS OTORGADAS POR LA FUNDACIÓN CHAMANGÁ. AÑO 2012."]
["GRANDES ÁREAS / DEPTO.",null,"TOTAL","SEXO"]
[null,null,null,"Hombres","Mujeres"]
["Total",null,{"$f":"C11+C12","v":30},10,20]
[]
["Montevideo ",null,6,"S/D","S/D"]
["Resto del interior ",null,{"$f":"SUM(C14:C31)","v":24},"S/D","S/D"]
[]
["Artigas ",null,4,"S/D","S/D"]
["Canelones ",null,3,"S/D","S/D"]
["Cerro Largo ",null,0,"S/D","S/D"]
["Colonia ",null,2,"S/D","S/D"]
["Durazno ",null,0,"S/D","S/D"]
["Flores ",null,1,"S/D","S/D"]
["Florida ",null,0,"S/D","S/D"]
["Lavalleja ",null,0,"S/D","S/D"]
["Maldonado ",null,0,"S/D","S/D"]
["Paysandú ",null,6,"S/D","S/D"]
["Rio Negro ",null,3,"S/D","S/D"]
["Rivera ",null,0,"S/D","S/D"]
["Rocha ",null,0,"S/D","S/D"]
["Salto ",null,1,"S/D","S/D"]
["San José ",null,1,"S/D","S/D"]
["Soriano ",null,3,"S/D","S/D"]
["Tacuarembó  ",null,0,"S/D","S/D"]
["Treinta y Tres ",null,0,"S/D","S/D"]
[" Fuente: Datos otorgados por la fundación Chamangá."]

{"sheet":"I-3.1.8","index":56,"n_rows":31,"n_cols":4,"rows_kept":31,"cut":false,"hidden":false,"merged":[[14,0,14,1],[13,0,13,1],[5,0,5,3],[6,0,6,3],[7,0,7,1],[8,0,8,1],[9,0,9,1],[10,0,10,1],[11,0,11,1],[12,0,12,1],[27,0,27,1],[28,0,28,1],[29,0,29,1],[25,0,25,1],[15,0,15,1],[16,0,16,1],[17,0,17,1],[18,0,18,1],[26,0,26,1],[24,0,24,1],[19,0,19,1],[20,0,20,1],[21,0,21,1],[22,0,22,1],[23,0,23,1]]}
["Ministerio de Educación y Cultura"]
["Dirección de Educación"]
[]
[]
[]
["Cuadro I-3.1.8"]
["CANTIDAD DE CENTROS MEC Y TOTAL DE ALFABETIZADOS DIGITALES SEGÚN GRANDES ÁREAS Y DEPARTAMENTO – AÑO 2012"]
["GRANDES ÁREAS / DEPTO.",null,"ALFABETIZADOS","CENTROS MEC"]
["Total",null,{"$f":"C11+C12","v":6931},{"$f":"D11+D12","v":115}]
[]
["Montevideo ",null,400,1]
["Resto del interior ",null,{"$f":"SUM(C13:C30)","v":6531},{"$f":"SUM(D13:D30)","v":114}]
["Artigas ",null,270,7]
["Canelones ",null,606,10]
["Cerro Largo ",null,660,6]
["Colonia ",null,270,7]
["Durazno ",null,213,7]
["Flores ",null,150,6]
["Florida ",null,548,9]
["Lavalleja ",null,350,3]
["Maldonado ",null,139,6]
["Paysandú ",null,330,9]
["Rio Negro ",null,208,5]
["Rivera ",null,592,5]
["Rocha ",null,518,9]
["Salto ",null,710,8]
["San José ",null,463,5]
["Soriano ",null,150,4]
["Tacuarembó  ",null,138,2]
["Treinta y Tres ",null,216,6]
["Fuente : Centros Mec. "]

{"sheet":"I-3.1.9","index":57,"n_rows":32,"n_cols":5,"rows_kept":32,"cut":false,"hidden":false,"merged":[[5,16304,5,16306],[5,16307,5,16309],[5,16310,5,16312],[5,16313,5,16315],[5,16316,5,16318],[5,16289,5,16291],[5,16292,5,16294],[5,16295,5,16297],[5,16298,5,16300],[5,16379,5,16381],[5,16364,5,16366],[5,16367,5,16369],[5,16370,5,16372],[5,16373,5,16375],[5,16376,5,16378],[5,16349,5,16351],[5,16352,5,16354],[5,16355,5,16357],[5,16358,5,16360],[5,16361,5,16363],[5,16334,5,16336],[5,16337,5,16339],[5,16340,5,16342],[5,16343,5,16345],[5,16346,5,16348],[5,16319,5,16321],[5,16322,5,16324],[5,16325,5,16327],[5,16328,5,16330],[5,16331,5,16333],[5,16301,5,16303],[5,16274,5,16276],[5,16277,5,16279],[5,16280,5,16282],[5,16283,5,16285],[5,16286,5,16288],[5,16259,5,16261],[5,16262,5,16264],[5,16265,5,16267],[5,16268,5,16270],[5,16271,5,16273],[5,16244,5,16246],[5,16247,5,16249],[5,16250,5,16252],[5,16253,5,16255],[5,16256,5,16258],[5,16229,5,16231],[5,16232,5,16234],[5,16235,5,16237],[5,16238,5,16240],[5,16241,5,16243],[5,16214,5,16216],[5,16217,5,16219],[5,16220,5,16222],[5,16223,5,16225],[5,16226,5,16228],[5,16199,5,16201],[5,16202,5,16204],[5,16205,5,16207],[5,16208,5,16210],[5,16211,5,16213],[5,16184,5,16186],[5,16187,5,16189],[5,16190,5,16192],[5,16193,5,16195],[5,16196,5,16198],[5,16169,5,16171],[5,16172,5,16174],[5,16175,5,16177],[5,16178,5,16180],[5,16181,5,16183],[5,16154,5,16156],[5,16157,5,16159],[5,16160,5,16162],[5,16163,5,16165],[5,16166,5,16168],[5,16139,5,16141],[5,16142,5,16144],[5,16145,5,16147],[5,16148,5,16150],[5,16151,5,16153],[5,16124,5,16126],[5,16127,5,16129],[5,16130,5,16132],[5,16133,5,16135],[5,16136,5,16138],[5,16109,5,16111],[5,16112,5,16114],[5,16115,5,16117],[5,16118,5,16120],[5,16121,5,16123],[5,16094,5,16096],[5,16097,5,16099],[5,16100,5,16102],[5,16103,5,16105],[5,16106,5,16108],[5,16079,5,16081],[5,16082,5,16084],[5,16085,5,16087],[5,16088,5,16090],[5,16091,5,16093],[5,16064,5,16066],[5,16067,5,16069],[5,16070,5,16072],[5,16073,5,16075],[5,16076,5,16078],[5,16049,5,16051],[5,16052,5,16054],[5,16055,5,16057],[5,16058,5,16060],[5,16061,5,16063],[5,16034,5,16036],[5,16037,5,16039],[5,16040,5,16042],[5,16043,5,16045],[5,16046,5,16048],[5,16019,5,16021],[5,16022,5,16024],[5,16025,5,16027],[5,16028,5,16030],[5,16031,5,16033],[5,16004,5,16006],[5,16007,5,16009],[5,16010,5,16012],[5,16013,5,16015],[5,16016,5,16018],[5,15989,5,15991],[5,15992,5,15994],[5,15995,5,15997],[5,15998,5,16000],[5,16001,5,16003],[5,15974,5,15976],[5,15977,5,15979],[5,15980,5,15982],[5,15983,5,15985],[5,15986,5,15988],[5,15959,5,15961],[5,15962,5,15964],[5,15965,5,15967],[5,15968,5,15970],[5,15971,5,15973],[5,15944,5,15946],[5,15947,5,15949],[5,15950,5,15952],[5,15953,5,15955],[5,15956,5,15958],[5,15929,5,15931],[5,15932,5,15934],[5,15935,5,15937],[5,15938,5,15940],[5,15941,5,15943],[5,15914,5,15916],[5,15917,5,15919],[5,15920,5,15922],[5,15923,5,15925],[5,15926,5,15928],[5,15899,5,15901],[5,15902,5,15904],[5,15905,5,15907],[5,15908,5,15910],[5,15911,5,15913],[5,15884,5,15886],[5,15887,5,15889],[5,15890,5,15892],[5,15893,5,15895],[5,15896,5,15898],[5,15869,5,15871],[5,15872,5,15874],[5,15875,5,15877],[5,15878,5,15880],[5,15881,5,15883],[5,15854,5,15856],[5,15857,5,15859],[5,15860,5,15862],[5,15863,5,15865],[5,15866,5,15868],[5,15839,5,15841],[5,15842,5,15844],[5,15845,5,15847],[5,15848,5,15850],[5,15851,5,15853],[5,15824,5,15826],[5,15827,5,15829],[5,15830,5,15832],[5,15833,5,15835],[5,15836,5,15838],[5,15809,5,15811],[5,15812,5,15814],[5,15815,5,15817],[5,15818,5,15820],[5,15821,5,15823],[5,15794,5,15796],[5,15797,5,15799],[5,15800,5,15802],[5,15803,5,15805],[5,15806,5,15808],[5,15779,5,15781],[5,15782,5,15784],[5,15785,5,15787],[5,15788,5,15790],[5,15791,5,15793],[5,15764,5,15766],[5,15767,5,15769],[5,15770,5,15772],[5,15773,5,15775],[5,15776,5,15778],[5,15749,5,15751],[5,15752,5,15754],[5,15755,5,15757],[5,15758,5,15760],[5,15761,5,15763],[5,15734,5,15736],[5,15737,5,15739],[5,15740,5,15742],[5,15743,5,15745],[5,15746,5,15748],[5,15719,5,15721],[5,15722,5,15724],[5,15725,5,15727],[5,15728,5,15730],[5,15731,5,15733],[5,15704,5,15706],[5,15707,5,15709],[5,15710,5,15712],[5,15713,5,15715],[5,15716,5,15718],[5,15689,5,15691],[5,15692,5,15694],[5,15695,5,15697],[5,15698,5,15700],[5,15701,5,15703],[5,15674,5,15676],[5,15677,5,15679],[5,15680,5,15682],[5,15683,5,15685],[5,15686,5,15688],[5,15659,5,15661],[5,15662,5,15664],[5,15665,5,15667],[5,15668,5,15670],[5,15671,5,15673],[5,15644,5,15646],[5,15647,5,15649],[5,15650,5,15652],[5,15653,5,15655],[5,15656,5,15658],[5,15629,5,15631],[5,15632,5,15634],[5,15635,5,15637],[5,15638,5,15640],[5,15641,5,15643],[5,15614,5,15616],[5,15617,5,15619],[5,15620,5,15622],[5,15623,5,15625],[5,15626,5,15628],[5,15599,5,15601],[5,15602,5,15604],[5,15605,5,15607],[5,15608,5,15610],[5,15611,5,15613],[5,15584,5,15586],[5,15587,5,15589],[5,15590,5,15592],[5,15593,5,15595],[5,15596,5,15598],[5,15569,5,15571],[5,15572,5,15574],[5,15575,5,15577],[5,15578,5,15580],[5,15581,5,15583],[5,15554,5,15556],[5,15557,5,15559],[5,15560,5,15562],[5,15563,5,15565],[5,15566,5,15568],[5,15539,5,15541],[5,15542,5,15544],[5,15545,5,15547],[5,15548,5,15550],[5,15551,5,15553],[5,15524,5,15526],[5,15527,5,15529],[5,15530,5,15532],[5,15533,5,15535],[5,15536,5,15538],[5,15509,5,15511],[5,15512,5,15514],[5,15515,5,15517],[5,15518,5,15520],[5,15521,5,15523],[5,15494,5,15496],[5,15497,5,15499],[5,15500,5,15502],[5,15503,5,15505],[5,15506,5,15508],[5,15479,5,15481],[5,15482,5,15484],[5,15485,5,15487],[5,15488,5,15490],[5,15491,5,15493],[5,15464,5,15466],[5,15467,5,15469],[5,15470,5,15472],[5,15473,5,15475],[5,15476,5,15478],[5,15449,5,15451],[5,15452,5,15454],[5,15455,5,15457],[5,15458,5,15460],[5,15461,5,15463],[5,15434,5,15436],[5,15437,5,15439],[5,15440,5,15442],[5,15443,5,15445],[5,15446,5,15448],[5,15419,5,15421],[5,15422,5,15424],[5,15425,5,15427],[5,15428,5,15430],[5,15431,5,15433],[5,15404,5,15406],[5,15407,5,15409],[5,15410,5,15412],[5,15413,5,15415],[5,15416,5,15418],[5,15389,5,15391],[5,15392,5,15394],[5,15395,5,15397],[5,15398,5,15400],[5,15401,5,15403],[5,15374,5,15376],[5,15377,5,15379],[5,15380,5,15382],[5,15383,5,15385],[5,15386,5,15388],[5,15359,5,15361],[5,15362,5,15364],[5,15365,5,15367],[5,15368,5,15370],[5,15371,5,15373],[5,15344,5,15346],[5,15347,5,15349],[5,15350,5,15352],[5,15353,5,15355],[5,15356,5,15358],[5,15329,5,15331],[5,15332,5,15334],[5,15335,5,15337],[5,15338,5,15340],[5,15341,5,15343],[5,15314,5,15316],[5,15317,5,15319],[5,15320,5,15322],[5,15323,5,15325],[5,15326,5,15328],[5,15299,5,15301],[5,15302,5,15304],[5,15305,5,15307],[5,15308,5,15310],[5,15311,5,15313],[5,15284,5,15286],[5,15287,5,15289],[5,15290,5,15292],[5,15293,5,15295],[5,15296,5,15298],[5,15269,5,15271],[5,15272,5,15274],[5,15275,5,15277],[5,15278,5,15280],[5,15281,5,15283],[5,15254,5,15256],[5,15257,5,15259],[5,15260,5,15262],[5,15263,5,15265],[5,15266,5,15268],[5,15239,5,15241],[5,15242,5,15244],[5,15245,5,15247],[5,15248,5,15250],[5,15251,5,15253],[5,15224,5,15226],[5,15227,5,15229],[5,15230,5,15232],[5,15233,5,15235],[5,15236,5,15238],[5,15209,5,15211],[5,15212,5,15214],[5,15215,5,15217],[5,15218,5,15220],[5,15221,5,15223],[5,15194,5,15196],[5,15197,5,15199],[5,15200,5,15202],[5,15203,5,15205],[5,15206,5,15208],[5,15179,5,15181],[5,15182,5,15184],[5,15185,5,15187],[5,15188,5,15190],[5,15191,5,15193],[5,15164,5,15166],[5,15167,5,15169],[5,15170,5,15172],[5,15173,5,15175],[5,15176,5,15178],[5,15149,5,15151],[5,15152,5,15154],[5,15155,5,15157],[5,15158,5,15160],[5,15161,5,15163],[5,15134,5,15136],[5,15137,5,15139],[5,15140,5,15142],[5,15143,5,15145],[5,15146,5,15148],[5,15119,5,15121],[5,15122,5,15124],[5,15125,5,15127],[5,15128,5,15130],[5,15131,5,15133],[5,15104,5,15106],[5,15107,5,15109],[5,15110,5,15112],[5,15113,5,15115],[5,15116,5,15118],[5,15089,5,15091],[5,15092,5,15094],[5,15095,5,15097],[5,15098,5,15100],[5,15101,5,15103],[5,15074,5,15076],[5,15077,5,15079],[5,15080,5,15082],[5,15083,5,15085],[5,15086,5,15088],[5,15059,5,15061],[5,15062,5,15064],[5,15065,5,15067],[5,15068,5,15070],[5,15071,5,15073],[5,15044,5,15046],[5,15047,5,15049],[5,15050,5,15052],[5,15053,5,15055],[5,15056,5,15058],[5,15029,5,15031],[5,15032,5,15034],[5,15035,5,15037],[5,15038,5,15040],[5,15041,5,15043],[5,15014,5,15016],[5,15017,5,15019],[5,15020,5,15022],[5,15023,5,15025],[5,15026,5,15028],[5,14999,5,15001],[5,15002,5,15004],[5,15005,5,15007],[5,15008,5,15010],[5,15011,5,15013],[5,14984,5,14986],[5,14987,5,14989],[5,14990,5,14992],[5,14993,5,14995],[5,14996,5,14998],[5,14969,5,14971],[5,14972,5,14974],[5,14975,5,14977],[5,14978,5,14980],[5,14981,5,14983],[5,14954,5,14956],[5,14957,5,14959],[5,14960,5,14962],[5,14963,5,14965],[5,14966,5,14968],[5,14939,5,14941],[5,14942,5,14944],[5,14945,5,14947],[5,14948,5,14950],[5,14951,5,14953],[5,14924,5,14926],[5,14927,5,14929],[5,14930,5,14932],[5,14933,5,14935],[5,14936,5,14938],[5,14909,5,14911],[5,14912,5,14914],[5,14915,5,14917],[5,14918,5,14920],[5,14921,5,14923],[5,14894,5,14896],[5,14897,5,14899],[5,14900,5,14902],[5,14903,5,14905],[5,14906,5,14908],[5,14879,5,14881],[5,14882,5,14884],[5,14885,5,14887],[5,14888,5,14890],[5,14891,5,14893],[5,14864,5,14866],[5,14867,5,14869],[5,14870,5,14872],[5,14873,5,14875],[5,14876,5,14878],[5,14849,5,14851],[5,14852,5,14854],[5,14855,5,14857],[5,14858,5,14860],[5,14861,5,14863],[5,14834,5,14836],[5,14837,5,14839],[5,14840,5,14842],[5,14843,5,14845],[5,14846,5,14848],[5,14819,5,14821],[5,14822,5,14824],[5,14825,5,14827],[5,14828,5,14830],[5,14831,5,14833],[5,14804,5,14806],[5,14807,5,14809],[5,14810,5,14812],[5,14813,5,14815],[5,14816,5,14818],[5,14789,5,14791],[5,14792,5,14794],[5,14795,5,14797],[5,14798,5,14800],[5,14801,5,14803],[5,14774,5,14776],[5,14777,5,14779],[5,14780,5,14782],[5,14783,5,14785],[5,14786,5,14788],[5,14759,5,14761],[5,14762,5,14764],[5,14765,5,14767],[5,14768,5,14770],[5,14771,5,14773],[5,14744,5,14746],[5,14747,5,14749],[5,14750,5,14752],[5,14753,5,14755],[5,14756,5,14758],[5,14729,5,14731],[5,14732,5,14734],[5,14735,5,14737],[5,14738,5,14740],[5,14741,5,14743],[5,14714,5,14716],[5,14717,5,14719],[5,14720,5,14722],[5,14723,5,14725],[5,14726,5,14728],[5,14699,5,14701],[5,14702,5,14704],[5,14705,5,14707],[5,14708,5,14710],[5,14711,5,14713],[5,14684,5,14686],[5,14687,5,14689],[5,14690,5,14692],[5,14693,5,14695],[5,14696,5,14698],[5,14669,5,14671],[5,14672,5,14674],[5,14675,5,14677],[5,14678,5,14680],[5,14681,5,14683],[5,14654,5,14656],[5,14657,5,14659],[5,14660,5,14662],[5,14663,5,14665],[5,14666,5,14668],[5,14639,5,14641],[5,14642,5,14644],[5,14645,5,14647],[5,14648,5,14650],[5,14651,5,14653],[5,14624,5,14626],[5,14627,5,14629],[5,14630,5,14632],[5,14633,5,14635],[5,14636,5,14638],[5,14609,5,14611],[5,14612,5,14614],[5,14615,5,14617],[5,14618,5,14620],[5,14621,5,14623],[5,14594,5,14596],[5,14597,5,14599],[5,14600,5,14602],[5,14603,5,14605],[5,14606,5,14608],[5,14579,5,14581],[5,14582,5,14584],[5,14585,5,14587],[5,14588,5,14590],[5,14591,5,14593],[5,14564,5,14566],[5,14567,5,14569],[5,14570,5,14572],[5,14573,5,14575],[5,14576,5,14578],[5,14549,5,14551],[5,14552,5,14554],[5,14555,5,14557],[5,14558,5,14560],[5,14561,5,14563],[5,14534,5,14536],[5,14537,5,14539],[5,14540,5,14542],[5,14543,5,14545],[5,14546,5,14548],[5,14519,5,14521],[5,14522,5,14524],[5,14525,5,14527],[5,14528,5,14530],[5,14531,5,14533],[5,14504,5,14506],[5,14507,5,14509],[5,14510,5,14512],[5,14513,5,14515],[5,14516,5,14518],[5,14489,5,14491],[5,14492,5,14494],[5,14495,5,14497],[5,14498,5,14500],[5,14501,5,14503],[5,14474,5,14476],[5,14477,5,14479],[5,14480,5,14482],[5,14483,5,14485],[5,14486,5,14488],[5,14459,5,14461],[5,14462,5,14464],[5,14465,5,14467],[5,14468,5,14470],[5,14471,5,14473],[5,14444,5,14446],[5,14447,5,14449],[5,14450,5,14452],[5,14453,5,14455],[5,14456,5,14458],[5,14429,5,14431],[5,14432,5,14434],[5,14435,5,14437],[5,14438,5,14440],[5,14441,5,14443],[5,14414,5,14416],[5,14417,5,14419],[5,14420,5,14422],[5,14423,5,14425],[5,14426,5,14428],[5,14399,5,14401],[5,14402,5,14404],[5,14405,5,14407],[5,14408,5,14410],[5,14411,5,14413],[5,14384,5,14386],[5,14387,5,14389],[5,14390,5,14392],[5,14393,5,14395],[5,14396,5,14398],[5,14369,5,14371],[5,14372,5,14374],[5,14375,5,14377],[5,14378,5,14380],[5,14381,5,14383],[5,14354,5,14356],[5,14357,5,14359],[5,14360,5,14362],[5,14363,5,14365],[5,14366,5,14368],[5,14339,5,14341],[5,14342,5,14344],[5,14345,5,14347],[5,14348,5,14350],[5,14351,5,14353],[5,14324,5,14326],[5,14327,5,14329],[5,14330,5,14332],[5,14333,5,14335],[5,14336,5,14338],[5,14309,5,14311],[5,14312,5,14314],[5,14315,5,14317],[5,14318,5,14320],[5,14321,5,14323],[5,14294,5,14296],[5,14297,5,14299],[5,14300,5,14302],[5,14303,5,14305],[5,14306,5,14308],[5,14279,5,14281],[5,14282,5,14284],[5,14285,5,14287],[5,14288,5,14290],[5,14291,5,14293],[5,14264,5,14266],[5,14267,5,14269],[5,14270,5,14272],[5,14273,5,14275],[5,14276,5,14278],[5,14249,5,14251],[5,14252,5,14254],[5,14255,5,14257],[5,14258,5,14260],[5,14261,5,14263],[5,14234,5,14236],[5,14237,5,14239],[5,14240,5,14242],[5,14243,5,14245],[5,14246,5,14248],[5,14219,5,14221],[5,14222,5,14224],[5,14225,5,14227],[5,14228,5,14230],[5,14231,5,14233],[5,14204,5,14206],[5,14207,5,14209],[5,14210,5,14212],[5,14213,5,14215],[5,14216,5,14218],[5,14189,5,14191],[5,14192,5,14194],[5,14195,5,14197],[5,14198,5,14200],[5,14201,5,14203],[5,14174,5,14176],[5,14177,5,14179],[5,14180,5,14182],[5,14183,5,14185],[5,14186,5,14188],[5,14159,5,14161],[5,14162,5,14164],[5,14165,5,14167],[5,14168,5,14170],[5,14171,5,14173],[5,14144,5,14146],[5,14147,5,14149],[5,14150,5,14152],[5,14153,5,14155],[5,14156,5,14158],[5,14129,5,14131],[5,14132,5,14134],[5,14135,5,14137],[5,14138,5,14140],[5,14141,5,14143],[5,14114,5,14116],[5,14117,5,14119],[5,14120,5,14122],[5,14123,5,14125],[5,14126,5,14128],[5,14099,5,14101],[5,14102,5,14104],[5,14105,5,14107],[5,14108,5,14110],[5,14111,5,14113],[5,14084,5,14086],[5,14087,5,14089],[5,14090,5,14092],[5,14093,5,14095],[5,14096,5,14098],[5,14069,5,14071],[5,14072,5,14074],[5,14075,5,14077],[5,14078,5,14080],[5,14081,5,14083],[5,14054,5,14056],[5,14057,5,14059],[5,14060,5,14062],[5,14063,5,14065],[5,14066,5,14068],[5,14039,5,14041],[5,14042,5,14044],[5,14045,5,14047],[5,14048,5,14050],[5,14051,5,14053],[5,14024,5,14026],[5,14027,5,14029],[5,14030,5,14032],[5,14033,5,14035],[5,14036,5,14038],[5,14009,5,14011],[5,14012,5,14014],[5,14015,5,14017],[5,14018,5,14020],[5,14021,5,14023],[5,13994,5,13996],[5,13997,5,13999],[5,14000,5,14002],[5,14003,5,14005],[5,14006,5,14008],[5,13979,5,13981],[5,13982,5,13984],[5,13985,5,13987],[5,13988,5,13990],[5,13991,5,13993],[5,13964,5,13966],[5,13967,5,13969],[5,13970,5,13972],[5,13973,5,13975],[5,13976,5,13978],[5,13949,5,13951],[5,13952,5,13954],[5,13955,5,13957],[5,13958,5,13960],[5,13961,5,13963],[5,13934,5,13936],[5,13937,5,13939],[5,13940,5,13942],[5,13943,5,13945],[5,13946,5,13948],[5,13919,5,13921],[5,13922,5,13924],[5,13925,5,13927],[5,13928,5,13930],[5,13931,5,13933],[5,13904,5,13906],[5,13907,5,13909],[5,13910,5,13912],[5,13913,5,13915],[5,13916,5,13918],[5,13889,5,13891],[5,13892,5,13894],[5,13895,5,13897],[5,13898,5,13900],[5,13901,5,13903],[5,13874,5,13876],[5,13877,5,13879],[5,13880,5,13882],[5,13883,5,13885],[5,13886,5,13888],[5,13859,5,13861],[5,13862,5,13864],[5,13865,5,13867],[5,13868,5,13870],[5,13871,5,13873],[5,13844,5,13846],[5,13847,5,13849],[5,13850,5,13852],[5,13853,5,13855],[5,13856,5,13858],[5,13829,5,13831],[5,13832,5,13834],[5,13835,5,13837],[5,13838,5,13840],[5,13841,5,13843],[5,13814,5,13816],[5,13817,5,13819],[5,13820,5,13822],[5,13823,5,13825],[5,13826,5,13828],[5,13799,5,13801],[5,13802,5,13804],[5,13805,5,13807],[5,13808,5,13810],[5,13811,5,13813],[5,13784,5,13786],[5,13787,5,13789],[5,13790,5,13792],[5,13793,5,13795],[5,13796,5,13798],[5,13769,5,13771],[5,13772,5,13774],[5,13775,5,13777],[5,13778,5,13780],[5,13781,5,13783],[5,13754,5,13756],[5,13757,5,13759],[5,13760,5,13762],[5,13763,5,13765],[5,13766,5,13768],[5,13739,5,13741],[5,13742,5,13744],[5,13745,5,13747],[5,13748,5,13750],[5,13751,5,13753],[5,13724,5,13726],[5,13727,5,13729],[5,13730,5,13732],[5,13733,5,13735],[5,13736,5,13738],[5,13709,5,13711],[5,13712,5,13714],[5,13715,5,13717],[5,13718,5,13720],[5,13721,5,13723],[5,13694,5,13696],[5,13697,5,13699],[5,13700,5,13702],[5,13703,5,13705],[5,13706,5,13708],[5,13679,5,13681],[5,13682,5,13684],[5,13685,5,13687],[5,13688,5,13690],[5,13691,5,13693],[5,13664,5,13666],[5,13667,5,13669],[5,13670,5,13672],[5,13673,5,13675],[5,13676,5,13678],[5,13649,5,13651],[5,13652,5,13654],[5,13655,5,13657],[5,13658,5,13660],[5,13661,5,13663],[5,13634,5,13636],[5,13637,5,13639],[5,13640,5,13642],[5,13643,5,13645],[5,13646,5,13648],[5,13619,5,13621],[5,13622,5,13624],[5,13625,5,13627],[5,13628,5,13630],[5,13631,5,13633],[5,13604,5,13606],[5,13607,5,13609],[5,13610,5,13612],[5,13613,5,13615],[5,13616,5,13618],[5,13589,5,13591],[5,13592,5,13594],[5,13595,5,13597],[5,13598,5,13600],[5,13601,5,13603],[5,13574,5,13576],[5,13577,5,13579],[5,13580,5,13582],[5,13583,5,13585],[5,13586,5,13588],[5,13559,5,13561],[5,13562,5,13564],[5,13565,5,13567],[5,13568,5,13570],[5,13571,5,13573],[5,13544,5,13546],[5,13547,5,13549],[5,13550,5,13552],[5,13553,5,13555],[5,13556,5,13558],[5,13529,5,13531],[5,13532,5,13534],[5,13535,5,13537],[5,13538,5,13540],[5,13541,5,13543],[5,13514,5,13516],[5,13517,5,13519],[5,13520,5,13522],[5,13523,5,13525],[5,13526,5,13528],[5,13499,5,13501],[5,13502,5,13504],[5,13505,5,13507],[5,13508,5,13510],[5,13511,5,13513],[5,13484,5,13486],[5,13487,5,13489],[5,13490,5,13492],[5,13493,5,13495],[5,13496,5,13498],[5,13469,5,13471],[5,13472,5,13474],[5,13475,5,13477],[5,13478,5,13480],[5,13481,5,13483],[5,13454,5,13456],[5,13457,5,13459],[5,13460,5,13462],[5,13463,5,13465],[5,13466,5,13468],[5,13439,5,13441],[5,13442,5,13444],[5,13445,5,13447],[5,13448,5,13450],[5,13451,5,13453],[5,13424,5,13426],[5,13427,5,13429],[5,13430,5,13432],[5,13433,5,13435],[5,13436,5,13438],[5,13409,5,13411],[5,13412,5,13414],[5,13415,5,13417],[5,13418,5,13420],[5,13421,5,13423],[5,13394,5,13396],[5,13397,5,13399],[5,13400,5,13402],[5,13403,5,13405],[5,13406,5,13408],[5,13379,5,13381],[5,13382,5,13384],[5,13385,5,13387],[5,13388,5,13390]],"merged_total":5508,"flags":["merged_cut"]}
["Ministerio de Educación y Cultura"]
["Dirección de Educación"]
[]
[]
[]
["Cuadro I-3.1.9"]
["BECARIOS DEL PROGRAMA YO ESTUDIO Y TRABAJO SEGÚN GRANDES ÁREAS Y DEPARTAMENTO. AÑO 2012."]
["GRANDES ÁREAS / DEPTO.",null," BECARIOS ",null,"%"]
["Total",null,{"$f":"+C11+C12","v":590},null,{"$f":"+E11+E12","v":100}]
[]
["Montevideo ",null,340,null,57.6]
["Resto del interior ",null,{"$f":"SUM(C14:C31)","v":250},null,42.4]
[]
["Artigas ",null,4,null,0.7]
["Canelones ",null,55,null,9.3000000000000007]
["Cerro Largo ",null,8,null,1.4]
["Colonia ",null,17,null,2.9]
["Durazno ",null,14,null,2.4]
["Flores ",null,4,null,0.7]
["Florida ",null,7,null,1.2]
["Lavalleja ",null,15,null,2.5]
["Maldonado ",null,12,null,2]
["Paysandú ",null,25,null,4.2]
["Rio Negro ",null,5,null,0.8]
["Rivera ",null,9,null,1.5]
["Rocha ",null,13,null,2.2000000000000002]
["Salto ",null,9,null,1.5]
["San José ",null,13,null,2.2000000000000002]
["Soriano ",null,14,null,2.4]
["Tacuarembó  ",null,13,null,2.2000000000000002]
["Treinta y Tres ",null,13,null,2.2000000000000002]
["Fuente: MTSS. Año 2012."]

{"sheet":"I-3.1.10","index":58,"n_rows":20,"n_cols":4,"rows_kept":20,"cut":false,"hidden":false,"merged":[[4,0,4,3],[10,0,10,1],[18,0,18,1],[15,0,15,1],[16,0,16,1],[17,0,17,1],[12,0,12,1],[13,0,13,1],[14,0,14,1],[8,0,8,1],[9,0,9,1],[11,0,11,1],[6,0,6,1],[7,0,7,1],[5,0,5,3]]}
["Ministerio de Educación y Cultura"]
["Dirección de Educación"]
[]
[]
["Cuadro I-3.1.10"]
["BECAS OTORGADAS PARA CADA NIVEL DE ESTUDIO DEL PROGRAMA YO ESTUDIO Y YO TRABAJO. (AÑO 2012)."]
[]
["NIVEL",null,"CANTIDAD","%"]
[]
["TOTAL",null,{"$f":"SUM(C12:C19)","v":590},{"$f":"C10/$C$10*100","v":100}]
[]
["Educación No Formal",null,21,{"$f":"C12/$C$10*100","v":3.5593220338983054}]
["Educación Media Básica (CES)",null,70,{"$f":"C13/$C$10*100","v":11.864406779661017}]
["Educación Media Básica (CETP)",null,20,3.3898305084745761]
["Educación Media Superior (CES)",null,250,42.372881355932201]
["Educación Media Superior (CETP)",null,115,19.491525423728813]
["Magisterio o Profesorado",null,11,1.8644067796610171]
["Terciario No Universitario",null,21,3.5593220338983054]
["Universitario",null,82,13.898305084745763]
["Fuente: MTSS. Año 2012."]

{"sheet":"I-3.1.11","index":59,"n_rows":16,"n_cols":4,"rows_kept":16,"cut":false,"hidden":false,"merged":[[4,0,4,1],[9,0,9,1],[12,0,12,1],[13,0,13,1],[14,0,14,1],[6,0,6,1],[7,0,7,1],[8,0,8,1],[10,0,10,1],[11,0,11,1],[5,0,5,3],[4,2,4,3]]}
["Ministerio de Educación y Cultura"]
["Dirección de Educación"]
[]
[]
["Cuadro I-3.1.11"]
["BENEFICIARIOS DEL PROGRAMA JÓVENES EN RED SEGÚN GRANDES ÁREAS Y DEPARTAMENTO. AÑO 2012."]
[null,null,"Becarios","Porcentaje"]
["TOTAL",null,{"$f":"C10+C11","v":2117},{"$f":"D10+D11","v":100}]
[]
["Montevideo",null,889,{"$f":"C10/$C$8*100","v":41.993386868209733}]
["Resto del País",null,1228,58.006613131790274]
["Artigas",null,196,9.2583845063769488]
["Canelones",null,835,39.442607463391596]
["Cerro Largo",null,153,7.2272083136513938]
["San José",null,44,2.0784128483703355]
["Fuente: MIDES. Año 2012."]

{"sheet":"I-3.1.12","index":60,"n_rows":18,"n_cols":4,"rows_kept":18,"cut":false,"hidden":false,"merged":[[2,0,2,3],[4,0,4,1],[4,2,4,3],[5,0,6,3],[7,0,8,0],[7,1,8,1],[7,2,7,3]]}
["Ministerio de Educación y Cultura"]
["Dirección de Educación"]
[]
[]
["Cuadro I-3.1.12"]
["BECARIOS DEL PROGRAMA JÓVENES EN RED POR SEXO SEGÚN TRAMOS DE EDAD. AÑO 2012. "]
[]
["EDAD","TOTAL","SEXO"]
[null,null,"Hombre","Mujer"]
["TOTAL",2117,46.2,53.8]
[]
["Menores de 14 años",39,51.3,48.7]
["Entre 14 y 15 años",495,55.4,44.6]
["Entre 15 y 16 años",679,53,47]
["Entre 18 y 21 años",662,39.4,60.6]
["Entre 22 y 24 años",225,26.2,73.8]
["Más de 24 años",17,29.4,70.599999999999994]
["Fuente: MIDES. Año 2012."]

{"sheet":"I-3.1.13","index":61,"n_rows":30,"n_cols":7,"rows_kept":30,"cut":false,"hidden":false,"merged":[[2,1,2,6],[4,0,4,1],[4,2,4,3],[4,4,4,5],[5,0,5,6],[6,5,7,5],[17,0,17,1],[14,0,14,1],[15,0,15,1],[11,0,11,1],[12,0,12,1],[13,0,13,1],[8,0,8,1],[9,0,9,1],[10,0,10,1],[6,4,7,4],[18,0,18,1],[6,6,7,6],[28,0,28,1],[6,0,7,1],[6,3,7,3],[6,2,7,2],[25,0,25,1],[26,0,26,1],[27,0,27,1],[22,0,22,1],[23,0,23,1],[24,0,24,1],[19,0,19,1],[20,0,20,1],[21,0,21,1],[16,0,16,1]]}
["Ministerio de Educación y Cultura"]
["Dirección de Educación"]
[]
[]
["Cuadro I-3.1.13"]
["PARTICIPANTES DEL PROGRAMA CENTROS EDUCATIVOS ABIERTOS POR TIPO DE PARTICIPANTE Y PERTENENCIA AL CENTRO SEGÚN GRANDES ÁREAS Y DEPARTAMENTO. AÑO 2012."]
["GRANDES ÁREAS / DEPTO.",null,"TOTAL","ESTUDIANTES","DOCENTES","PARTICIPANTES QUE NO SON DEL CENTRO ","PERSONAS DE OTRAS ORGANIZACIONES"]
[]
["TOTAL",null,{"$f":"C10+C11","v":36354},{"$f":"D10+D11","v":17122},{"$f":"E10+E11","v":1786},{"$f":"F10+F11","v":11859},{"$f":"G10+G11","v":5587}]
["Montevideo ",null,{"$f":"SUM(D10:G10)","v":2063},1330,191,368,174]
["Resto del País",null,{"$f":"SUM(D11:G11)","v":34291},{"$f":"SUM(D12:D29)","v":15792},{"$f":"SUM(E12:E29)","v":1595},{"$f":"SUM(F12:F29)","v":11491},{"$f":"SUM(G12:G29)","v":5413}]
["Artigas ",null,1525,910,187,315,113]
["Canelones ",null,2472,1388,156,706,222]
["Cerro Largo ",null,928,363,27,378,160]
["Colonia ",null,3730,1140,147,2254,189]
["Durazno ",null,3587,851,82,1872,782]
["Flores ",null,0,0,0,0,0]
["Florida ",null,1198,628,51,353,166]
["Lavalleja ",null,2514,469,84,1162,799]
["Maldonado ",null,0,0,0,0,0]
["Paysandú ",null,1404,882,217,228,77]
["Rio Negro ",null,1023,809,19,145,50]
["Rivera ",null,1315,176,23,176,940]
["Rocha ",null,4153,1520,146,2042,445]
["Salto ",null,2172,1309,121,483,259]
["San José ",null,3478,2585,101,390,402]
["Soriano ",null,1596,963,57,337,239]
["Tacuarembó  ",null,1372,760,82,105,425]
["Treinta y Tres ",null,1824,1039,95,545,145]
["Fuente: MIDES. Año 2012."]

{"sheet":"I-.3.1.14","index":62,"n_rows":14,"n_cols":6,"rows_kept":14,"cut":false,"hidden":false,"merged":[[12,0,12,1],[5,0,5,5],[6,0,6,1],[7,0,7,1],[8,0,8,1],[9,0,9,1],[10,0,10,1],[11,0,11,1]]}
["Ministerio de Educación y Cultura"]
["Dirección de Educación"]
[]
[]
["Cuadro I-3.1.14"]
["CENTROS Y BENEFICIARIOS CON EQUIPO DE CEIBAL POR TIPO DE USUARIO SEGÚN AÑO LECTIVO - 2012"]
["AÑO",null,"Cantidad de centros con equipos","TOTAL ","ALUMNOS ","DOCENTES"]
[2007,null," - ",5266,4964,302]
[2008,null," - ",179505,164711,14794]
[2009,null,1779,350004,327736,22268]
[2010,null,1882,417445,393521,23924]
[2011,null,2127,503609,476065,27544]
[2012,null,2392,566552,527312,39240]
["Fuente : Plan Ceibal "]

{"sheet":"I-3.4.1","index":63,"n_rows":27,"n_cols":10,"rows_kept":27,"cut":false,"hidden":false,"merged":[[5,0,5,6],[6,0,6,6],[7,0,8,0],[29,0,29,5],[23,0,23,5],[24,0,24,4],[28,0,28,5],[27,0,27,5],[7,1,7,8],[26,0,26,9]]}
["Ministerio de Educación y Cultura"]
["Dirección de Educación"]
[]
[]
[]
["Cuadro I-3.4.1"]
["GASTO EN MILLONES DE PESOS CONSTANTES DE 2006 POR AÑO LECTIVO SEGÚN ÁMBITO DEL GASTO (2004 - 2012)."]
["ÁMBITO DEL GASTO","AÑO LECTIVO"]
[null,2004,2005,2006,2007,2008,2009,2010,2011,2012]
["TOTAL ",13806,14406,15866,18386,22388,25023,25608.201631370044,28090.376114455728,30264.698265275634]
["Inst. básicas del sist. educación formal ",12883,13314,14345,16157,19010,22020,22218.742914241426,24360.780876643297,25721.206230385174]
["ANEP ",10337,10702,11455,12881,15223,17662,17771.812404214783,19422.883933100606,20568.57045720032]
["UDELAR ",2546,2612,2890,3276,3787,4358,4446.9305100266438,4937.8969435426907,5152.6357731848548]
["Administración Central e Inciso 21 ",656,733,1079,1152,1327,1294,1523.0821154119599,1734.1173783754887,2456.3561976304286]
["Educación policial y militar ",391,436,482,569,608,628,694.24126367036013,708.74089587940853,946.58245128606279]
["Otros Administración Central1  ",69,91,185,159,257,164,263.16409612463804,390.15565443085165,890.92456230266941]
["Partidas del inciso 21 con destino a educación2  ",196,206,412,424,462,502,565.67675561696171,635.2208280652286,618.84918404169639]
["Educación no formal inicial (CAIF) y CENFORES  ",141,191,240,281,473,540,535.62586508544496,666.66659918596088,833.04430909303676]
["Ciencia y Tecnología ",126,168,202,299,291,206,229.97380050800547,278.1368348016295,318.29736605620974]
["MEC3 ",109,125,147,240,161,79,84.644022929806567,73.695798686653944,93.59018017422828]
["PEDECIBA, Instituto Pasteur, ANII4  ",17,43,55,59,129,127,145.3297775781989,204.44103611497556,224.70718588198145]
["Plan Ceibal ",0,0,0,497,1203,801,908.95567893742884,843.90740107828003,729.08308487215425]
["Incentivo a la demanda educativa en secundaria ",0,0,0,0,84,162,191.82125718577964,206.76702437107159,206.71107723863122]
[]
["Fuentes: Elaborado en base a datos del MEF."]
["Notas: "]
["1. Se incluyen gastos en Dirección de Educación del MEC, ISEF, capacitación laboral, Centro de Diseño Industrial, escuelas de formación artística y otros componentes considerados en MIDES-DINEM (2006), \"Identificación y análisis del Gasto Público Social en Uruguay 2002-2005\" Además, se incluye el subsidio al boleto estudiantil que realiza el MTOP.\n2. Incluye subsidios a escuelas para niños con capacidades especiales, rentas afectadas al Fondo de Solidaridad y al Fondo de Reconversión Laboral.\n3. Se considera la Dirección Nacional de Ciencia y Tecnología (DINACYT) y el Clemente Estable La baja de recursos se explica por la finalización del Programa de Desarrollo Tecnológico (PDT) y el traspaso de algunos programas a la ANII.\n4. Del presupuesto de la ANII se toma en cuenta sólo el componente 2, de Fortalecimiento y orientación de la investigación.\n"]

{"sheet":"I-4.4.1","index":64,"n_rows":14,"n_cols":8,"rows_kept":14,"cut":false,"hidden":false,"merged":[[11,0,11,2],[12,0,12,2],[13,1,13,6],[4,0,4,6],[5,0,5,6],[6,0,7,2],[8,0,8,1],[9,0,9,1],[10,0,10,1]]}
["Ministerio de Educación y Cultura"]
["Dirección de Educación"]
[]
[]
["Cuadro I-4.4.1"]
["INDICADORES Y VALORES 2008 a 2012 PARA LA META NACIONAL 3 (ODM)."]
["Asistencia (%) al sistema educativo del grupo 3 a 5 por edad simple:",null,null,2008,2009,2010,2011,2012]
[]
[null,null,"3 años ",53.8,58.5,61.3,60.4,63.8]
[null,null,"4 años ",83,86.6,86.1,86.1,89.1]
[null,null,"5 años ",96.9,97.3,97.3,96.3,97.7]
["Tasa neta de asistencia a Educ. Media Básica (12 a 14 años) ",null,null,69.2,73.099999999999994,73.400000000000006,75.900000000000006,73.8]
["Tasa neta de asistencia e Educ. Media Superior (15 a 17 años) ",null,null,53.2,47.6,43.2,50.5,51.4]
["Fuente:","Procesamiento propio con base en la Encuesta Continua de Hogares 2008 a 2012"]

{"sheet":"I-4.4.2","index":65,"n_rows":46,"n_cols":10,"rows_kept":46,"cut":false,"hidden":false,"merged":[[43,1,43,9],[44,1,44,9],[45,1,45,9],[38,1,38,9],[35,1,35,9],[36,1,36,9],[39,1,39,9],[40,1,40,9],[41,1,41,9],[42,1,42,9],[20,9,23,9],[32,3,32,5],[33,3,33,5],[32,0,33,2],[30,9,31,9],[31,3,31,4],[32,9,33,9],[28,0,28,5],[29,0,29,5],[30,0,31,2],[30,3,30,4],[34,1,34,9],[12,9,13,9],[13,4,13,5],[14,9,15,9],[16,0,19,2],[16,3,17,4],[18,3,19,4],[16,9,19,9],[20,0,23,2],[20,3,21,4],[22,3,23,4],[24,3,24,5],[25,3,25,5],[24,0,25,2],[26,0,26,5],[27,0,27,5],[7,0,7,5],[8,0,9,5],[8,8,9,8],[5,0,5,9],[6,0,6,9],[8,9,9,9],[10,0,10,5],[14,0,15,3],[14,4,14,5],[15,4,15,5],[12,0,13,3],[12,4,12,5]]}
["Ministerio de Educación y Cultura"]
["Dirección de Educación"]
[]
[]
[]
["Cuadro I-4.4.2"]
["INDICADORES Y VALORES 2011 PARA LAS METAS ESPECÍFICAS NACIONALES (METAS 2021)."]
[]
["INDICADOR:",null,null,null,null,null,"VALOR","VALOR",null,"META 2021"]
[null,null,null,null,null,null,2011,2012]
[]
[]
["Indicador 2A: Porcentaje de familias con dificultades socioeconómicas que reciben apoyo económico para garantizar la asistencia habitual de sus hijos a educación básica (niños comprendidos entre los 4 a 14 años de edad)",null,null,null,"Total país",null,"Más del 70 %",0.86299999999999999,null,1]
[null,null,null,null,"Zonas rurales",null,"Más del 70 %",0.85399999999999998]
["Indicador 2B: Porcentaje de menores pertenecientes a familias con dificultades socioeconómicas que reciben apoyo económico para garantizar la asistencia habitual de sus hijos a educación básica (niños comprendidos entre los 4 a 14 años de edad)",null,null,null,"Total país",null,"Más del 70 %",0.89300000000000002,null,1]
[null,null,null,null,"Total país sexo femenino",null,"Más del 70 %",0.89400000000000002]
["Indicador 4B: Brecha absoluta de escolarización entre el alumnado perteneciente a la poblacion potencialmente no discriminada en lo educativo y el alumnado perteneciente a las poblaciones potencialmente discriminadas en zonas urbanas, escolarizados en nivel terciario",null,null,"Afrodescendientes",null,"CINE 5b","s/d",4.0619293720803462,null,"Aproximarse a 0"]
[null,null,null,null,null,"CINE 5a","s/d",27.482629312321137]
[null,null,null,"Primer quintil de Ingreso",null,"CINE 5b","s/d",6.1621685030162077]
[null,null,null,null,null,"CINE 5a","s/d",39.326584145561]
["Indicador 4C: Brecha relativa de escolarización entre el alumnado perteneciente a la poblacion potencialmente no discriminada en lo educativo y el alumnado perteneciente a las poblaciones potencialmente discriminadas en zonas urbanas, escolarizados en nivel terciario",null,null,"Afrodescendientes",null,"CINE 5b","s/d",2.0317300605084081,null,"Aproximarse a 1"]
[null,null,null,null,null,"CINE 5a","s/d",2.781522090839895]
[null,null,null,"Primer quintil de Ingreso",null,"CINE 5b","s/d",4.3548962144703678]
[null,null,null,null,null,"CINE 5a","s/d",11.977311682053269]
["Indicador 8: Porcentaje de niñas y niños de 0 a 5 años que participa en programas educativos",null,null,"Niños de 0 a 2 años de edad",null,null,0.22900000000000001,0.27100000000000002,null,"20% a 50%"]
[null,null,null,"Niños de 3 a 5 años de edad",null,null,0.81499999999999995,0.83899999999999997,null,1]
["Indicador 10B: Porcentaje de finalización de la Educación primaria1",null,null,null,null,null,0.98599999999999999,0.98699999999999999,null,"> 90%"]
["Indicador 11B: Porcentaje de finalización de la Educación Media Básica2",null,null,null,null,null,0.66100000000000003,0.66600000000000004,null,"60% al 90%"]
["Indicador 18: Porcentaje de alumnos que elige formación científica o técnica en Educación Terciaria3",null,null,null,null,null,"s/d",0.20399999999999999,null,0.2]
["Indicador 21: Porcentaje de escuelas públicas  de tiempo completo o extendido en Eduación Primaria4",null,null,null,null,null,7.5999999999999998E-2,0.09,null,"20% al 50%"]
["Indicador 29: Porcentaje de titulación en formación inicial docente con acreditación oficial de su calidad5",null,null,"CINE 1",null,"CEIP",1,1,null,"50% al 100%"]
[null,null,null,null,null,"CES y CETP",0.54700000000000004,0.54700000000000004]
["Indicador 30: Porcentaje de profesorado de primaria con formación especializada en docencia superior al nivel de la Clasificación Internacional Normalizada de la Educación (CINE, nivel 3), y porcentaje de profesorado de secundaria con formación universitaria y pedagógica6",null,null,"Porcentaje de maestros de primaria (CINE 1) que tienen una formación especializada en docencia, superior a la clasificación CINE 3 ",null,null,1,1,null,"70% al 100%"]
[null,null,null,"Porcentaje de profesorado de secundaria (CINE 2) que tiene una formación universitaria y capacitación pedagógica",null,null,6.7000000000000004E-2,6.7000000000000004E-2]
[]
["Fuentes:","OEI (2011). Miradas sobre la Educación en Iberoamérica 2011, Consejo Rector, IESME, OEI. (UNESCO) y, Procesamiento propio en base a la Encuesta Continua de Hogares 2011 y 2012, Censo Nacional Docente 2007 ANEP y datos proporcionados por las oficinas productoras de información."]
[null,"Área de Investigación y Estadística del Ministerio de Educación y Cultura."]
[]
["Notas:","Se rectificaron los valores 2011 para los indicadores 8, 10b, 11b, 20, 21 y 30."]
[null,"Por mayor información sobre la construcción e interpretación de estos indicadores ver, Gabriel Errandonea Lennon, Seguimiento de las Metas 2021: el desafío de la comparabilidad midiendo la diversidad, en: Desarrollo profesional docente y mejora de la educación - Informe país, MEC, ANEP y UdelaR, Montevideo, 2013."]
[null,"1. Educación primaria común, pública y privada."]
[null,"2. Educación media básica general diurna pública."]
[null,"3. Educación Terciaria Universitaria (grado y posgrado) y Terciaria no Universitaria."]
[null,"4. En el marco del Consejo Rector, para este indicador, se entiende por Escuelas Públicas de tiempo completo o extendido, la cantidad de Establecimientos públicos de tiempo completo o extendido."]
[null,"5. Para los niveles CINE 2 y 3,  se tomaron los datos del Censo Nacional Docente 2007, por eso no hay variación entre 2011 y 2012."]
[null,"6. Para el cálculo de  Porcentaje de profesorado de secundaria (CINE 2) que tiene una formación universitaria y capacitación pedagógica, se tomaron los datos del Censo Nacional Docente 2007, por eso no hay variación entre 2011 y 2012. A su vez, se consideró solamente aquellos docentes que tienen formación terciaria no docente en Educación, debido a que para el resto de los estudios no docentes terciarios se desconoce si tienen formación pedagógica."]

{"sheet":"G I-1.2.1","index":66,"n_rows":30,"n_cols":1,"rows_kept":30,"cut":false,"hidden":false,"merged":[[0,0,0,3],[29,0,29,5]]}
["Ministerio de Educación y Cultura\nDirección de Educación"]
[]
["Gráfico I-1.2.1"]
[]
[]
[]
[]
[]
[]
[]
[]
[]
[]
[]
[]
[]
[]
[]
[]
[]
[]
[]
[]
[]
[]
[]
[]
[]
[]
["Fuente: Censos de Población 1963, 1975, 1985 y 1996, ENHA 2006 y ECH de 2007 a 2012 del INE."]

{"sheet":"G I-1.2.2.","index":67,"n_rows":32,"n_cols":1,"rows_kept":32,"cut":false,"hidden":false,"merged":[[0,0,0,3]]}
["Ministerio de Educación y Cultura\nDirección de Educación"]
[]
[]
["Gráfico I-1.2.2"]
[]
[]
[]
[]
[]
[]
[]
[]
[]
[]
[]
[]
[]
[]
[]
[]
[]
[]
[]
[]
[]
[]
[]
[]
[]
[]
[]
["Fuente: Elaboración propia en base a ECH 2012."]

{"sheet":"G I-1.2.3","index":68,"n_rows":31,"n_cols":1,"rows_kept":31,"cut":false,"hidden":false,"merged":[[0,0,0,3]]}
["Ministerio de Educación y Cultura\nDirección de Educación"]
[]
[]
[]
["Gráficos I-1.2.3 "]
[]
[]
[]
[]
[]
[]
[]
[]
[]
[]
[]
[]
[]
[]
[]
[]
[]
[]
[]
[]
[]
[]
[]
[]
[]
["Fuente: Elaboración propia en base a la ECH 2012."]

{"sheet":"G I-1.2.4 ","index":69,"n_rows":31,"n_cols":1,"rows_kept":31,"cut":false,"hidden":false,"merged":[[0,0,0,3]]}
["Ministerio de Educación y Cultura\nDirección de Educación"]
[]
[]
[]
["Gráficos I-1.2.4 "]
[]
[]
[]
[]
[]
[]
[]
[]
[]
[]
[]
[]
[]
[]
[]
[]
[]
[]
[]
[]
[]
[]
[]
[]
[]
["Fuente: Elaboración propia en base a la ECH 2012."]

{"sheet":"G I-1.2.5","index":70,"n_rows":30,"n_cols":1,"rows_kept":30,"cut":false,"hidden":false,"merged":[[0,0,0,3],[29,0,29,6]]}
["Ministerio de Educación y Cultura\nDirección de Educación"]
[]
[]
[]
["Gráfico I-1.2.5"]
[]
[]
[]
[]
[]
[]
[]
[]
[]
[]
[]
[]
[]
[]
[]
[]
[]
[]
[]
[]
[]
[]
[]
[]
["Fuente: Elaboración propia en base a la ECH 2012 ."]

{"sheet":"G I-1.2.6","index":71,"n_rows":30,"n_cols":1,"rows_kept":30,"cut":false,"hidden":false,"merged":[[0,0,0,3],[29,0,29,4]]}
["Ministerio de Educación y Cultura\nDirección de Educación"]
[]
["Gráfico I-1.2.6"]
[]
[]
[]
[]
[]
[]
[]
[]
[]
[]
[]
[]
[]
[]
[]
[]
[]
[]
[]
[]
[]
[]
[]
[]
[]
[]
["Fuente: Elaboración propia en base a la ECH 2012."]

{"sheet":"G I-1.2.7","index":72,"n_rows":36,"n_cols":1,"rows_kept":36,"cut":false,"hidden":false,"merged":[[0,0,0,3],[35,0,35,5],[4,0,4,8]]}
["Ministerio de Educación y Cultura\nDirección de Educación"]
[]
[]
[]
["Gráfico I-1.2.7"]
[]
[]
[]
[]
[]
[]
[]
[]
[]
[]
[]
[]
[]
[]
[]
[]
[]
[]
[]
[]
[]
[]
[]
[]
[]
[]
[]
[]
[]
[]
["Fuentes: Departamentos de Estadística u oficinas productoras de información del CEIP, CES, CETP, UdelaR, DFPD, INAU, y restantes instituciones públicas y privadas de educación terciaria."]

{"sheet":"G I-1.2.8","index":73,"n_rows":33,"n_cols":10,"rows_kept":33,"cut":false,"hidden":false,"merged":[[0,0,0,3],[28,1,28,7],[29,1,29,7],[30,1,30,7]]}
["Ministerio de Educación y Cultura\nDirección de Educación"]
[]
[]
[]
["Gráfico I-1.2.8"]
[]
[]
[]
[]
[]
[]
[]
[]
[]
[]
[]
[]
[]
[]
[]
[]
[]
[]
[]
[]
[]
[]
[]
["Fuentes:","Departamentos de Estadística y oficinas productoras de información del CEIP, CES, CETP (UTU), UdelaR e Instituciones privadas de Educación Terciaria. Secretaría General EMAD. Gestión Educativa - Escuela Naval. Jefatura de Estudios - Escuela Nacional de Policía. Escuela Militar. Departamento de Bedelía - Escuela Militar de Aeronáutica. Instituto Militar de Estudios Superiores.",null,null,null,null,null,null,null,"          "]
["Notas:","Media Básica y Superior: no incluye Liceos Oficiales Nocturnos",null,null,null,null,null,null,null,"          "]
[null,"Formación en Educación: No se cuenta con información sobre la cantidad de hombres y mujeres en Consejo de Formación en Educación (CFE). Solo existe esta información para CENFORES y CIEP, que representan un porcentaje muy bajo del total de Formación en Educación. Por esta razón se excluyó la categoría Formación en Educación del presente gráfico",null,null,null,null,null,null,null,"          "]
[null,"Universitaria: excluye posgrado",null,null,null,null,null,null,null,"          "]
[null,null,null,null,null,null,null,null,null,"          "]

{"sheet":"G I-1.2.9","index":74,"n_rows":32,"n_cols":2,"rows_kept":32,"cut":false,"hidden":false,"merged":[[28,1,29,8],[0,0,0,3],[28,0,29,0]]}
["Ministerio de Educación y Cultura\nDirección de Educación"]
[]
[]
[]
["Gráfico I-1.2.8"]
["Gráfico I-1.2.9"]
[]
[]
[]
[]
[]
[]
[]
[]
[]
[]
[]
[]
[]
[]
[]
[]
[]
[]
[]
[]
[]
[]
["Fuentes:","Departamentos de Estadística y oficinas productoras de información del CEIP, CES, CETP (UTU), UdelaR e Instituciones privadas de Educación Terciaria. Secretaría General EMAD. Gestión Educativa - Escuela Naval. Jefatura de Estudios - Escuela Nacional de Policía. Escuela Militar. Departamento de Bedelía - Escuela Militar de Aeronáutica. Instituto Militar de Estudios Superiores."]
[]
[]
["Nota:","Universitaria: excluye posgrado"]

{"sheet":"G I-1.2.10 ","index":75,"n_rows":28,"n_cols":2,"rows_kept":28,"cut":false,"hidden":false,"merged":[[0,0,0,3],[25,1,25,7]]}
["Ministerio de Educación y Cultura\nDirección de Educación"]
[]
["Gráfico I-1.2.10"]
[]
[]
[]
[]
[]
[]
[]
[]
[]
[]
[]
[]
[]
[]
[]
[]
[]
[]
[]
[]
[]
[]
["Fuentes:","Departamentos de Estadística y oficinas productoras de información del CEIP, CES, CETP (UTU), UdelaR e Instituciones privadas de Educación Terciaria. Secretaría General EMAD. Gestión Educativa - Escuela Naval. Jefatura de Estudios - Escuela Nacional de Policía. Escuela Militar. Departamento de Bedelía - Escuela Militar de Aeronáutica. Instituto Militar de Estudios Superiores."]
[]
["Nota:","Universitaria: excluye posgrado"]

{"sheet":"G I-1.2.11","index":76,"n_rows":29,"n_cols":1,"rows_kept":29,"cut":false,"hidden":false,"merged":[[0,0,0,3],[40,0,40,6],[41,0,41,6],[37,0,37,6],[38,0,38,6],[39,0,39,6]]}
["Ministerio de Educación y Cultura\nDirección de Educación"]
[]
["Gráfico I-1.2.11"]
[]
[]
[]
[]
[]
[]
[]
[]
[]
[]
[]
[]
[]
[]
[]
[]
[]
[]
[]
[]
[]
[]
[]
[]
[]
["Fuente : Elaboración propia en base a ECH 2012."]

{"sheet":"G I-1.2.12","index":77,"n_rows":31,"n_cols":1,"rows_kept":31,"cut":false,"hidden":false,"merged":[[36,0,36,5],[37,0,37,5],[38,0,38,5],[0,0,0,3]]}
["Ministerio de Educación y Cultura\nDirección de Educación"]
[]
[]
[]
["Gráfico I-1.2.12"]
[]
[]
[]
[]
[]
[]
[]
[]
[]
[]
[]
[]
[]
[]
[]
[]
[]
[]
[]
[]
[]
[]
[]
[]
[]
["Fuente : Elaboración propia en base a la ECH 2012"]

{"sheet":"G I-1.2.13","index":78,"n_rows":29,"n_cols":1,"rows_kept":29,"cut":false,"hidden":false,"merged":[[0,0,0,3]]}
["Ministerio de Educación y Cultura\nDirección de Educación"]
[]
[]
[]
["Gráfico I-1.2.13"]
[]
[]
[]
[]
[]
[]
[]
[]
[]
[]
[]
[]
[]
[]
[]
[]
[]
[]
[]
[]
[]
[]
[]
["Fuente : Elaboración propia en base a la ECH  2012"]

{"sheet":"G I-1.2.14","index":79,"n_rows":28,"n_cols":1,"rows_kept":28,"cut":false,"hidden":false,"merged":[[0,0,0,3]]}
["Ministerio de Educación y Cultura\nDirección de Educación"]
[]
[]
[]
["Gráfico I-1.2.14"]
[]
[]
[]
[]
[]
[]
[]
[]
[]
[]
[]
[]
[]
[]
[]
[]
[]
[]
[]
[]
[]
[]
["Fuente: Elaboración propia en base a ECH 2012."]

{"sheet":"G I-1.2.15","index":80,"n_rows":35,"n_cols":1,"rows_kept":35,"cut":false,"hidden":false,"merged":[[0,0,0,3]]}
["Ministerio de Educación y Cultura\nDirección de Educación"]
[]
[]
[]
["Gráfico I-1.2.15"]
[]
[]
[]
[]
[]
[]
[]
[]
[]
[]
[]
[]
[]
[]
[]
[]
[]
[]
[]
[]
[]
[]
[]
[]
[]
[]
[]
[]
[]
["Fuente : Elaboración propia en base a la ECH  2012."]

{"sheet":"G I-1.2.16","index":81,"n_rows":33,"n_cols":1,"rows_kept":33,"cut":false,"hidden":false,"merged":[[0,0,0,3]]}
["Ministerio de Educación y Cultura\nDirección de Educación"]
[]
[]
[]
["Gráfico I-1.2.16"]
[]
[]
[]
[]
[]
[]
[]
[]
[]
[]
[]
[]
[]
[]
[]
[]
[]
[]
[]
[]
[]
[]
[]
[]
[]
[]
[]
["Fuente : Elaboración propia en base a la ECH  2012."]

{"sheet":"G I-1.2.17","index":82,"n_rows":26,"n_cols":1,"rows_kept":26,"cut":false,"hidden":false,"merged":[[0,0,0,3]]}
["Ministerio de Educación y Cultura\nDirección de Educación"]
[]
[]
[]
["Gráfico I-1.2.17"]
[]
[]
[]
[]
[]
[]
[]
[]
[]
[]
[]
[]
[]
[]
[]
[]
[]
[]
[]
[]
["Fuente : Elaboración propia en base a la ECH  2012"]

{"sheet":"G I-1.2.18","index":83,"n_rows":44,"n_cols":1,"rows_kept":44,"cut":false,"hidden":false,"merged":[[0,0,0,9],[1,0,2,9]]}
["Ministerio de Educación y Cultura\nDirección de Educación"]
[]
[]
[]
["Gráfico I-1.2.18"]
[]
[]
[]
[]
[]
[]
[]
[]
[]
[]
[]
[]
[]
[]
[]
[]
[]
[]
[]
[]
[]
[]
[]
[]
[]
[]
[]
[]
[]
[]
[]
[]
[]
[]
[]
[]
[]
[]
["Fuente: Elaboración propia en base a Encuesta Continua de Hogares 2012."]

{"sheet":"G I-1.2.19","index":84,"n_rows":30,"n_cols":1,"rows_kept":30,"cut":false,"hidden":false,"merged":[[0,0,0,3]]}
["Ministerio de Educación y Cultura\nDirección de Educación"]
[]
[]
[]
["Gráfico I-1.2.19"]
[]
[]
[]
[]
[]
[]
[]
[]
[]
[]
[]
[]
[]
[]
[]
[]
[]
[]
[]
[]
[]
[]
[]
[]
["Fuente: Elaboración propia en base a la ECH 2012."]

{"sheet":"G I-1.2.20","index":85,"n_rows":28,"n_cols":1,"rows_kept":28,"cut":false,"hidden":false,"merged":[[0,0,0,3],[4,0,4,4]]}
["Ministerio de Educación y Cultura\nDirección de Educación"]
[]
[]
[]
["Gráfico I-1.2.20"]
[]
[]
[]
[]
[]
[]
[]
[]
[]
[]
[]
[]
[]
[]
[]
[]
[]
[]
[]
[]
[]
[]
["Fuente: Elaboración propia en base a la ECH 2012."]

{"sheet":"G I-1.2.21","index":86,"n_rows":27,"n_cols":1,"rows_kept":27,"cut":false,"hidden":false,"merged":[[0,0,0,3]]}
["Ministerio de Educación y Cultura\nDirección de Educación"]
[]
["Gráfico I-1.2.21"]
[]
[]
[]
[]
[]
[]
[]
[]
[]
[]
[]
[]
[]
[]
[]
[]
[]
[]
[]
[]
[]
[]
[]
["Fuente: Elaboración propia en base a la ECH 2012."]

{"sheet":"G I-1.2.22","index":87,"n_rows":21,"n_cols":1,"rows_kept":21,"cut":false,"hidden":false,"merged":[[0,0,0,3]]}
["Ministerio de Educación y Cultura\nDirección de Educación"]
[]
["Gráfico I-1.2.22"]
[]
[]
[]
[]
[]
[]
[]
[]
[]
[]
[]
[]
[]
[]
[]
[]
[]
["Fuente: Elaboración propia en base a la ECH 2012."]

{"sheet":"O I-2.1.1","index":88,"n_rows":61,"n_cols":34,"rows_kept":61,"cut":false,"hidden":false,"merged":[[60,33,61,33],[45,33,48,33],[48,15,51,16],[48,20,49,21],[51,20,52,21],[54,20,55,21],[44,20,45,21],[57,6,60,8],[57,11,60,12],[57,15,60,21],[57,25,58,29],[20,1,58,3],[21,25,22,29],[22,11,25,12],[23,20,24,21],[35,15,36,21],[35,25,36,29],[38,20,39,21],[40,6,43,8],[41,20,42,21],[42,15,45,16],[44,11,49,12],[18,6,21,8],[18,20,19,21],[18,25,19,29],[25,33,26,33],[28,25,29,29],[29,11,32,12],[29,15,32,21],[32,33,33,33],[0,0,1,35],[3,0,3,35],[15,20,16,21],[15,25,16,26],[16,11,17,12],[5,0,5,35],[6,0,6,35],[10,25,10,29],[12,25,13,26],[12,28,13,29],[12,33,13,33]]}
["Ministerio de Educación y Cultura\nDirección de Educación"]
[]
[]
["Organigrama I-2.1.1"]
[]
["Organigrama I-2.1.1"]
["ESTRUCTURA ORGANIZACIONAL DEL SISTEMA NACIONAL DE EDUCACIÓN EN LA PRIMERA INFANCIA\nY EN EDUCACIÓN INICIAL - 2012"]
[]
[]
[]
[null,null,null,null,null,null,null,null,null,null,null,null,null,null,null,null,null,null,null,null,null,null,null,null,null,"EDUCACIÓN EN LA\nPRIMERA INFANCIA",null,null,null,null,null,null,null,"EDUCACIÓN INICIAL"]
[]
[null,null,null,null,null,null,null,null,null,null,null,null,null,null,null,null,null,null,null,null,null,null,null,null,null,"0 a 24 meses",null,null,"2 años",null,null,null,null,"3 a 5 años"]
[]
[]
[null,null,null,null,null,null,null,null,null,null,null,null,null,null,null,null,null,null,null,null,"Experiencias Oportunas",null,null,null,null,"Talleres"]
[null,null,null,null,null,null,null,null,null,null,null,"CAIF"]
[]
[null,null,null,null,null,null,"INAU",null,null,null,null,null,null,null,null,null,null,null,null,null,"Modalidad Diaria",null,null,null,null,"Diseño Básico Curricular\n(0 a 36 meses)"]
[]
[null,"EDUCACIÓN EN LA PRIMERA INFANCIA E INICIAL"]
[null,null,null,null,null,null,null,null,null,null,null,null,null,null,null,null,null,null,null,null,null,null,null,null,null,"Diseño Básico Curricular\n(0 a 36 meses)"]
[null,null,null,null,null,null,null,null,null,null,null,"Centros Diurnos"]
[null,null,null,null,null,null,null,null,null,null,null,null,null,null,null,null,null,null,null,null,"Modalidad Diaria"]
[]
[null,null,null,null,null,null,null,null,null,null,null,null,null,null,null,null,null,null,null,null,null,null,null,null,null,null,null,null,null,null,null,null,null,"Programa de Educación Inicial y Primaria"]
[]
[]
[null,null,null,null,null,null,null,null,null,null,null,null,null,null,null,null,null,null,null,null,null,null,null,null,null,"Diseño Básico Curricular\n(0 a 36 meses)"]
[null,null,null,null,null,null,null,null,null,null,null,"Centros Educativos Privados",null,null,null,"Colegios y Jardines de Infantes\nHabilitados o Autorizados"]
[]
[]
[null,null,null,null,null,null,null,null,null,null,null,null,null,null,null,null,null,null,null,null,null,null,null,null,null,null,null,null,null,null,null,null,null,"Programa de Educación Inicial y Primaria"]
[]
[]
[null,null,null,null,null,null,null,null,null,null,null,null,null,null,null,"Centros Educativos Primera Infancia\n(CEPI)",null,null,null,null,null,null,null,null,null,"Diseño Básico Curricular\n(0 a 36 meses)"]
[]
[]
[null,null,null,null,null,null,null,null,null,null,null,null,null,null,null,null,null,null,null,null,"Común"]
[]
[null,null,null,null,null,null,"ANEP\nCEIP"]
[null,null,null,null,null,null,null,null,null,null,null,null,null,null,null,null,null,null,null,null,"Tiempo extendido"]
[null,null,null,null,null,null,null,null,null,null,null,null,null,null,null,"Grupos de Educación Inicial en Escuelas\n(urbanas y rurales)"]
[]
[null,null,null,null,null,null,null,null,null,null,null,"Centros Educativos Públicos",null,null,null,null,null,null,null,null,"Tiempo completo"]
[null,null,null,null,null,null,null,null,null,null,null,null,null,null,null,null,null,null,null,null,null,null,null,null,null,null,null,null,null,null,null,null,null,"Programa de Educación Inicial y Primaria"]
[]
[]
[null,null,null,null,null,null,null,null,null,null,null,null,null,null,null,"Grupos de Educación Inicial en Jardines de Infantes",null,null,null,null,"APRENDER"]
[]
[]
[null,null,null,null,null,null,null,null,null,null,null,null,null,null,null,null,null,null,null,null,"JICI"]
[]
[]
[null,null,null,null,null,null,null,null,null,null,null,null,null,null,null,null,null,null,null,null,"Práctica o Hab. de Prác."]
[]
[]
[null,null,null,null,null,null,"MEC\nDir. de Educación",null,null,null,null,"Primera Infancia",null,null,null,"Centros de Educación Infantil\nPrivados",null,null,null,null,null,null,null,null,null,"Diseño Básico Curricular\n(0 a 36 meses)"]
[]
[]
[null,null,null,null,null,null,null,null,null,null,null,null,null,null,null,null,null,null,null,null,null,null,null,null,null,null,null,null,null,null,null,null,null,"Programa de Educación Inicial y Primaria"]

{"sheet":"G I-2.1.1","index":89,"n_rows":29,"n_cols":1,"rows_kept":29,"cut":false,"hidden":false,"merged":[[0,0,0,3],[27,0,27,5],[34,0,34,6],[35,0,35,6],[28,0,28,5]]}
["Ministerio de Educación y Cultura\nDirección de Educación"]
[]
[]
[]
["Gráfico I-2.1.1"]
[]
[]
[]
[]
[]
[]
[]
[]
[]
[]
[]
[]
[]
[]
[]
[]
[]
[]
[]
[]
[]
[]
[]
["Fuente: Elaboración propia en base en datos del Departamento de Estadística del CEIP, Sistema de Información para la Infancia de INAU y Área de Primera Infancia del MEC."]

{"sheet":"G I-2.1.2","index":90,"n_rows":35,"n_cols":1,"rows_kept":35,"cut":false,"hidden":false,"merged":[[27,0,27,5],[0,0,0,3],[34,0,34,6],[35,0,35,6]]}
["Ministerio de Educación y Cultura\nDirección de Educación"]
[]
[]
[]
["Gráfico I-2.1.2"]
[]
[]
[]
[]
[]
[]
[]
[]
[]
[]
[]
[]
[]
[]
[]
[]
[]
[]
[]
[]
[]
[]
[]
[]
[]
[]
[]
[]
[]
["Fuente: Elaboración propia en base a datos del Departamento de Estadística del CEIP, Sistema de Información para la Infancia de INAU y Área de Primera Infancia del MEC."]

{"sheet":"G I-2.1.3","index":91,"n_rows":29,"n_cols":1,"rows_kept":29,"cut":false,"hidden":false,"merged":[[0,0,0,3],[28,0,28,6],[29,0,29,6]]}
["Ministerio de Educación y Cultura\nDirección de Educación"]
[]
[]
[]
["Gráfico I-2.1.3"]
[]
[]
[]
[]
[]
[]
[]
[]
[]
[]
[]
[]
[]
[]
[]
[]
[]
[]
[]
[]
[]
[]
[]
["Fuente: Elaboración propia en base a datos del Departamento de Estadística del CEIP, Sistema de Información para la Infancia de INAU y Área de Primera Infancia del MEC."]

{"sheet":"G I-2.1.4","index":92,"n_rows":29,"n_cols":1,"rows_kept":29,"cut":false,"hidden":false,"merged":[[0,0,0,3]]}
["Ministerio de Educación y Cultura\nDirección de Educación"]
[]
[]
["Gráfico I-2.1.4"]
[]
[]
[]
[]
[]
[]
[]
[]
[]
[]
[]
[]
[]
[]
[]
[]
[]
[]
[]
[]
[]
[]
[]
[]
["Fuente: Elaboración propia en base a información del Departamento de Estadística del CEIP."]

{"sheet":"G I-2.1.5","index":93,"n_rows":29,"n_cols":7,"rows_kept":29,"cut":false,"hidden":false,"merged":[[0,0,0,3]]}
["Ministerio de Educación y Cultura\nDirección de Educación"]
[]
["Gráfico I-2.1.5"]
[]
[]
[]
[]
[]
[]
[]
[]
[]
[]
[]
[]
[null,null,null,null,null,null," "]
[]
[]
[]
[]
[]
[]
[]
[]
[]
[]
[]
[]
["Fuente: Elaboración propia en base a información del Departamento de Estadística del CEIP."]

{"sheet":"G I-2.2.1","index":94,"n_rows":41,"n_cols":2,"rows_kept":41,"cut":false,"hidden":false,"merged":[[0,0,0,3],[39,1,39,9],[40,1,40,9],[2,0,2,9],[0,4,0,7],[0,8,0,9]]}
["Ministerio de Educación y Cultura\nDirección de Educación"]
[]
["Gráfico I-2.2.1"]
[]
[]
[]
[]
[]
[]
[]
[]
[]
[]
[]
[]
[]
[]
[]
[]
[]
[]
[]
[]
[]
[]
[]
[]
[]
[]
[]
[]
[]
[]
[]
[]
[]
[]
[]
[]
["Fuente:","Elaboración propia en base a datos del Departamento de Estadística del CEIP."]
["Nota:","Educación primaria común incluye la matrícula de educación en Jardines de Infantes con Ciclo Inicial (JICI)."]

{"sheet":"G I-2.2.2","index":95,"n_rows":29,"n_cols":1,"rows_kept":29,"cut":false,"hidden":false,"merged":[[0,0,0,3],[28,0,28,4]]}
["Ministerio de Educación y Cultura\nDirección de Educación"]
[]
[]
[]
[]
["Gráfico I-2.2.2"]
[]
[]
[]
[]
[]
[]
[]
[]
[]
[]
[]
[]
[]
[]
[]
[]
[]
[]
[]
[]
[]
[]
["Fuente: Elaboración propia en base a datos proporcionados por el Departamento de Estadística del CEIP."]

{"sheet":"G I-2.2.3","index":96,"n_rows":30,"n_cols":1,"rows_kept":30,"cut":false,"hidden":false,"merged":[[29,0,29,1],[0,0,0,2]]}
["Ministerio de Educación y Cultura\nDirección de Educación"]
[]
[]
[]
["Gráfico I-2.2.3"]
[]
[]
[]
[]
[]
[]
[]
[]
[]
[]
[]
[]
[]
[]
[]
[]
[]
[]
[]
[]
[]
[]
[]
[]
["Fuente: Monitor Educativo de Enseñanza Primaria ANEP."]

{"sheet":"G I-2.2.4","index":97,"n_rows":28,"n_cols":1,"rows_kept":28,"cut":false,"hidden":false,"merged":[[0,0,0,3]]}
["Ministerio de Educación y Cultura\nDirección de Educación"]
[]
[]
[]
["Gráfico I-2.2.4"]
[]
[]
[]
[]
[]
[]
[]
[]
[]
[]
[]
[]
[]
[]
[]
[]
[]
[]
[]
[]
[]
[]
["Fuente: Monitor Educativo de Enseñanza Primaria. ANEP"]

{"sheet":"G I-2.3.1","index":98,"n_rows":34,"n_cols":1,"rows_kept":34,"cut":false,"hidden":false,"merged":[[0,0,0,3],[32,0,32,6],[33,0,33,6]]}
["Ministerio de Educación y Cultura\nDirección de Educación"]
[]
[]
[]
["Gráfico I-2.3.1"]
[]
[]
[]
[]
[]
[]
[]
[]
[]
[]
[]
[]
[]
[]
[]
[]
[]
[]
[]
[]
[]
[]
[]
[]
[]
[]
[]
["Fuente: Departamentos de Estadísticas del CEIP, CES y CETP."]
["Nota:Incluye Ciclo Básico Rural, Media General y Media Técnico-profesional."]

{"sheet":"G I-2.3.2","index":99,"n_rows":31,"n_cols":1,"rows_kept":31,"cut":false,"hidden":false,"merged":[[0,0,0,3]]}
["Ministerio de Educación y Cultura\nDirección de Educación"]
[]
[]
[]
["Gráfico I-2.3.2"]
[]
[]
[]
[]
[]
[]
[]
[]
[]
[]
[]
[]
[]
[]
[]
[]
[]
[]
[]
[]
[]
[]
[]
[]
["Fuente: Departamentos de Estadísticas del CEIP, CES y CETP"]
["Nota: Incluye Ciclo Básico Rural, Media General (pública y privada) y Media Técnica."]

{"sheet":"G I-2.3.3","index":100,"n_rows":31,"n_cols":1,"rows_kept":31,"cut":false,"hidden":false,"merged":[[0,0,0,3]]}
["Ministerio de Educación y Cultura\nDirección de Educación"]
[]
[]
[]
["Gráfico I-2.3.3"]
[]
[]
[]
[]
[]
[]
[]
[]
[]
[]
[]
[]
[]
[]
[]
[]
[]
[]
[]
[]
[]
[]
[]
[]
[]
["Fuente: Departamentos de Estadísticas del CEIP, CES y CETP"]

{"sheet":"G I-2.3.4","index":101,"n_rows":28,"n_cols":1,"rows_kept":28,"cut":false,"hidden":false,"merged":[[27,0,28,5],[0,0,0,3]]}
["Ministerio de Educación y Cultura\nDirección de Educación"]
[]
[]
[]
["Gráfico I-2.3.4"]
[]
[]
[]
[]
[]
[]
[]
[]
[]
[]
[]
[]
[]
[]
[]
[]
[]
[]
[]
[]
[]
[]
["Fuente: Departamentos de Estadísticas del CEIP, CES y CETP."]

{"sheet":"G I-2.3.5","index":102,"n_rows":29,"n_cols":1,"rows_kept":29,"cut":false,"hidden":false,"merged":[[0,0,0,3],[27,0,27,4],[28,0,28,4]]}
["Ministerio de Educación y Cultura\nDirección de Educación"]
[]
[]
[]
["Gráfico I-2.3.5"]
[]
[]
[]
[]
[]
[]
[]
[]
[]
[]
[]
[]
[]
[]
[]
[]
[]
[]
[]
[]
[]
[]
["Fuente: Departamentos de Estadística del CEIP, CES y del CETP."]
["Nota:Media Básica General incluye Ciclo Básico Rural."]

{"sheet":"G I-2.3.6","index":103,"n_rows":34,"n_cols":1,"rows_kept":34,"cut":false,"hidden":false,"merged":[[0,0,0,3],[33,0,33,6],[34,0,34,6]]}
["Ministerio de Educación y Cultura\nDirección de Educación"]
[]
[]
[]
["Gráfico I-2.3.6"]
[]
[]
[]
[]
[]
[]
[]
[]
[]
[]
[]
[]
[]
[]
[]
[]
[]
[]
[]
[]
[]
[]
[]
[]
[]
[]
[]
[]
["Fuente:Departamento de Estadística del CES."]

{"sheet":"GI-2.3.7","index":104,"n_rows":30,"n_cols":1,"rows_kept":30,"cut":false,"hidden":false,"merged":[[29,0,29,5],[30,0,30,5],[0,0,0,3]]}
["Ministerio de Educación y Cultura\nDirección de Educación"]
[]
[]
[]
["Gráfico I-2.3.7"]
[]
[]
[]
[]
[]
[]
[]
[]
[]
[]
[]
[]
[]
[]
[]
[]
[]
[]
[]
[]
[]
[]
[]
[]
["Fuente: Departamento de Estadística del CES."]

{"sheet":"GI-2.3.8","index":105,"n_rows":29,"n_cols":1,"rows_kept":29,"cut":false,"hidden":false,"merged":[[0,0,0,3]]}
["Ministerio de Educación y Cultura\nDirección de Educación"]
[]
[]
[]
["Gráfico I-2.3.8"]
[]
[]
[]
[]
[]
[]
[]
[]
[]
[]
[]
[]
[]
[]
[]
[]
[]
[]
[]
[]
[]
[]
[]
["Fuente: Departamento de Estadística del CES."]

{"sheet":"GI-2.3.9","index":106,"n_rows":30,"n_cols":1,"rows_kept":30,"cut":false,"hidden":false,"merged":[[0,0,0,3]]}
["Ministerio de Educación y Cultura\nDirección de Educación"]
[]
[]
[]
["Gráfico I-2.3.9"]
[]
[]
[]
[]
[]
[]
[]
[]
[]
[]
[]
[]
[]
[]
[]
[]
[]
[]
[]
[]
[]
[]
[]
[]
["Fuente: Departamento de Estadística del CES."]

{"sheet":"G I-2.3.10","index":107,"n_rows":34,"n_cols":1,"rows_kept":34,"cut":false,"hidden":false,"merged":[[0,0,0,3]]}
["Ministerio de Educación y Cultura\nDirección de Educación"]
[]
[]
[]
["Gráfico I-2.3.10"]
[]
[]
[]
[]
[]
[]
[]
[]
[]
[]
[]
[]
[]
[]
[]
[]
[]
[]
[]
[]
[]
[]
[]
[]
[]
[]
[]
[]
["Fuente: Departamentos de Estadística del CES y del CETP."]

{"sheet":"G I-2.3.11","index":108,"n_rows":39,"n_cols":1,"rows_kept":39,"cut":false,"hidden":false,"merged":[[39,0,39,5],[0,0,0,3]]}
["Ministerio de Educación y Cultura\nDirección de Educación"]
[]
["Gráfico I-2.3.11"]
[]
[]
[]
[]
[]
[]
[]
[]
[]
[]
[]
[]
[]
[]
[]
[]
[]
[]
[]
[]
[]
[]
[]
[]
[]
[]
[]
[]
[]
[]
[]
[]
[]
[]
[]
["Fuente: Departamento de Estadística del CES."]

{"sheet":"GI-2.3.12","index":109,"n_rows":30,"n_cols":1,"rows_kept":30,"cut":false,"hidden":false,"merged":[[0,0,0,3]]}
["Ministerio de Educación y Cultura\nDirección de Educación"]
[]
[]
[]
["Gráfico I-2.3.12"]
[]
[]
[]
[]
[]
[]
[]
[]
[]
[]
[]
[]
[]
[]
[]
[]
[]
[]
[]
[]
[]
[]
[]
[]
["Fuente:Elaboración propia en base a información del Departamento de Estadística del CETP."]

{"sheet":"GI-2.3.13","index":110,"n_rows":25,"n_cols":1,"rows_kept":25,"cut":false,"hidden":false,"merged":[[0,0,0,3]]}
["Ministerio de Educación y Cultura\nDirección de Educación"]
[]
[]
[]
["Gráfico I-2.3.13"]
[]
[]
[]
[]
[]
[]
[]
[]
[]
[]
[]
[]
[]
[]
[]
[]
[]
[]
[]
["Fuente:Elaboración propia en base a información del Departamento de Estadística del CES."]

{"sheet":"GI-2.3.14","index":111,"n_rows":31,"n_cols":1,"rows_kept":31,"cut":false,"hidden":false,"merged":[[0,0,0,3]]}
["Ministerio de Educación y Cultura\nDirección de Educación"]
[]
[]
[]
["Gráfico I-2.3.14"]
[]
[]
[]
[]
[]
[]
[]
[]
[]
[]
[]
[]
[]
[]
[]
[]
[]
[]
[]
[]
[]
[]
[]
[]
[]
["Fuente: Elaboración propia en base a información del Monitor Educativo del CES."]

{"sheet":"GI-2.3.15","index":112,"n_rows":33,"n_cols":1,"rows_kept":33,"cut":false,"hidden":false,"merged":[[0,0,0,3],[4,0,4,5],[32,0,32,5],[31,0,31,5]]}
["Ministerio de Educación y Cultura\nDirección de Educación"]
[]
[]
[]
["Gráfico I-2.3.15"]
[]
[]
[]
[]
[]
[]
[]
[]
[]
[]
[]
[]
[]
[]
[]
[]
[]
[]
[]
[]
[]
[]
[]
[]
["Fuente: Elaboración propia en base a información del Monitor Educativo del CES."]
["Nota: No Promoción comprende las categorías No Promoción y Desvinculado (fallo ANEP: \"No Reinscripto\") de Monitor Educativo correspondientes a segundo y tercer año de Bachillerato."]
["Por No Promoción se entiende: Alumnos con más de tres materias pendientes de aprobación."]
["Por No Reinscripto se entiende: Alumnos con más de tres materias pendientes de aprobación y que no registran inscripción en el CES al año siguiente."]

{"sheet":"GI-2.3.16","index":113,"n_rows":31,"n_cols":1,"rows_kept":31,"cut":false,"hidden":false,"merged":[[0,0,0,3]]}
["Ministerio de Educación y Cultura\nDirección de Educación"]
[]
[]
[]
["Gráfico I-2.3.16"]
[]
[]
[]
[]
[]
[]
[]
[]
[]
[]
[]
[]
[]
[]
[]
[]
[]
[]
[]
[]
[]
[]
[]
[]
[]
["Fuente: Elaboración propia en base a información del Monitor Educativo del CES."]

{"sheet":"GI-2.3.17","index":114,"n_rows":31,"n_cols":1,"rows_kept":31,"cut":false,"hidden":false,"merged":[[0,0,0,3]]}
["Ministerio de Educación y Cultura\nDirección de Educación"]
[]
[]
[]
["Gráfico I-2.3.17"]
[]
[]
[]
[]
[]
[]
[]
[]
[]
[]
[]
[]
[]
[]
[]
[]
[]
[]
[]
[]
[]
[]
[]
[]
[]
["Fuente: Elaboración propia en base a información del Monitor Educativo del CES."]

{"sheet":"G I-2.4.1.","index":115,"n_rows":32,"n_cols":1,"rows_kept":32,"cut":false,"hidden":false,"merged":[[0,0,0,3]]}
["Ministerio de Educación y Cultura\nDirección de Educación"]
[]
[]
[]
["Gráfico I-2.4.1"]
[]
[]
[]
[]
[]
[]
[]
[]
[]
[]
[]
[]
[]
[]
[]
[]
[]
[]
[]
[]
[]
[]
[]
[]
[]
[]
["Fuente: Elaboración propia en base a información del Departamento de Estadística del CETP. "]

{"sheet":"G I-.2.5.1","index":116,"n_rows":28,"n_cols":2,"rows_kept":28,"cut":false,"hidden":false,"merged":[[0,0,0,3],[26,1,27,6],[28,1,28,10],[30,1,32,10]]}
["Ministerio de Educación y Cultura\nDirección de Educación"]
[]
[]
[]
["Gráfico I-2.5.1"]
[]
[]
[]
[]
[]
[]
[]
[]
[]
[]
[]
[]
[]
[]
[]
[]
[]
[]
[]
[]
[]
[null,"Elaboración propia en base a información del Departamento de Estadística del CETP"]
["Fuente:"]

{"sheet":"G I-.2.5.2","index":117,"n_rows":29,"n_cols":2,"rows_kept":29,"cut":false,"hidden":false,"merged":[[26,1,27,6],[0,0,0,3],[30,1,32,9],[28,1,29,9]]}
["Ministerio de Educación y Cultura\nDirección de Educación"]
[]
[]
[]
["Gráfico I-2.5.2"]
[]
[]
[]
[]
[]
[]
[]
[]
[]
[]
[]
[]
[]
[]
[]
[]
[]
[]
[]
[]
[]
[null,"Elaboración propia en base a información del Departamento de Estadística del CETP"]
["Fuente:"]
["Notas:","No incluye las ofertas del Consejo de Formación en Educación (CFE) de ANEP ni Seguridad y Defensa, que se presentan aparte más adelante."]

{"sheet":"G I-2.5.3","index":118,"n_rows":30,"n_cols":2,"rows_kept":30,"cut":false,"hidden":false,"merged":[[0,0,0,3],[29,1,29,5]]}
["Ministerio de Educación y Cultura\nDirección de Educación"]
[]
[]
[]
["Gráfico I-2.5.3"]
[]
[]
[]
[]
[]
[]
[]
[]
[]
[]
[]
[]
[]
[]
[]
[]
[]
[]
[]
[]
[]
[]
[]
[]
["Fuente:","Elaboración propia en base a información proporcionada por las oficinas productoras de estadísticas de cada una de las instituciones."]

{"sheet":"G-.2.5.4","index":119,"n_rows":28,"n_cols":2,"rows_kept":28,"cut":false,"hidden":false,"merged":[[0,0,0,3],[26,1,26,5]]}
["Ministerio de Educación y Cultura\nDirección de Educación"]
[]
[]
[]
["Gráfico I-2.5.4"]
[]
[]
[]
[]
[]
[]
[]
[]
[]
[]
[]
[]
[]
[]
[]
[]
[]
[]
[]
[]
[]
["Fuente:","Elaboración propia en base a información proporcionada por las oficinas productoras de estadísticas de cada una de las instituciones."]
["Nota:","En esta serie no se toman en cuenta las matrículas de los cursos OMI de la Escuela Naval."]

{"sheet":"G I-2.5.5","index":120,"n_rows":28,"n_cols":1,"rows_kept":28,"cut":false,"hidden":false,"merged":[[0,0,0,3],[27,0,27,7]]}
["Ministerio de Educación y Cultura\nDirección de Educación"]
[]
[]
[]
["Gráfico I-2.5.5"]
[]
[]
[]
[]
[]
[]
[]
[]
[]
[]
[]
[]
[]
[]
[]
[]
[]
[]
[]
[]
[]
[]
["Fuente: Elaboración propia en base a información proporcionada por las oficinas productoras de estadísticas de cada una de las instituciones."]

{"sheet":"GI-.2.6.1","index":121,"n_rows":36,"n_cols":1,"rows_kept":36,"cut":false,"hidden":false,"merged":[[35,0,35,3]]}
["Ministerio de Educación y Cultura Dirección de Educación"]
[]
[]
[]
["Gráfico I-2.6.1"]
[]
[]
[]
[]
[]
[]
[]
[]
[]
[]
[]
[]
[]
[]
[]
[]
[]
[]
[]
[]
[]
[]
[]
[]
[]
[]
[]
[]
[]
[]
["Fuente: Dirección de Formación y Perfeccionamiento Docente."]

{"sheet":"GI-.2.6.2.","index":122,"n_rows":33,"n_cols":1,"rows_kept":33,"cut":false,"hidden":false,"merged":[[0,0,0,3]]}
["Ministerio de Educación y Cultura\nDirección de Educación"]
[]
[]
[]
["Gráfico I-2.6.2."]
["Gráfico I-2.5.3."]
[]
[]
[]
[]
[]
[]
[]
[]
[]
[]
[]
[]
[]
[]
[]
[]
[]
[]
[]
[]
[]
[]
[]
[]
[]
[]
["Fuente: Dirección de Formación y Perfeccionamiento Docente."]

{"sheet":"GI-.2.6.3.","index":123,"n_rows":36,"n_cols":1,"rows_kept":36,"cut":false,"hidden":false,"merged":[[0,0,0,3]]}
["Ministerio de Educación y Cultura\nDirección de Educación"]
[]
[]
[]
["Gráfico I-2.6.3"]
[]
[]
[]
[]
[]
[]
[]
[]
[]
[]
[]
[]
[]
[]
[]
[]
[]
[]
[]
[]
[]
[]
[]
[]
[]
[]
[]
[]
[]
[]
["Fuente: Dirección de Formación y Perfeccionamiento Docente."]

{"sheet":"G I-2.7.1.","index":124,"n_rows":29,"n_cols":2,"rows_kept":29,"cut":false,"hidden":false,"merged":[[0,0,0,3],[28,1,28,7]]}
["Ministerio de Educación y Cultura\nDirección de Educación"]
[]
[]
[]
["Gráfico I-2.7.1"]
[]
[]
[]
[]
[]
[]
[]
[]
[]
[]
[]
[]
[]
[]
[]
[]
[]
[]
[]
[]
[]
[]
[]
["Fuente:","Elaboración propia en base a información proporcionada por las oficinas productoras de estadísticas de cada una de las instituciones."]

{"sheet":"G I-2.7.2","index":125,"n_rows":37,"n_cols":1,"rows_kept":37,"cut":false,"hidden":false,"merged":[[36,0,36,7],[0,0,0,3],[35,0,35,6]]}
["Ministerio de Educación y Cultura\nDirección de Educación"]
[]
[]
[]
[]
["Gráfico I-2.7.2"]
[]
[]
[]
[]
[]
[]
[]
[]
[]
[]
[]
[]
[]
[]
[]
[]
[]
[]
[]
[]
[]
[]
[]
[]
[]
[]
[]
[]
[]
["Fuente: Elaboración propia en base información de las oficinas productoras de las instituciones."]
["Nota: Los ingresos  a cursos de grado para UdelaR correspondientes al período 2000-2011 son extraídos de Estadísticas Básicas 2011 - Dirección General de Planeamiento -UdelaR."]

{"sheet":"G I-2.7.3","index":126,"n_rows":36,"n_cols":1,"rows_kept":36,"cut":false,"hidden":false,"merged":[[0,0,0,3],[35,0,35,7],[37,1,37,6]]}
["Ministerio de Educación y Cultura\nDirección de Educación"]
[]
[]
[]
[]
["Gráfico I-2.7.3"]
[]
[]
[]
[]
[]
[]
[]
[]
[]
[]
[]
[]
[]
[]
[]
[]
[]
[]
[]
[]
[]
[]
[]
[]
[]
[]
[]
[]
[]
["Fuente: Elaboración propia en base a información proporcionada por la UdelaR y las oficinas productoras de estadísticas educativas de los Institutos Universitarios y de las Universidades Privadas."]

{"sheet":"G I-2.7.4","index":127,"n_rows":31,"n_cols":2,"rows_kept":31,"cut":false,"hidden":false,"merged":[[0,0,0,3],[29,1,29,7],[30,1,30,7]]}
["Ministerio de Educación y Cultura\nDirección de Educación"]
[]
[]
[]
["Gráfico I-2.7.4"]
[]
[]
[]
[]
[]
[]
[]
[]
[]
[]
[]
[]
[]
[]
[]
[]
[]
[]
[]
[]
[]
[]
[]
[]
["Fuente:","Elaboración propia en base a información proporcionada por UdelaR."]
["Nota:","Los ingresos y egresos a cursos de grado para UdelaR correspondientes al período 2000-2011 son extraídos de Estadísticas Básicas 2011 - Dirección General de Planeamiento –UdelaR."]

{"sheet":"G I-2.7.5","index":128,"n_rows":33,"n_cols":2,"rows_kept":33,"cut":false,"hidden":false,"merged":[[32,1,33,8],[0,0,0,3]]}
["Ministerio de Educación y Cultura\nDirección de Educación"]
[]
[]
[]
["Gráfico I-2.7.5"]
[]
[]
[]
[]
[]
[]
[]
[]
[]
[]
[]
[]
[]
[]
[]
[]
[]
[]
[]
[]
[]
[]
[]
[]
[]
[]
[]
["Fuente:","Elaboración propia en base a información proporcionada por la UdelaR y las oficinas productoras de estadísticas educativas de los Institutos Universitarios y de las Universidades Privadas."]

{"sheet":"G I-2.7.6","index":129,"n_rows":28,"n_cols":1,"rows_kept":28,"cut":false,"hidden":false,"merged":[[28,1,28,11],[0,0,0,3]]}
["Ministerio de Educación y Cultura\nDirección de Educación"]
[]
[]
[]
["Gráfico I-2.7.6"]
[]
[]
[]
[]
[]
[]
[]
[]
[]
[]
[]
[]
[]
[]
[]
[]
[]
[]
[]
[]
[]
[]
["Fuente: Elaboración propia en base a información reportada por las oficinas productoras de estadísticas  de las instituciones."]

{"sheet":"G I-2.7.7","index":130,"n_rows":27,"n_cols":1,"rows_kept":27,"cut":false,"hidden":false,"merged":[[29,0,29,6],[27,1,27,2],[0,0,0,3]]}
["Ministerio de Educación y Cultura\nDirección de Educación"]
[]
[]
[]
["Gráfico I-2.7.7"]
[]
[]
[]
[]
[]
[]
[]
[]
[]
[]
[]
[]
[]
[]
[]
[]
[]
[]
[]
[]
[]
["Fuente: Elaboración propia en base a información reportada por las oficinas productoras de estadísticas  de las instituciones."]

{"sheet":"G I-2.7.8","index":131,"n_rows":26,"n_cols":1,"rows_kept":26,"cut":false,"hidden":false,"merged":[[0,0,0,3],[25,0,25,7]]}
["Ministerio de Educación y Cultura\nDirección de Educación"]
[]
[]
[]
["Gráfico I-2.7.8"]
[]
[]
[]
[]
[]
[]
[]
[]
[]
[]
[]
[]
[]
[]
[]
[]
[]
[]
[]
[]
["Fuente: Elaboración propia en base a información proporcionada por las oficinas productoras de estadísticas educativas de los Institutos Universitarios y de las Universidades Privadas."]

{"sheet":"G I-2.9.1","index":132,"n_rows":30,"n_cols":1,"rows_kept":30,"cut":false,"hidden":false,"merged":[[0,0,2,10]]}
["Ministerio de Educación y Cultura\nDirección de Educación                                                                                                                                                                                                                                                                                                             Área de Investigación y Estadística"]
[]
[]
[]
["Gráfico I-2.9.1."]
[]
[]
[]
[]
[]
[]
[]
[]
[]
[]
[]
[]
[]
[]
[]
[]
[]
[]
[]
[]
[]
[]
[]
[]
["Fuente: Departamento de Estadística -UTU"]

{"sheet":"G I-3.1.1","index":133,"n_rows":36,"n_cols":1,"rows_kept":36,"cut":false,"hidden":false,"merged":[[0,0,0,3]]}
["Ministerio de Educación y Cultura\nDirección de Educación"]
[]
[]
[]
["Gráfico I-3.1.1"]
[]
[]
[]
[]
[]
[]
[]
[]
[]
[]
[]
[]
[]
[]
[]
[]
[]
[]
[]
[]
[]
[]
[]
[]
[]
[]
[]
[]
[]
["Fuente: Área de Becas de la Dirección de Educación del Ministerio de Educación y Cultura y Fondo de Solidaridad."]
["Nota: El programa Uruguay Estudia incluye 600 becas otorgadas en Magisterio y Profesorado"]

{"sheet":"G I-3.1.2","index":134,"n_rows":30,"n_cols":1,"rows_kept":30,"cut":false,"hidden":false,"merged":[[0,0,0,3],[29,0,29,4]]}
["Ministerio de Educación y Cultura\nDirección de Educación"]
[]
[]
["Gráfico I-3.1.2"]
[]
[]
[]
[]
[]
[]
[]
[]
[]
[]
[]
[]
[]
[]
[]
[]
[]
[]
[]
[]
[]
[]
[]
[]
[]
["Fuente: Procesamiento propio con base en la ECH 2012 del INE."]

{"sheet":"G.I-3.1.3","index":135,"n_rows":27,"n_cols":1,"rows_kept":27,"cut":false,"hidden":false,"merged":[[0,0,0,3],[26,0,26,4]]}
["Ministerio de Educación y Cultura\nDirección de Educación"]
[]
[]
[]
["Gráfico I-3.1.3"]
[]
[]
[]
[]
[]
[]
[]
[]
[]
[]
[]
[]
[]
[]
[]
[]
[]
[]
[]
[]
[]
["Fuente: Procesamiento propio con base en la ECH 2012 del INE."]

{"sheet":"G I-3.2.1 ","index":136,"n_rows":30,"n_cols":1,"rows_kept":30,"cut":false,"hidden":false,"merged":[[0,0,0,3]]}
["Ministerio de Educación y Cultura\nDirección de Educación"]
[]
[]
[]
["Gráfico I-3.2.1"]
[]
[]
[]
[]
[]
[]
[]
[]
[]
[]
[]
[]
[]
[]
[]
[]
[]
[]
[]
[]
[]
[]
[]
[]
["Fuente:  Elaboración propia con base en datos de los Censos 2011, del INE."]

{"sheet":"G I-3.2.2","index":137,"n_rows":30,"n_cols":1,"rows_kept":30,"cut":false,"hidden":false,"merged":[[0,0,0,3],[29,0,29,4]]}
["Ministerio de Educación y Cultura\nDirección de Educación"]
[]
[]
[]
["Gráfico I-3.2.2"]
[]
[]
[]
[]
[]
[]
[]
[]
[]
[]
[]
[]
[]
[]
[]
[]
[]
[]
[]
[]
[]
[]
[]
[]
["Fuente:  Elaboración propia con base en datos de los Censos 2011, del INE."]

{"sheet":"G I-3.2.3","index":138,"n_rows":29,"n_cols":1,"rows_kept":29,"cut":false,"hidden":false,"merged":[[0,0,0,3],[28,0,28,4]]}
["Ministerio de Educación y Cultura\nDirección de Educación"]
[]
[]
[]
["Gráfico I-3.2.3"]
[]
[]
[]
[]
[]
[]
[]
[]
[]
[]
[]
[]
[]
[]
[]
[]
[]
[]
[]
[]
[]
[]
[]
["Fuente:  Elaboración propia con base en datos de los Censos 2011, del INE."]

{"sheet":"G I-3.2.4","index":139,"n_rows":29,"n_cols":1,"rows_kept":29,"cut":false,"hidden":false,"merged":[[0,0,0,3],[28,0,28,4]]}
["Ministerio de Educación y Cultura\nDirección de Educación"]
[]
[]
[]
["Gráfico I-3.2.4"]
[]
[]
[]
[]
[]
[]
[]
[]
[]
[]
[]
[]
[]
[]
[]
[]
[]
[]
[]
[]
[]
[]
[]
["Fuente:  Elaboración propia con base en datos de los Censos 2011, del INE."]

{"sheet":"G I-3.2.5","index":140,"n_rows":28,"n_cols":1,"rows_kept":28,"cut":false,"hidden":false,"merged":[[0,0,0,3],[27,0,28,4]]}
["Ministerio de Educación y Cultura\nDirección de Educación"]
[]
[]
[]
["Gráfico I-3.2.5"]
[]
[]
[]
[]
[]
[]
[]
[]
[]
[]
[]
[]
[]
[]
[]
[]
[]
[]
[]
[]
[]
[]
["Fuente:  Elaboración propia con base en datos de los Censos 2011, del INE."]

{"sheet":"G I-3.3.1","index":141,"n_rows":33,"n_cols":1,"rows_kept":33,"cut":false,"hidden":false,"merged":[[29,0,30,3],[0,0,0,3]]}
["Ministerio de Educación y Cultura\nDirección de Educación"]
[]
[]
[]
["Gráfico I-3.3.1"]
[]
[]
[]
[]
[]
[]
[]
[]
[]
[]
[]
[]
[]
[]
[]
[]
[]
[]
[]
[]
[]
[]
[]
[]
[]
[]
["Fuente: Banco Central del Uruguay (2005 – 2012)."]
["Nota: Última actualización del Banco Central al 26 de agosto de 2013."]

{"sheet":"G I-3.3.2","index":142,"n_rows":34,"n_cols":1,"rows_kept":34,"cut":false,"hidden":false,"merged":[[0,0,0,3]]}
["Ministerio de Educación y Cultura\nDirección de Educación"]
[]
[]
[]
["Gráfico I-3.3.2"]
[]
[]
[]
[]
[]
[]
[]
[]
[]
[]
[]
[]
[]
[]
[]
[]
[]
[]
[]
[]
[]
[]
[]
[]
[]
[]
[]
["Fuente: Incidencia de la pobreza e indigencia, INE."]
["Nota: Los valores medios anuales fueron estimados por el Método del Ingreso de 2006 sobre los datos de las personas."]

{"sheet":"G I-3.4.1","index":143,"n_rows":31,"n_cols":1,"rows_kept":31,"cut":false,"hidden":false,"merged":[[0,0,0,3]]}
["Ministerio de Educación y Cultura\nDirección de Educación"]
[]
[]
[]
["Gráfico I-3.4.1"]
[]
[]
[]
[]
[]
[]
[]
[]
[]
[]
[]
[]
[]
[]
[]
[]
[]
[]
[]
[]
[]
[]
[]
[]
[]
["Fuente: Elaborado en base a datos del MEF en base a CGN.."]

{"sheet":"G I-3.4.2","index":144,"n_rows":31,"n_cols":1,"rows_kept":31,"cut":false,"hidden":false,"merged":[[0,0,0,3]]}
["Ministerio de Educación y Cultura\nDirección de Educación"]
[]
[]
[]
["Gráfico I-3.4.2"]
[]
[]
[]
[]
[]
[]
[]
[]
[]
[]
[]
[]
[]
[]
[]
[]
[]
[]
[]
[]
[]
[]
[]
[]
[]
["Fuente: Elaborado en base a datos del MEF en base a CGN."]

{"sheet":"G I-3.4.3","index":145,"n_rows":35,"n_cols":1,"rows_kept":35,"cut":false,"hidden":false,"merged":[[33,0,33,5],[34,0,34,5],[0,0,0,3]]}
["Ministerio de Educación y Cultura\nDirección de Educación"]
[]
[]
[]
["Gráfico I-3.4.3"]
[]
[]
[]
[]
[]
[]
[]
[]
[]
[]
[]
[]
[]
[]
[]
[]
[]
[]
[]
[]
[]
[]
[]
[]
[]
[]
[]
[]
["Fuente: Gerencia General de Programación y Presupuesto, Unidad de Programación y Control Presupuestal del CODICEN"]
["Nota: Datos al 1º de enero de cada año a valores constantes del 1º de enero de 2010. La información corresponde al salario nominal más la partida de alimentación"]

{"sheet":"G I-4.1.1 ","index":146,"n_rows":37,"n_cols":1,"rows_kept":37,"cut":false,"hidden":false,"merged":[[0,0,0,3],[34,0,34,6],[35,0,35,6],[36,0,36,6],[31,0,31,6],[32,0,32,6],[33,0,33,6]]}
["Ministerio de Educación y Cultura\nDirección de Educación"]
[]
[]
[]
["Gráfico I-4.1.1"]
[]
[]
[]
[]
[]
[]
[]
[]
[]
[]
[]
[]
[]
[]
[]
[]
[]
[]
[]
[]
[]
[]
[]
[]
[]
[]
[]
["Fuente: Indicadores Educativos del  Mercosur 2000-2011 y Unidades Productoras de Estadísticas Oficiales de los Países."]
["Nota: La Tasa de Analfabetismo se mide con base en personas con 15 y más años de edad, con excepción de Argentina, en que refiere a personas con 10 y más años de edad. En el caso de Paraguay, se considera analfabeta a la población que declara tener dos y menos años de estudio."]
["Los datos fueron provistos por las oficinas de estadística nacionales, a solicitud del Área de Investigación y Estadística de la Dirección de Educación del Ministerio de Educación y Cultura. "]
["No se cuenta con información de Argentina de 2011 y 2012 y se incluye el último dato disponible tomado del Censo Nacional de Población, Hogares y Viviendas 2010."]
["Brasil y Chile no actualizaron la información para el 2012, por lo que se replica el último dato disponible: año 2011. "]

{"sheet":"G I-4.1.2","index":147,"n_rows":29,"n_cols":2,"rows_kept":29,"cut":false,"hidden":false,"merged":[[0,0,0,3],[28,1,28,7],[27,1,27,7]]}
["Ministerio de Educación y Cultura\nDirección de Educación"]
[]
[]
[]
["Gráfico I-4.1.2"]
[]
[]
[]
[]
[]
[]
[]
[]
[]
[]
[]
[]
[]
[]
[]
[]
[]
[]
[]
[]
[]
[]
["Fuente:","Instituto de Estadística de la Organización de las Naciones Unidas para la Educación, la Ciencia y la Cultura (UNESCO) y, para Uruguay, Área de Investigación y Estadística de la Dirección de Educación del MEC."]
["Nota:","Los porcentajes por región son promedios ponderados, teniendo en cuenta el tamaño poblacional relativo de los países. Los cálculos se realizaron con el último dato disponible de UNESCO (año 2000 en adelante). Para Uruguay es el dato 2012."]

{"sheet":"G I_4.1.3","index":148,"n_rows":30,"n_cols":2,"rows_kept":30,"cut":false,"hidden":false,"merged":[[0,0,0,3],[28,1,28,7],[29,1,29,7]]}
["Ministerio de Educación y Cultura\nDirección de Educación"]
[]
[]
[]
["Gráfico I-4.1.3"]
[]
[]
[]
[]
[]
[]
[]
[]
[]
[]
[]
[]
[]
[]
[]
[]
[]
[]
[]
[]
[]
[]
[]
["Fuente:","Instituto de Estadística de la Organización de las Naciones Unidas para la Educación, la Ciencia y la Cultura (UNESCO) y, para Uruguay, Área de Investigación y Estadística de la Dirección de Educación del MEC."]
["Nota:","Los porcentajes por región son promedios ponderados, teniendo en cuenta el tamaño poblacional relativo de los países. Los cálculos se realizaron con el último dato disponible de UNESCO (año 2000 en adelante). Para Uruguay es el dato 2012."]

{"sheet":"G I 4.2.1","index":149,"n_rows":34,"n_cols":1,"rows_kept":34,"cut":false,"hidden":false,"merged":[[0,0,0,3]]}
["Ministerio de Educación y Cultura\nDirección de Educación"]
[]
[]
[]
["Gráfico I-4.2.1"]
[]
[]
[]
[]
[]
[]
[]
[]
[]
[]
[]
[]
[]
[]
[]
[]
[]
[]
[]
[]
[]
[]
[]
[]
[]
[]
[]
[]
["Fuente: Indicadores Educativos del Mercosur 2000 – 2010."]

{"sheet":"G I 4.2.2","index":150,"n_rows":33,"n_cols":1,"rows_kept":33,"cut":false,"hidden":false,"merged":[[0,0,0,3]]}
["Ministerio de Educación y Cultura\nDirección de Educación"]
[]
[]
[]
["Gráfico I-4.2.2"]
[]
[]
[]
[]
[]
[]
[]
[]
[]
[]
[]
[]
[]
[]
[]
[]
[]
[]
[]
[]
[]
[]
[]
[]
[]
[]
[]
["Fuente: Indicadores Educativos del Mercosur 2000 – 2010."]

{"sheet":"G I-4.2.3","index":151,"n_rows":33,"n_cols":1,"rows_kept":33,"cut":false,"hidden":false,"merged":[[0,0,0,3]]}
["Ministerio de Educación y Cultura\nDirección de Educación"]
[]
[]
[]
["Gráfico I-4.2.3"]
[]
[]
[]
[]
[]
[]
[]
[]
[]
[]
[]
[]
[]
[]
[]
[]
[]
[]
[]
[]
[]
[]
[]
[]
["Fuente: Indicadores Educativos del Mercosur 2000 - 2009."]
[]
[]
["Fuente: Indicadores Educativos del Mercosur 2000 – 2010."]

{"sheet":"G I-4.3.1","index":152,"n_rows":32,"n_cols":2,"rows_kept":32,"cut":false,"hidden":false,"merged":[[26,0,26,5],[28,1,30,10],[0,0,0,3],[31,1,31,7]]}
["Ministerio de Educación y Cultura\nDirección de Educación"]
[]
[]
[]
["Gráfico I-4.3.1"]
[]
[]
[]
[]
[]
[]
[]
[]
[]
[]
[]
[]
[]
[]
[]
[]
[]
[]
[]
[]
[]
[]
[]
[null,"Instituto de Estadística de la Organización de las Naciones Unidas para la Educación, la Ciencia y la Cultura (UNESCO) y, para Uruguay, Área de Investigación y Estadística de la Dirección de Educación del MEC, en base a datos del MEF, en base a CGN."]
["Fuente:"]
[]
["Nota:","Los cálculos se realizaron con el último dato disponible de UNESCO (año 2000 en adelante). Para Uruguay es el dato 2012."]

{"sheet":"G I-4.3.2","index":153,"n_rows":31,"n_cols":2,"rows_kept":31,"cut":false,"hidden":false,"merged":[[31,0,31,5],[0,0,0,3],[29,1,29,9],[30,1,30,9],[30,10,30,12]]}
["Ministerio de Educación y Cultura\nDirección de Educación"]
[]
[]
[]
["Gráfico I-4.3.2"]
[]
[]
[]
[]
[]
[]
[]
[]
[]
[]
[]
[]
[]
[]
[]
[]
[]
[]
[]
[]
[]
[]
[]
[]
["Fuente:","Instituto de Estadística de la Organización de las Naciones Unidas para la Educación, la Ciencia y la Cultura (UNESCO) y, para Uruguay, Área de Investigación y Estadística de la Dirección de Educación del MEC, en base a datos del MEF, en base a CGN."]
["Nota:","Los porcentajes por región, son promedios ponderados. Los cálculos se realizaron con base al último dato disponible en la fuente (año 2005 en adelante). Para Uruguay es el dato 2012."]

{"sheet":"M I-1.2.1","index":154,"n_rows":5,"n_cols":2,"rows_kept":5,"cut":false,"hidden":false,"merged":[[0,0,0,3]]}
["Ministerio de Educación y Cultura\nDirección de Educación"]
[]
[]
[]
["Mapa I-1.2.1","TASA DE ANALFABETISMO POR DEPARTAMENTO"]

{"sheet":"M I-1.2.2","index":155,"n_rows":5,"n_cols":2,"rows_kept":5,"cut":false,"hidden":false,"merged":[[0,0,0,3]]}
["Ministerio de Educación y Cultura\nDirección de Educación"]
[]
[]
[]
["Mapa I-1.2.2","TASA NETA DE ASISTENCIA ENTRE PERSONAS DE 4 Y 5 AÑOS POR DEPARTAMENTO"]

{"sheet":"M I-1.2.3","index":156,"n_rows":5,"n_cols":2,"rows_kept":5,"cut":false,"hidden":false,"merged":[[0,0,0,3]]}
["Ministerio de Educación y Cultura\nDirección de Educación"]
[]
[]
[]
["Mapa I-1.2.3","TASA NETA DE ASISTENCIA ENTRE PERSONAS DE 6 A 11 AÑOS POR DEPARTAMENTO"]

{"sheet":"M I-1.2.4","index":157,"n_rows":5,"n_cols":2,"rows_kept":5,"cut":false,"hidden":false,"merged":[[0,0,0,3]]}
["Ministerio de Educación y Cultura\nDirección de Educación"]
[]
[]
[]
["Mapa I-1.2.4","TASA NETA DE ASISTENCIA ENTRE PERSONAS DE 12 A 14 AÑOS POR DEPARTAMENTO"]

{"sheet":"M I-1.2.5","index":158,"n_rows":5,"n_cols":2,"rows_kept":5,"cut":false,"hidden":false,"merged":[[0,0,0,3]]}
["Ministerio de Educación y Cultura\nDirección de Educación"]
[]
[]
[]
["Mapa I-1.2.5","TASA NETA DE ASISTENCIA ENTRE PERSONAS DE 15 A 17 AÑOS POR DEPARTAMENTO"]

{"sheet":"M I-1.2.6","index":159,"n_rows":5,"n_cols":2,"rows_kept":5,"cut":false,"hidden":false,"merged":[[0,0,0,3]]}
["Ministerio de Educación y Cultura\nDirección de Educación"]
[]
[]
[]
["Mapa I-1.2.6","TASA NETA DE ASISTENCIA ENTRE PERSONAS DE 18 A 24 AÑOS POR DEPARTAMENTO"]

{"sheet":"M I-3.1","index":160,"n_rows":5,"n_cols":2,"rows_kept":5,"cut":false,"hidden":false,"merged":[[0,0,0,3]]}
["Ministerio de Educación y Cultura\nDirección de Educación"]
[]
[]
[]
["Mapa I-3.1","BECAS OTORGADAS EN LA EDUCACIÓN MEDIA BÁSICA Y SUPERIOR SEGÚN SEXO Y DEPARTAMENTO. AÑO 2012."]

{"sheet":"M I-3.2","index":161,"n_rows":5,"n_cols":2,"rows_kept":5,"cut":false,"hidden":false,"merged":[[0,0,0,3]]}
["Ministerio de Educación y Cultura\nDirección de Educación"]
[]
[]
[]
["Mapa I-3.2","BECAS OTORGADAS POR NIVEL EDUCATIVO SEGÚN GRANDES ÁREAS. AÑO 2012."]

{"sheet":"M II-1","index":162,"n_rows":5,"n_cols":2,"rows_kept":5,"cut":false,"hidden":false,"merged":[[0,0,0,3]]}
["Ministerio de Educación y Cultura\nDirección de Educación"]
[]
[]
[]
["Mapa II-1","INDICADORES ESCOGIDOS EN EDUCACIÓN DE LA PRIMERA INFANCIA Y EDUCACIÓN INICIAL. AÑO 2012."]

{"sheet":"M II-2","index":163,"n_rows":5,"n_cols":2,"rows_kept":5,"cut":false,"hidden":false,"merged":[[0,0,0,3]]}
["Ministerio de Educación y Cultura\nDirección de Educación"]
[]
[]
[]
["Mapa II-2","INDICADORES ESCOGIDOS EN EDUCACIÓN PRIMARIA. AÑO 2012."]

{"sheet":"M II-3","index":164,"n_rows":5,"n_cols":2,"rows_kept":5,"cut":false,"hidden":false,"merged":[[0,0,0,3]]}
["Ministerio de Educación y Cultura\nDirección de Educación"]
[]
[]
[]
["Mapa II-3","INDICADORES ESCOGIDOS EN EDUCACIÓN MEDIA BÁSICA. AÑO 2012."]

{"sheet":"M II-4","index":165,"n_rows":5,"n_cols":2,"rows_kept":5,"cut":false,"hidden":false,"merged":[[0,0,0,3]]}
["Ministerio de Educación y Cultura\nDirección de Educación"]
[]
[]
[]
["Mapa II-4","INDICADORES ESCOGIDOS EN EDUCACIÓN MEDIA SUPERIOR. AÑO 2012."]

{"sheet":"M II-5","index":166,"n_rows":5,"n_cols":2,"rows_kept":5,"cut":false,"hidden":false,"merged":[[0,0,0,3]]}
["Ministerio de Educación y Cultura\nDirección de Educación"]
[]
[]
[]
["Mapa II-5","INDICADORES ESCOGIDOS EN TERCIARIA NO UNIVERSITARIA. AÑO 2012."]

{"sheet":"M II-6","index":167,"n_rows":5,"n_cols":2,"rows_kept":5,"cut":false,"hidden":false,"merged":[[0,0,0,3]]}
["Ministerio de Educación y Cultura\nDirección de Educación"]
[]
[]
[]
["Mapa II-6","INDICADORES ESCOGIDOS EN FORMACIÓN EN EDUCACIÓN. AÑO 2012."]

{"sheet":"M II-7","index":168,"n_rows":5,"n_cols":2,"rows_kept":5,"cut":false,"hidden":false,"merged":[[0,0,0,3]]}
["Ministerio de Educación y Cultura\nDirección de Educación"]
[]
[]
[]
["Mapa II-7","INDICADORES ESCOGIDOS EN EDUCACIÓN UNIVERSITARIA. AÑO 2012."]

{"sheet":"M II-8","index":169,"n_rows":5,"n_cols":2,"rows_kept":5,"cut":false,"hidden":false,"merged":[[0,0,0,3]]}
["Ministerio de Educación y Cultura\nDirección de Educación"]
[]
[]
[]
["Mapa II-8","INDICADORES ESCOGIDOS EN JÓVENES Y ADULTOS. AÑO 2012."]

{"sheet":"PRIMERA INFANCIA E INICIAL","index":170,"n_rows":0,"n_cols":0,"rows_kept":0,"cut":false,"hidden":false,"merged":[[36,0,36,4],[38,0,38,4],[23,0,23,4],[25,0,25,4],[27,0,27,4],[29,0,29,4],[31,0,31,4],[34,0,34,4],[21,0,21,4],[12,0,12,4],[14,0,14,4],[16,0,16,4],[17,0,17,4],[19,0,19,4]]}

{"sheet":" II-1.1.1","index":171,"n_rows":34,"n_cols":8,"rows_kept":34,"cut":false,"hidden":false,"merged":[[0,5,1,7],[4,0,4,7],[5,0,9,0],[5,1,9,1],[7,2,9,2],[5,2,5,7],[7,3,9,3],[7,7,9,7],[7,4,9,4],[7,5,9,5],[6,2,6,5],[7,6,9,6]]}
["CONSEJO DE EDUCACIÓN INICIAL Y PRIMARIA",null,null,null,null,"ESTABLECIMIENTOS"]
[]
["Cuadro Nº II-1.1.1",null,null,null,null,null,null,"VOLVER"]
[]
["CANTIDAD DE ESTABLECIMIENTOS DE EDUCACIÓN EN LA PRIMERA INFANCIA E INICIAL DEL CEIP POR FORMA DE ADMINISTRACIÓN Y MODALIDAD SEGÚN DEPARTAMENTO. AÑO 2012."]
["DEPARTAMENTO","TOTAL","FORMA DE ADMINISTRACIÓN"]
[null,null,"PÚBLICA",null,null,null,null,"PRIVADA"]
[null,null,"Total Público","Jardines de Infantes","JICI","CEPI*","Jardines de Tiempo Completo","Jardines de Infantes"]
[]
[]
["TOTAL",{"$f":"+B12+B13","v":249},{"$f":"+C12+C13","v":190},{"$f":"SUM(D12:D13)","v":136},{"$f":"SUM(E12:E13)","v":14},{"$f":"SUM(F12:F13)","v":2},{"$f":"SUM(G12:G13)","v":38},{"$f":"SUM(H12:H13)","v":59}]
["MONTEVIDEO",{"$f":"+C12+H12","v":98},{"$f":"+D12+E12+F12+G12","v":62},43,4,1,14,36]
["RESTO DEL PAÍS",{"$f":"+C13+H13","v":151},{"$f":"+D13+E13+F13+G13","v":128},{"$f":"SUM(D15:D32)","v":93},{"$f":"SUM(E15:E32)","v":10},{"$f":"SUM(F15:F32)","v":1},{"$f":"SUM(G15:G32)","v":24},{"$f":"SUM(H15:H32)","v":23}]
[]
["Artigas",{"$f":"+C15+H15","v":3},{"$f":"+D15+E15+F15+G15","v":3},3,0,0,0,0]
["Canelones",41,{"$f":"+D16+E16+F16+G16","v":34},29,2,1,2,7]
["Cerro Largo",8,7,4,1,0,2,1]
["Colonia",6,6,5,1,0,0,0]
["Durazno",5,5,3,1,0,1,0]
["Flores",2,2,1,0,0,1,0]
["Florida",6,4,2,0,0,2,2]
["Lavalleja",7,7,5,0,0,2,0]
["Maldonado",10,7,7,0,0,0,3]
["Paysandú",5,4,1,1,0,2,1]
["Río Negro",6,6,3,1,0,2,0]
["Rivera",7,7,4,1,0,2,0]
["Rocha",7,7,7,0,0,0,0]
["Salto",9,4,3,0,0,1,5]
["San José",7,6,5,1,0,0,1]
["Soriano",6,5,4,0,0,1,1]
["Tacuarembó",{"$f":"+C31+H31","v":11},{"$f":"+D31+E31+F31+G31","v":9},6,0,0,3,2]
["Treinta y Tres",{"$f":"+C32+H32","v":5},{"$f":"+D32+E32+F32+G32","v":5},1,1,0,3,0]
["Fuente: Procesamiento propio en base a datos proporcionados por el D.E.E. — C.E.I.P."]
["Nota: * Centro Educativo de Primera Infancia.  Refiere a Guarderias en Anuarios Anteriores. "]

{"sheet":"II-1.1.2","index":172,"n_rows":35,"n_cols":5,"rows_kept":35,"cut":false,"hidden":false,"merged":[[1,0,1,2],[5,0,5,4],[7,2,9,2],[7,1,9,1],[6,2,6,4],[6,0,9,0],[0,4,1,5],[7,3,9,3],[7,4,9,4]]}
["MINISTERIO DE EDUCACIÓN Y CULTURA",null,null,null,"Establecimientos"]
["Dirección de Educación – Área de Educación en la Primera Infancia"]
[]
["Cuadro Nº  II-1.1.2"]
[]
["CANTIDAD DE ESTABLECIMIENTOS DE PRIMERA INFANCIA E INICIAL DEL MEC E INAU POR FORMA DE ADMINISTRACIÓN SEGÚN DEPARTAMENTO. AÑO 2012."]
["DEPARTAMENTO"]
[null,"TOTAL","CAIF","DIURNOS-INAU","PRIVADOS"]
[]
[]
["TOTAL",{"$f":"C11+D11+E11","v":826},{"$f":"C12+C13","v":336},{"$f":"D12+D13","v":36},{"$f":"E12+E13","v":454}]
["MONTEVIDEO",337,76,9,252]
["RESTO DEL PAÍS",489,{"$f":"SUM(C15:C32)","v":260},{"$f":"SUM(D15:D32)","v":27},{"$f":"SUM(E15:E32)","v":202}]
[]
["Artigas",21,14,2,5]
["Canelones",119,47,2,70]
["Cerro Largo",25,19,1,5]
["Colonia",36,13,2,21]
["Durazno",17,14,2,1]
["Flores",9,5,1,3]
["Florida",21,9,2,10]
["Lavalleja",12,5,1,6]
["Maldonado",33,10,2,21]
["Paysandú",39,23,2,14]
["Río Negro",15,11,1,3]
["Rivera",22,14,1,7]
["Rocha",17,11,1,5]
["Salto",31,21,1,9]
["San José",21,9,2,10]
["Soriano",21,12,1,8]
["Tacuarembó",19,13,2,4]
["Treinta y Tres",11,10,1,0]
["Fuente: Procesamiento propio en base a datos proporcionados por:"]
["        Registro Nacional de Centros Educativos en la Primera Infancia. MEC"]
["        Para CAIF Y CENTROS DIURNOS: SIPI de INAU."]

{"sheet":"II-1.2.1","index":173,"n_rows":36,"n_cols":18,"rows_kept":36,"cut":false,"hidden":false,"merged":[[6,13,6,17],[7,4,9,4],[6,1,7,3],[8,11,8,12],[7,11,7,12],[7,9,7,10],[6,4,6,12],[0,14,1,17],[7,14,7,15],[4,0,4,17],[7,13,9,13],[7,7,7,8],[8,5,8,6],[8,9,8,10],[5,0,8,0],[5,1,5,17],[8,16,8,17],[8,1,9,1],[8,2,8,3],[7,5,7,6],[7,16,7,17],[8,14,8,15],[8,7,8,8]]}
["CONSEJO DE EDUCACIÓN INICIAL Y PRIMARIA",null,null,null,null,null,null,null,null,null,null,null,null,null,"ALUMNOS MATRICULADOS"]
[]
["Cuadro Nº II-1.2.1"]
[]
["ALUMNOS MATRICULADOS EN EDUCACIÓN EN LA PRIMERA INFANCIA E INICIAL POR FORMA DE ADMINISTRACIÓN, MODALIDAD Y SEXO SEGÚN DEPARTAMENTO. AÑO 2012."]
["DEPARTAMENTO","FORMA DE ADMINISTRACIÓN"]
[null,"TOTAL",null,null,"PÚBLICA",null,null,null,null,null,null,null,null,"PRIVADA"]
[null,null,null,null,"Total Público","Inicial en Escuelas*",null,"Jardines de Infantes",null,"JICI**",null,"CEPI***",null,"Total Privada","Jardines de Infantes",null,"Inicial en Colegios"]
[null,"TOTAL","SEXO",null,null,"SEXO",null,"SEXO",null,"SEXO",null,"SEXO",null,null,"SEXO",null,"SEXO"]
[null,null,"M","F",null,"M","F","M","F","M","F","M","F",null,"M","F","M","F"]
["TOTAL",{"$f":"+B12+B13","v":109602},{"$f":"+C12+C13","v":55695},{"$f":"+D12+D13","v":53907},{"$f":"+E12+E13","v":79985},{"$f":"F12+F13","v":23806},{"$f":"G12+G13","v":23068},{"$f":"+H12+H13","v":15369},{"$f":"I12+I13","v":14820},{"$f":"J12+J13","v":1376},{"$f":"K12+K13","v":1339},{"$f":"+L12+L13","v":101},{"$f":"M12+M13","v":106},{"$f":"+N12+N13","v":29616.999999999996},{"$f":"+O12+O13","v":2771},{"$f":"+P12+P13","v":2694},{"$f":"+Q12+Q13","v":12271.999999999998},{"$f":"+R12+R13","v":11879.999999999998}]
["MONTEVIDEO",{"$f":"+C12+D12","v":41738},{"$f":"+F12+H12+J12+L12+O12+Q12","v":21287},{"$f":"+G12+I12+K12+M12+P12+R12","v":20451},{"$f":"+F12+G12+H12+I12+J12+K12+L12+M12","v":23817},6091,5786,5423,5285,522,541,78,91,{"$f":"+O12+P12+Q12+R12","v":17920.999999999996},1886,1787,7286.9999999999982,6960.9999999999982]
["RESTO DEL PAÍS",{"$f":"SUM(B15:B32)","v":67864},34408,33456,56168,17715,17282,{"$f":"SUM(H15:H32)","v":9946},9535,854,798,23,15,11696,{"$f":"SUM(O15:O32)","v":885},907,4985,4919]
[]
["Artigas",{"$f":"+C15+D15","v":2501},{"$f":"+F15+H15+J15+L15+O15+Q15","v":1317},{"$f":"+G15+I15+K15+M15+P15+R15","v":1184},{"$f":"+F15+G15+H15+I15+J15+K15+L15+M15","v":2396},948,856,311,281,0,0,0,0,{"$f":"+O15+P15+Q15+R15","v":105},0,0,58,47]
["Canelones",16727,8476,8251,12886,3458,3430,2917,2777,140,126,23,15,3841.0000000000005,296,320,1642.0000000000005,1583]
["Cerro Largo",2915,1478,1437,2544,785,781,423,351,94,110,0,0,371,56,56,120,139]
["Colonia",4118,2119,1999,{"$f":"+F18+G18+H18+I18+J18+K18+L18+M18","v":3426},1235,1183,444,406,93,65,0,0,692,0,0,347,345]
["Durazno",1853,958,895,1603,502,492,278,245,47,39,0,0,250,0,0,131,119]
["Flores",821,408,413,672,221,210,118,123,0,0,0,0,149,0,0,69,80]
["Florida",2081,1045,1036,1902,624,642,341,295,0,0,0,0,179,36,54,44,45]
["Lavalleja",2007,991,1016,1649,379,407,437,426,0,0,0,0,358,0,0,174.99999999999997,183.00000000000003]
["Maldonado",6169,3107,3062,4048,1270,1231,759,788,0,0,0,0,2121,116,94,961.99999999999989,949]
["Paysandú",3913,1984,1929,3446,1339,1260,323,328,95,101,0,0,467,62,64,165,176]
["Río Negro",2188,1106,1082,1919,479,487,422,370,78,83,0,0,269,0,0,127,142]
["Rivera",3855,1966,1889,3424,1142,1075,519,512,91,85,0,0,431,0,0,213.99999999999997,217]
["Rocha",2418,1214,1204,2180,598,584,496,502,0,0,0,0,238,0,0,120,118]
["Salto",4986,2541,2445,4093,1541,1440,537,575,0,0,0,0,893,192,179,271,251.00000000000003]
["San José",3582,1800,1782,3147,1032,1034,476,441,82,82,0,0,435,49,49,161,176]
["Soriano",2875,1472,1403,2625,972,973,360,320,0,0,0,0,250,22,21,118,89]
["Tacuarembó",3304,1651,1653,2742,843,812,533,554,0,0,0,0,562,56,70,219,217]
["Treinta y Tres",1551,775,776,{"$f":"+F32+G32+H32+I32+J32+K32+L32+M32","v":1466},347,385,252,241,134,107,0,0,85,0,0,42,43]
["Fuente: Procesamiento propio en base a datos proporcionados por el D.E.E. — C.E.I.P."]
["* Refiere a Clases Jardineras en Anuarios Anteriores. "]
["** Jardines de Infantes con Ciclo Inicial."]
["*** Centro Educativo de Primera Infancia.  Refiere a Guarderías en Anuarios Anteriores. "]

{"sheet":"II-1.2.2","index":174,"n_rows":37,"n_cols":19,"rows_kept":37,"cut":false,"hidden":false,"merged":[[0,10,1,17],[8,10,8,13],[7,10,7,13],[7,15,7,18],[8,2,8,3],[4,0,4,18],[5,0,8,0],[5,1,5,18],[6,1,6,18],[7,1,9,1],[7,2,7,3],[8,15,8,18],[8,5,8,8],[7,5,7,8]]}
["CONSEJO DE EDUCACIÓN INICIAL Y PRIMARIA",null,null,null,null,null,null,null,null,null,"ALUMNOS MATRICULADOS"]
[]
["Cuadro Nº II-1.2.2"]
[null,null,null,null,null,null,null,null,null,null,null,null,null,"VOLVER"]
["ALUMNOS MATRICULADOS EN EDUCACIÓN PÚBLICA EN LA PRIMERA INFANCIA E INICIAL DEL CEIP POR  MODALIDAD Y EDAD SEGÚN DEPARTAMENTO. AÑO 2012."]
["DEPARTAMENTO"]
[null,"PÚBLICA"]
[null,"Total Público","Inicial en Escuelas*",null,null,"Jardines de Infantes**",null,null,null,null,"JICI***",null,null,null,null,"CEPI****"]
[null,null,"AÑOS",null,null,"AÑOS",null,null,null,null,"AÑOS",null,null,null,null,"AÑOS"]
[null,null,4,5,null,"<= 2 ",3,4,5,null,"<= 2 ",3,4,5,null,"<= 2 ",3,4,5]
["TOTAL",{"$f":"+B12+B13","v":79985},{"$f":"C12+C13","v":21657},{"$f":"D12+D13","v":25217},null,{"$f":"+F12+F13","v":47},{"$f":"G12+G13","v":6285},{"$f":"H12+H13","v":12122},{"$f":"I12+I13","v":11735},null,{"$f":"K12+K13","v":0},{"$f":"L12+L13","v":619},{"$f":"M12+M13","v":1097},{"$f":"N12+N13","v":999},null,{"$f":"+P12+P13","v":53},{"$f":"+Q12+Q13","v":95},{"$f":"+R12+R13","v":54},{"$f":"+S12+S13","v":5}]
["MONTEVIDEO",{"$f":"SUM(C12:S12)","v":23817},5135,6742,null,47,1906,4309,4446,null,0,298,393,372,null,53,73,43,0]
["RESTO DEL PAÍS",{"$f":"SUM(B15:B32)","v":56168},{"$f":"SUM(C15:C32)","v":16522},{"$f":"SUM(D15:D32)","v":18475},null,{"$f":"SUM(F15:F32)","v":0},{"$f":"SUM(G15:G32)","v":4379},7813,7289,null,0,321,{"$f":"SUM(M15:M32)","v":704},{"$f":"SUM(N15:N32)","v":627},null,0,22,11,5]
[]
["Artigas",{"$f":"SUM(C15:S15)","v":2396},906,898,null,0,136,259,197,null,0,0,0,0,null,0,0,0,0]
["Canelones",{"$f":"SUM(C16:S16)","v":12886},3201,3687,null,0,847,2352,2495,null,0,58,110,98,null,0,22,11,5]
["Cerro Largo",2544,766,800,null,0,115,346,313,null,0,59,73,72,null,0,0,0,0]
["Colonia",3426,1171,1247,null,0,247,308,295,null,0,29,89,40,null,0,0,0,0]
["Durazno",1603,480,514,null,0,116,227,180,null,0,21,28,37,null,0,0,0,0]
["Flores",672,203,228,null,0,84,101,56,null,0,0,0,0,null,0,0,0,0]
["Florida",1902,535,731,null,0,172,301,163,null,0,0,0,0,null,0,0,0,0]
["Lavalleja",1649,368,418,null,0,245,294,324,null,0,0,0,0,null,0,0,0,0]
["Maldonado",4048,1152,1349,null,0,328,619,600,null,0,0,0,0,null,0,0,0,0]
["Paysandú",3446,1265,1334,null,0,157,239,255,null,0,29,83,84,null,0,0,0,0]
["Río Negro",1919,427,539,null,0,184,303,305,null,0,25,69,67,null,0,0,0,0]
["Rivera",3424,1029,1188,null,0,319,373,339,null,0,45,70,61,null,0,0,0,0]
["Rocha",2180,504,678,null,0,262,447,289,null,0,0,0,0,null,0,0,0,0]
["Salto",4093,1464,1517,null,0,307,402,403,null,0,0,0,0,null,0,0,0,0]
["San José",3147,1046,1020,null,0,225,342,350,null,0,0,79,85,null,0,0,0,0]
["Soriano",2625,916,1029,null,0,242,281,157,null,0,0,0,0,null,0,0,0,0]
["Tacuarembó",2742,759,896,null,0,287,437,363,null,0,0,0,0,null,0,0,0,0]
["Treinta y Tres",1466,330,402,null,0,106,182,205,null,0,55,103,83,null,0,0,0,0]
["Fuente: Procesamiento propio en base a datos proporcionados por el D.E.E. — C.E.I.P."]
["* Refiere a Clases Jardineras en Anuarios Anteriores. "]
["** Jardines de Infantes incluye Jardines de Infantes comunes y Tiempo Completo. "]
["*** Jardines de Infantes con Ciclo Inicial."]
["**** Centro Educativo de Primera Infancia.  Refiere a Guarderías en Anuarios Anteriores. "]

{"sheet":"II-1.2.3","index":175,"n_rows":33,"n_cols":14,"rows_kept":33,"cut":false,"hidden":false,"merged":[[7,9,7,13],[7,3,7,7],[8,6,9,6],[8,3,9,3],[0,11,1,13],[5,3,5,13],[4,0,4,13],[6,3,6,7],[6,9,6,13],[5,0,9,0],[8,8,9,8],[8,12,9,12],[8,13,9,13],[7,1,9,1],[8,2,9,2],[8,5,9,5],[8,7,9,7],[8,11,9,11],[8,10,9,10],[8,9,9,9],[8,4,9,4]]}
["CONSEJO DE EDUCACIÓN INICIAL Y PRIMARIA",null,null,null,null,null,null,null,null,null,null,"ALUMNOS MATRICULADOS"]
[]
["Cuadro Nº II-1.2.3"]
[]
["ALUMNOS MATRICULADOS EN EDUCACIÓN EN LA PRIMERA INFANCIA E INICIAL PRIVADA POR MODALIDAD Y NIVEL SEGÚN DEPARTAMENTO. AÑO 2012."]
["DEPARTAMENTO",null,null,"MODALIDAD"]
[null,null,null,"JARDINES PRIVADOS",null,null,null,null,null,"INICIAL EN COLEGIOS"]
[null,"TOTAL",null,"NIVEL",null,null,null,null,null,"NIVEL"]
[null,null,"Total","Nursery","2 años","3 años","4 años","5 años","Total","Nursery","2 años","3 años","4 años","5 años"]
[]
["TOTAL",{"$f":"+B12+B13","v":29617},{"$f":"+C12+C13","v":5465},{"$f":"SUM(D12:D13)","v":834},{"$f":"SUM(E12:E13)","v":1324},{"$f":"SUM(F12:F13)","v":1438},{"$f":"SUM(G12:G13)","v":1083},{"$f":"SUM(H12:H13)","v":786},{"$f":"+I12+I13","v":24152},{"$f":"SUM(J12:J13)","v":1291.9999999999995},{"$f":"SUM(K12:K13)","v":3403.0000000000009},{"$f":"SUM(L12:L13)","v":4820.9999999999982},{"$f":"SUM(M12:M13)","v":6688.0000000000009},{"$f":"SUM(N12:N13)","v":7947.9999999999991}]
["MONTEVIDEO",{"$f":"+C12+I12","v":17921},{"$f":"SUM(D12:H12)","v":3673},626,867,925,724,531,{"$f":"SUM(J12:N12)","v":14248},829.99999999999955,1840.0000000000007,2732.9999999999982,3995.0000000000014,4849.9999999999991]
["RESTO DEL PAÍS",{"$f":"SUM(B15:B32)","v":11696},{"$f":"SUM(C15:C32)","v":1792},208,457,513,359,255,{"$f":"SUM(I15:I32)","v":9904},462,1563,2088,2692.9999999999995,3098]
[]
["Artigas",{"$f":"+C15+I15","v":105},{"$f":"SUM(D15:H15)","v":0},0,0,0,0,0,{"$f":"+J15+K15+L15+M15+N15","v":105},0,24,26,30,25]
["Canelones",3841,616,43,130,153,158,132,3225,134,418,701.00000000000011,903.99999999999977,1067.9999999999998]
["Cerro Largo",371,112,23,42,47,0,0,259,0,25,41,74,119]
["Colonia",692,0,0,0,0,0,0,692,111,105.99999999999999,186,147,142]
["Durazno",250,0,0,0,0,0,0,250,13,10,60,68,99]
["Flores",149,0,0,0,0,0,0,149,8,33,28,37,43]
["Florida",179,90,31,26,18,15,0,89,0,14,12,22,41]
["Lavalleja",358,0,0,0,0,0,0,358,27,67,62,108,94]
["Maldonado",2121,210,2,48,67,49,44,1911,41.000000000000007,321,451.99999999999994,532.99999999999989,564]
["Paysandú",467,126,22,22,21,28,33,341,6,13,29.000000000000004,125,168]
["Río Negro",269,0,0,0,0,0,0,269,11,43,55.999999999999993,79,80]
["Rivera",431,0,0,0,0,0,0,431,22,94,91,107,117]
["Rocha",238,0,0,0,0,0,0,238,20,54,59,54,51]
["Salto",893,371,47,116,136,52,20,522,32.000000000000007,107,86,135,162]
["San José",435,98,17,19,25,27,10,337,8,86,64,77,102]
["Soriano",250,43,5,21,12,5,0,207,0,34,37,51,85]
["Tacuarembó",562,126,18,33,34,25,16,436,29,96,76,122,113]
["Treinta y Tres",85,0,0,0,0,0,0,85,0,18,22,20,25]
["Fuente: Procesamiento propio en base a datos proporcionados por el D.E.E. — C.E.I.P."]

{"sheet":"II-1.2.4","index":176,"n_rows":41,"n_cols":9,"rows_kept":41,"cut":false,"hidden":false,"merged":[[38,0,38,7],[0,8,2,9],[9,4,10,5],[9,6,10,7],[7,0,7,7],[8,0,12,0],[11,4,11,7],[8,4,8,7],[11,2,11,3],[9,1,10,3],[11,1,12,1]]}
["MINISTERIO DE EDUCACIÓN Y CULTURA",null,null,null,null,null,null,null,"Alumnos Matriculados "]
[]
["Dirección de Educación – Área de Educación en la Primera Infancia"]
["INAU-CAIF"]
[]
["Cuadro Nº II-1.2.4"]
[]
["ALUMNOS MATRICULADOS EN EDUCACIÓN EN LA PRIMERA INFANCIA E INICIAL  POR FORMA DE ADMINISTRACIÓN Y SEXO SEGÚN DEPARTAMENTO. AÑO 2012."]
["  DEPARTAMENTO",null,null,null,"FORMA DE ADMINISTRACIÓN"]
[null,"TOTAL",null,null,"CAIF Y CENTROS DIURNOS",null,"Centros Privados"]
[]
[null,"TOTAL","SEXO",null,"SEXO"]
[null,null,"M","F","M","F","M","F"]
["TOTAL",{"$f":"+B15+B16","v":66875},{"$f":"E14+G14","v":34127},32748,{"$f":"E15+E16","v":23179},{"$f":"F15+F16","v":22441},{"$f":"G15+G16","v":10948},{"$f":"H15+H16","v":10307}]
["MONTEVIDEO",{"$f":"+C15+D15","v":23791},12260,11531,5588,5304,6672,6227]
["RESTO DEL PAÍS",{"$f":"+C16+D16","v":43084},21867,21217,{"$f":"SUM(E17:E35)","v":17591},{"$f":"SUM(F17:F35)","v":17137},{"$f":"SUM(G17:G35)","v":4276},{"$f":"SUM(H17:H35)","v":4080}]
[]
["Artigas",{"$f":"+C18+D18","v":2147},{"$f":"E18+G18","v":1091},{"$f":"F18+H18","v":1056},984,958,107,98]
["Canelones",8931,{"$f":"E19+G19","v":4559},{"$f":"F19+H19","v":4372},3178,3025,1381,1347]
["Cerro Largo",2747,1390,1357,1316,1272,74,85]
["Colonia",2397,1177,1220,865,906,312,314]
["Durazno",2018,1037,981,1005,969,32,12]
["Flores",772,390,382,336,323,54,59]
["Florida",1679,864,815,607,544,257,271]
["Lavalleja",883,459,424,367,346,92,78]
["Maldonado",2341,1213,1128,671,648,542,480]
["Paysandú",3858,1869,1989,1587,1700,282,289]
["Río Negro",1457,729,728,638,648,91,80]
["Rivera",2573,1302,1271,1059,1060,243,211]
["Rocha",1612,828,784,775,725,53,59]
["Salto",3338,1710,1628,1419,1353,291,275]
["San José",1736,906,830,677,624,229,206]
["Soriano",1654,849,805,680,641,169,164]
["Tacuarembó",1884,929,955,862,903,67,52]
["Treinta y Tres",1057,565,492,565,492,0,0]
["Fuente: Procesamiento propio en base a datos proporcionados por:"]
["        Registro Nacional de Centros de Educación Infantil Privados. MEC"]
["        Para CAIF Y CENTROS DIURNOS: SIPI de INAU."]
["Nota: Los centros pertenecientes al Proyecto  Nuestros Niños de la IMM, se encuentran incluidos en la matrícula de Centros Privados, en tanto los mismos son supervisados por el MEC.  "]
["CAIF y Centros Diurnos incluyen para este año la matrícula de Experiencia Oportuna. "]
["(0 a 1 año) que en el anuario 2012 solo se incluía en el cuadro II"]

{"sheet":"II-1.2.5","index":177,"n_rows":21,"n_cols":6,"rows_kept":21,"cut":false,"hidden":false,"merged":[[0,7,1,8],[6,4,7,4],[6,5,7,5],[0,5,1,6],[5,2,5,5],[1,0,1,4],[6,1,7,1],[4,0,4,5],[6,2,7,2],[6,3,7,3],[6,0,7,0],[10,2,12,2],[23,0,23,5],[24,0,24,5],[25,0,25,5],[21,0,21,6],[22,0,22,6],[10,3,11,3]]}
["MINISTERIO DE EDUCACIÓN Y CULTURA",null,null,null,null,"ALUMNOS MATRICULADOS"]
["Dirección de Educación – Área de Educación en la Primera Infancia"]
[]
["Cuadro Nº II-1.2.5"]
["ALUMNOS MATRICULADOS EN EDUCACIÓN EN LA PRIMERA INFANCIA E INICIAL  POR FORMA DE ADMINISTRACIÓN SEGÚN EDAD. AÑO 2012."]
[null,null,"FORMA DE ADMINISTRACIÓN"]
["EDAD",null,"CEIP- PÚBLICOS","CEIP-PRIVADOS (Habilitados y Autorizados) ","CAIF  Y DIURNOS","PRIVADOS MEC"]
[]
[]
["TOTAL",{"$f":"SUM(C10:F10)","v":176477},{"$f":"C11+C14+C15+C16","v":79985},{"$f":"SUM(D11:D16)","v":29617},{"$f":"SUM(E11:E16)","v":45620},{"$f":"SUM(F11:F16)","v":21255}]
["0 a 11 meses",{"$f":"SUM(E11:F11)","v":6201},{"$f":"'II-1.2.2'!F11+'II-1.2.2'!K11+'II-1.2.2'!P11","v":100},{"$f":"'II-1.2.3'!D11+'II-1.2.3'!J11","v":2125.9999999999995},5441,760]
["1 año",{"$f":"SUM(E12:F12)","v":15302},null,null,11848,3454]
["2 años",{"$f":"SUM(C13:F13)","v":23771},null,{"$f":"'II-1.2.3'!E11+'II-1.2.3'!K11","v":4727.0000000000009},12680,6364]
["3 años",{"$f":"SUM(C14:F14)","v":31538},{"$f":"'II-1.2.2'!G11+'II-1.2.2'!L11+'II-1.2.2'!Q11","v":6999},{"$f":"'II-1.2.3'!F11+'II-1.2.3'!L11","v":6258.9999999999982},12091,6189]
["4 años",{"$f":"SUM(C15:F15)","v":49012},{"$f":"'II-1.2.2'!C11+'II-1.2.2'!H11+'II-1.2.2'!M11+'II-1.2.2'!R11","v":34930},{"$f":"'II-1.2.3'!G11+'II-1.2.3'!M11","v":7771.0000000000009},3430,2881]
["5 años",{"$f":"SUM(C16:F16)","v":48427},{"$f":"'II-1.2.2'!D11+'II-1.2.2'!I11+'II-1.2.2'!N11+'II-1.2.2'!S11","v":37956},{"$f":"'II-1.2.3'!H11+'II-1.2.3'!N11","v":8734},130,1607]
["Fuente: Procesamiento propio en base a datos proporcionados por:"]
["        Registro Nacional de Centros de Educación Infantil Privados. MEC"]
["        Para CAIF Y CENTROS DIURNOS: SIPI de INAU."]
["Programa Nuestros Niños: IMM. Se encuentran incluidos dentro de la matricula privada. "]
["Nota: En los Centros de Educación Infantil Privados MEC se incluyen 282 niñas y niños que tienen más de 5 años"]

{"sheet":"II-1.2.6","index":178,"n_rows":33,"n_cols":4,"rows_kept":33,"cut":false,"hidden":false,"merged":[[5,0,6,0],[5,1,6,1],[4,0,4,3],[5,2,5,3],[0,3,1,4]]}
["CONSEJO DE EDUCACIÓN INICIAL Y PRIMARIA",null,null,"ALUMNOS MATRICULADOS"]
[]
["Cuadro Nº II-1.2.6"]
[]
["ALUMNOS MATRICULADOS EN EDUCACIÓN EN LA PRIMERA INFANCIA E INICIAL PÚBLICA DEL CEIP POR ÁREA DEMOGRÁFICA SEGÚN DEPARTAMENTO. AÑO 2012."]
["DEPARTAMENTO","TOTAL","ÁREA DEMOGRÁFICA"]
[null,null,"URBANA","RURAL"]
["TOTAL ",{"$f":"SUM(C8+D8)","v":79985},{"$f":"SUM(C9:C10)","v":75661},{"$f":"SUM(D9:D10)","v":4324}]
["MONTEVIDEO",{"$f":"+C9+D9","v":23817.000000000007},23817.000000000007,0]
["RESTO DEL PAÍS",{"$f":"+C10+D10","v":56168},{"$f":"SUM(C12:C29)","v":51844},{"$f":"SUM(D12:D29)","v":4324}]
[]
["Artigas",2396,2213,183]
["Canelones",12886,12202,684]
["Cerro Largo",2544.0000000000005,2320.0000000000005,224]
["Colonia",3426,3126,300]
["Durazno",1603,1478,125]
["Flores",672,613,59]
["Florida",1902,1674,228]
["Lavalleja",1649,1521,128]
["Maldonado",4048,3854,194]
["Paysandú",3445.9999999999995,3160.9999999999995,285]
["Río Negro",1919,1761,158]
["Rivera",3424,3150,274]
["Rocha",2180,2082,98]
["Salto",4093,3721,372]
["San José",3147,2776,371]
["Soriano",2625,2412,213]
["Tacuarembó",2742,2421,321]
["Treinta y Tres",1466,1359,107]
["Fuente: Procesamiento propio en base a datos proporcionados "]
["        por el D.E.E. — C.E.I.P."]
["1- Este año el presente cuadro considera la matrícula total de Educación en la Primera Infancia e Inicial Pública. "]
["Años anteriores solo consideraban la matrícula de Educación Inicial en Escuelas. "]

{"sheet":"II-1.2.7","index":179,"n_rows":33,"n_cols":10,"rows_kept":33,"cut":false,"hidden":false,"merged":[[36,0,36,7],[0,9,1,10],[7,2,8,2],[7,1,8,1],[6,2,6,7],[7,3,8,3],[7,4,8,4],[7,5,8,5],[7,6,8,6],[7,7,8,7],[6,0,8,0],[10,9,11,11],[5,0,5,7]]}
["MINISTERIO DE EDUCACIÓN Y CULTURA",null,null,null,null,null,null,null,null,"ALUMNOS MATRICULADOS"]
["Dirección de Educación – Área de Educación en la Primera Infancia"]
[]
["Cuadro Nº II-1.2.7"]
[]
["ALUMNOS MATRICULADOS EN EDUCACIÓN EN LA PRIMERA INFANCIA E INICIAL  EN CENTROS PRIVADOS HABILITADOS POR EL MEC POR EDAD SEGÚN DEPARTAMENTO. AÑO 2012."]
["DEPARTAMENTO",null,"E D A D"]
[null,"TOTAL","0 a 11 meses","1 año","2 años","3 años","4 años","5 años"]
[]
["TOTAL",{"$f":"+B11+B12","v":21255},760,3454,6364,6189,2881,1607]
["MONTEVIDEO",{"$f":"+C11+D11+E11+F11+G11+H11","v":12899},601,2113,3774,3721,1790,900]
["RESTO DEL PAÍS",{"$f":"SUM(B14:B31)","v":8356},159,1341,2590,2468,1091,707]
[]
["Artigas",{"$f":"+C14+D14+E14+F14+G14+H14","v":205},1,44,70,45,18,27]
["Canelones",2728,42,367,835,804,436,244]
["Cerro Largo",159,0,23,60,37,29,10]
["Colonia",626,14,104,257,238,13,0]
["Durazno",44,0,21,10,10,3,0]
["Flores",113,5,23,31,27,13,14]
["Florida",528,23,112,162,129,63,39]
["Lavalleja",170,8,31,67,52,12,0]
["Maldonado",1022,7,125,203,276,212,199]
["Paysandú",571,33,120,154,152,76,36]
["Río Negro",171,6,44,54,59,2,6]
["Rivera",454,6,75,147,124,72,30]
["Rocha",112,1,26,47,34,4,0]
["Salto",566,3,89,165,179,37,93]
["San José",435,10,66,156,164,30,9]
["Soriano",333,0,48,133,98,54,0]
["Tacuarembó",119,0,23,39,40,17,0]
["Treinta y Tres",0,0,0,0,0,0,0]
["Fuente: Procesamiento propio en base a datos proporcionados por:"]
["        Registro Nacional de Centros de Educación Infantil Privados. MEC"]

{"sheet":"II-1.3.1","index":180,"n_rows":33,"n_cols":4,"rows_kept":33,"cut":false,"hidden":false,"merged":[[5,0,6,0],[5,1,6,1],[30,0,30,1],[4,0,4,1],[0,3,1,4]]}
["CONSEJO DE EDUCACIÓN INICIAL Y PRIMARIA",null,null,"PERSONAL DOCENTE"]
[]
["Cuadro Nº II-1.3.1"]
[]
["PERSONAL DOCENTE DE EDUCACIÓN EN LA PRIMERA INFANCIA E INICIAL  PÚBLICA DEL CEIP SEGÚN DEPARTAMENTO. AÑO 2012."]
["DEPARTAMENTO","DOCENTES"]
[]
["TOTAL",{"$f":"SUM(B9:B10)","v":2906}]
["MONTEVIDEO",1003]
["RESTO DEL PAÍS",{"$f":"SUM(B12:B29)","v":1903}]
[]
["Artigas",81]
["Canelones",446]
["Cerro Largo",95]
["Colonia",105]
["Durazno",52]
["Flores",26]
["Florida",75]
["Lavalleja",65]
["Maldonado",154]
["Paysandú",97]
["Río Negro",68]
["Rivera",112]
["Rocha",76]
["Salto",127]
["San José",96]
["Soriano",80]
["Tacuarembó",89]
["Treinta y Tres",59]
["Fuente: D.E.E. - C.E.P."]
[]
["        "]
["        "]

{"sheet":"II-1.3.2","index":181,"n_rows":35,"n_cols":5,"rows_kept":35,"cut":false,"hidden":false,"merged":[[32,0,32,4],[7,4,8,4],[0,4,1,5],[5,2,6,3],[5,0,8,0],[4,0,4,3],[7,2,8,2],[7,3,8,3],[7,1,8,1]]}
["CONSEJO DE EDUCACIÓN INICIAL Y PRIMARIA",null,null,null,"PERSONAL DOCENTE"]
[]
["Cuadro Nº II-1.3.2."]
[]
["PERSONAL DOCENTE DE EDUCACIÓN EN LA PRIMERA INFANCIA E INICIAL PRIVADA SEGÚN DEPARTAMENTO. AÑO 2012."]
["DEPARTAMENTO",null,"DOCENTES"]
[]
[null,"TOTAL","Colegios Habilitados","Colegios Autorizados","Jardines de Infantes Autorizados"]
[]
["TOTAL",{"$f":"SUM(B11:B12)","v":918},{"$f":"SUM(C11:C12)","v":823},{"$f":"SUM(D11:D12)","v":36},{"$f":"SUM(E11:E12)","v":59}]
["MONTEVIDEO",{"$f":"+C11+D11+E11","v":479},423,20,36]
["RESTO DEL PAÍS",{"$f":"+C12+D12+E12","v":439},{"$f":"SUM(C14:C31)","v":400},{"$f":"SUM(D14:D31)","v":16},{"$f":"SUM(E14:E31)","v":23}]
[]
["Artigas",{"$f":"+C14+D14","v":4},4,0,0]
["Canelones",221,206,15,7]
["Cerro Largo",15,15,0,1]
["Colonia",23,23,0,0]
["Durazno",3,3,0,0]
["Flores",5,5,0,0]
["Florida",4,4,0,2]
["Lavalleja",9,9,0,0]
["Maldonado",52,52,0,3]
["Paysandú",4,4,0,1]
["Río Negro",7,7,0,0]
["Rivera",14,14,0,0]
["Rocha",9,9,0,0]
["Salto",14,14,0,5]
["San José",11,10,1,1]
["Soriano",6,6,0,1]
["Tacuarembó",13,13,0,2]
["Treinta y Tres",2,2,0,0]
["Fuente: D.E.E. — C.E.P.","C.E.I.P"]
["Nota: Para 2012 se incluye el personal docente de Jardines de Infantes Autorizados. "]
["        "]
["        "]

{"sheet":"II-1.3.3","index":182,"n_rows":34,"n_cols":14,"rows_kept":34,"cut":false,"hidden":false,"merged":[[0,11,1,14],[4,0,4,13],[7,11,7,13],[8,2,8,13],[33,0,33,13],[7,5,7,7],[7,8,7,10],[6,2,6,13],[7,2,7,4],[7,0,9,0],[7,1,8,1]]}
["MINISTERIO DE EDUCACIÓN Y CULTURA",null,null,null,null,null,null,null,null,null,null,"PERSONAL DOCENTE"]
[]
["Cuadro Nº II-1.3.3"]
[]
["CANTIDAD DE PERSONAL DOCENTE EN EDUCACIÓN EN LA PRIMERA INFANCIA E INICIAL SEGÚN NIVEL EDUCATIVO ALCANZADO Y SITUACIÓN DE ESCOLARIDAD. AÑO 2012."]
[]
[null,null,"SITUACIÓN DE ESCOLARIDAD"]
["NIVEL EDUCATIVO ALCANZADO","TOTAL","Sin dato",null,null,"Finalizó",null,null,"No finalizó y asiste",null,null,"No finalizó y no asiste"]
[null,null,"SEXO"]
[null,null,"S/D","M","F","S/D","M","F","S/D","M","F","S/D","M","F"]
["TOTAL",{"$f":"SUM(C11:N11)","v":3977},{"$f":"SUM(C12:C33)","v":6},156,27,11,2766,119,0,{"$f":"SUM(J12:J33)","v":605},{"$f":"SUM(K12:K33)","v":28},{"$f":"SUM(L12:L33)","v":0},{"$f":"SUM(M12:M33)","v":249},{"$f":"SUM(N12:N33)","v":10}]
["Sin dato",{"$f":"SUM(D12:N12)","v":79},6,65,14,0,null,0,0,0,0,0,0,0]
["Sin formación",12,0,2,0,0,1,0,0,0,0,0,9,0]
["Primaria",69,0,1,0,0,59,1,0,2,0,0,6,0]
["Otros cursos de educación inicial no reconocidos que tengan una duración mínima de 6 meses y NO TENGAN requisitos mínimos de ingreso.",307,0,3,0,0,284,1,0,14,0,0,5,0]
["Ciclo básico de secundaria o UTU",197,0,14,1,2,112,9,0,11,0,0,48,0]
["Segundo ciclo de secundaria o UTU",302,0,12,1,0,148,13,0,51,3,0,69,5]
["Otros cursos de educación inicial no reconocidos que tengan una duración mínima de 6 meses  y requiera para su ingreso ciclo básico de enseñanza media completa como mínimo.",607,0,7,0,2,555,4,0,31,0,0,8,0]
["Terciarios específicos de educación inicial privados reconocidos por Decreto 308/995",35,0,1,0,0,27,1,0,5,0,0,1,0]
["Formación básica en primera infancia. (CENFORES - INAU)",236,0,3,0,0,148,0,0,64,1,0,20,0]
["Educador Social (CENFORES - INAU)",38,0,null,0,0,23,0,0,10,0,0,5,0]
["Tec. en Jardín Maternal (CIEP).",60,0,null,0,0,52,0,0,6,0,0,2,0]
["Tec. en Ed. Inicial (UCUDAL), Educador Preescolar (CIEP)",264,0,5,0,5,198,0,0,46,0,0,10,0]
["Instituto de Formación Docente ANEP. Maestro de educación común",330,0,2,0,0,249,4,0,62,1,0,12,0]
["Instituto de Formación Docente - ANEP - Maestro de Educación Inicial",194,0,5,0,0,122,6,0,53,0,0,8,0]
["Doble titulación (Maestro de Educación Común y de Educación Inicial)",205,0,2,0,1,161,5,0,31,1,0,4,0]
["Curso de especialización en preescolares (IMS)",42,0,3,0,0,35,null,0,4,0,0,null,0]
["Otros de Formación Docente (IPA, ISEF, ACJ)",130,0,5,1,0,61,29,0,23,8,0,3,0]
["Curso de director de ANEP",26,0,1,0,0,22,2,0,1,0,0,null,0]
["Lic. en Ed. Inicial (UCUDAL), ",51,0,null,0,1,34,0,0,12,0,0,4,0]
["Terciario de educación (Licenciatura en Educación - UCUDAL, UDELAR), ",31,0,7,3,0,13,null,0,8,0,0,null,0]
["Terciarios en otras disciplinas",692,0,15,7,0,414,41,0,162,14,0,34,5]
[" Posgrados relacionados a educación (en UDELAR o universidades privadas)",64,0,3,0,0,48,3,0,9,0,0,1,0]
["Fuente: Procesamiento propio en base a datos proporcionados por:   Registro Nacional de Centros de Educación Infantil Privados. MEC"]

{"sheet":"II-1.3.4","index":183,"n_rows":34,"n_cols":8,"rows_kept":34,"cut":false,"hidden":false,"merged":[[0,4,1,5],[30,0,30,7],[31,0,31,7],[32,0,32,7],[33,0,33,7],[28,0,28,7],[0,7,1,8]]}
["MINISTERIO DE EDUCACIÓN Y CULTURA",null,null,null,null,null,null,"PERSONAL DOCENTE"]
[]
["Cuadro Nº II-1.3.4"]
[]
["CANTIDAD DE PERSONAL DOCENTE EN EDUCACIÓN EN LA PRIMERA INFANCIA E INICIAL POR DEPARTAMENTO SEGÚN NIVEL EDUCATIVO ALCANZADO. AÑO 2012."]
["DEPARTAMENTO","TOTAL","Sin Dato","Sin Formación","Primaria (1)","Hasta Secundaria completa (2)","Terciario No Universitario (3)","Terciario Universitario (4)"]
[]
["TOTAL",{"$f":"SUM(C8:H8)","v":3977},{"$f":"C9+C10","v":85},12,376,1106,1560,838]
["MONTEVIDEO",{"$f":"SUM(C9:H9)","v":2517},43,8,205,675,1006,580]
["RESTO DEL PAÍS",1460,{"$f":"SUM(C11:C28)","v":42},4,171,431,554,258]
["Artigas",38,2,0,2,15,17,2]
["Canelones",499,6,1,54,132,200,106]
["Cerro Largo",27,0,0,3,8,11,5]
["Colonia",98,4,0,4,47,34,9]
["Durazno",9,0,0,2,3,4,0]
["Flores",21,0,0,0,8,10,3]
["Florida",69,0,1,11,16,28,13]
["Lavalleja",38,0,0,8,12,14,4]
["Maldonado",218,11,0,31,67,69,40]
["Paysandú",103,7,1,9,25,42,19]
["Río Negro",26,0,0,1,8,13,4]
["Rivera",86,0,0,18,17,33,18]
["Rocha",15,0,0,4,4,6,1]
["Salto",69,9,0,11,23,22,4]
["San José",64,3,1,9,26,13,12]
["Soriano",56,0,0,3,16,22,15]
["Tacuarembó",24,0,0,1,4,16,3]
["Treinta y Tres",0,0,0,0,0,0,0]
["Fuente: Procesamiento propio en base a datos proporcionados por:   Registro Nacional de Centros de Educación Infantil Privados. MEC"]
["Notas:"]
["1 - Primaria incluye las categorías: Primaria y Otros cursos de educación inicial no reconocidos que tengan una duración mínima de 6 meses y NO TENGAN requisitos mínimos de ingreso."]
["2 -  Hasta Secundaria Completa incluye: Ciclo básico de secundaria o UTU, Segundo ciclo de secundaria o UTU y Otros cursos de educación inicial no reconocidos que tengan una duración mínima de 6 meses  y requiera para su ingreso ciclo básico de enseñanza media completa como mínimo. "]
["3 - Terciario No Universitario incluye: Terciarios específicos de educación inicial privados reconocidos por Decreto 308/995, Formación básica en primera infancia. (CENFORES - INAU), Educador Social (CENFORES - INAU), Tec. en Jardín Maternal (CIEP), Tec. en Ed. Inicial (UCUDAL), Educador Preescolar (CIEP), Instituto de Formación Docente ANEP. Maestro de educación común, Instituto de Formación Docente - ANEP - Maestro de Educación Inicial, Doble titulación (Maestro de Educación Común y de Educación Inicial), Curso de especialización en preescolares (IMS), Otros de Formación Docente (IPA, ISEF, ACJ) y Curso de director de ANEP."]
["4 - Terciario Universitario incluye: Lic. en Ed. Inicial (UCUDAL), Terciario de educación (Licenciatura en Educación - UCUDAL, UDELAR), Terciarios en otras disciplinas y Posgrados relacionados a educación (en UDELAR o universidades privadas)"]

{"sheet":" PRIMARIA","index":184,"n_rows":0,"n_cols":0,"rows_kept":0,"cut":false,"hidden":false,"merged":[[34,0,34,4],[36,0,36,4],[22,0,22,4],[24,0,24,4],[26,0,26,4],[28,0,28,4],[30,0,30,4],[32,0,32,4],[20,0,20,4],[10,0,10,4],[12,0,12,4],[14,0,14,4],[16,0,16,4],[18,0,18,4]]}

{"sheet":"II-2.1.1","index":185,"n_rows":32,"n_cols":6,"rows_kept":32,"cut":false,"hidden":false,"merged":[[7,4,8,4],[7,5,8,5],[30,0,30,7],[0,4,1,6],[3,0,3,5],[4,0,8,0],[4,2,4,5],[5,1,8,1],[5,2,5,5],[6,2,6,3],[6,4,6,5],[7,2,8,2],[7,3,8,3]]}
["CONSEJO DE EDUCACIÓN PRIMARIA",null,null,null,"ESTABLECIMIENTOS"]
[]
["Cuadro Nº II-2.1.1"]
["ESTABLECIMIENTOS DE EDUCACIÓN PRIMARIA POR FORMA DE ADMINISTRACIÓN Y TIPO DE EDUCACIÓN SEGÚN DEPARTAMENTO. AÑO 2012."]
["DEPARTAMENTO",null,"FORMA DE ADMINISTRACIÓN"]
[null,"TOTAL","TIPO DE EDUCACIÓN"]
[null,null,"PÚBLICA",null,"PRIVADA"]
[null,null,"Común","Especial","Común","Especial"]
[]
["TOTAL",{"$f":"+C10+D10+E10+F10","v":2559},{"$f":"SUM(C11:C12)","v":2065},{"$f":"SUM(D11:D12)","v":82},{"$f":"SUM(E11,E12)","v":342},{"$f":"SUM(F11:F12)","v":70}]
["MONTEVIDEO",{"$f":"+C11+D11+E11+F11","v":495},251,27,173,44]
["RESTO DEL PAÍS.",2064,{"$f":"SUM(C13:C30)","v":1814},{"$f":"SUM(D13:D30)","v":55},{"$f":"SUM(E13:E30)","v":169},{"$f":"SUM(F13:F30)","v":26}]
["Artigas",81,76,2,1,2]
["Canelones",306,231,10,61,4]
["Cerro Largo.",127,118,3,6,0]
["Colonia",140,126,4,9,1]
["Durazno",87,81,2,4,0]
["Flores.",40,36,1,3,0]
["Florida",106,99,2,4,1]
["Lavalleja",98,90,2,6,0]
["Maldonado",110,79,4,24,3]
["Paysandú.",119,104,2,8,5]
["Río Negro.",71,62,2,6,1]
["Rivera",138,126,4,8,0]
["Rocha.",79,71,3,4,1]
["Salto",116,101,3,8,4]
["San José",116,105,5,6,0]
["Soriano",110,100,3,3,4]
["Tacuarembó.",143,135,2,6,0]
["Treinta y Tres.",77,74,1,2,0]
["Fuente: Procesamiento propio en base a datos proporcionados por el D.E.E. — C.E.I.P."]
["Nota: Pública no incluye JICI"]

{"sheet":" II-2.1.2 ","index":186,"n_rows":33,"n_cols":12,"rows_kept":33,"cut":false,"hidden":false,"merged":[[8,10,9,10],[8,6,9,6],[8,7,9,7],[8,11,9,11],[0,10,1,11],[4,0,4,11],[5,0,9,0],[5,1,9,1],[5,2,5,11],[6,3,6,8],[6,10,6,11],[7,2,9,2],[7,3,7,8],[7,9,9,9],[7,10,7,11],[8,3,9,3],[8,4,9,4],[8,5,9,5],[8,8,9,8]]}
["CONSEJO DE EDUCACIÓN PRIMARIA",null,null,null,null,null,null,null,null,null,"ESTABLECIMIENTOS"]
[]
["Cuadro Nº II-2.1.2"]
[]
["ESTABLECIMIENTOS DE EDUCACIÓN PRIMARIA PÚBLICA COMÚN POR ÁREA DEMOGRÁFICA Y CATEGORÍA SEGÚN DEPARTAMENTO AÑO 2012."]
["DEPARTAMENTO","TOTAL","ÁREA DEMOGRÁFICA"]
[null,null,null,"URBANA",null,null,null,null,null,null,"RURAL"]
[null,null,"Total Urbana","CATEGORÍA",null,null,null,null,null,"Total Rural","CATEGORÍA"]
[null,null,null,"Común","De Práctica","Tiempo Completo","Aprender","Tiempo Extendido","JICI",null,"Común","Internado Rural"]
[]
["TOTAL",{"$f":"+C11+J11","v":2079},{"$f":"+D11+E11+F11+G11+H11+I11","v":948},{"$f":"SUM(D12:D13)","v":348},{"$f":"SUM(E12:E13)","v":127},170,271,18,14,{"$f":"SUM(J12:J13)","v":1131},1125,6]
["MONTEVIDEO",{"$f":"+C12+J12","v":255},{"$f":"+D12+E12+F12+G12+H12+I12","v":255},97,22,41,87,4,4,0,0,0]
["RESTO DEL PAÍS",1824,{"$f":"+D13+E13+F13+G13+H13+I13","v":693},{"$f":"SUM(D14:D31)","v":251},105,129,184,14,10,1131,1125,6]
["Artigas",76,30,6,5,8,10,1,0,{"$f":"+K14+L14","v":46},45,1]
["Canelones",233,135,42,18,21,48,4,2,{"$f":"+K15+L15","v":98},98,0]
["Cerro Largo",119,30,7,5,5,11,1,1,89,89,0]
["Colonia",127,44,24,6,5,7,1,1,83,83,0]
["Durazno",82,25,8,5,5,6,0,1,57,57,0]
["Flores",36,10,4,2,3,0,1,0,26,25,1]
["Florida",99,31,13,5,6,2,5,0,68,68,0]
["Lavalleja",90,25,11,4,6,4,0,0,65,65,0]
["Maldonado",79,41,20,5,11,5,0,0,38,37,1]
["Paysandú",105,47,18,6,7,15,0,1,58,56,2]
["Río Negro",63,23,10,5,4,3,0,1,40,39,1]
["Rivera",127,42,10,6,7,18,0,1,85,85,0]
["Rocha",71,32,14,4,7,7,0,0,39,39,0]
["Salto",101,40,8,8,11,13,0,0,61,61,0]
["San José",106,37,20,6,5,5,0,1,69,69,0]
["Soriano",100,36,15,4,7,10,0,0,64,64,0]
["Tacuarembó",135,42,13,5,6,17,1,0,93,93,0]
["Treinta y Tres",75,23,8,6,5,3,0,1,52,52,0]
["Fuente: Procesamiento propio en base a datos proporcionados por el DEE — CEIP",null,null,null,null,"D.E.E.-C.E.I.P."]
["Nota: Este año se incorpora la categoría Tiempo Extendido"]

{"sheet":"II-2.1.3","index":187,"n_rows":36,"n_cols":5,"rows_kept":36,"cut":false,"hidden":false,"merged":[[31,0,31,4],[0,3,1,4],[4,0,4,4],[5,0,7,0],[5,1,7,1],[5,2,5,4],[6,2,7,2],[6,3,7,3],[6,4,7,4]]}
["CONSEJO DE EDUCACIÓN PRIMARIA",null,null,"Establecimientos"]
[]
["Cuadro Nº II-2.1.3"]
[]
["ESTABLECIMIENTOS DE EDUCACIÓN PRIMARIA PÚBLICA ESPECIAL POR TIPO DE DISCAPACIDAD SEGÚN DEPARTAMENTO AÑO 2012."]
["DEPARTAMENTO","TOTAL","DISCAPACIDAD"]
[null,null,"Intelectual","Auditiva","Visual"]
[]
["TOTAL",{"$f":"+B10+B11","v":82},{"$f":"SUM(C10:C11)","v":74},{"$f":"SUM(D10:D11)","v":4},{"$f":"SUM(E10:E11)","v":4}]
["MONTEVIDEO",{"$f":"+C10+D10+E10","v":27},22,1,4]
["RESTO DEL PAÍS",{"$f":"SUM(B13:B30)","v":55},{"$f":"SUM(C13:C30)","v":52},{"$f":"SUM(D13:D30)","v":3},{"$f":"SUM(E13:E30)","v":0}]
[]
["Artigas",{"$f":"+C13+D13+E13","v":2},2,0,0]
["Canelones",10,10,0,0]
["Cerro Largo",3,3,0,0]
["Colonia",4,4,0,0]
["Durazno",2,2,0,0]
["Flores",1,1,0,0]
["Florida",2,2,0,0]
["Lavalleja",2,2,0,0]
["Maldonado",4,3,1,0]
["Paysandú",2,2,0,0]
["Río Negro",2,2,0,0]
["Rivera",4,3,1,0]
["Rocha",3,3,0,0]
["Salto",3,2,1,0]
["San José",5,5,0,0]
["Soriano",3,3,0,0]
["Tacuarembó",2,2,0,0]
["Treinta y Tres",1,1,0,0]
["Fuente: DEE — CEIP"]
["Nota: Los establecimientos que atienden discapacidades intelectuales, además de atender niños con disfunciones clásicamente tipificadas como “Intelectuales”, atienden a los niños con discapacidades de orden motriz o de carácter, lo que implica que la matrícula correspondiente los agrupa."]
["        "]
["        "]
["       "]
["        "]

{"sheet":"II-2.1.4","index":188,"n_rows":31,"n_cols":6,"rows_kept":31,"cut":false,"hidden":false,"merged":[[0,4,1,5],[4,0,4,5],[5,0,8,0],[5,1,8,1],[5,3,5,5],[6,2,8,2],[6,3,6,4],[6,5,8,5],[6,8,6,15],[7,3,8,3],[7,4,8,4],[7,8,7,15],[11,8,12,9],[11,10,12,10],[11,11,11,13]]}
["CONSEJO DE EDUCACIÓN PRIMARIA",null,null,null,"ESTABLECIMIENTOS"]
[]
["Cuadro Nº II-2.1.4"]
[]
["ESTABLECIMIENTOS DE EDUCACIÓN PRIMARIA PRIVADA POR TIPO DE EDUCACIÓN SEGÚN DEPARTAMENTO. AÑO 2012."]
["DEPARTAMENTO","TOTAL",null,"TIPO DE EDUCACIÓN"]
[null,null,"Total","EDUCACIÓN COMÚN",null,"EDUCACIÓN ESPECIAL"]
[null,null,null,"Habilitados","Autorizados"]
[]
["TOTAL DEL PAÍS",{"$f":"+C10+F10","v":412},{"$f":"+D10+E10","v":342},{"$f":"SUM(D11:D12)","v":324},{"$f":"SUM(E11:E12)","v":18},{"$f":"SUM(F11:F12)","v":70}]
["MONTEVIDEO",{"$f":"+C11+F11","v":217},{"$f":"+D11+E11","v":173},162,11,44]
["RESTO DEL PAÍS",195,169,{"$f":"SUM(D13:D30)","v":162},{"$f":"SUM(E13:E30)","v":7},{"$f":"SUM(F13:F30)","v":26}]
["Artigas",3,1,1,0,2]
["Canelones",65,61,57,4,4]
["Cerro Largo",6,6,6,0,0]
["Colonia",10,9,9,0,1]
["Durazno",4,4,4,0,0]
["Flores",3,3,3,0,0]
["Florida",5,4,4,0,1]
["Lavalleja",6,6,6,0,0]
["Maldonado",27,24,24,0,3]
["Paysandú",13,8,8,0,5]
["Río Negro",7,6,4,2,1]
["Rivera",8,8,8,0,0]
["Rocha",5,4,4,0,1]
["Salto",12,8,8,0,4]
["San José",6,6,5,1,0]
["Soriano",7,3,3,0,4]
["Tacuarembó",6,6,6,0,0]
["Treinta y Tres",2,2,2,0,0]
["Fuente: Procesamiento propio en base a datos proporcionados por el D.E.E. — C.E.I.P."]

{"sheet":"II-2.2.1","index":189,"n_rows":31,"n_cols":10,"rows_kept":31,"cut":false,"hidden":false,"merged":[[6,7,7,7],[6,8,6,9],[30,0,30,9],[0,7,1,9],[3,0,3,9],[4,0,7,0],[4,1,7,1],[4,2,4,9],[5,2,6,3],[5,4,5,6],[5,7,5,9],[6,4,7,4],[6,5,6,6]]}
["CONSEJO DE EDUCACIÓN PRIMARIA",null,null,null,null,null,null,"ALUMNOS MATRICULADOS"]
[]
["Cuadro Nº II-2.2.1"]
["ALUMNOS MATRICULADOS EN EDUCACIÓN PRIMARIA COMÚN POR FORMA DE ADMINISTRACIÓN Y SEXO SEGÚN DEPARTAMENTO AÑO 2012"]
["DEPARTAMENTO","TOTAL","FORMA DE ADMINISTRACIÓN"]
[null,null,"TOTAL",null,"PÚBLICA",null,null,"PRIVADA"]
[null,null,null,null,"TOTAL","SEXO",null,"TOTAL","SEXO"]
[null,null,"M","F",null,"M","F",null,"M","F"]
["TOTAL",{"$f":"E9+H9","v":318474},{"$f":"+F9+I9","v":164238},{"$f":"+G9+J9","v":154236},{"$f":"+F9+G9","v":265585},{"$f":"SUM(F10:F11)","v":137489},{"$f":"SUM(G10:G11)","v":128096},{"$f":"+I9+J9","v":52888.999999999985},{"$f":"SUM(I10:I11)","v":26748.999999999985},{"$f":"SUM(J10:J11)","v":26140}]
["MONTEVIDEO",{"$f":"E10+H10","v":113653.99999999999},{"$f":"+F10+I10","v":58250.999999999985},55403,{"$f":"+F10+G10","v":81008},41765,39243,{"$f":"+I10+J10","v":32645.999999999989},16485.999999999989,16160]
["RESTO DEL PAÍS",204820,105987,98833,{"$f":"SUM(E12:E29)","v":184577},{"$f":"SUM(F12:F29)","v":95724},{"$f":"SUM(G12:G29)","v":88853},{"$f":"+I11+J11","v":20243},{"$f":"SUM(I12:I29)","v":10262.999999999998},{"$f":"SUM(J12:J29)","v":9980}]
["Artigas",8506,4444,4062,{"$f":"+F12+G12","v":8388},4387,4001,{"$f":"+I12+J12","v":118},57,61]
["Canelones",51499,26608,24891,{"$f":"+F13+G13","v":44161},22864,21297,7337.9999999999991,3743.9999999999991,3594]
["Cerro Largo",9430,4845,4585,8832,4533,4299,598,312,286]
["Colonia",11425,5849,5576,10633,5457,5176,792,392,399.99999999999994]
["Durazno",6183,3165,3018,5522,2859,2663,661,306,355]
["Flores",2492,1212,1280,2151,1040,1111,341,172,169]
["Florida",6545,3376,3169,6241,3223,3018,304,153,151]
["Lavalleja",5568,2921,2647,4912,2585,2327,656,336,320]
["Maldonado",17329,8969,8360,13473,6988,6485,3855.9999999999995,1980.9999999999995,1875]
["Paysandú",12834,6735,6099,11672,6145,5527,1162,590,572]
["Río Negro",6076,3155,2921,5642,2936,2706,434,219,214.99999999999997]
["Rivera",11555,6087,5468,10887,5728,5159,668,359,309]
["Rocha",7022,3646,3376,6625,3450,3175,397,196,201]
["Salto",14277,7428,6849,13194,6897,6297,1082.9999999999998,530.99999999999989,551.99999999999989]
["San José",10475,5418,5057,9895,5141,4754,580,277,303]
["Soriano",8833,4487,4346,8396,4275,4121,437,212,225]
["Tacuarembó",9879,5114,4765,9260,4803,4457,619,311,308]
["Treinta y Tres",4892,2528,2364,4693,2413,2280,199,115,84]
["Fuente: Procesamiento propio en base a datos proporcionados por el DEE — CEIP."]
["Nota: Pública no incluye JICI."]

{"sheet":"II-2.2.2","index":190,"n_rows":32,"n_cols":12,"rows_kept":32,"cut":false,"hidden":false,"merged":[[0,7,1,9],[5,0,9,0],[5,1,9,1],[5,2,8,3],[5,4,5,11],[7,8,7,9],[7,10,7,11],[6,4,7,6],[6,7,6,11],[4,0,4,11],[9,145,9,146],[9,147,9,148],[32,0,32,9],[34,0,34,9],[8,5,8,6],[8,8,8,9],[8,10,8,11],[9,139,9,140],[9,141,9,142],[9,143,9,144],[8,4,9,4],[7,7,9,7]]}
["CONSEJO DE EDUCACIÓN PRIMARIA",null,null,null,null,null,null,"ALUMNOS MATRICULADOS"]
[]
["Cuadro Nº II-2.2.2"]
[]
["ALUMNOS MATRICULADOS EN EDUCACIÓN PRIMARIA PÚBLICA POR TIPO DE EDUCACIÓN Y SEXO SEGÚN DEPARTAMENTO. AÑO 2012."]
["DEPARTAMENTO","TOTAL","TOTAL SEXO",null,"TIPO DE EDUCACIÓN "]
[null,null,null,null,"COMÚN ",null,null,"ESPECIAL "]
[null,null,null,null,null,null,null,"Total","ESCUELAS\nESPECIALES",null,"CLASES ESPECIALES EN ESCUELAS COMUNES"]
[null,null,null,null,"Total","SEXO",null,null,"SEXO",null,"SEXO"]
[null,null,"M","F",null,"M","F",null,"M","F","M","F"]
["TOTAL",{"$f":"+C11+D11","v":272495},{"$f":"+F11+I11+K11","v":141720},{"$f":"+G11+J11+L11","v":130775},{"$f":"+F11+G11","v":265585},{"$f":"SUM(F12:F13)","v":137489},{"$f":"SUM(G12:G13)","v":128096},{"$f":"+I11+J11+K11+L11","v":6910},{"$f":"SUM(I12:I13)","v":4140},{"$f":"SUM(J12:J13)","v":2621},{"$f":"SUM(K12:K13)","v":91},{"$f":"SUM(L12:L13)","v":58}]
["MONTEVIDEO",{"$f":"+C12+D12","v":83724},{"$f":"+F12+I12+K12","v":43435},40289,{"$f":"+F12+G12","v":81008},{"$f":"'II-2.2.1'!F10","v":41765},{"$f":"'II-2.2.1'!G10","v":39243},{"$f":"+I12+J12+K12+L12","v":2716},1670,1046,0,0]
["RESTO DEL PAÍS",188771,98285,90486,{"$f":"+F13+G13","v":184577},{"$f":"SUM(F14:F31)","v":95724},88853,4194,2470,1575,91,58]
["Artigas",8575,4502,4073,{"$f":"+F14+G14","v":8388},{"$f":"'II-2.2.1'!F12","v":4387},{"$f":"'II-2.2.1'!G12","v":4001},187,109,68,6,4]
["Canelones",44909,23341,21568,44161,{"$f":"'II-2.2.1'!F13","v":22864},{"$f":"'II-2.2.1'!G13","v":21297},748,449,264,28,7]
["Cerro Largo",9064,4671,4393,8832,{"$f":"'II-2.2.1'!F14","v":4533},{"$f":"'II-2.2.1'!G14","v":4299},232,129,90,9,4]
["Colonia",10875,5617,5258,10633,{"$f":"'II-2.2.1'!F15","v":5457},{"$f":"'II-2.2.1'!G15","v":5176},242,153,79,7,3]
["Durazno",5718,2977,2741,5522,{"$f":"'II-2.2.1'!F16","v":2859},{"$f":"'II-2.2.1'!G16","v":2663},196,113,69,5,9]
["Flores",2201,1071,1130,2151,{"$f":"'II-2.2.1'!F17","v":1040},{"$f":"'II-2.2.1'!G17","v":1111},50,31,19,0,0]
["Florida",6401,3321,3080,6241,{"$f":"'II-2.2.1'!F18","v":3223},{"$f":"'II-2.2.1'!G18","v":3018},160,96,58,2,4]
["Lavalleja",5075,2679,2396,4912,{"$f":"'II-2.2.1'!F19","v":2585},{"$f":"'II-2.2.1'!G19","v":2327},163,90,67,4,2]
["Maldonado",13754,7146,6608,13473,{"$f":"'II-2.2.1'!F20","v":6988},{"$f":"'II-2.2.1'!G20","v":6485},281,158,123,0,0]
["Paysandú",11877,6263,5614,11672,{"$f":"'II-2.2.1'!F21","v":6145},{"$f":"'II-2.2.1'!G21","v":5527},205,108,80,10,7]
["Río Negro",5807,3023,2784,5642,{"$f":"'II-2.2.1'!F22","v":2936},{"$f":"'II-2.2.1'!G22","v":2706},165,86,75,1,3]
["Rivera",11104,5866,5238,10887,{"$f":"'II-2.2.1'!F23","v":5728},{"$f":"'II-2.2.1'!G23","v":5159},217,138,79,0,0]
["Rocha",6877,3606,3271,6625,{"$f":"'II-2.2.1'!F24","v":3450},{"$f":"'II-2.2.1'!G24","v":3175},252,156,96,0,0]
["Salto",13546,7110,6436,13194,{"$f":"'II-2.2.1'!F25","v":6897},{"$f":"'II-2.2.1'!G25","v":6297},352,211,134,2,5]
["San José",10119,5284,4835,9895,{"$f":"'II-2.2.1'!F26","v":5141},{"$f":"'II-2.2.1'!G26","v":4754},224,138,81,5,0]
["Soriano",8602,4403,4199,8396,{"$f":"'II-2.2.1'!F27","v":4275},{"$f":"'II-2.2.1'!G27","v":4121},206,126,78,2,0]
["Tacuarembó",9453,4918,4535,9260,{"$f":"'II-2.2.1'!F28","v":4803},{"$f":"'II-2.2.1'!G28","v":4457},193,108,70,7,8]
["Treinta y Tres",4814,2487,2327,4693,{"$f":"'II-2.2.1'!F29","v":2413},{"$f":"'II-2.2.1'!G29","v":2280},121,71,45,3,2]
["Fuente: Procesamiento propio en base a datos proporcionados por el D.E.E. — C.E.I.P."]

{"sheet":"II-2.2.3","index":191,"n_rows":32,"n_cols":14,"rows_kept":32,"cut":false,"hidden":false,"merged":[[8,6,9,6],[8,4,9,4],[8,5,9,5],[8,7,9,7],[8,8,9,8],[8,10,9,10],[8,11,9,11],[0,9,1,11],[4,0,4,11],[5,0,9,0],[5,1,9,1],[5,2,5,11],[6,2,6,8],[6,10,6,11],[7,2,9,2],[7,3,7,8],[7,9,9,9],[7,10,7,11],[8,3,9,3]]}
["CONSEJO DE EDUCACIÓN PRIMARIA",null,null,null,null,null,null,null,null,"ALUMNOS MATRICULADOS"]
[]
["Cuadro Nº II-2.2.3"]
[]
["ALUMNOS MATRICULADOS EN EDUCACIÓN PRIMARIA PÚBLICA COMÚN POR ÁREA DEMOGRÁFICA Y CATEGORÍA SEGÚN DEPARTAMENTO AÑO 2012.",null,null,null,null,null,null,null,null,null,null,null,null,"VOLVER"]
["DEPARTAMENTO","TOTAL","ÁREA DEMOGRÁFICA"]
[null,null,"URBANA",null,null,null,null,null,null,null,"RURAL"]
[null,null,"Total Urbana","CATEGORÍA",null,null,null,null,null,"Total Rural","CATEGORÍA"]
[null,null,null,"Común","De Práctica","Tiempo Completo","Aprender","Tiempo Extendido","JICI",null,"Común","Internado Rural"]
[]
["TOTAL",{"$f":"+C11+J11","v":266349},{"$f":"+D11+E11+F11+G11+H11+I11","v":249885},{"$f":"SUM(D12:D13)","v":95170},41185,30238,80289,2239,764,{"$f":"+K11+L11","v":16464},{"$f":"SUM(K12:K13)","v":16346},{"$f":"SUM(L12:L13)","v":118}]
["MONTEVIDEO",{"$f":"+C12+J12","v":81296},{"$f":"+D12+E12+F12+G12+H12+I12","v":81296},32143,6396,9246,32313,910,288,{"$f":"+K12+L12","v":0},0,0]
["RESTO DEL PAÍS",{"$f":"+C13+J13","v":185053},{"$f":"+D13+E13+F13+G13+H13+I13","v":168589},{"$f":"SUM(D14:D31)","v":63027},34789,20992,47976,1329,476,16464,{"$f":"SUM(K14:K31)","v":16346},{"$f":"SUM(L14:L31)","v":118}]
["Artigas",{"$f":"+C14+J14","v":8388},{"$f":"+D14+E14+F14+G14+H14+I14","v":7625},1968,1682,1334,2518,123,0,763,726,37]
["Canelones",44257,{"$f":"+D15+E15+F15+G15+H15+I15","v":41598},14776,6391,3866,16219,250,96,2659,2659,0]
["Cerro Largo",8882,7903,2442,1723,781,2732,175,50,979,979,0]
["Colonia",10667,9545,6296,1842,779,527,67,34,1122,1122,0]
["Durazno",5569,5072,1374,1606,770,1275,0,47,497,497,0]
["Flores",2151,1904,879,537,362,0,126,0,247,229,18]
["Florida",6241,5435,2167,1572,718,510,468,0,806,806,0]
["Lavalleja",4912,4463,1609,1334,792,728,0,0,449,449,0]
["Maldonado",13473,12832,6909,2268,1438,2217,0,0,641,626,15]
["Paysandú",11699,10552,3528,1996,1474,3527,0,27,1147,1110,37]
["Río Negro",5680,5115,2587,1478,463,549,0,38,565,554,11]
["Rivera",10931,9835,2629,1687,1216,4259,0,44,1096,1096,0]
["Rocha",6625,6329,3117,1152,837,1223,0,0,296,296,0]
["Salto",13194,11738,2135,3109,2316,4178,0,0,1456,1456,0]
["San José",9985,8734,3991,1707,1166,1780,0,90,1251,1251,0]
["Soriano",8396,7635,2768,1657,1046,2164,0,0,761,761,0]
["Tacuarembó",9260,7933,2250,1355,938,3270,120,0,1327,1327,0]
["Treinta y Tres",4743,4341,1602,1693,696,300,0,50,402,402,0]
["Fuente: Procesamiento propio en base a datos proporcionados por el D.E.E .— C.E.I.P."]

{"sheet":"II-2.2.4","index":192,"n_rows":33,"n_cols":6,"rows_kept":33,"cut":false,"hidden":false,"merged":[[32,0,32,5],[0,4,1,5],[4,0,4,5],[5,0,7,1],[5,2,7,2],[5,3,5,5],[6,3,7,3],[6,4,7,4],[6,5,7,5]]}
["CONSEJO DE EDUCACIÓN PRIMARIA",null,null,null,"Alumnos matriculados"]
[]
["Cuadro Nº II-2.2.4"]
[]
["ALUMNOS MATRICULADOS EN EDUCACIÓN PRIMARIA PÚBLICA ESPECIAL POR TIPO DE DISCAPACIDAD SEGÚN DEPARTAMENTO. AÑO 2012."]
["DEPARTAMENTO",null,"TOTAL","DISCAPACIDAD"]
[null,null,null,"Intelectual","Auditiva","Visual"]
[]
["TOTAL",null,{"$f":"+C11+C12","v":6910},{"$f":"SUM(D11:D12)","v":6547},{"$f":"SUM(E11:E12)","v":285},{"$f":"SUM(F11:F12)","v":78}]
[]
["MONTEVIDEO",null,{"$f":"+D11+E11+F11","v":2716},2567,92,57]
["RESTO DEL PAÍS",null,{"$f":"SUM(C13:C30)","v":4194},{"$f":"SUM(D13:D30)","v":3980},{"$f":"SUM(E13:E30)","v":193},{"$f":"SUM(F13:F30)","v":21}]
["Artigas",null,{"$f":"+D13+E13+F13","v":187},177,10,0]
["Canelones",null,748,723,25,0]
["Cerro Largo",null,232,219,13,0]
["Colonia",null,242,232,10,0]
["Durazno",null,196,182,11,3]
["Flores",null,50,50,0,0]
["Florida",null,160,154,6,0]
["Lavalleja",null,163,157,6,0]
["Maldonado",null,281,261,20,0]
["Paysandú",null,205,188,13,4]
["Río Negro",null,165,161,4,0]
["Rivera",null,217,201,16,0]
["Rocha",null,252,252,0,0]
["Salto",null,352,306,39,7]
["San José",null,224,219,5,0]
["Soriano",null,206,204,2,0]
["Tacuarembó",null,193,178,8,7]
["Treinta y Tres",null,121,116,5,0]
["Fuente: D.E.E. — C.E.P."]
["Nota:  Incluyen Escuelas Especiales y Clases Especiales en Escuelas Comunes."]
["Para el Interior del país las clases orientadas a discapacitados visuales y    fonoaudiología se realizan en  Escuelas Comunes,  excepto en Maldonado, Rivera y Salto donde funcionan Escuelas de Fonoaudiología."]

{"sheet":"II-2.2.5","index":193,"n_rows":32,"n_cols":44,"rows_kept":32,"cut":false,"hidden":false,"merged":[[5,1,9,1],[5,2,9,2],[5,3,9,3],[0,13,1,17],[7,4,7,43],[8,6,9,6],[8,7,9,7],[8,17,9,17],[8,18,9,18],[8,19,9,19],[8,13,9,13],[8,14,9,14],[8,15,9,15],[8,8,9,8],[8,9,9,9],[8,16,9,16],[8,26,9,26],[8,27,9,27],[8,25,9,25],[4,0,4,15],[5,0,9,0],[6,4,6,5],[6,6,6,7],[6,8,6,9],[6,10,6,11],[6,12,6,13],[6,14,6,15],[8,4,9,4],[8,5,9,5],[8,10,9,10],[8,11,9,11],[8,12,9,12],[8,20,9,20],[8,21,9,21],[8,22,9,22],[8,23,9,23],[8,24,9,24],[8,28,9,28],[8,29,9,29],[8,30,9,30],[8,31,9,31],[8,32,9,32],[8,33,9,33],[8,34,9,34],[8,35,9,35],[8,36,9,36],[8,37,9,37],[8,40,9,40],[8,41,9,41],[8,42,9,42],[8,43,9,43],[8,38,9,38],[8,39,9,39],[5,4,5,43],[6,40,6,41],[6,42,6,43],[6,36,6,37],[6,38,6,39],[6,28,6,29],[6,30,6,31],[6,32,6,33],[6,34,6,35],[6,26,6,27],[6,16,6,17],[6,18,6,19],[6,20,6,21],[6,22,6,23],[6,24,6,25]]}
["CONSEJO DE EDUCACIÓN PRIMARIA",null,null,null,null,null,null,null,null,null,null,null,null,"ALUMNOS MATRICULADOS"]
[]
["Cuadro Nº II-2.2.5"]
[]
["ALUMNOS MATRICULADOS EN EDUCACIÓN ESPECIAL PÚBLICA POR EDADES SIMPLES Y SEXO SEGÚN DEPARTAMENTO AÑO 2012"]
["DEPARTAMENTO","TOTAL GENERAL","TOTAL MASCULINO","TOTAL FEMENINO","EDAD"]
[null,null,null,null,"Menos de 3 años",null,"3 años",null,"4 años",null,"5 años",null,"6 años",null,"7 años",null,"8 años",null,"9 años",null,"10 años",null,"11 años",null,"12 años",null,"13 años",null,"14 años",null,"15 años",null,"16 años",null,"17 años",null,"18 años",null,"19 años",null,"20 años",null,"21 años"]
[null,null,null,null,"SEXO"]
[null,null,null,null,"M","F","M","F","M","F","M","F","M","F","M","F","M","F","M","F","M","F","M","F","M","F","M","F","M","F","M","F","M","F","M","F","M","F","M","F","M","F","M","F"]
[]
["TOTAL",6910,4231,2679,{"$f":"SUM(E12:E13)","v":4},1,7,3,30,11,54,44,129,88,228,156,{"$f":"SUM(Q12:Q13)","v":350},229,440,272,475,280,481,289,488,265,465,292,449,232,212,161,129,127,95,70,49,40,28,28,23,21,95,70]
["MONTEVIDEO",2716,1670,1046,1,1,4,3,12,4,23,13,50,33,85,53,96,85,167,102,177,91,190,90,187,102,168,102,171,88,75,70,67,65,55,38,31,22,21,21,15,16,75,47]
["RESTO DEL PAÍS",4194,2561,1633,{"$f":"SUM(E14:E31)","v":3},0,3,0,18,7,31,31,79,55,143,103,254,144,273,170,298,189,291,199,301,163,297,190,278,144,137,91,62,62,40,32,18,18,7,7,8,5,20,23]
["Artigas",187,115,72,0,0,0,0,2,1,2,0,3,2,8,10,19,5,13,5,9,10,9,7,9,7,24,9,9,10,4,2,2,2,2,2,0,0,0,0,0,0,0,0]
["Canelones",748,477,271,0,0,1,0,6,0,8,3,14,9,29,16,48,24,45,33,53,27,43,24,48,20,58,33,67,30,33,24,11,15,6,7,4,3,0,3,1,0,2,0]
["Cerro Largo",232,138,94,0,0,0,0,0,0,1,1,4,1,8,3,13,5,18,6,14,12,16,14,6,7,22,17,16,8,7,6,2,6,3,1,1,2,1,0,2,0,4,5]
["Colonia",242,160,82,0,0,0,0,0,0,0,2,6,2,7,4,15,6,9,7,14,7,17,4,21,6,19,15,20,5,9,9,15,8,3,2,3,2,2,2,0,0,0,1]
["Durazno",196,118,78,0,0,0,0,2,0,1,3,3,3,9,4,11,4,8,11,14,4,13,10,16,4,12,10,13,8,6,5,2,4,6,6,1,0,1,1,0,0,0,1]
["Flores",50,31,19,0,0,0,0,0,0,0,0,0,0,3,1,1,4,3,2,1,0,4,3,6,3,2,2,7,1,1,1,1,0,1,1,0,0,0,0,1,1,0,0]
["Florida",160,98,62,0,0,0,0,0,1,0,0,0,0,4,4,11,4,11,10,12,9,13,4,13,7,12,7,11,9,6,3,1,0,2,3,0,0,0,0,0,0,2,1]
["Lavalleja",163,94,69,0,0,0,0,0,0,1,0,3,1,4,3,7,5,4,9,10,7,11,9,11,3,6,5,2,0,11,5,3,2,3,2,2,1,2,0,2,4,12,13]
["Maldonado",281,158,123,2,0,1,0,2,2,1,1,5,7,5,10,17,14,24,13,25,19,21,17,23,17,12,8,14,5,3,3,3,1,0,2,0,4,0,0,0,0,0,0]
["Paysandú",205,118,87,0,0,0,0,1,1,2,3,5,4,9,6,10,8,23,10,13,8,13,14,13,18,13,4,7,7,5,0,1,3,2,0,0,0,0,0,1,0,0,1]
["Río Negro",165,87,78,0,0,0,0,0,0,5,1,2,2,6,1,7,5,6,8,11,9,12,8,12,11,9,9,7,9,5,3,1,5,0,4,4,2,0,0,0,0,0,1]
["Rivera",217,138,79,1,0,1,0,0,0,0,2,4,2,5,7,12,7,13,8,18,11,21,15,24,10,19,9,8,8,8,0,3,0,1,0,0,0,0,0,0,0,0,0]
["Rocha",252,156,96,0,0,0,0,0,0,2,2,6,2,20,11,19,17,20,8,13,8,14,11,20,5,10,2,15,7,5,14,6,7,3,1,2,1,0,0,1,0,0,0]
["Salto",352,213,139,0,0,0,0,2,2,4,4,14,9,7,7,20,13,18,12,22,18,36,14,27,14,25,20,27,15,9,9,2,2,0,0,0,0,0,0,0,0,0,0]
["San José",224,143,81,0,0,0,0,0,0,1,0,1,4,8,3,14,5,20,6,25,14,17,19,13,9,21,15,19,6,4,0,0,0,0,0,0,0,0,0,0,0,0,0]
["Soriano",206,128,78,0,0,0,0,0,0,0,3,4,2,3,5,16,7,16,13,15,7,14,12,23,8,13,10,13,6,7,3,2,1,2,0,0,1,0,0,0,0,0,0]
["Tacuarembó",193,115,78,0,0,0,0,3,0,3,5,3,4,5,5,11,4,17,7,12,15,13,10,11,6,8,9,13,5,9,0,1,4,4,1,1,2,1,1,0,0,0,0]
["Treinta y Tres",121,74,47,0,0,0,0,0,0,0,1,2,1,3,3,3,7,5,2,17,4,4,4,5,8,12,6,10,5,5,4,6,2,2,0,0,0,0,0,0,0,0,0]
["Fuente: Procesamiento propio en base a datos proporcionados por el DEE — CEIP"]

{"sheet":"II-2.2.6","index":194,"n_rows":126,"n_cols":46,"rows_kept":126,"cut":false,"hidden":false,"merged":[[0,4,1,5],[4,0,4,5],[5,0,8,0],[5,1,5,5],[6,1,8,1],[6,2,6,4],[6,5,8,5],[7,2,8,2],[7,3,8,3],[7,4,8,4]]}
["CONSEJO DE EDUCACIÓN PRIMARIA",null,null,null,"ALUMNOS MATRICULADOS"]
[]
["Cuadro Nº II-2.2.6"]
[]
["ALUMNOS MATRICULADOS EN EDUCACIÓN PRIMARIA PRIVADA POR TIPO DE EDUCACIÓN SEGÚN DEPARTAMENTO AÑO 2012"]
["DEPARTAMENTO","TIPO DE EDUCACIÓN"]
[null,"TOTAL","EDUCACIÓN COMÚN",null,null,"EDUCACIÓN ESPECIAL"]
[null,null,"Total","Habilitados","Autorizados"]
[]
["TOTAL DEL PAÍS",{"$f":"SUM(B11:B12)","v":56483.000000000007},{"$f":"+D10+E10","v":52889.000000000007},{"$f":"D11+D12","v":50194.000000000007},{"$f":"E11+E12","v":2695},{"$f":"F11+F12","v":3594}]
["MONTEVIDEO",{"$f":"+C11+F11","v":35083.000000000007},{"$f":"+D11+E11","v":32646.000000000007},30385.000000000007,2261,2437,null,null,null,null,null,null,null,null,null,null,null,null,null,null,null,null,null,null,null,null,null,null,null,null,null,null,null,null,null,null,null,null,null,null,null,null,null,null,null,"MONTEVIDEO"]
["RESTO DEL PAÍS",{"$f":"+C12+F12","v":21400},{"$f":"+D12+E12","v":20243},{"$f":"SUM(D13:D30)","v":19809},{"$f":"SUM(E13:E30)","v":434},{"$f":"SUM(F13:F30)","v":1157},null,null,null,null,null,null,null,null,null,null,null,null,null,null,null,null,null,null,null,null,null,null,null,null,null,null,null,null,null,null,null,null,null,null,null,null,null,null,null,"RESTO DEL PAÍS"]
["Artigas",{"$f":"+C13+F13","v":260},{"$f":"+D13+E13","v":118},118,0,142,null,null,null,null,null,null,null,null,null,null,null,null,null,null,null,null,null,null,null,null,null,null,null,null,null,null,null,null,null,null,null,null,null,null,null,null,null,null,null,"Artigas"]
["Canelones",7410.0000000000018,{"$f":"+D14+E14","v":7338.0000000000018},6951.0000000000018,387,72,null,null,null,null,null,null,null,null,null,null,null,null,null,null,null,null,null,null,null,null,null,null,null,null,null,null,null,null,null,null,null,null,null,null,null,null,null,null,null,"Canelones"]
["Cerro Largo",598,598,598,0,0,null,null,null,null,null,null,null,null,null,null,null,null,null,null,null,null,null,null,null,null,null,null,null,null,null,null,null,null,null,null,null,null,null,null,null,null,null,null,null,"Cerro Largo"]
["Colonia",791.99999999999989,791.99999999999989,791.99999999999989,0,0,null,null,null,null,null,null,null,null,null,null,null,null,null,null,null,null,null,null,null,null,null,null,null,null,null,null,null,null,null,null,null,null,null,null,null,null,null,null,null,"Colonia"]
["Durazno",661,661,661,0,0,null,null,null,null,null,null,null,null,null,null,null,null,null,null,null,null,null,null,null,null,null,null,null,null,null,null,null,null,null,null,null,null,null,null,null,null,null,null,null,"Durazno"]
["Flores",341,341,341,0,0,null,null,null,null,null,null,null,null,null,null,null,null,null,null,null,null,null,null,null,null,null,null,null,null,null,null,null,null,null,null,null,null,null,null,null,null,null,null,null,"Flores"]
["Florida",304,304,304,0,0,null,null,null,null,null,null,null,null,null,null,null,null,null,null,null,null,null,null,null,null,null,null,null,null,null,null,null,null,null,null,null,null,null,null,null,null,null,null,null,"Florida"]
["Lavalleja",656,656,656,0,0,null,null,null,null,null,null,null,null,null,null,null,null,null,null,null,null,null,null,null,null,null,null,null,null,null,null,null,null,null,null,null,null,null,null,null,null,null,null,null,"Lavalleja"]
["Maldonado",3999,3856,3856,0,143,null,null,null,null,null,null,null,null,null,null,null,null,null,null,null,null,null,null,null,null,null,null,null,null,null,null,null,null,null,null,null,null,null,null,null,null,null,null,null,"Maldonado"]
["Paysandú",1354,1162,1162,0,192,null,null,null,null,null,null,null,null,null,null,null,null,null,null,null,null,null,null,null,null,null,null,null,null,null,null,null,null,null,null,null,null,null,null,null,null,null,null,null,"Paysandú"]
["Río Negro",434,434,404,30,0,null,null,null,null,null,null,null,null,null,null,null,null,null,null,null,null,null,null,null,null,null,null,null,null,null,null,null,null,null,null,null,null,null,null,null,null,null,null,null,"Río Negro"]
["Rivera",668,668,668,0,0,null,null,null,null,null,null,null,null,null,null,null,null,null,null,null,null,null,null,null,null,null,null,null,null,null,null,null,null,null,null,null,null,null,null,null,null,null,null,null,"Rivera"]
["Rocha",470,397,397,0,73,null,null,null,null,null,null,null,null,null,null,null,null,null,null,null,null,null,null,null,null,null,null,null,null,null,null,null,null,null,null,null,null,null,null,null,null,null,null,null,"Rocha"]
["Salto",1333,1083,1083,0,250,null,null,null,null,null,null,null,null,null,null,null,null,null,null,null,null,null,null,null,null,null,null,null,null,null,null,null,null,null,null,null,null,null,null,null,null,null,null,null,"Salto"]
["San José",580,580,563,17,0,null,null,null,null,null,null,null,null,null,null,null,null,null,null,null,null,null,null,null,null,null,null,null,null,null,null,null,null,null,null,null,null,null,null,null,null,null,null,null,"San José"]
["Soriano",722,437,437,0,285,null,null,null,null,null,null,null,null,null,null,null,null,null,null,null,null,null,null,null,null,null,null,null,null,null,null,null,null,null,null,null,null,null,null,null,null,null,null,null,"Soriano"]
["Tacuarembó",619,619,619,0,0,null,null,null,null,null,null,null,null,null,null,null,null,null,null,null,null,null,null,null,null,null,null,null,null,null,null,null,null,null,null,null,null,null,null,null,null,null,null,null,"Tacuarembó"]
["Treinta y Tres",199,199,199,0,0,null,null,null,null,null,null,null,null,null,null,null,null,null,null,null,null,null,null,null,null,null,null,null,null,null,null,null,null,null,null,null,null,null,null,null,null,null,null,null,"Treinta y Tres"]
["Fuente: Procesamiento propio en base a datos proporcionados por el D.E.E. — C.E.I.P."]
["Nota: Especial incluye la matrícula de clases especiales en escuelas comunes, "]
["      Instrucción Temprana, Educación Inicial, Preparatorio y Talleres"]
[]
[]
[]
[]
[]
[]
[]
[]
[]
[]
[]
[]
[]
[]
[]
[]
[]
[]
[]
[]
[]
[]
[]
[]
[]
[]
[]
[]
[]
[]
[]
[]
[]
[]
[]
[]
[]
[]
[]
[]
[]
[]
[]
[]
[]
[]
[]
[]
[]
[]
[]
[]
[]
[]
[]
[]
[]
[]
[]
[]
[]
[]
[]
[]
[]
[]
[]
[]
[]
[]
[]
[]
[]
["30025 "," 2163",2209]
[19484,397,1758]
[92,0,162]
[6669,344,0]
[615,0,0]
[724,0,0]
[634,0,0]
[361,0,7]
[296,0,62]
[615,0,0]
[3879,0,141]
[1175,0,276]
[428,33,149]
[673,0,7]
[413,0,87]
[1089,0,208]
[556,20,0]
[435,0,659]
[643,0,0]
[187,0,0]

{"sheet":"II-2.2.7","index":195,"n_rows":32,"n_cols":44,"rows_kept":32,"cut":false,"hidden":false,"merged":[[0,13,1,20],[4,0,4,15],[5,0,9,0],[5,4,5,43],[6,4,6,5],[6,6,6,7],[6,8,6,9],[6,10,6,11],[6,12,6,13],[7,4,7,43],[6,36,6,37],[6,14,6,15],[6,16,6,17],[6,18,6,19],[6,20,6,21],[6,22,6,23],[6,24,6,25],[6,38,6,39],[6,40,6,41],[6,42,6,43],[6,26,6,27],[6,28,6,29],[6,30,6,31],[6,32,6,33],[6,34,6,35],[8,4,9,4],[8,5,9,5],[8,6,9,6],[8,7,9,7],[5,1,9,1],[5,2,9,2],[5,3,9,3],[8,8,9,8],[8,9,9,9],[8,10,9,10],[8,11,9,11],[8,23,9,23],[8,12,9,12],[8,13,9,13],[8,14,9,14],[8,15,9,15],[8,16,9,16],[8,17,9,17],[8,18,9,18],[8,19,9,19],[8,20,9,20],[8,21,9,21],[8,22,9,22],[8,35,9,35],[8,24,9,24],[8,25,9,25],[8,26,9,26],[8,27,9,27],[8,28,9,28],[8,29,9,29],[8,30,9,30],[8,31,9,31],[8,32,9,32],[8,33,9,33],[8,34,9,34],[8,42,9,42],[8,43,9,43],[8,36,9,36],[8,37,9,37],[8,38,9,38],[8,39,9,39],[8,40,9,40],[8,41,9,41]]}
["CONSEJO DE EDUCACIÓN PRIMARIA",null,null,null,null,null,null,null,null,null,null,null,null,"ALUMNOS MATRICULADOS"]
[]
["Cuadro Nº II-2.2.7"]
[]
["ALUMNOS MATRICULADOS EN EDUCACIÓN ESPECIAL PRIVADA POR EDADES SIMPLES Y SEXO SEGÚN DEPARTAMENTO AÑO 2012"]
["DEPARTAMENTO","TOTAL GENERAL","TOTAL MASCULINO","TOTAL FEMENINO","EDAD"]
[null,null,null,null,"Menos de 3 años",null,"3 años",null,"4 años",null,"5 años",null,"6 años",null,"7 años",null,"8 años",null,"9 años",null,"10 años",null,"11 años",null,"12 años",null,"13 años",null,"14 años",null,"15 años",null,"16 años",null,"17 años",null,"18 años",null,"19 años",null,"20 años",null,"21 años"]
[null,null,null,null,"SEXO"]
[null,null,null,null,"M","F","M","F","M","F","M","F","M","F","M","F","M","F","M","F","M","F","M","F","M","F","M","F","M","F","M","F","M","F","M","F","M","F","M","F","M","F","M","F"]
[]
["TOTAL",{"$f":"C11+D11","v":3594},{"$f":"E11+G11+I11+K11+M11+O11+Q11+S11+U11+W11+Y11+AA11+AC11+AE11+AG11+AI11+AK11+AM11+AO11+AQ11","v":2021},1573,{"$f":"SUM(E12:E13)","v":26},16.000000000000004,25.000000000000004,15.000000000000002,21,16,71,49.000000000000007,72,42,66,53,104,70,118.99999999999997,68,113,63,146,88.000000000000014,92.000000000000014,64,96.999999999999986,58,94,59,86,78.000000000000028,64,72,57.000000000000007,56.000000000000007,77,51,51,27,62.000000000000007,129,578.00000000000011,499.00000000000011]
["MONTEVIDEO",{"$f":"C12+D12","v":2437},1372,1065,12.000000000000002,8.0000000000000036,19.000000000000004,10.000000000000002,15.000000000000002,9,53.999999999999993,34.000000000000007,48.999999999999993,29,49.999999999999993,45,84,53,89.999999999999972,50.999999999999993,74,45,105,57.000000000000014,53.000000000000014,41,59.999999999999986,30.000000000000004,51,41,57,49.000000000000028,37.000000000000007,40.000000000000007,38.000000000000007,32.000000000000007,52,30.000000000000004,37,16,47.000000000000007,113,388.00000000000011,332.00000000000011]
["RESTO DEL PAÍS",{"$f":"C13+D13","v":1157},649,508,{"$f":"SUM(E14:E31)","v":14},{"$f":"SUM(F14:F31)","v":8},6,5,6,7,17,15,23,13,16,8,20,17,29,17,39,18,41,31,39,23,37,28,43,18,29,29,27,32,19,24,25,21,14,11,15,16,190,167]
["Artigas",{"$f":"C14+D14","v":142},{"$f":"E14+G14+I14+K14+M14+O14+Q14+S14+U14+W14+Y14+AA14+AC14+AE14+AG14+AI14+AK14+AM14+AO14+AQ14","v":79},{"$f":"F14+H14+J14+L14+N14+P14+R14+T14+V14+X14+Z14+AB14+AD14+AF14+AH14+AJ14+AL14+AN14+AP14+AR14","v":63},0,0,0,0,0,0,0,0,0,1,1,0,1,3,1,1,0,2,2,2,1,0,2,2,9,5,8,4,12,7,5,4,4,4,3,2,3,8,27,18]
["Canelones",72,44,28,9,2,2,4,0,0,4,3,0,2,1,0,2,1,3,1,2,0,3,1,0,0,1,0,1,0,1,0,1,0,2,7,1,0,0,0,1,1,10,6]
["Cerro Largo",0,0,0,0,0,0,0,0,0,0,0,0,0,0,0,0,0,0,0,0,0,0,0,0,0,0,0,0,0,0,0,0,0,0,0,0,0,0,0,0,0,0,0]
["Colonia",0,0,0,0,0,0,0,0,0,0,0,0,0,0,0,0,0,0,0,0,0,0,0,0,0,0,0,0,0,0,0,0,0,0,0,0,0,0,0,0,0,0,0]
["Durazno",0,0,0,0,0,0,0,0,0,0,0,0,0,0,0,0,0,0,0,0,0,0,0,0,0,0,0,0,0,0,0,0,0,0,0,0,0,0,0,0,0,0,0]
["Flores",0,0,0,0,0,0,0,0,0,0,0,0,0,0,0,0,0,0,0,0,0,0,0,0,0,0,0,0,0,0,0,0,0,0,0,0,0,0,0,0,0,0,0]
["Florida",0,0,0,0,0,0,0,0,0,0,0,0,0,0,0,0,0,0,0,0,0,0,0,0,0,0,0,0,0,0,0,0,0,0,0,0,0,0,0,0,0,0,0]
["Lavalleja",0,0,0,0,0,0,0,0,0,0,0,0,0,0,0,0,0,0,0,0,0,0,0,0,0,0,0,0,0,0,0,0,0,0,0,0,0,0,0,0,0,0,0]
["Maldonado",143,77,66,0,1,0,0,2,0,0,1,2,2,2,1,0,0,2,1,6,2,8,11,3,5,7,4,11,2,4,5,4,3,4,6,5,3,3,2,2,3,12,14]
["Paysandú",192,100,92,2,0,0,0,1,1,0,1,3,1,0,1,1,0,2,0,2,3,1,3,4,4,3,3,4,4,5,6,3,6,2,3,5,7,3,3,3,2,56,44]
["Río Negro",0,0,0,0,0,0,0,0,0,0,0,0,0,0,0,0,0,0,0,0,0,0,0,0,0,0,0,0,0,0,0,0,0,0,0,0,0,0,0,0,0,0,0]
["Rivera",0,0,0,0,0,0,0,0,0,0,0,0,0,0,0,0,0,0,0,0,0,0,0,0,0,0,0,0,0,0,0,0,0,0,0,0,0,0,0,0,0,0,0]
["Rocha",73,40,33,0,0,0,0,0,0,1,1,1,1,0,1,0,0,0,0,3,0,4,2,1,3,2,1,1,1,0,3,1,1,0,0,3,0,0,0,1,0,22,19]
["Salto",250,153,97,1,0,4,1,2,5,10,8,10,5,11,3,6,10,10,10,23,7,13,7,18,9,13,11,8,3,4,8,2,7,2,0,2,0,1,0,1,0,12,3]
["San José",0,0,0,0,0,0,0,0,0,0,0,0,0,0,0,0,0,0,0,0,0,0,0,0,0,0,0,0,0,0,0,0,0,0,0,0,0,0,0,0,0,0,0]
["Soriano",285,156,129,2,5,0,0,1,1,2,1,7,1,1,2,10,3,11,4,3,4,10,5,12,2,9,7,9,3,7,3,4,8,4,4,5,7,4,4,4,2,51,63]
["Tacuarembó",0,0,0,0,0,0,0,0,0,0,0,0,0,0,0,0,0,0,0,0,0,0,0,0,0,0,0,0,0,0,0,0,0,0,0,0,0,0,0,0,0,0,0]
["Treinta y Tres",0,0,0,0,0,0,0,0,0,0,0,0,0,0,0,0,0,0,0,0,0,0,0,0,0,0,0,0,0,0,0,0,0,0,0,0,0,0,0,0,0,0,0]
["Fuente: Procesamiento propio en base a datos proporcionados por el DEE — CEIP"]

{"sheet":"II-2.2.8","index":196,"n_rows":22,"n_cols":15,"rows_kept":22,"cut":false,"hidden":false,"merged":[[0,12,1,14],[2,0,3,1],[4,0,4,14],[5,0,9,0],[5,3,5,14],[6,1,8,2],[6,3,7,4],[6,5,7,6],[6,7,7,8],[6,9,7,10],[6,11,7,12],[6,13,7,14],[8,3,8,14]]}
["CONSEJO DE EDUCACIÓN PRIMARIA",null,null,null,null,null,null,null,null,null,null,null,"ALUMNOS MATRICULADOS"]
[]
["Cuadro Nº II-2.2.8"]
[]
["ALUMNOS MATRICULADOS EN EDUCACIÓN PRIMARIA COMÚN POR GRADO Y FORMA DE ADMINISTRACIÓN SEGÚN EDAD AÑO 2012"]
["EDAD",null,null,"GRADO"]
[null,"TOTAL",null,"Primero",null,"Segundo",null,"Tercero",null,"Cuarto",null,"Quinto",null,"Sexto"]
[]
[null,null,null,"FORMA DE ADMINISTRACIÓN"]
[null,"Pública","Privada","Pública","Privada","Pública","Privada","Pública","Privada","Pública","Privada","Pública","Privada","Pública","Privada"]
["TOTAL",{"$f":"SUM(B12:B20)","v":265584.99999999994},{"$f":"SUM(C12:C20)","v":52889.000000000015},{"$f":"SUM(D12:D20)","v":44156.999999999993},{"$f":"SUM(E12:E20)","v":9297},{"$f":" SUM(F12:F20)","v":43761},{"$f":"SUM(G12:G20)","v":9242},{"$f":"SUM(H12:H20)","v":43721.999999999964},9031.0000000000073,{"$f":"SUM(J12:J20)","v":44727.999999999978},8564.0000000000036,{"$f":"SUM(L12:L20)","v":44904.000000000015},8360.9999999999982,{"$f":"SUM(N12:N20)","v":44313.000000000029},8393.9999999999964]
["6  años",{"$f":"+D12+F12+H12+J12+L12+N12","v":34187.999999999985},{"$f":"+E12","v":7923},34187.999999999985,{"$f":"'II-2.2.10'!E10+'II-2.2.10'!F10","v":7923},0,null,0,null,0,null,0,null,0,0]
["7  años",39939.999999999993,{"$f":"+E13+G13","v":9012},9024.0000000000055,{"$f":"'II-2.2.10'!E11+'II-2.2.10'!F11","v":1313.9999999999998},30915.999999999985,{"$f":"'II-2.2.10'!G11+'II-2.2.10'!H11","v":7698},0,null,0,null,0,null,0,0]
["8  años",40519.000000000007,{"$f":"+E14+G14+I14","v":9116.0000000000073},869.00000000000045,{"$f":"'II-2.2.10'!E12+'II-2.2.10'!F12","v":56},10664.000000000016,{"$f":"'II-2.2.10'!G12+'II-2.2.10'!H12","v":1444.0000000000009},28985.999999999989,{"$f":"'II-2.2.10'!I12+'II-2.2.10'!J12","v":7616.0000000000064},0,null,0,null,0,0]
["9  años",42049.999999999949,{"$f":"+E15+G15+I15+K15","v":8438.0000000000055},66.000000000000028,{"$f":"'II-2.2.10'!E13+'II-2.2.10'!F13","v":0.999999999999999},1877.0000000000009,{"$f":"'II-2.2.10'!G13+'II-2.2.10'!H13","v":82.000000000000028},11452.999999999975,{"$f":"'II-2.2.10'!I13+'II-2.2.10'!J13","v":1307.0000000000002},28653.999999999975,{"$f":"'II-2.2.10'!K13+'II-2.2.10'!L13","v":7048.0000000000045},0,null,0,0]
["10 años",42364.000000000015,{"$f":"+E16+G16+I16+K16+M16","v":8282.9999999999964},9.0000000000000107,{"$f":"'II-2.2.10'!E14+'II-2.2.10'!F14","v":0},265.99999999999972,{"$f":"'II-2.2.10'!G14+'II-2.2.10'!H14","v":11.000000000000002},2807,{"$f":"'II-2.2.10'!I14+'II-2.2.10'!J14","v":91.000000000000028},11960.000000000004,{"$f":"'II-2.2.10'!K14+'II-2.2.10'!L14","v":1419.9999999999989},{"$f":"'II-2.2.9'!M14+'II-2.2.9'!N14","v":27322.000000000015},{"$f":"'II-2.2.10'!M14+'II-2.2.10'!N14","v":6760.9999999999982},0,0]
["11 años",42303.000000000015,{"$f":"+E17+G17+I17+K17+M17+O17","v":8215.9999999999964},1.0000000000000011,{"$f":"'II-2.2.10'!E15+'II-2.2.10'!F15","v":0.99999999999999967},34.000000000000028,{"$f":"'II-2.2.10'!G15+'II-2.2.10'!H15","v":4.9999999999999982},388.99999999999966,{"$f":"'II-2.2.10'!I15+'II-2.2.10'!J15","v":11.000000000000007},3280,{"$f":"'II-2.2.10'!K15+'II-2.2.10'!L15","v":78.000000000000014},{"$f":"'II-2.2.9'!M15+'II-2.2.9'!N15","v":12531.999999999996},{"$f":"'II-2.2.10'!M15+'II-2.2.10'!N15","v":1483},{"$f":"'II-2.2.9'!O15+'II-2.2.9'!P15","v":26067.000000000022},{"$f":"'II-2.2.10'!O15+'II-2.2.10'!P15","v":6637.9999999999973}]
["12 años",17835.000000000007,{"$f":"+E18+G18+I18+K18+M18+O18","v":1719.9999999999995},0,{"$f":"'II-2.2.10'!E16+'II-2.2.10'!F16","v":0.99999999999999944},1,{"$f":"'II-2.2.10'!G16+'II-2.2.10'!H16","v":1.9999999999999989},74.000000000000085,{"$f":"'II-2.2.10'!I16+'II-2.2.10'!J16","v":3.9999999999999996},707.99999999999909,{"$f":"'II-2.2.10'!K16+'II-2.2.10'!L16","v":10.999999999999996},{"$f":"'II-2.2.9'!M16+'II-2.2.9'!N16","v":4064.9999999999986},{"$f":"'II-2.2.10'!M16+'II-2.2.10'!N16","v":97},{"$f":"'II-2.2.9'!O16+'II-2.2.9'!P16","v":12987.000000000011},{"$f":"'II-2.2.10'!O16+'II-2.2.10'!P16","v":1604.9999999999995}]
["13 años",5247.9999999999955,{"$f":"+E19+G19+I19+K19+M19+O19","v":142.99999999999997},0,{"$f":"'II-2.2.10'!E17+'II-2.2.10'!F17","v":0},2.0000000000000058,{"$f":"'II-2.2.10'!G17+'II-2.2.10'!H17","v":0},12,{"$f":"'II-2.2.10'!I17+'II-2.2.10'!J17","v":1.9999999999999989},109.99999999999999,{"$f":"'II-2.2.10'!K17+'II-2.2.10'!L17","v":4.9999999999999982},{"$f":"'II-2.2.9'!M17+'II-2.2.9'!N17","v":881.99999999999932},{"$f":"'II-2.2.10'!M17+'II-2.2.10'!N17","v":13.000000000000011},{"$f":"'II-2.2.9'!O17+'II-2.2.9'!P17","v":4241.9999999999964},{"$f":"'II-2.2.10'!O17+'II-2.2.10'!P17","v":122.99999999999997}]
["14 años y más",1138.0000000000009,{"$f":"+E20+G20+I20+K20+M20+O20","v":38},0,{"$f":"'II-2.2.10'!E18+'II-2.2.10'!F18","v":0.99999999999999967},1.0000000000000029,{"$f":"'II-2.2.10'!G18+'II-2.2.10'!H18","v":0},1.0000000000000031,{"$f":"'II-2.2.10'!I18+'II-2.2.10'!J18","v":0},16.000000000000004,{"$f":"'II-2.2.10'!K18+'II-2.2.10'!L18","v":1.9999999999999993},{"$f":"'II-2.2.9'!M18+'II-2.2.9'!N18","v":102.99999999999989},{"$f":"'II-2.2.10'!M18+'II-2.2.10'!N18","v":6.9999999999999964},{"$f":"'II-2.2.9'!O18+'II-2.2.9'!P18","v":1017.0000000000009},{"$f":"'II-2.2.10'!O18+'II-2.2.10'!P18","v":28.000000000000007}]
["Fuente: Procesamiento propio en base a datos proporcionados por el D.E.E .— C.E.I.P."]
["Nota:   Primaria Pública no incluye la matrícula correspondiente a JICI "]

{"sheet":"II-2.2.9","index":197,"n_rows":20,"n_cols":16,"rows_kept":20,"cut":false,"hidden":false,"merged":[[0,12,1,15],[5,14,5,15],[6,4,6,15],[3,0,3,15],[4,0,7,0],[4,4,4,15],[5,4,5,5],[5,6,5,7],[5,8,5,9],[5,10,5,11],[5,12,5,13],[5,2,6,3]]}
["CONSEJO DE EDUCACIÓN PRIMARIA",null,null,null,null,null,null,null,null,null,null,null,"ALUMNOS MATRICULADOS"]
[]
["Cuadro Nº II-2.2.9"]
["ALUMNOS MATRICULADOS EN EDUCACIÓN PRIMARIA COMÚN PÚBLICA POR GRADO Y SEXO SEGÚN EDAD. AÑO 2012."]
["EDAD",null,null,null,"GRADO"]
[null,null,"TOTAL SEXO",null,"Primero",null,"Segundo",null,"Tercero",null,"Cuarto",null,"Quinto",null,"Sexto"]
[null,null,null,null,"SEXO"]
[null,"TOTAL","M","F","M","F","M","F","M","F","M","F","M","F","M","F"]
["TOTAL",{"$f":"+C9+D9","v":265585},{"$f":"SUM(E9+G9+I9+K9+M9+O9)","v":137489},{"$f":"+F9+H9+J9+L9+N9+P9","v":128095.99999999997},{"$f":"SUM(E10:E18)","v":23252.999999999996},20903.999999999989,22686.999999999993,21074.000000000011,22555.999999999985,21165.999999999978,23008,21719.999999999978,23266.000000000022,21637.999999999985,22719,21594.000000000033]
["6  años",{"$f":"+C10+D10","v":34187.999999999985},{"$f":"SUM(E10+G10+I10+K10+M10+O10)","v":17463.999999999989},{"$f":"+F10+H10+J10+L10+N10+P10","v":16723.999999999993},17463.999999999989,16723.999999999993,0,0,0,0,0,0,0,0,0,0]
["7  años",{"$f":"+C11+D11","v":39939.999999999985},{"$f":"SUM(E11+G11+I11+K11+M11+O11)","v":20600.999999999989},{"$f":"+F11+H11+J11+L11+N11+P11","v":19339},5203.0000000000082,3820.9999999999968,15397.999999999982,15518.000000000004,0,0,0,0,0,0,0,0]
["8  años",40519,20622.000000000015,19896.999999999989,537.00000000000034,332.00000000000011,5959.0000000000091,4705.0000000000073,14126.000000000007,14859.999999999982,0,0,0,0,0,0]
["9  años",42049.999999999949,21442.999999999975,20606.999999999975,41.000000000000036,24.999999999999996,1145.0000000000009,732,6392.9999999999782,5059.9999999999964,13863.999999999996,14789.999999999978,0,0,0,0]
["10 años",42364.000000000022,21820.000000000022,20544,8.0000000000000071,1.0000000000000031,159.99999999999989,105.99999999999984,1726,1080.9999999999998,6601.0000000000027,5359.0000000000018,13325.000000000016,13996.999999999998,0,0]
["11 años",42303.000000000015,21513.000000000007,20790.000000000011,0,1.0000000000000011,22.000000000000018,12.000000000000007,256.9999999999996,132.00000000000003,1990,1290,6810.0000000000082,5721.9999999999873,12434,13633.000000000024]
["12 años",17835.000000000011,10121.999999999998,7713.0000000000118,0,0,0,1,47.000000000000043,27.000000000000043,474.99999999999983,232.99999999999923,2507.9999999999968,1557.0000000000018,7092.0000000000009,5895.0000000000109]
["13 años",5247.9999999999964,3159.9999999999991,2087.9999999999968,0,0,2.0000000000000058,0,6,6.0000000000000009,65.999999999999972,44.000000000000014,561.99999999999932,320.00000000000006,2524,1717.9999999999966]
["14 años y más",1138.0000000000007,743.99999999999989,394.00000000000085,0,0,1.0000000000000029,0,1.0000000000000031,0,11.999999999999998,4.0000000000000062,60.999999999999886,42,669,348.00000000000085]
["Fuente: Procesamiento propio en base a datos proporcionados por el D.E.E. — C.E.I.P."]
["Nota:   Primaria Pública no incluye la matrícula correspondiente a JICI "]

{"sheet":"II-2.2.10","index":198,"n_rows":19,"n_cols":16,"rows_kept":19,"cut":false,"hidden":false,"merged":[[5,12,5,13],[5,14,5,15],[6,4,6,15],[0,12,1,15],[2,0,2,2],[3,0,3,15],[4,0,7,0],[4,4,4,15],[5,1,6,3],[5,4,5,5],[5,6,5,7],[5,8,5,9],[5,10,5,11]]}
["CONSEJO DE EDUCACIÓN PRIMARIA",null,null,null,null,null,null,null,null,null,null,null,"ALUMNOS MATRICULADOS"]
[]
["Cuadro Nº II-2.2.10"]
["ALUMNOS MATRICULADOS EN EDUCACIÓN PRIMARIA COMÚN PRIVADA POR GRADO Y SEXO SEGÚN EDAD AÑO 2012"]
["EDAD",null,null,null,"GRADO"]
[null,"TOTAL SEXO",null,null,"Primero",null,"Segundo",null,"Tercero",null,"Cuarto",null,"Quinto",null,"Sexto"]
[null,null,null,null,"SEXO"]
[null,"TOTAL","M","F","M","F","M","F","M","F","M","F","M","F","M","F"]
["TOTAL",{"$f":"C9+D9","v":52889.000000000007},{"$f":"SUM(C10:C18)","v":26749},{"$f":"SUM(D10:D18)","v":26140.000000000007},4747,4550,4647.9999999999964,4594.0000000000036,4581.0000000000036,4450.0000000000036,4306,4258.0000000000036,4246,4114.9999999999982,4220.9999999999982,4172.9999999999982]
["6  años",{"$f":"C10+D10","v":7923},{"$f":"E10+G10+I10+K10+M10+O10","v":4001},{"$f":"F10+H10+J10+L10+N10+P10","v":3922.0000000000005},4001,3922.0000000000005]
["7  años",9012,{"$f":"E11+G11+I11+K11+M11+O11","v":4529.9999999999955},{"$f":"F11+H11+J11+L11+N11+P11","v":4482.0000000000036},708.99999999999977,605,3820.9999999999959,3877.0000000000041]
["8  años",9116.0000000000073,4616.0000000000036,4500.0000000000027,34.999999999999993,21.000000000000007,766.00000000000091,677.99999999999989,3815.0000000000032,3801.0000000000032]
["9  años",8438.0000000000055,4214.0000000000009,4224.0000000000045,0.999999999999999,0,49.000000000000007,33.000000000000021,695.00000000000011,612.00000000000011,3469.0000000000005,3579.0000000000041]
["10 años",8282.9999999999964,4213.9999999999991,4068.9999999999973,0,0,8.0000000000000036,2.9999999999999987,59.000000000000043,31.999999999999989,771.99999999999932,647.99999999999955,3375,3385.9999999999977]
["11 años",8215.9999999999964,4144.9999999999982,4070.9999999999991,0,0.99999999999999967,2.9999999999999987,1.9999999999999998,9.0000000000000089,1.9999999999999989,54.999999999999993,23.000000000000018,801,682.00000000000011,3276.9999999999982,3360.9999999999991]
["12 años",1719.9999999999995,919.99999999999989,799.99999999999955,0.99999999999999944,0,0.99999999999999922,0.99999999999999967,0.99999999999999967,3,5.9999999999999964,5.0000000000000009,58,39,852.99999999999989,751.99999999999955]
["13 años",142.99999999999997,87.999999999999986,54.999999999999993,0,0,0,0,1.9999999999999989,0,2.9999999999999987,1.9999999999999991,8.0000000000000071,5.0000000000000027,74.999999999999986,47.999999999999993]
["14 años y más",38,21,17.000000000000004,0,0.99999999999999967,0,0,0,0,0.99999999999999967,0.99999999999999967,3.9999999999999969,3,16.000000000000004,12.000000000000005]
["Fuente: Procesamiento propio en base a datos proporcionados por el D.E.E. — C.E.I.P."]

{"sheet":"II-2.2.11","index":199,"n_rows":33,"n_cols":15,"rows_kept":33,"cut":false,"hidden":false,"merged":[[0,12,1,14],[4,0,4,14],[5,0,9,0],[5,1,5,14],[6,1,7,2],[6,3,6,4],[6,5,6,6],[6,7,6,8],[6,9,6,10],[6,11,6,12],[8,14,9,14],[6,13,6,14],[7,3,7,14],[8,1,9,1],[8,2,9,2],[8,3,9,3],[8,4,9,4],[8,5,9,5],[8,6,9,6],[8,7,9,7],[8,8,9,8],[8,9,9,9],[8,10,9,10],[8,11,9,11],[8,12,9,12],[8,13,9,13]]}
["CONSEJO DE EDUCACIÓN PRIMARIA",null,null,null,null,null,null,null,null,null,null,null,"ALUMNOS MATRICULADOS"]
[]
["Cuadro Nº II-2.2.11"]
[]
["ALUMNOS MATRICULADOS EN EDUCACIÓN PRIMARIA COMÚN POR GRADO Y FORMA DE ADMINISTRACIÓN SEGÚN DEPARTAMENTO AÑO 2012"]
["DEPARTAMENTO","GRADO"]
[null,"TOTAL",null,"Primero",null,"Segundo",null,"Tercero",null,"Cuarto",null,"Quinto",null,"Sexto"]
[null,null,null,"FORMA DE ADMINISTRACIÓN"]
[null,"Pública","Privada","Pública","Privada","Pública","Privada","Pública","Privada","Pública","Privada","Pública","Privada","Pública","Privada"]
[]
["TOTAL",{"$f":"SUM(B12:B13)","v":265585},52889.000000000015,44157,9297,43761,9242.0000000000018,{"$f":"SUM(H12:H13)","v":43722},9031.0000000000055,44728,8564.0000000000036,44904,8361,44313,8394]
["MONTEVIDEO",{"$f":"+D12+F12+H12+J12+L12+N12","v":81008},{"$f":"+E12+G12+I12+K12+M12+O12","v":32646.000000000011},14331,5789.0000000000009,13396,5678.0000000000018,13414,5597.0000000000045,13586,5309.0000000000027,13521,5117.0000000000009,12760,5156.0000000000009]
["RESTO DEL PAÍS",{"$f":"SUM(B14:B31)","v":184577},{"$f":"SUM(C14:C31)","v":20243},29826,3507.9999999999995,30365,3564,30308,3434.0000000000009,31142,3255.0000000000005,31383,3243.9999999999995,31553,3238]
["Artigas",{"$f":"+D14+F14+H14+J14+L14+N14","v":8388},{"$f":"+E14+G14+I14+K14+M14+O14","v":118},1308,19,1321,23,1355,28,1389,13,1528,14,1487,21]
["Canelones",{"$f":"+D15+F15+H15+J15+L15+N15","v":44161},{"$f":"+E15+G15+I15+K15+M15+O15","v":7338.0000000000018},7342,1315.9999999999998,7217,1281.0000000000002,7308,1262.0000000000007,7473,1172.0000000000007,7388,1154.9999999999995,7433,1152]
["Cerro Largo",{"$f":"+D16+F16+H16+J16+L16+N16","v":8832},598,1447,84,1492,115,1497,102,1460,84,1456,113.00000000000001,1480,100]
["Colonia",{"$f":"+D17+F17+H17+J17+L17+N17","v":10633},792,1777,163,1803,123,1800,137,1747,134,1748,131,1758,104.00000000000001]
["Durazno",5522,661,786,116,889,125,878,117,1010,105,973,98,986,100]
["Flores",2151,341,309,58,365,50,379,60,393,55,363,57,342,61]
["Florida",6241,304,1041,41,1060,58,981,41,1066,57,1046,40,1047,67]
["Lavalleja",4912,656,838,115.99999999999999,791,107.99999999999999,830,109.00000000000001,805,115.99999999999999,813,107,835,99.999999999999986]
["Maldonado",13473,3856,2190,636.99999999999989,2161,709,2213,595.00000000000023,2316,634.99999999999989,2262,655.00000000000011,2331,625.00000000000011]
["Paysandú",11672,1162,1904,187,1923,210,1885,201,1952,176,1983,207,2025,181.00000000000003]
["Río Negro",5642,434,931,65,923,85,923,78,909,63,952,65,1004,78]
["Rivera",10887,668,1680,126,1792,115.00000000000001,1795,112.99999999999999,1854,104.99999999999999,1856,95.000000000000014,1910,114]
["Rocha",6625,397,1038,61,1118,81,1093,82,1083,64,1155,48,1138,61]
["Salto",13194,1083,2237,201,2192,183.00000000000003,2045,166,2230,185,2239,167,2251,180.99999999999997]
["San José",9895,580,1601,107,1597,93,1716,101.00000000000001,1688,102,1627,84,1666,92.999999999999986]
["Soriano",8396,437,1375,72,1410,75,1371,84,1356,62,1475,72,1409,72]
["Tacuarembó",9260,619,1325,104,1534,98,1484,128,1591,93,1704,97,1622,99]
["Treinta y Tres",4693,199,697,35,777,32,755,30,820,34,815,39,829,29]
["Fuente: Procesamiento propio en base a datos proporcionados por el DEE — CEIP"]
["Nota:   Primaria Pública no incluye la matrícula correspondiente a JICI "]

{"sheet":"II-2.2.12","index":200,"n_rows":20,"n_cols":7,"rows_kept":20,"cut":false,"hidden":false,"merged":[[19,0,19,6],[0,5,1,6],[4,0,4,6],[5,0,9,0],[5,1,5,6],[6,1,6,3],[6,4,6,6],[7,1,9,1],[7,2,7,3],[7,4,9,4],[7,5,7,6],[8,2,9,2],[8,3,9,3],[8,5,9,5],[8,6,9,6]]}
["CONSEJO DE EDUCACIÓN PRIMARIA",null,null,null,null,"ALUMNOS MATRICULADOS"]
[]
["Cuadro Nº II-2.2.12"]
[]
["ALUMNOS MATRICULADOS EN EDUCACIÓN PRIMARIA COMÚN PÚBLICA POR RENDIMIENTO ESCOLAR Y ÁREA DEMOGRÁFICA SEGÚN GRADO AÑO 2012"]
["GRADO","RENDIMIENTO ESCOLAR"]
[null,"PROMOVIDOS",null,null,"NO PROMOVIDOS"]
[null,"TOTAL","ÁREA DEMOGRÁFICA",null,"TOTAL","ÁREA DEMOGRÁFICA"]
[null,null,"Urbana","Rural",null,"Urbana","Rural"]
[]
["TOTAL",{"$f":"+C11+D11","v":250620.99999999994},{"$f":"SUM(C12:C17)","v":234835.99999999994},{"$f":"SUM(D12:D17)","v":15784.999999999998},{"$f":"+F11+G11","v":14964.000000000004},{"$f":"SUM(F12:F17)","v":14285.000000000004},{"$f":"SUM(G12:G17)","v":679.00000000000023}]
["Primero",{"$f":"+C12+D12","v":38096.999999999964},35765.999999999971,2330.9999999999959,{"$f":"+F12+G12","v":6059.9999999999973},5777.9999999999973,281.99999999999994]
["Segundo",40674,38103,2571.0000000000014,3087.0000000000036,2946.0000000000036,141.00000000000011]
["Tercero",41578.999999999978,38953.999999999978,2624.9999999999995,2142.9999999999986,2046.9999999999986,95.999999999999929]
["Cuarto",43012.999999999993,40274.999999999993,2738.0000000000014,1715.0000000000011,1648.0000000000009,67.000000000000128]
["Quinto",43629.999999999993,40891.999999999993,2737.9999999999995,1274.0000000000036,1218.0000000000036,56.000000000000021]
["Sexto",43627.999999999993,40845.999999999993,2781.9999999999995,685.00000000000068,648.00000000000068,37.000000000000057]
[]
["Fuente: Procesamiento propio en base a datos proporcionados por el D.E.E .— C.E.I.P."]
["Notas:\n- No incluye datos correspondientes a JICI\n- No se presenta información para la Educación Primaria Privada porque no existen establecimientos privados en el área demográfica rural"]

{"sheet":"II-2.2.13","index":201,"n_rows":34,"n_cols":7,"rows_kept":34,"cut":false,"hidden":false,"merged":[[33,0,33,6],[32,0,32,6],[0,5,1,6],[4,0,4,6],[5,0,9,0],[5,1,5,6],[6,1,6,3],[6,5,6,6],[7,1,9,1],[7,2,7,3],[7,4,9,4],[7,5,7,6],[8,2,9,2],[8,3,9,3],[8,5,9,5],[8,6,9,6]]}
["CONSEJO DE EDUCACIÓN PRIMARIA",null,null,null,null,"ALUMNOS MATRICULADOS"]
[]
["Cuadro Nº II-2.2.13"]
[]
["ALUMNOS MATRICULADOS EN EDUCACIÓN PRIMARIA COMÚN PÚBLICA POR RENDIMIENTO ESCOLAR Y ÁREA DEMOGRÁFICA SEGÚN DEPARTAMENTO AÑO 2012"]
["DEPARTAMENTO","RENDIMIENTO ESCOLAR"]
[null,"PROMOVIDOS",null,null,null,"NO PROMOVIDOS"]
[null,"TOTAL","ÁREA DEMOGRÁFICA",null,"TOTAL","ÁREA DEMOGRÁFICA"]
[null,null,"Urbana","Rural",null,"Urbana","Rural"]
[]
["TOTAL",{"$f":"+C11+D11","v":250621},{"$f":"SUM(C12:C13)","v":234836},{"$f":"SUM(D12:D13)","v":15785},{"$f":"+F11+G11","v":14964},{"$f":"SUM(F12:F13)","v":14285},{"$f":"SUM(G12:G13)","v":679}]
["MONTEVIDEO",{"$f":"+C12+D12","v":74083},74083,0,{"$f":"+F12+G12","v":6925},6925,0]
["RESTO DEL PAÍS",{"$f":"+C13+D13","v":176538},{"$f":"SUM(C14:C31)","v":160753},{"$f":"SUM(D14:D31)","v":15785},{"$f":"+F13+G13","v":8039},{"$f":"SUM(F14:F31)","v":7360},{"$f":"SUM(G14:G31)","v":679}]
["Artigas",{"$f":"+C14+D14","v":8176},7450,726,{"$f":"+F14+G14","v":212},175,37]
["Canelones",41377,38842,2535,2784,2660,124]
["Cerro Largo",8370,7436,934,462,417,45]
["Colonia",10288,9209,1079,345,302,43]
["Durazno",5449,4956,493,73,69,4]
["Flores",2129,1887,242,22,17,5]
["Florida",5987,5220,767,254,215,39]
["Lavalleja",4674,4254,420,238,209,29]
["Maldonado",13014,12414,600,459,418,41]
["Paysandú",11115,10025,1090,557,500,57]
["Río Negro",5485,4936,549,157,141,16]
["Rivera",10615,9545,1070,272,246,26]
["Rocha",6383,6097,286,242,232,10]
["Salto",12376,11001,1375,818,737,81]
["San José",9398,8189,1209,497,455,42]
["Soriano",8015,7299,716,381,336,45]
["Tacuarembó",9089,7791,1298,171,142,29]
["Treinta y Tres",4598,4202,396,95,89,6]
["Fuente: Procesamiento propio en base a datos proporcionados por el D.E.E .— C.E.I.P."]
["Nota:  No incluye datos correspondientes a JICI"]
["Nota: No se presenta información para la Educación Primaria Privada porque no existen establecimientos privados en el área demográfica rural"]

{"sheet":"II-2.2.14 ","index":202,"n_rows":32,"n_cols":7,"rows_kept":32,"cut":false,"hidden":false,"merged":[[31,0,31,6],[0,5,1,6],[4,0,4,6],[5,1,5,6],[6,1,6,3],[6,4,6,6],[7,2,7,3],[7,5,7,6],[5,0,8,0]]}
["CONSEJO DE EDUCACIÓN PRIMARIA",null,null,null,null,"ALUMNOS MATRICULADOS"]
[]
["Cuadro Nº II-2.2.14"]
[]
["ALUMNOS MATRICULADOS EN EDUCACIÓN PRIMARIA COMÚN PÚBLICA POR RENDIMIENTO ESCOLAR Y SEXO SEGÚN DEPARTAMENTO. AÑO 2012."]
["DEPARTAMENTO","RENDIMIENTO ESCOLAR"]
[null,"PROMOVIDOS",null,null,"NO PROMOVIDOS"]
[null,"TOTAL","SEXO",null,"TOTAL","SEXO"]
[null,null,"M","F",null,"M","F"]
["TOTAL",{"$f":"+C10+D10","v":250621},{"$f":"SUM(C11:C12)","v":128341},{"$f":"SUM(D11:D12)","v":122280},{"$f":"+F10+G10","v":14964},{"$f":"SUM(F11:F12)","v":9148},{"$f":"SUM(G11:G12)","v":5816}]
["MONTEVIDEO",{"$f":"+C11+D11","v":74083},37578,36505,{"$f":"+F11+G11","v":6925},4187,2738]
["RESTO DEL PAÍS",176538,{"$f":"SUM(C13:C30)","v":90763},{"$f":"SUM(D13:D30)","v":85775},8039,{"$f":"SUM(F13:F30)","v":4961},{"$f":"SUM(G13:G30)","v":3078}]
["Artigas",8176,4255,3921,212,132,80]
["Canelones",41377,21133,20244,2784,1731,1053]
["Cerro Largo",8370,4253,4117,462,280,182]
["Colonia",10288,5252,5036,345,205,140]
["Durazno",5449,2811,2638,73,48,25]
["Flores",2129,1027,1102,22,13,9]
["Florida",5987,3071,2916,254,152,102]
["Lavalleja",4674,2428,2246,238,157,81]
["Maldonado",13014,6707,6307,459,281,178]
["Paysandú",11115,5779,5336,557,366,191]
["Río Negro",5485,2847,2638,157,89,68]
["Rivera",10615,5561,5054,272,167,105]
["Rocha",6383,3304,3079,242,146,96]
["Salto",12376,6389,5987,818,508,310]
["San José",9398,4847,4551,497,294,203]
["Soriano",8015,4044,3971,381,231,150]
["Tacuarembó",9089,4698,4391,171,105,66]
["Treinta y Tres",4598,2357,2241,95,56,39]
["Fuente: Procesamiento propio en base a datos proporcionados por el D.E.E. — C.E.I.P."]
["Nota: No incluye datos correspondientes a JICI ."]

{"sheet":"II-2.2.15","index":203,"n_rows":31,"n_cols":7,"rows_kept":31,"cut":false,"hidden":false,"merged":[[0,5,1,6],[4,0,4,6],[5,0,8,0],[5,1,5,6],[6,1,6,3],[6,4,6,6],[7,1,8,1],[7,2,7,3],[7,4,8,4],[7,5,7,6]]}
["CONSEJO DE EDUCACIÓN PRIMARIA",null,null,null,null,"ALUMNOS MATRICULADOS"]
[]
["Cuadro Nº II-2.2.15"]
[]
["ALUMNOS MATRICULADOS EN EDUCACIÓN PRIMARIA COMÚN PRIVADA POR RENDIMIENTO ESCOLAR Y SEXO SEGÚN DEPARTAMENTO AÑO 2012"]
["DEPARTAMENTO","RENDIMIENTO ESCOLAR"]
[null,"PROMOVIDOS",null,null,"NO PROMOVIDOS"]
[null,"TOTAL","SEXO",null,"TOTAL","SEXO"]
[null,null,"M","F",null,"M","F"]
["TOTAL",{"$f":"+C10+D10","v":52153},{"$f":"SUM(C11:C12)","v":26291},{"$f":"SUM(D11:D12)","v":25862.000000000004},{"$f":"+F10+G10","v":736},{"$f":"SUM(F11:F12)","v":458},{"$f":"SUM(G11:G12)","v":278}]
["MONTEVIDEO",{"$f":"+C11+D11","v":32143.000000000004},16182,15961.000000000004,{"$f":"+F11+G11","v":503},304,199]
["RESTO DEL PAÍS",20010,{"$f":"SUM(C13:C30)","v":10109},{"$f":"SUM(D13:D30)","v":9901},233.00000000000003,{"$f":"SUM(F13:F30)","v":154.00000000000003},{"$f":"SUM(G13:G30)","v":79}]
["Artigas",117,56,61,1,1,0]
["Canelones",7245,3682,3563,93.000000000000014,62.000000000000021,30.999999999999996]
["Cerro Largo",592,307,285,6,5,1]
["Colonia",784,387,396.99999999999994,8,5,3]
["Durazno",657,303,354,4,3,1]
["Flores",338,171,167,3,1,2]
["Florida",303,152,151,1,1,0]
["Lavalleja",645,331,314,11,5,6]
["Maldonado",3806,1950,1856.0000000000002,50,31,19]
["Paysandú",1150,580,570,12,10,2.0000000000000004]
["Río Negro",428,218,210,6,1,5]
["Rivera",660,353,307,8,6,2]
["Rocha",395,194,201,2,2,0]
["Salto",1070,522.00000000000011,548,13,9,4]
["San José",576,273,303,4,4,0]
["Soriano",433,208,225,4,4,0]
["Tacuarembó",616,310,306,3,1,2]
["Treinta y Tres",195,112,83,4,3,1]
["Fuente: Procesamiento propio en base a datos proporcionados por el D.E.E. — C.E.I.P."]

{"sheet":"II-2.2.16","index":204,"n_rows":34,"n_cols":5,"rows_kept":34,"cut":false,"hidden":false,"merged":[[31,0,31,3],[0,4,1,5],[4,0,4,3],[5,0,8,0],[5,2,6,3],[6,1,8,1],[7,2,8,2],[7,3,8,3]]}
["CONSEJO DE EDUCACIÓN PRIMARIA",null,null,null,"ALUMNOS MATRICULADOS"]
[]
["Cuadro Nº II-2.2.16"]
[]
["ALUMNOS MATRICULADOS EGRESADOS DE EDUCACIÓN PRIMARIA COMÚN PÚBLICA POR ÁREA DEMOGRÁFICA SEGÚN DEPARTAMENTO AÑO 2012"]
["DEPARTAMENTO",null,"ÁREA DEMOGRÁFICA"]
[null,"TOTAL"]
[null,null,"Urbana","Rural"]
[]
["TOTAL",{"$f":"+C10+D10","v":43628},{"$f":"SUM(C11:C12)","v":40846},{"$f":"SUM(D11:D12)","v":2782}]
["MONTEVIDEO",{"$f":"C11+D11","v":12504},12504,0]
["RESTO DEL PAÍS",{"$f":"+C12+D12","v":31124},{"$f":"SUM(C13:C30)","v":28342},{"$f":"SUM(D13:D30)","v":2782}]
["Artigas",{"$f":"+C13+D13","v":1472},1331,141]
["Canelones",7292,6855,437]
["Cerro Largo",1460,1288,172]
["Colonia",1738,1574,164]
["Durazno",983,894,89]
["Flores",342,311,31]
["Florida",1033,900,133]
["Lavalleja",825,758,67]
["Maldonado",2320,2215,105]
["Paysandú",1992,1788,204]
["Río Negro",997,901,96]
["Rivera",1902,1702,200]
["Rocha",1118,1070,48]
["Salto",2186,1954,232]
["San José",1643,1416,227]
["Soriano",1389,1263,126]
["Tacuarembó",1611,1372,239]
["Treinta y Tres",821,750,71]
["Fuente: Procesamiento propio en base a datos proporcionados por el D.E.E .— C.E.I.P."]
["Nota: No se presenta información para Montevideo Rural por que no existen establecimientos en  el área demográfica rural."]
["        "]
["        "]

{"sheet":"II-2.2.17","index":205,"n_rows":30,"n_cols":9,"rows_kept":30,"cut":false,"hidden":false,"merged":[[0,6,1,8],[4,0,4,8],[5,0,7,0],[5,1,7,1],[5,2,5,5],[5,6,5,8],[6,2,7,2],[6,3,6,5],[6,6,7,6],[6,7,6,8]]}
["CONSEJO DE EDUCACIÓN PRIMARIA",null,null,null,null,null,"ALUMNOS MATRICULADOS"]
[]
["Cuadro Nº II-2.2.17"]
[]
["ALUMNOS MATRICULADOS EGRESADOS DE EDUCACIÓN PRIMARIA COMÚN POR FORMA DE ADMINISTRACIÓN SEGÚN DEPARTAMENTO AÑO 2012"]
["DEPARTAMENTO","TOTAL","PÚBLICA",null,null,null,"PRIVADA"]
[null,null,"TOTAL","SEXO",null,null,"TOTAL","SEXO"]
[null,null,null,"M","M","F",null,"M","F"]
["TOTAL",{"$f":"+C9+G9","v":51997},{"$f":"+E9+F9","v":43628},null,{"$f":"SUM(E10:E11)","v":22301},{"$f":"SUM(F10:F11)","v":21327},{"$f":"+H9+I9","v":8369},{"$f":"SUM(H10,H11)","v":4207.9999999999991},{"$f":"SUM(I10,I11)","v":4161}]
["MONTEVIDEO",{"$f":"+C10+G10","v":17641},{"$f":"+E10+F10","v":12504},6560,6270,6234,{"$f":"+H10+I10","v":5137},2575.9999999999991,2561.0000000000005]
["RESTO DEL PAÍS",{"$f":"+C11+G11","v":34356},31124,null,{"$f":"SUM(E12:E29)","v":16031},{"$f":"SUM(F12:F29)","v":15093},3232,{"$f":"SUM(H12:H29)","v":1632},{"$f":"SUM(I12:I29)","v":1600}]
["Artigas",{"$f":"+C12+G12","v":1493},1472,765,755,717,21,11,10]
["Canelones",8442,7292,3826,3657,3635,1150,586.00000000000011,563.99999999999989]
["Cerro Largo",1560,1460,802,758,702,100,58,42]
["Colonia",1840,1738,891,920,818,102,51,51]
["Durazno",1083,983,502,522,461,100,41,59]
["Flores",403,342,192,178,164,61,33,28]
["Florida",1100,1033,502,522,511,67,30,37]
["Lavalleja",925,825,426,426,399,100,48,52.000000000000007]
["Maldonado",2944,2320,1183,1246,1074,624,337.99999999999994,286]
["Paysandú",2173,1992,976,1047,945,181,70,111]
["Río Negro",1075,997,501,531,466,78,38,40]
["Rivera",2016,1902,995,963,939,114,54,59.999999999999993]
["Rocha",1179,1118,603,589,529,61,28,33]
["Salto",2366,2186,1191,1136,1050,180,92,88]
["San José",1736,1643,824,834,809,93,49.000000000000007,44]
["Soriano",1461,1389,717,702,687,72,36,36]
["Tacuarembó",1710,1611,845,824,787,99,52.999999999999993,46]
["Treinta y Tres",850,821,443,421,400,29,16,13]
["Fuente: Procesamiento propio en base a datos proporcionados por el D.E.E. — C.E.I.P."]

{"sheet":"II-2.2.18 ","index":206,"n_rows":34,"n_cols":6,"rows_kept":34,"cut":false,"hidden":false,"merged":[[29,0,29,5],[30,0,30,5],[0,4,1,5],[4,0,4,5],[5,2,5,3],[5,4,5,5],[5,0,6,1]]}
["CONSEJO DE EDUCACIÓN PRIMARIA",null,null,null,"ALUMNOS MATRICULADOS"]
[]
["Cuadro Nº II-2.2.18"]
[]
["ASISTENCIA INSUFICIENTE Y ABANDONO INTERMITENTE DE 1º GRADO Y 1º A 6º GRADO EN EDUCACIÓN COMÚN PÚBLICA SEGÚN DEPARTAMENTO. AÑO 2012"]
["DEPARTAMENTO",null,"ASISTENCIA INSUFICIENTE",null,"ABANDONO INTERMITENTE"]
[null,null,"Sólo\n1.er año","1.º a 6.º  años","Sólo\n1.er año","1.º a 6.º  años"]
["TOTAL",{"$f":"SUM(B9:B10)","v":265585},{"$f":"SUM(C9:C10)","v":4439},{"$f":"SUM(D9:D10)","v":17435},{"$f":"SUM(E9:E10)","v":655.99999999999989},{"$f":"SUM(F9:F10)","v":2663.9999999999995}]
["MONTEVIDEO",{"$f":"'II-2.2.1'!E10","v":81008},1938.0000000000002,7306.0000000000009,253,1044.9999999999995]
["RESTO DEL PAÍS",{"$f":"SUM(B11:B28)","v":184577},{"$f":"SUM(C11:C28)","v":2500.9999999999995},{"$f":"SUM(D11:D28)","v":10128.999999999998},{"$f":"SUM(E11:E28)","v":402.99999999999989},{"$f":"SUM(F11:F28)","v":1619}]
["Artigas",{"$f":"'II-2.2.1'!E12","v":8388},111.99999999999996,503.99999999999989,14.000000000000002,90.000000000000014]
["Canelones",{"$f":"'II-2.2.1'!E13","v":44161},889.99999999999989,3371.9999999999982,157.99999999999991,531.00000000000011]
["Cerro Largo",{"$f":"'II-2.2.1'!E14","v":8832},91.999999999999957,411,36.999999999999986,72.000000000000028]
["Colonia",{"$f":"'II-2.2.1'!E15","v":10633},79.000000000000028,368.00000000000028,12,78.000000000000043]
["Durazno",{"$f":"'II-2.2.1'!E16","v":5522},80,364.99999999999989,12.000000000000002,48.999999999999993]
["Flores",{"$f":"'II-2.2.1'!E17","v":2151},23.999999999999986,82,1.0000000000000004,9.0000000000000018]
["Florida",{"$f":"'II-2.2.1'!E18","v":6241},96.999999999999972,349,7.9999999999999982,55.000000000000014]
["Lavalleja",{"$f":"'II-2.2.1'!E19","v":4912},60.000000000000007,224.00000000000006,20,48.000000000000043]
["Maldonado",{"$f":"'II-2.2.1'!E20","v":13473},189,727.99999999999977,19.000000000000004,70]
["Paysandú",{"$f":"'II-2.2.1'!E21","v":11672},145.00000000000006,622.00000000000011,21.000000000000004,102]
["Río Negro",{"$f":"'II-2.2.1'!E22","v":5642},44,188.99999999999994,3.0000000000000009,31.999999999999979]
["Rivera",{"$f":"'II-2.2.1'!E23","v":10887},94.000000000000043,425.99999999999994,16.000000000000004,97]
["Rocha",{"$f":"'II-2.2.1'!E24","v":6625},78.999999999999957,365.99999999999994,22.000000000000004,71]
["Salto",{"$f":"'II-2.2.1'!E25","v":13194},179.99999999999997,726.00000000000023,24.000000000000007,121.99999999999996]
["San José",{"$f":"'II-2.2.1'!E26","v":9895},136,539,17,74]
["Soriano",{"$f":"'II-2.2.1'!E27","v":8396},92.000000000000014,370.00000000000006,6,45.000000000000021]
["Tacuarembó",{"$f":"'II-2.2.1'!E28","v":9260},75.000000000000028,317.00000000000011,6.0000000000000009,28.000000000000021]
["Treinta y Tres",{"$f":"'II-2.2.1'!E29","v":4693},33.000000000000007,170.99999999999994,7,46]
["Fuente: Procesamiento propio en base a datos proporcionados por el D.E.E. — C.E.I.P."]
["No incluye datos correspondientes a JICI ."]
[]
[]
[]
["       "]

{"sheet":"II-2.3.1","index":207,"n_rows":96,"n_cols":9,"rows_kept":96,"cut":false,"hidden":false,"merged":[[6,7,7,7],[6,8,7,8],[31,0,31,8],[32,0,32,8],[0,6,1,7],[4,0,4,8],[5,0,7,0],[5,2,5,8],[6,1,7,1],[6,2,7,2],[6,3,7,3],[6,4,7,4],[6,5,7,5],[6,6,7,6]]}
["CONSEJO DE EDUCACIÓN PRIMARIA",null,null,null,null,null,"PERSONAL DOCENTE"]
[]
["Cuadro Nº II-2.3.1"]
[]
["PERSONAL DOCENTE DE EDUCACIÓN PRIMARIA PÚBLICA POR TIPO DE DESEMPEÑO DOCENTE SEGÚN DEPARTAMENTO AÑO 2012"]
["DEPARTAMENTO",null,"TIPO DE DESEMPEÑO DOCENTE"]
[null,"TOTAL","Inspección","Educación Común","Educación en Colonias","Educación Especial","Servicios Docentes Especiales","Profesores Especiales","Coordinación Apoyo"]
[]
["TOTAL",{"$f":"SUM(B11:B12)","v":19220},265,15169,39,962,130,2563,92]
[]
["MONTEVIDEO",{"$f":"SUM(C11:I11)","v":5634},96,4158,14,408,75,870,13]
["RESTO DEL PAÍS",{"$f":"SUM(B14:B31)","v":13586},169,11011,25,554,55,1693,79]
[]
["Artigas",{"$f":"SUM(C14:I14)","v":661},7,526,0,23,0,101,4]
["Canelones",2680,31,2230,0,108,14,285,12]
["Cerro Largo",684,9,558,0,32,4,77,4]
["Colonia",808,9,649,0,36,3,107,4]
["Durazno",465,7,378,0,22,0,54,4]
["Flores",210,3,160,0,9,0,35,3]
["Florida",536,7,411,0,23,5,86,4]
["Lavalleja",433,6,348,0,20,4,51,4]
["Maldonado",836,11,650,15,38,7,111,4]
["Paysandú",844,10,701,0,37,5,87,4]
["Río Negro",456,5,371,0,21,0,55,4]
["Rivera",891,12,714,0,31,1,129,4]
["Rocha",542,7,419,0,27,3,82,4]
["Salto",948,11,755,9,32,2,134,5]
["San José",729,9,615,0,29,0,72,4]
["Soriano",653,9,528,0,29,2,81,4]
["Tacuarembó",790,10,664,1,22,5,85,3]
["Treinta y Tres",420,6,334,0,15,0,61,4]
["Fuente: DEE — CEP Listado de cargos de la División Hacienda a Julio 2011"]
["Nota: Personal docente refiere a cargos de dos tipos: vacantes y ocupados"]
["        "]
["        "]
[]
[]
[]
[]
[]
[]
[]
[]
[]
[]
[]
[]
[]
[]
[]
[]
[]
[]
[]
[]
[]
[]
[]
[]
[]
[]
[]
[]
[]
[]
[]
[]
[]
[]
[]
[]
[]
[]
[{"$f":"SUM(A76:A77)","v":147}]
[]
[92]
[{"$f":"SUM(A79:A96)","v":55}]
[]
[0]
[14]
[4]
[3]
[0]
[0]
[5]
[4]
[7]
[5]
[0]
[1]
[3]
[2]
[0]
[2]
[5]
[0]

{"sheet":"II-2.3.2","index":208,"n_rows":32,"n_cols":11,"rows_kept":32,"cut":false,"hidden":false,"merged":[[0,9,1,10],[4,0,4,10],[5,0,8,1],[5,2,8,2],[5,3,8,3],[5,4,8,4],[5,5,5,10],[6,5,6,7],[6,8,6,10],[48,20,48,22],[6,11,8,12],[6,13,6,22],[7,5,8,5],[7,6,8,6],[7,7,8,7],[7,8,8,8],[7,9,8,9],[7,10,8,10],[7,13,7,16],[7,17,8,17],[7,18,7,22],[8,13,8,14],[30,0,30,10],[42,11,42,22],[45,11,45,22],[52,20,53,20],[52,21,53,21],[52,22,53,22],[49,17,49,22],[50,11,53,12],[50,13,50,22],[51,13,51,15],[51,17,53,17],[51,18,51,22],[52,13,52,14],[52,15,53,15],[52,18,53,18],[52,19,53,19]]}
["CONSEJO DE EDUCACIÓN PRIMARIA",null,null,null,null,null,null,null,null,"PERSONAL DOCENTE"]
[]
["Cuadro Nº II-2.3.2"]
[]
["PERSONAL DOCENTE DE EDUCACIÓN PRIMARIA PRIVADA POR TIPO DE ESTABLECIMIENTO Y TIPO DE DESEMPEÑO DOCENTE SEGÚN DEPARTAMENTO AÑO 2012"]
["  DEPARTAMENTO",null,"TOTAL","MAESTROS","PROFESORES","ESTABLECIMIENTOS"]
[null,null,null,null,null,"HABILITADOS",null,null,"AUTORIZADOS"]
[null,null,null,null,null,"Total","Maestros","Profesores","Total","Maestros","Profesores"]
[]
["TOTAL",null,{"$f":"+F10+I10","v":7815},{"$f":"+G10+J10","v":3270},{"$f":"+H10+K10","v":4545},{"$f":"+G10+H10","v":7369},{"$f":"SUM(G11:G12)","v":3109},{"$f":"SUM(H11:H12)","v":4260},{"$f":"+J10+K10","v":446},{"$f":"SUM(J11:J12)","v":161},{"$f":"SUM(K11:K12)","v":285}]
["MONTEVIDEO",null,{"$f":"+F11+I11","v":4712},1983,2729,{"$f":"+G11+H11","v":4329},1846,2483,{"$f":"+J11+K11","v":383},137,246]
["RESTO DEL PAÍS",null,3103,1287,1816,3040,{"$f":"SUM(G13:G30)","v":1263},{"$f":"SUM(H13:H30)","v":1777},63,{"$f":"SUM(J13:J30)","v":24},{"$f":"SUM(K13:K30)","v":39}]
["Artigas",null,12,6,6,12,6,6,0,0,0]
["Canelones",null,1066,415,651,1008,394,614,58,21,37]
["Cerro Largo",null,79,33,46,79,33,46,0,0,0]
["Colonia",null,169,68,101,169,68,101,0,0,0]
["Durazno",null,59,38,21,59,38,21,0,0,0]
["Flores",null,61,24,37,61,24,37,0,0,0]
["Florida",null,53,22,31,53,22,31,0,0,0]
["Lavalleja",null,101,46,55,101,46,55,0,0,0]
["Maldonado",null,513,235,278,513,235,278,0,0,0]
["Paysandú",null,179,80,99,179,80,99,0,0,0]
["Río Negro",null,104,37,67,102,35,67,2,2,0]
["Rivera",null,134,55,79,134,55,79,0,0,0]
["Rocha",null,78,33,45,78,33,45,0,0,0]
["Salto",null,151,60,91,151,60,91,0,0,0]
["San José",null,108,41,67,105,40,65,3,1,2]
["Soriano",null,76,32,44,76,32,44,0,0,0]
["Tacuarembó",null,139,52,87,139,52,87,0,0,0]
["Treinta y Tres",null,21,10,11,21,10,11,0,0,0]
["Fuente: DEE — CEP Planillas enviadas por las Inspecciones Departamentales a abril de 2011."]
["NOTA: El personal docente incluye exclusivamente docencia directa "]

{"sheet":"MEDIA BASICA","index":209,"n_rows":0,"n_cols":0,"rows_kept":0,"cut":false,"hidden":false,"merged":[[37,0,37,4],[39,0,39,4],[24,0,24,4],[26,0,26,4],[28,0,28,4],[31,0,31,4],[33,0,33,4],[35,0,35,4],[22,0,22,4],[10,0,10,4],[14,0,14,4],[16,0,16,4],[18,0,18,4],[20,0,20,4]]}

{"sheet":"II-3.1.1","index":210,"n_rows":38,"n_cols":13,"rows_kept":38,"cut":false,"hidden":false,"merged":[[6,0,14,0],[37,0,37,11],[0,9,2,11],[5,0,5,11],[6,3,6,11],[8,3,8,11],[11,3,13,4],[11,5,13,6],[7,1,14,1],[9,10,14,10],[9,11,14,11],[7,3,7,9],[9,3,10,6],[9,8,13,9],[9,2,14,2],[9,7,14,7]]}
["CONSEJO DE EDUCACIÓN INICIAL Y PRIMARIA (CEIP), ",null,null,null,null,null,null,null,null,"ESTABLECIMIENTOS"]
["CONSEJO DE EDUCACIÓN SECUNDARIA (CES) Y CONSEJO DE EDUCACIÓN TÉCNICO PROFESIONAL (UTU)"]
[]
["Cuadro Nº II-3.1.1"]
[]
["ESTABLECIMIENTOS DE EDUCACIÓN MEDIA BÁSICA POR MODALIDAD Y FORMA DE ADMINISTRACIÓN SEGÚN DEPARTAMENTO. AÑO 2012."]
["DEPARTAMENTO",null,null,"MODALIDAD"]
[null,"TOTAL GENERAL",null,"CES",null,null,null,null,null,null,"CEIP","CETP"]
[null,null,null,"FORMA DE ADMINISTRACIÓN"]
[null,null,"TOTAL LICEOS PÚBLICOS","LICEOS PÚBLICOS",null,null,null,"TOTAL LICEOS PRIVADOS","Liceos Privados",null,"Escuelas con Ciclo Básico Rural","Escuelas de CBT y Técnica."]
[]
[null,null,null,"Diurnos Oficiales",null,"Extra Edad Oficiales (Nocturno Y Diurno)"]
[]
[]
[null,null,null,"Ciclo Básico","C.Básico y Bachillerato","Ciclo Básico","C.Básico y Bachillerato",null,"Ciclo Básico","C.Básico y Bachillerato"]
["TOTAL",{"$f":"SUM(C16+H16)","v":488},{"$f":"SUM(C17,C18)","v":315},{"$f":"D17+D18","v":108},140,5,62,{"$f":"SUM(I16:J16)","v":173},15,158,61,112]
["MONTEVIDEO",{"$f":"SUM(C17+H17)","v":168},68,48,5,1,14,{"$f":"SUM(I17:J17)","v":100},6,94,1,17]
["RESTO DEL PAÍS",320,{"$f":"SUM(C19:C36)","v":247},{"$f":"SUM(D19:D36)","v":60},135,4,48,{"$f":"SUM(I18:J18)","v":73},9,64,{"$f":"SUM(K19:K36)","v":60},{"$f":"SUM(L19:L36)","v":95}]
["Artigas",11,10,4,5,0,1,1,1,0,3,5]
["Canelones",80,57,14,28,2,13,23,4,19,0,19]
["Cerro Largo",11,9,2,5,0,2,2,0,2,5,5," "]
["Colonia",21,19,3,9,0,6,2,0,2,6,9]
["Durazno",11,9,2,5,0,1,2,0,2,1,4]
["Flores",7,5,1,2,0,1,2,0,2,1,2]
["Florida",13,12,2,9,0,1,1,0,1,2,4]
["Lavalleja",11,9,2,6,0,1,2,1,1,2,2]
["Maldonado",24,13,4,6,0,4,11,0,11,4,5]
["Paysandú",17,13,5,7,0,1,4,0,4,10,5]
["Río Negro",11,9,3,4,0,2,2,0,2,5,3]
["Rivera",21,15,4,8,2,1,6,2,4,4,4]
["Rocha",15,13,3,7,0,3,2,0,2,3,5]
["Salto",16,11,1,9,0,1,5,0,5,1,4]
["San José",14,12,3,5,0,5,2,0,2,6,6]
["Soriano",12,11,3,5,0,3,1,0,1,1,6]
["Tacuarembó",15,12,3,9,0,1,3,1,2,4,5]
["Treinta y Tres",10,8,1,6,0,1,2,0,2,2,2]
["Fuente: D.E.- C.E.S ."]
["Notas:\n1- Los establecimientos considerados en el Tipo de Educación Escuelas con Ciclo Básico Rural” ya fueron considerados en los totales de establecimientos de Educación Primaria por lo cual, si bien se presentan en la columna  correspondiente, no participan en el “Total” del presente cuadro.\n2- En un mismo establecimiento del CETP, coexisten  ofertas educativas de diferentes niveles. Los establecimientos fueron contabilizados por el nivel educativo, por lo tanto cada dependencia física será contada tantas veces como niveles educativos contenga. Por ello el presente cuadro computa los establecimientos con cursos de Educación Media Básica, independientemente que en el mismo espacio locativo se dicten ofertas de otros niveles."]

{"sheet":"II-3.1.2","index":211,"n_rows":33,"n_cols":7,"rows_kept":33,"cut":false,"hidden":false,"merged":[[0,6,0,7],[31,0,31,5],[32,0,32,5],[4,0,4,5],[5,0,8,0],[5,2,5,5],[6,1,8,1],[6,2,6,3],[7,2,7,5]]}
["CONSEJO DE EDUCACIÓN INICIAL Y PRIMARIA (CEIP), ",null,null,null,null,null,"ESTABLECIMIENTOS"]
["CONSEJO DE EDUCACIÓN SECUNDARIA (CES) Y CONSEJO DE EDUCACIÓN TÉCNICO PROFESIONAL (UTU)"]
["Cuadro Nº II-3.1.2"]
[]
["ESTABLECIMIENTOS FÍSICOS DE EDUCACIÓN MEDIA POR FORMA DE ADMINISTRACIÓN SEGÚN DEPARTAMENTO. AÑO 2012."]
["DEPARTAMENTO",null,"MODALIDAD"]
[null,"TOTAL GENERAL","CES",null,"CEIP","CETP"]
[]
[null,null,"LICEOS PÚBLICOS","LICEOS PRIVADOS","Escuelas con Ciclo Básico Rural","Escuelas de CBT y Técnica."]
["TOTAL",{"$f":"C10+D10+E10+F10","v":767},{"$f":"C11+C12","v":287},{"$f":"D11+D12","v":184},{"$f":"E11+E12","v":61},{"$f":"F11+F12","v":235}]
["MONTEVIDEO",{"$f":"C11+D11+E11+F11","v":228},70,106,1,51]
["RESTO DEL PAÍS",539,{"$f":"SUM(C13:C30)","v":217},{"$f":"SUM(D13:D30)","v":78},{"$f":"SUM(E13:E30)","v":60},{"$f":"SUM(F13:F30)","v":184}]
["Artigas",28,11,1,3,13]
["Canelones",112,49,26,0,37]
["Cerro Largo",21,7,2,5,7]
["Colonia",40,14,2,6,18]
["Durazno",18,8,2,1,7]
["Flores",11,3,2,1,5]
["Florida",22,12,2,2,6]
["Lavalleja",16,8,2,2,4]
["Maldonado",36,11,12,4,9]
["Paysandú",39,14,4,10,11]
["Río Negro",20,8,2,5,5]
["Rivera",30,12,6,4,8]
["Rocha",24,11,2,3,8]
["Salto",24,11,5,1,7]
["San José",31,9,2,6,14]
["Soriano",18,9,1,1,7]
["Tacuarembó",33,13,3,4,13]
["Treinta y Tres",16,7,2,2,5]
["Fuente: C.E.S  - CETP- CEIP"]
["Nota: 1- A diferencia del cuadro anterior II-3.1.1, el presente consolida la cantidad de establecimientos físicos con independencia del nivel educativo al cual son dirigidos los programas de estudios impartidos. En el caso del CETP debe considerarse que además de Educación Media se dictan programas dirigidos a Educación Terciaria No Universitaria y Educación de Jóvenes y Adultos. "]
["2- Dentro de la cantidad de establecimientos declarados en el CETP se encuentran 114 reparticiones denominadas\nsatélites en las cuales se  imparten cursos administrados por el CETP, en establecimientos que no forman parte de los activos de ANEP. "]

{"sheet":"II-3.2.1","index":212,"n_rows":27,"n_cols":5,"rows_kept":27,"cut":false,"hidden":false,"merged":[[24,0,24,4],[0,3,1,5],[4,0,4,4],[5,0,7,0],[5,2,6,4],[6,1,7,1]]}
["CONSEJO DE EDUCACIÓN SECUNDARIA",null,null,"ALUMNOS MATRICULADOS"]
[]
["Cuadro Nº II-3.2.1"]
[]
["ALUMNOS MATRICULADOS EN EDUCACION MEDIA BÁSICA GENERAL POR GRADO SEGÚN GRANDES ÁREAS Y FORMA DE ADMINISTRACIÓN. AÑO 2012."]
["GRANDES ÁREAS Y FORMA DE ADMINISTRACIÓN",null,"GRADO"]
[null,"TOTAL"]
[null,null,"PRIMERO","SEGUNDO","TERCERO"]
["TOTAL DEL PAÍS",{"$f":"C9+D9+E9","v":153287},{"$f":"C14+C19","v":56175},49263,47849]
["MEDIA BÁSICA PÚBLICA",127593,47277,40734,39582]
["  Diurna",114343,44179,36814,33350]
["  Nocturna",13250,{"$f":"C17+C22","v":3098},3920,6232]
["MEDIA BÁSICA PRIVADA",25694,8898,8529,8267]
["TOTAL MONTEVIDEO",56275,{"$f":"C15+C18","v":20827},{"$f":"D15+D18","v":18040},{"$f":"E15+E18","v":17408}]
["MEDIA BÁSICA PÚBLICA",39642,{"$f":"C16+C17","v":15085},{"$f":"D16+D17","v":12545},{"$f":"E16+E17","v":12012}]
["  Diurna",35190,14211,11237,9742]
["  Nocturna",{"$f":"C17+D17+E17","v":4452},874,1308,2270]
["MEDIA BÁSICA PRIVADA",{"$f":"C18+D18+E18","v":16633},5742,5495,5396]
["TOTAL RESTO DEL PAÍS",97012,{"$f":"C20+C23","v":35348},{"$f":"D20+D23","v":31223},{"$f":"E20+E23","v":30441}]
["MEDIA  BÁSICA PÚBLICA",87951,{"$f":"C21+C22","v":32192},{"$f":"D21+D22","v":28189},{"$f":"E21+E22","v":27570}]
["  Diurna",79153,29968,25577,23608]
["  Nocturna",8798,2224,2612,3962]
["MEDIA BÁSICA PRIVADA",9061,3156,3034,2871]
["Fuente: D.E. — C.E.S."]
["Nota: La referencia \"Privada\", (incluye los Habilitados \"Liceo Naval\" y \"Liceo Militar\"), se corresponde con la de \"Liceos Habilitados\" presente en ediciones anteriores del Anuario Estadístico del MEC."]
[]
["        "]

{"sheet":"II-3.2.2","index":213,"n_rows":35,"n_cols":14,"rows_kept":35,"cut":false,"hidden":false,"merged":[[10,12,10,13],[11,3,12,3],[11,4,12,4],[11,6,12,6],[11,7,12,7],[11,9,12,9],[11,10,12,10],[11,12,12,12],[11,13,12,13],[0,7,1,9],[5,0,6,8],[8,0,12,0],[8,1,12,1],[8,3,8,13],[9,2,12,2],[9,3,9,4],[9,5,12,5],[9,6,9,7],[9,8,12,8],[9,9,9,10],[9,11,12,11],[9,12,9,13],[10,3,10,4],[10,6,10,7],[10,9,10,10]]}
["CONSEJO DE EDUCACIÓN TÉCNICO PROFESIONAL (U.T.U.)",null,null,null,null,null,null,"ALUMNOS MATRICULADOS"]
[]
[]
[]
["Cuadro II-3.2.2."]
["ALUMNOS MATRICULADOS EN EL CETP EN EDUCACIÓN MEDIA BÁSICA TECNOLÓGICA POR TIPO DE CURSO SEGÚN  GRANDES ÁREAS, DEPARTAMENTO Y SEXO .AÑO 2012."]
[]
[]
["GRANDES ÁREAS,DEPARTAMENTO  Y SEXO ","TOTAL ",null,"EDUCACIÓN MEDIA BÁSICA TECNOLÓGICA "]
[null,null,"TOTAL ","Articulación Ed.Media Básica",null,"TOTAL","C. B. T. Agrario",null,"TOTAL","Ciclo Básico Tecnológico",null,"TOTAL ","Formación Profesional Básica 2007"]
[null,null,null,"Sexo",null,null,"Sexo",null,null,"Sexo",null,null,"Sexo"]
[null,null,null,"M","F",null,"M","F",null,"M","F",null,"M","F"]
[]
["TOTAL ",{"$f":"SUM(B15:B16)","v":26241},{"$f":"SUM(C15:C16)","v":460},{"$f":"SUM(D15:D16)","v":258},{"$f":"SUM(E15:E16)","v":202},{"$f":"SUM(F15:F16)","v":1101},{"$f":"SUM(G15:G16)","v":325},776,16291,6622,9669,8389,{"$f":"SUM(M15:M16)","v":3051},{"$f":"SUM(N15:N16)","v":5338}]
["Montevideo",{"$f":"+C15+F15+I15+L15","v":4849},{"$f":"+D15+E15","v":161},66,95,{"$f":"+G15+H15","v":72},25,47,{"$f":"+J15+K15","v":2334},935,1399,{"$f":"+M15+N15","v":2282},847,1435]
["Resto del País ",{"$f":"+C16+F16+I16+L16","v":21392},{"$f":"+D16+E16","v":299},192,107,{"$f":"SUM(F17:F34)","v":1029},300,729,13957,5687,8270,6107,2204,3903]
["Artigas",{"$f":"+C17+F17+I17+L17","v":1162},43,28,15,{"$f":"+G17+H17","v":0},0,0,{"$f":"+J17+K17","v":864},341,523,{"$f":"+M17+N17","v":255},127,128]
["Canelones",{"$f":"+C18+F18+I18+L18","v":4503},54,31,23,88,31,57,2503,1048,1455,1858,663,1195]
["Cerro Largo",1337,30,24,6,77,25,52,811,311,500,419,140,279]
["Colonia",1517,41,27,14,110,33,77,1141,444,697,225,71,154]
["Durazno",923,0,0,0,117,50,67,639,259,380,167,81,86]
["Flores",276,0,0,0,0,0,0,183,69,114,93,25,68]
["Florida",612,43,29,14,0,0,0,313,141,172,256,100,156]
["Lavalleja",576,0,0,0,0,0,0,341,144,197,235,80,155]
["Maldonado",1410,0,0,0,0,0,0,1146,486,660,264,109,155]
["Paysandú",1217,0,0,0,218,64,154,645,257,388,354,133,221]
["Rio Negro",626,0,0,0,0,0,0,476,169,307,150,47,103]
["Rivera",767,0,0,0,92,19,73,376,133,243,299,103,196]
["Rocha",626,0,0,0,29,4,25,505,201,304,92,37,55]
["Salto",1184,0,0,0,29,8,21,884,392,492,271,74,197]
["San José",1467,44,28,16,58,12,46,1176,512,664,189,78,111]
["Soriano",1643,15,8,7,145,34,111,1098,465,633,385,133,252]
["Tacuarembó",1058,29,17,12,0,0,0,476,170,306,553,183,370]
["Treinta y Tres",488,0,0,0,66,20,46,380,145,235,42,20,22]
["Fuente: Procesamiento propio en base a datos proporcionados por el D.E. - CETP  (U.T.U) ."]

{"sheet":"II-3.2.3","index":214,"n_rows":34,"n_cols":13,"rows_kept":34,"cut":false,"hidden":false,"merged":[[10,4,11,4],[10,5,11,5],[10,9,11,9],[10,10,11,10],[10,11,11,11],[10,6,11,6],[10,7,11,7],[10,8,11,8],[0,8,1,13],[5,0,5,12],[6,0,11,0],[6,1,9,3],[6,4,6,12],[7,4,7,12],[8,4,8,6],[8,7,8,9],[8,10,8,12],[9,4,9,6],[10,1,11,1],[10,2,11,2],[10,3,11,3],[10,12,11,12],[9,7,9,9],[9,10,9,12]]}
["CONSEJO DE EDUCACIÓN PRIMARIA",null,null,null,null,null,null,null,"ALUMNOS MATRICULADOS"]
[]
["Cuadro Nº II-3.2.3"]
[]
[]
["ALUMNOS MATRICULADOS EN SÉPTIMO, OCTAVO Y NOVENO GRADO DE CICLO BÁSICO RURAL POR SEXO SEGÚN DEPARTAMENTO AÑO 2012."]
["DEPARTAMENTO","TOTAL",null,null,"CICLO BÁSICO RURAL"]
[null,null,null,null,"GRADO"]
[null,null,null,null,"SÉPTIMO",null,null,"OCTAVO",null,null,"NOVENO"]
[null,null,null,null,"SEXO",null,null,"SEXO",null,null,"SEXO"]
[null,"T","M","F","T","M","F","T","M","F","T","M","F"]
[]
["TOTAL",{"$f":"E13+H13+K13","v":1916},982,934,{"$f":"F13+G13","v":697},{"$f":"F14+F15","v":385},{"$f":"G14+G15","v":312},{"$f":"I13+J13","v":640},{"$f":"I14+I15","v":318},{"$f":"J14+J15","v":322},{"$f":"L13+M13","v":579},{"$f":"L14+L15","v":279},{"$f":"M14+M15","v":300}]
["MONTEVIDEO",72,32,40,{"$f":"F14+G14","v":23},11,12,{"$f":"I14+J14","v":22},11,11,{"$f":"L14+M14","v":27},10,17]
["RESTO DEL PAÍS",1844,950,894,{"$f":"F15+G15","v":674},{"$f":"SUM(F16:F33)","v":374},{"$f":"SUM(G16:G33)","v":300},{"$f":"I15+J15","v":618},{"$f":"SUM(I16:I33)","v":307},{"$f":"SUM(J16:J33)","v":311},{"$f":"L15+M15","v":552},{"$f":"SUM(L16:L33)","v":269},{"$f":"SUM(M16:M33)","v":283}]
["Artigas",133,69,64,51,25,26,{"$f":"I16+J16","v":39},20,19,{"$f":"L16+M16","v":43},24,19]
["Canelones",{"$f":"E17+H17+K17","v":0},{"$f":"F17+I17+L17","v":0},{"$f":"G17+J17+M17","v":0},0,0,0,0,0,0,0,0,0]
["Cerro Largo",166,77,89,60,27,33,54,27,27,52,23,29]
["Colonia",204,109,95,69,43,26,62,30,32,73,36,37]
["Durazno",29,13,16,10,3,7,11,5,6,8,5,3]
["Flores",15,12,3,5,4,1,5,3,2,5,5,0]
["Florida",52,26,26,25,11,14,18,10,8,9,5,4]
["Lavalleja",72,32,40,34,18,16,19,7,12,19,7,12]
["Maldonado",100,60,40,26,19,7,40,29,11,34,12,22]
["Paysandú",320,173,147,122,72,50,113,59,54,85,42,43]
["Río Negro",123,64,59,36,24,12,46,22,24,41,18,23]
["Rivera",125,56,69,46,23,23,43,16,27,36,17,19]
["Rocha",88,44,44,34,19,15,24,10,14,30,15,15]
["Salto",23,12,11,11,6,5,9,5,4,3,1,2]
["San José",145,76,69,55,27,28,49,23,26,41,26,15]
["Soriano",30,12,18,13,6,7,10,2,8,7,4,3]
["Tacuarembó",141,74,67,48,30,18,49,26,23,44,18,26]
["Treinta y Tres",78,41,37,29,17,12,27,13,14,22,11,11]
["Fuente: DE — CES"]

{"sheet":"II-3.2.4","index":215,"n_rows":33,"n_cols":7,"rows_kept":33,"cut":false,"hidden":false,"merged":[[0,4,1,6],[4,0,4,6],[6,0,9,0],[6,1,6,6],[7,1,7,2],[7,3,7,4],[7,5,7,6],[8,1,8,6]]}
["CONSEJO DE EDUCACIÓN SECUNDARIA",null,null,null,"ALUMNOS MATRICULADOS"]
[]
["Cuadro Nº II-3.2.4"]
[]
["ALUMNOS MATRICULADOS DE EDUCACIÓN MEDIA BÁSICA GENERAL  POR GRADO Y FORMA DE ADMINISTRACIÓN SEGÚN DEPARTAMENTO AÑO 2012"]
[]
["DEPARTAMENTO","GRADO"]
[null,"PRIMERO",null,"SEGUNDO",null,"TERCERO"]
[null,"FORMA DE ADMINISTRACIÓN"]
[null,"Públicos","Privados","Públicos","Privados","Públicos","Privados"]
["TOTAL",{"$f":"B12+B13","v":47277},8898,40734,8529,39582,8267]
["MONTEVIDEO",15085,5742,12545,5495,12012,5396]
["RESTO DEL PAÍS",32192,3156,28189,3034,27570,2871]
["Artigas",1324,24,1239,18,1220,21]
["Canelones",8407,1120,7116,1094,7012,1088]
["Cerro Largo",1358,79,1268,81,1376,58]
["Colonia",1596,31,1560,34,1614,28]
["Durazno",934,93,828,74,761,89]
["Flores",410,62,303,44,336,52]
["Florida",922,62,828,47,906,47]
["Lavalleja",982,53,835,60,766,41]
["Maldonado",2354,440,2031,459,1864,384]
["Paysandú",1729,214,1509,219,1515,219]
["Río Negro",935,50,859,61,802,49]
["Rivera",2304,175,1815,160,1768,157]
["Rocha",1277,90,1064,67,1054,62]
["Salto ",2226,240,1967,206,1906,189]
["San José",1454,119,1364,106,1352,120]
["Soriano",1238,70,1124,86,1062,77]
["Tacuarembó",1779,139,1626,130,1479,116]
["Treinta y Tres",963,95,853,88,777,74]
["Fuente: DE — CES"]
["Nota: Incluye la matrícula correspondiente a los liceos de cuarto turno (nocturnos). "]

{"sheet":"II-3.2.5 ","index":216,"n_rows":22,"n_cols":6,"rows_kept":22,"cut":false,"hidden":false,"merged":[[21,0,21,4],[0,4,1,5],[4,0,4,3],[6,0,7,0],[6,1,7,1],[6,2,6,5]]}
["CONSEJO DE EDUCACIÓN TÉCNICO PROFESIONAL (U.T.U.)",null,null,null,"ALUMNOS MATRICULADOS"]
[]
["Cuadro Nº II-3.2.5"]
[]
["ALUMNOS MATRICULADOS EN EDUCACIÓN TÉCNICA MEDIA BÁSICA POR TIPO DE CURSO SEGÚN EDAD. AÑO 2012"]
[]
["EDAD","TOTAL","TIPO DE CURSO"]
[null,null,"C.T.B Agrario","Ciclo Básico Tecnológico","Formación Profesional Básica\nPlan 2007","Articulación Educación Media Básica"]
["TOTAL",{"$f":"+C9+D9+E9+F9","v":26241},{"$f":"+C10+C11+C12++C13+C14+C15+C16+C17+C18+C19+C20+C21","v":1101},{"$f":"+D10+D11+D12++D13+D14+D15+D16+D17+D18+D19+D20+D21","v":16291},{"$f":"+E10+E11+E12++E13+E14+E15+E16+E17+E18+E19+E20+E21+F21","v":8389},{"$f":"+F10+F11+F12++F13+F14+F15+F16+F17+F18+F19+F20+F21","v":460}]
["11 y 12 años ",{"$f":"+C10+D10+E10+F10","v":3461},278,3175,8,0]
["13 años ",4978,364,4584,30,0]
["14 años ",5761,289,4923,548,1]
["15 años ",4534,104,2307,2120,3]
["16 años ",3415,40,951,2416,8]
["17 años ",2103,5,278,1799,21]
["18 años ",743,1,34,646,62]
["19 años ",272,1,12,234,25]
["20 a 24 años ",382,2,16,278,86]
["25 a 29 años ",175,0,4,117,54]
["30 años y más ",417,17,7,193,200]
["Edad desc ",0,0,0,0,0]
["Fuente : Procesamiento propio en base a datos proporcionados por el D.E.-CETP (U.T.U.) "]

{"sheet":"II-3.2.6 ","index":217,"n_rows":25,"n_cols":6,"rows_kept":25,"cut":false,"hidden":false,"merged":[[0,2,1,3],[24,0,24,3],[6,0,7,0],[6,1,7,1],[6,2,6,4],[5,0,5,5]]}
["CONSEJO DE EDUCACIÓN TÉCNICO PROFESIONAL (U.T.U.)",null,"ALUMNOS MATRICULADOS"]
[]
[]
["Cuadro Nº II-3.2.6."]
[]
["ALUMNOS MATRICULADOS EN EL CETP EN EDUCACIÓN MEDIA BÁSICA POR TIPO DE CURSO SEGÚN SECTORES DE ESTUDIO. AÑO 2012."]
["SECTORES DE ESTUDIO","TOTAL","TIPO DE CURSO"]
[null,null,"Ciclo Básico Tecnológico","Formación Profesional Básica Plan 2007","CTB AGRARIO ","Articulación Educación Media"]
[]
["Prog. Ciclo Básico. Educación Media",{"$f":"+C10+D10+E10+F10","v":26241},{"$f":"SUM(C11:C24)","v":16291},{"$f":"SUM(D11:D24)","v":8389},{"$f":"SUM(E11:E24)","v":1101},{"$f":"SUM(F11:F24)","v":460}]
["Agropecuario",{"$f":"+C11+D11+E11+F11","v":161},0,161,0,0]
["Construcción y Arquitectura",151,0,151,0,0]
["Deportes",396,0,396,0,0]
["Electricidad y Electrónica",1172,0,1169,0,3]
["Gastronomía",1146,0,1137,0,9]
["Hortifruticultura y Jardinería",49,0,49,0,0]
["Informática",965,0,965,0,0]
["Madera y Muebles",1121,0,1113,0,8]
["Mant. y Reparación de Vehículos",1034,0,1034,0,0]
["Metal - Mecánica",601,0,601,0,0]
["Prog. Articulación entre Niveles",1538,0,0,1101,437]
["Prog. Ciclo Básico. Educación Media",16291,16291,0,0,0]
["Servicios personales",1237,0,1237,0,0]
["Textil y Confección de Vestimenta",379,0,376,0,3]
["Fuente: Procesamiento propio en base a datos proporcionados por el D.E.- CETP . (UTU)"]

{"sheet":"II-3.3.1","index":218,"n_rows":48,"n_cols":7,"rows_kept":48,"cut":false,"hidden":false,"merged":[[0,5,1,6],[4,0,4,6],[6,0,7,0],[6,1,7,1],[6,2,6,3],[6,4,7,4],[6,5,6,6]]}
["CONSEJO DE EDUCACIÓN SECUNDARIA",null,null,null,null,"PERSONAL DOCENTE"]
[]
["Cuadro Nº II-3.3.1."]
[]
["PERSONAL DOCENTE Y HORAS DOCENTES DEL CES EN EDUACIÓN MEDIA BÁSICA GENERAL POR TITULACIÓN SEGÚN ASIGNATURAS. AÑO 2012."]
[]
["ASIGNATURAS","TOTAL DOCENTES","PERSONAL DOCENTE",null,"TOTAL HORAS ","HORAS DOCENTES"]
[null,null,"Titulados","No Titulados",null,"Titulados","No Titulados"]
["TOTAL",{"$f":"SUM(C9:D9)","v":15940},{"$f":"SUM(C10:C46)","v":8680},{"$f":"SUM(D10:D46)","v":7260},{"$f":"SUM(F9:G9)","v":229002},{"$f":"SUM(F10:F46)","v":128659},{"$f":"SUM(G10:G46)","v":100343}]
["ASTRONOMÍA",{"$f":"SUM(C10:D10)","v":165},38,127,{"$f":"SUM(F10:G10)","v":2213},420,1793]
["BIOLOGÍA",1240,991,249,16237,13884,2353]
["CONTABILIDAD",4,0,4,19,0,19]
["DIBUJO",759,352,407,11953,6144,5809]
["EDUCACIÓN FÍSICA",971,827,144,15416,13610,1806]
["EDUCACIÓN MUSICAL",538,101,437,8447,1579,6868]
["ED Y CÍVICA -DERECHO-",468,381,87,4231,3675,556]
["FILOSOFÍA",384,260,124,4618,3428,1190]
["FÍSICA",599,254,345,7640,3523,4117]
["FRANCÉS",70,15,55,1209,288,921]
["GEOGRAFÍA",840,636,204,12268,10185,2083]
["HISTORIA",1425,1175,250,18291,16211,2080]
["IDIOMA ESPAÑOL",1100,813,287,18089,14246,3843]
["INGLÉS",1311,424,887,22336,7836,14500]
["ITALIANO",63,20,43,1174,437,737]
["LITERATURA",808,617,191,10096,8241,1855]
["FÍSICO - QUÍMICA",789,395,394,9255,5063,4192]
["MATEMÁTICA",1489,503,986,26797,9864,16933]
["QUÍMICA",714,453,261,7759,5281,2478]
["REC.NATUR Y PAISAJE AGRARIA",0,0,0,0,0,0]
["GEOLOGÍA",2,2,0,18,18,0]
["DIRECTOR DE COROS",132,44,88,1486,554,932]
["PIANISTA ACOMPAÑANTE",108,26,82,1066,231,835]
["INFORMÁTICA",875,136,739,15009,2009,13000]
["LENG,COMU,Y MEDIOS AUDIOVISUAL",0,0,0,0,0,0]
["ESTUDIOS ECONÓMICOS Y SOCIALES",3,2,1,6,4,2]
["LABORATORIO INFORMÁTICA EDUCAT",308,47,261,6579,942,5637]
["MANUALIDADES",2,0,2,40,0,40]
["LENGUA ALEMÁN",5,0,5,97,0,97]
["TEATRO",1,0,1,6,0,6]
["LENGUAS PORTUGUES",81,8,73,1270,75,1195]
["EXPRESIÓN CORPORAL Y TEATRO",1,1,0,3,3,0]
["EXPRESIÓN CORPORAL Y DANZA",0,0,0,0,0,0]
["ACTADAPTADAS AL MEDIO AMBIENT",60,2,58,602,18,584]
["ECONOMÍA",1,1,0,4,4,0]
["ESPACIO CURRICULAR ABIERTO",615,156,459,4623,886,3737]
["LENGUA DE SEÑAS",9,0,9,145,0,145]
["Fuente: Departamento de Computación - División Hacienda — C.E.S."]
["Nota: Los docentes que dictan más de una asignatura son considerados como personas distintas en cada asignatura."]

{"sheet":"II-3.3.2","index":219,"n_rows":14,"n_cols":5,"rows_kept":14,"cut":false,"hidden":false,"merged":[[0,4,1,5],[4,0,4,3],[5,0,6,0],[5,1,6,1]]}
["CONSEJO DE EDUCACIÓN TÉCNICO PROFESIONAL (U.T.U.)",null,null,null,"PERSONAL DOCENTE"]
[]
["Cuadro Nº II-3.3.2."]
[]
["PERSONAL DOCENTE DEL CETP EN EDUCACIÓN MEDIA BÁSICA TECNOLÓGICA POR TIPO DE CURSO. AÑO 2012."]
["EDUCACIÓN MEDIA BÁSICA","TOTAL"]
[]
[]
["TOTAL",{"$f":"SUM(B10:B13)","v":5276}]
["Ciclo Básico Tecnológico",3431]
["Ciclo Básico Tecnológico Agrario","S/D"]
["Formación Profesional Básica Plan 2007",1662]
["Articulación Educ.Media Básica",183]
["Fuente: U.T.U. División Informática."]

{"sheet":"II-3.4.1","index":220,"n_rows":26,"n_cols":4,"rows_kept":26,"cut":false,"hidden":false,"merged":[[26,0,26,2],[0,3,1,4],[4,0,4,2],[5,0,8,0],[5,1,6,2],[7,1,8,1],[7,2,8,2]]}
["CONSEJO DE EDUCACIÓN SECUNDARIA",null,null,"GRUPOS"]
[]
["Cuadro Nº II-3.4.1."]
[]
["GRUPOS DEL CES EN EDUCACIÓN MEDIA BÁSICA GENERAL  COMPARADOS CON EL TOTAL DE GRUPOS EN EDUCACIÓN MEDIA GENERAL SEGÚN GRANDES ÁREAS Y FORMA DE ADMINISTRACIÓN. AÑO 2012."]
["GRANDES ÁREAS Y FORMA DE ADMINISTRACIÓN","FORMA DE ADMINISTRACIÓN"]
[]
[null,"Grupos en Educación Media Básica General ","Total de grupos en Educación Media General"]
[]
["TOTAL DEL PAÍS",{"$f":"B15+B20","v":5353},{"$f":"C15+C20","v":9745}]
["MEDIA BÁSICA PÚBLICA",{"$f":"B12+B13","v":4301},{"$f":"C12+C13","v":7452}]
["  Diurna",{"$f":"B17+B22","v":3924},6469]
["  Cuarto Turno",377,983]
["MEDIA BÁSICA PRIVADA",1052,2293]
["TOTAL MONTEVIDEO",{"$f":"B16+B19","v":1947},{"$f":"C16+C19","v":3682}]
["MEDIA BÁSICA PÚBLICA",{"$f":"B17+B18","v":1287},{"$f":"C17+C18","v":2158}]
["  Diurna",1159,1802]
["  Cuarto Turno",128,356]
["MEDIA BÁSICA  PRIVADA",660,1524]
["TOTAL RESTO DEL PAÍS",{"$f":"B21+B24","v":3406},{"$f":"C21+C24","v":6063}]
["MEDIA BÁSICA PÚBLICA",{"$f":"B22+B23","v":3014},{"$f":"C22+C23","v":5294}]
["  Diurna",2765,4667]
["  Cuarto Turno",249,627]
["MEDIA  BÁSICA PRIVADA",392,769]
[]
["Fuente: D.E. — C.E.S."]

{"sheet":"MEDIA SUPERIOR","index":221,"n_rows":0,"n_cols":0,"rows_kept":0,"cut":false,"hidden":false,"merged":[[36,0,36,4],[38,0,38,4],[22,0,22,4],[24,0,24,4],[28,0,28,4],[30,0,30,4],[32,0,32,4],[34,0,34,4],[20,0,20,4],[10,0,10,4],[12,0,12,4],[14,0,14,4],[16,0,16,4],[18,0,18,4]]}

{"sheet":"II-4.1.1","index":222,"n_rows":39,"n_cols":11,"rows_kept":39,"cut":false,"hidden":false,"merged":[[0,7,1,9],[4,0,4,10],[5,3,5,10],[6,1,13,1],[7,3,7,10],[8,10,13,10],[8,3,9,6],[8,8,12,9],[10,3,12,4],[10,5,12,6],[6,3,6,9],[8,2,13,2],[8,7,13,7],[5,0,13,0]]}
["CONSEJO DE EDUCACIÓN SECUNDARIA Y CONSEJO DE EDUCACIÓN TÉCNICO PROFESIONAL (UTU)",null,null,null,null,null,null,"ESTABLECIMIENTOS"]
[]
["Cuadro Nº II-4.1.1"]
[]
["ESTABLECIMIENTOS DE EDUCACIÓN MEDIA SUPERIOR POR MODALIDAD Y FORMA DE ADMINISTRACIÓN SEGÚN DEPARTAMENTO. AÑO 2012."]
["DEPARTAMENTO",null,null,"MODALIDAD"]
[null,"TOTAL GENERAL",null,"CES",null,null,null,null,null,null,"CETP"]
[null,null,null,"FORMA DE ADMINISTRACIÓN"]
[null,null,"TOTAL LICEOS PÚBLICOS","LICEOS PÚBLICOS",null,null,null,"TOTAL LICEOS PRIVADOS","Liceos Privados",null,"Escuelas de CBT y Técnica."]
[]
[null,null,null,"Diurnos Oficiales",null,"Extra Edad Oficiales (Nocturno Y Diurno)"]
[]
[]
[null,null,null,"Bachillerato","C.Básico y Bachillerato","Bachillerato","C.Básico y Bachillerato",null,"Bachillerato","C.Básico y Bachillerato"]
["TOTAL",{"$f":"B16+B17","v":428},{"$f":"C16+C17","v":262},{"$f":"D16+D17","v":41},140,33,62,{"$f":"SUM(I15:J15)","v":166},8,158,126]
["MONTEVIDEO",{"$f":"SUM(C16+H16)","v":151},51,17,5,15,14,{"$f":"SUM(I16:J16)","v":100},6,94,26]
["RESTO DEL PAÍS",{"$f":"SUM(C17+H17)","v":277},{"$f":"SUM(C18:C35)","v":211},{"$f":"SUM(D18:D35)","v":24},135,18,48,66,2,64,100]
["Artigas",{"$f":"SUM(C18+H18)","v":8},8,2,5,1,1,0,0,0,5]
["Canelones",71,51,8,28,6,13,20,1,19,18]
["Cerro Largo",9,7,0,5,0,2,2,0,2,5]
["Colonia",19,17,2,9,2,6,2,0,2,10]
["Durazno",10,8,1,5,2,1,2,0,2,3]
["Flores",5,3,0,2,1,1,2,0,2,2]
["Florida",12,11,1,9,1,1,1,0,1,3]
["Lavalleja",7,6,0,6,0,1,1,0,1,4]
["Maldonado",23,11,1,6,0,4,12,1,11,6]
["Paysandú",14,10,2,7,1,1,4,0,4,6]
["Río Negro",8,6,1,4,1,2,2,0,2,3]
["Rivera",15,11,1,8,0,1,4,0,4,5]
["Rocha",14,12,1,7,1,3,2,0,2,5]
["Salto",17,12,1,9,1,1,5,0,5,6]
["San José",13,11,1,5,0,5,2,0,2,7]
["Soriano",10,9,1,5,1,3,1,0,1,6]
["Tacuarembó",13,11,1,9,0,1,2,0,2,3]
["Treinta y Tres",9,7,0,6,0,1,2,0,2,3]
[]
["Fuente: D.E.- C.E.S ."]
["Nota: 1- Los establecimientos considerados en el Tipo de Educación Escuelas con Ciclo Básico Rural” ya fueron considerados en los totales de establecimientos de Educación Primaria por lo cual, si bien se presentan en la columna  correspondiente, no participan en el “Total” del presente cuadro."]
["2- En un mismo establecimiento del CETP, coexisten  ofertas educativas de diferentes niveles Los establecimientos fueron contabilizados por el nivel educativo, por lo tanto cada dependencia física será contada tantas veces como niveles educativos contenga Por ello el presente cuadro computa los establecimientos con cursos de Educación Media Básica, independientemente que en el mismo espacio locativo se dicten ofertas de otros niveles."]

{"sheet":"II-4.2.1","index":223,"n_rows":29,"n_cols":5,"rows_kept":29,"cut":false,"hidden":false,"merged":[[24,0,24,4],[0,2,1,4],[0,7,1,7],[4,0,4,4],[5,0,7,0],[5,1,7,1],[5,2,6,4]]}
["CONSEJO DE EDUCACIÓN SECUNDARIA",null,"ALUMNOS MATRICULADOS"]
[]
["Cuadro Nº II-4.2.1"]
[]
["ALUMNOS MATRICULADOS  DEL CES  EN EDUCACIÓN MEDIA SUPERIOR  GENERAL POR GRADO SEGÚN GRANDES ÁREAS Y FORMA DE ADMINISTRACIÓN AÑO 2012"]
["GRANDES ÁREAS Y FORMA DE ADMINISTRACIÓN","TOTAL","GRADO"]
[]
[null,null,"CUARTO","QUINTO","SEXTO"]
["TOTAL DEL PAÍS",{"$f":"C9+D9+E9","v":117497},{"$f":"C10+C13","v":41432},{"$f":"D10+D13","v":42125},{"$f":"E10+E13","v":33940}]
["MEDIA SUPERIOR PÚBLICA ",{"$f":"C10+D10+E10","v":100265},{"$f":"C11+C12","v":34567},{"$f":"D11+D12","v":36597},{"$f":"E11+E12","v":29101}]
["  Diurna",{"$f":"C11+D11+E11","v":66711},{"$f":"C16+C21","v":26179},23091,17441]
["  Cuarto Turno",33554,8388,13506,11660]
["MEDIA SUPERIOR PRIVADA",17232,6865,5528,4839]
["TOTAL MONTEVIDEO",47018,{"$f":"C15+C18","v":14977},{"$f":"D15+D18","v":17221},{"$f":"E15+E18","v":14820}]
["MEDIA SUPERIOR PÚBLICA ",34448,{"$f":"C16+C17","v":10358},{"$f":"D16+D17","v":13049},{"$f":"E16+E17","v":11041}]
["  Diurna",18887,7048,6683,5156]
["  Cuarto Turno",15561,3310,6366,5885]
["MEDIA SUPERIOR PRIVADA ",12570,4619,4172,3779]
["TOTAL RESTO DEL PAÍS",70479,{"$f":"C20+C23","v":26455},{"$f":"D20+D23","v":24904},{"$f":"E20+E23","v":19120}]
["MEDIA SUPERIOR PÚBLICA ",65817,{"$f":"C21+C22","v":24209},{"$f":"D21+D22","v":23548},{"$f":"E21+E22","v":18060}]
["  Diurna",47824,19131,16408,12285]
["  Cuarto Turno",17993,5078,7140,5775]
["MEDIA SUPERIOR PRIVADA ",4662,2246,1356,1060]
["Fuente: DE — CES"]
["Nota: La referencia \"Privada\" (incluye los Habilitados \"Liceo Naval\" y \"Liceo Militar\"), se corresponde con la de \"Liceos Habilitados\" presente en ediciones anteriores del Anuario Estadístico del MEC"]
["       "]
["        "]
["        "]
["        "]

{"sheet":"II-4.2.2 ","index":224,"n_rows":34,"n_cols":19,"rows_kept":34,"cut":false,"hidden":false,"merged":[[32,0,32,12],[8,5,8,6],[33,0,33,18],[6,4,6,18],[9,2,10,2],[9,3,10,3],[5,4,5,18],[9,17,10,17],[9,18,10,18],[7,16,10,16],[7,17,7,18],[8,14,8,15],[8,17,8,18],[7,14,7,15],[9,14,10,14],[9,15,10,15],[7,13,10,13],[0,7,1,7],[0,10,0,13],[5,0,10,0],[5,1,10,1],[5,2,8,3],[7,4,10,4],[7,5,7,6],[8,8,8,9],[8,11,8,12],[4,0,4,18],[9,5,10,5],[9,6,10,6],[7,7,10,7],[7,8,7,9],[7,10,10,10],[7,11,7,12]]}
["CONSEJO DE EDUCACIÓN TÉCNICO PROFESIONAL (U.T.U.)",null,null,null,null,null,null,null,null,null,"ALUMNOS MATRICULADOS"]
[]
["Cuadro Nº II-4.2.2"]
[]
["ALUMNOS MATRICULADOS EN EL CETP EN EDUCACIÓN MEDIA SUPERIOR TECNOLÓGICA POR TIPO DE CURSO SEGÚN GRANDES ÁREAS, DEPARTAMENTO Y SEXO. AÑO 2012"]
["GRANDES ÁREAS,DEPARTAMENTO Y SEXO ","TOTAL","TOTAL ",null,"Tipo de curso"]
[null,null,null,null,"EDUACIÓN MEDIA SUPERIOR TECONOLOGICA "]
[null,null,null,null,"TOTAL ","Bachillerato Figari",null,"TOTAL ","Bachillerato Profesional",null,"TOTAL ","Curso Técnico",null,"TOTAL ","Educación Media Profesional",null,"TOTAL","Educación Media Tecnológica"]
[null,null,null,null,null,"Sexo",null,null,"Sexo",null,null,"Sexo",null,null,"Sexo",null,null,"Sexo"]
[null,null,"F","M",null,"F","M",null,"F","M",null,"F","M",null,"F","M",null,"F","M"]
[null,null,null,null,null,null,null,null,"Count","Count",null,"Count","Count",null,"Count","Count",null,"Count","Count"]
["TOTAL ",{"$f":"E12+H12+K12+N12+Q12+T12","v":36185},{"$f":"C13+C14","v":16202},{"$f":"D13+D14","v":19983},{"$f":"SUM(E13:E14)","v":146},75,71,687,141,546,348,338,10,13110,6336,6774,21894,9312,12582]
["Montevideo",15569,6425,9144,128,67,61,313,52,261,348,338,10,5414,2603,2811,9366,3365,6001]
["RESTO DEL PAÍS",{"$f":"E14+H14+K14+N14+Q14+T14","v":20616},{"$f":"SUM(C15:C32)","v":9777},{"$f":"SUM(D15:D32)","v":10839},{"$f":"SUM(E15:E32)","v":18},8,10,374,89,285,0,0,0,7696,3733,3963,12528,5947,6581]
["Artigas",1116,585,531,18,8,10,11,0,11,0,0,0,479,218,261,608,359,249]
["Canelones",3889,2081,1808,0,0,0,81,35,46,0,0,0,1619,926,693,2189,1120,1069]
["Cerro Largo",1025,528,497,0,0,0,6,0,6,0,0,0,536,294,242,483,234,249]
["Colonia",1476,724,752,0,0,0,9,0,9,0,0,0,572,278,294,895,446,449]
["Durazno",533,253,280,0,0,0,0,0,0,0,0,0,83,37,46,450,216,234]
["Flores",359,172,187,0,0,0,9,1,8,0,0,0,131,84,47,219,87,132]
["Florida",717,294,423,0,0,0,11,0,11,0,0,0,184,94,90,522,200,322]
["Lavalleja",479,232,247,0,0,0,12,1,11,0,0,0,307,129,178,160,102,58]
["Maldonado",1527,651,876,0,0,0,33,9,24,0,0,0,544,194,350,950,448,502]
["Paysandú",1547,568,979,0,0,0,20,3,17,0,0,0,272,112,160,1255,453,802]
["Rio Negro",554,243,311,0,0,0,11,2,9,0,0,0,75,34,41,468,207,261]
["Rivera",957,465,492,0,0,0,0,0,0,0,0,0,281,166,115,676,299,377]
["Rocha",461,292,169,0,0,0,13,5,8,0,0,0,253,152,101,195,135,60]
["Salto",1935,878,1057,0,0,0,46,10,36,0,0,0,740,340,400,1149,528,621]
["San José",939,442,497,0,0,0,24,14,10,0,0,0,466,173,293,449,255,194]
["Soriano",1510,707,803,0,0,0,24,6,18,0,0,0,559,290,269,927,411,516]
["Tacuarembó",1102,467,635,0,0,0,45,1,44,0,0,0,365,127,238,692,339,353]
["Treinta y Tres",490,195,295,0,0,0,19,2,17,0,0,0,230,85,145,241,108,133]
["Fuente : Procesamiento propio en base a datos proporcionados por el D.E. _ CETP (U.T.U. ) "]
["Nota: Los matriculados en Formación Profesional Superior, potencialmente son estudiantes de Eduacación Media Superior, ya que con el curso de Articulación correspondiente adquieren continuidad educativa a  nivel tericiario. "]

{"sheet":"II-4.2.3 ","index":225,"n_rows":26,"n_cols":8,"rows_kept":26,"cut":false,"hidden":false,"merged":[[0,7,1,8],[4,0,4,7],[5,0,8,0],[5,1,8,1],[5,2,6,6],[7,2,7,6]]}
["CONSEJO DE EDUCACIÓN TÉCNICO PROFESIONAL (U.T.U.)",null,null,null,null,null,null,"ALUMNOS MATRICULADOS"]
[]
["Cuadro Nº II-4.2.3"]
[]
["ALUMNOS MATRICULADOS EN EL CETP EN EDUCACIÓN MEDIA SUPERIOR POR TIPO DE CURSO SEGÚN EDAD. AÑO 2012."]
["EDAD ","TOTAL ","TIPO DE CURSO "]
[]
[null,null,"EDUCACIÓN MEDIA SUPERIOR TECNOLÓGICA "]
[null,null,"Bachillerato Figari","Bachillerato Profesional","Curso Técnico","Educación Media Profesional","Educación Media Tecnológica"]
["TOTAL ",{"$f":"SUM(B11:B20)","v":36185},146,687,348,13110,21894]
["14 años",{"$f":"+C11+D11+E11+F11+G11","v":69},0,0,0,16,53]
["15 años",{"$f":"+C12+D12+E12+F12+G12","v":3360},3,0,10,715,2632]
["16 años",5263,7,2,31,1417,3806]
["17 años",5834,16,125,53,1632,4008]
["18años",4275,6,98,37,1410,2724]
["19años",3180,6,67,45,1230,1832]
["20 a 24 años",8110,37,201,129,3492,4251]
["25 a 29 años",3081,14,78,27,1530,1432]
["30 años y más",3013,57,116,16,1668,1156]
["Edad desc",0,0,0,0,0,0]
[]
["Fuente: Procesamiento propio en base a datos proporcionados por el D.E. - CETP (U.T.U)"]
["Nota: Los cursos de Articulación no corresponden estrictamente a Educación Media Superior. El curso de Articulación brinda"]
["la posibilidad de adquirir el nivel educativo para ingresar a cursos terciarios dentro de la oferta educativa del CEPT. "]
["De esta manera se entiende que su inclusión en Educación Media Superior parece más apropiada que su inclusión en nivel "]
["Terciario. "]

{"sheet":"II-4.2.4 ","index":226,"n_rows":35,"n_cols":8,"rows_kept":35,"cut":false,"hidden":false,"merged":[[4,0,4,8],[5,0,6,0],[5,1,6,1],[5,2,5,6]]}
["CONSEJO DE EDUCACIÓN TÉCNICO PROFESIONAL (U.T.U.)",null,null,null,null,null,null,"ALUMNOS MATRICULADOS"]
[]
["Cuadro Nº II-4.2.4."]
[]
["ALUMNOS MATRICULADOS EN EL CETP EN EDUCACIÓN MEDIA SUPERIOR TECNOLÓGICA POR TIPO DE CURSO SEGÚN SECTORES DE ESTUDIO. AÑO 2012."]
["SECTORES DE ESTUDIO ","TOTAL","EDUCACIÓN MEDIA SUPERIOR TECNOLÓGICA"]
[null,null,{"$f":"'[1]II 4.2.4'!C4","v":"Bachillerato Figari"},{"$f":"'[1]II 4.2.4'!D4","v":"Bachillerato Profesional"},{"$f":"'[1]II 4.2.4'!E4","v":"Curso Técnico"},{"$f":"'[1]II 4.2.4'!F4","v":"Educación Media Profesional"},{"$f":"'[1]II 4.2.4'!G4","v":"Educación Media Tecnológica"}]
["TOTAL",{"$f":"SUM(B9:B30)","v":36185},146,687,348,13110,21894]
["Agropecuario",{"$f":"+C9+D9+E9+F9+G9","v":2155},null,40,0,205,1910]
["Artes",{"$f":"+C10+D10+E10+F10+G10","v":75},75,0,0,0,0]
["Artesanías",54,54,0,0,0,0]
["Cerámica",17,17,0,0,0,0]
["Comercio y Administración",12131,0,0,0,4483,7648]
["Construcción y Arquitectura",2266,0,80,0,652,1534]
["Deportes",260,0,0,0,0,260]
["Electricidad y Electrónica",3995,0,151,0,1464,2380]
["Forestal",15,0,0,0,15,0]
["Gastronomía",2016,0,168,0,1848,0]
["Hortifruticultura y Jardinería",30,0,9,0,21,0]
["Informática",6003,0,68,0,504,5431]
["Madera y Muebles",571,0,59,0,512,0]
["Mant. y Reparación de Vehículos",1613,0,77,0,1117,419]
["Mant., Rep., y Serv. a la Producción",87,0,0,0,87,0]
["Metal - Mecánica",759,0,14,0,498,247]
["Pesca",80,0,14,0,66,0]
["Protección al medio ambiente",39,0,7,0,32,0]
["Química, Termodinámica y Agroenergía",560,0,0,0,142,418]
["Servicios personales",1490,0,0,208,1282,0]
["Textil y Confección de Vestimenta",322,0,0,140,182,0]
["Turismo",1647,0,0,0,0,1647]
["Fuente: D.E.- CETP (U.T.U.) "]
["Nota: Los cursos de Articulación no corresponden estrictamente a Educación Media Superior. El curso de Articulación brinda"]
["la posibilidad de adquirir el nivel educativo para ingresar a cursos terciarios dentro de la oferta educativa del CEPT. "]
["De esta manera se entiende que su inclusión en Educación Media Superior parece más apropiada que su inclusión en nivel "]
["Terciario. "]

{"sheet":"II-4.2.5","index":227,"n_rows":32,"n_cols":7,"rows_kept":32,"cut":false,"hidden":false,"merged":[[31,0,31,6],[0,4,1,6],[4,0,4,6],[5,0,8,0],[5,1,5,6],[6,1,6,2],[6,3,6,4],[6,5,6,6],[7,1,7,6]]}
["CONSEJO DE EDUCACIÓN SECUNDARIA",null,null,null,"ALUMNOS MATRICULADOS"]
[]
["Cuadro Nº II-4.2.5."]
[]
["ALUMNOS MATRICULADOS EN EL CES EN EDUCACIÓN MEDIA SUPERIOR GENERAL POR GRADO Y FORMA DE ADMINISTRACIÓN SEGÚN DEPARTAMENTO AÑO 2012"]
["DEPARTAMENTO","GRADO"]
[null,"CUARTO",null,"QUINTO",null,"SEXTO"]
[null,"FORMA DE ADMINISTRACIÓN"]
[null,"Públicos","Privados","Públicos","Privados","Públicos","Privados"]
["TOTAL",{"$f":"SUM(B11:B12)","v":34567},6865,36597,5528,29101,4839]
["MONTEVIDEO",10358,4619,13049,4172,11041,3779]
["RESTO DEL PAÍS",24209,2246,23548,1356,18060,1060]
["Artigas",1099,0,1036,0,869,0]
["Canelones",5753,756,5814,467,4344,356]
["Cerro Largo",1174,64,1219,29,797,0]
["Colonia",1388,12,1340,0,1158,0]
["Durazno",715,71,703,47,528,22]
["Flores",280,46,310,12,270,0]
["Florida",802,54,712,10,603,31]
["Lavalleja",758,36,732,0,528,23]
["Maldonado",2004,490,1900,464,1459,439]
["Paysandú",1082,170,1254,130,997,85]
["Río Negro",611,14,567,12,512,0]
["Rivera",1592,85,1504,37,1123,27]
["Rocha",1064,38,956,0,646,0]
["Salto ",1545,143,1524,29,1227,12]
["San José",1245,70,1387,33,895,18]
["Soriano",986,61,1022,0,861,0]
["Tacuarembó",1429,69,1023,86,812,47]
["Treinta y Tres",682,67,545,0,431,0]
["Fuente: DE — CES"]
["Nota:  La referencia \"Privados\" (incluye los Habilitados \"Liceo Naval\" y \"Liceo Militar\"), se corresponde con la de \"Liceos Habilitados\" presente en ediciones anteriores del Anuario Estadístico del MEC"]

{"sheet":"II-4.2.6","index":228,"n_rows":31,"n_cols":16,"rows_kept":31,"cut":false,"hidden":false,"merged":[[8,10,8,11],[8,12,8,13],[5,7,5,15],[6,8,6,13],[6,14,9,14],[7,15,9,15],[8,8,8,9],[5,1,5,2],[6,3,6,6],[0,4,1,6],[4,0,4,6],[4,7,4,9],[5,0,9,0],[5,3,5,6],[6,7,9,7],[6,2,9,2],[6,1,9,1]]}
["CONSEJO DE EDUCACIÓN SECUNDARIA",null,null,null,"ALUMNOS MATRICULADOS"]
[]
["Cuadro Nº II-4.2.6"]
[]
["ALUMNOS MATRICULADOS EN EL CES EN QUINTO GRADO DE EDUCACIÓN MEDIA POR PLAN Y ORIENTACIÓN SEGÚN GRANDES ÁREAS Y FORMA DE ADMINISTRACIÓN AÑO 2012"]
["GRANDES ÁREAS Y FORMAS DE ADMINISTRACIÓN",null,null,"QUINTO GRADO DE EDUCACIÓN MEDIA GENERAL"]
[null,"TOTAL GENERAL ","TOTAL PLAN REF 06","ORIENTACIÓN     PLAN REFORMULACIÓN 2006",null,null,null,"TOTAL PLAN 94","ORIENTACIÓN  PLAN 94",null,null,null,null,null,"TOTAL PLANES PRIVADOS","OTROS (*)"]
[null,null,null,null,null,null,null,null,null,null,null,null,null,null,null,"BINT y/o BICUL "]
[null,null,null,"DivHum","DivBiol","DivCient","DivArt",null,"2º H",null,"2º B",null,"2º C"]
[null,null,null,null,null,null,null,null,"ANUAL","1ºSemestre","ANUAL","1ºSemestre","ANUAL","1ºSemestre"]
["TOTAL DEL PAÍS",{"$f":"SUM(C11+H11+O11+P11)","v":42125},{"$f":"D11+E11+F11+G11","v":23191},{"$f":"D12+D15","v":9266},{"$f":"E12+E15","v":8569},{"$f":"F12+F15","v":3501},{"$f":"G12+G15","v":1855},{"$f":"SUM(I11:N11)","v":13406},{"$f":"I12+I15","v":4717},3101,3224,1481,627,256,5408,120]
["EDUCACIÓN MEDIA SUPERIOR PÚBLICA",36597,23191,{"$f":"D13+D14","v":9266},{"$f":"E13+E14","v":8569},{"$f":"F13+F14","v":3501},{"$f":"G13+G14","v":1855},{"$f":"SUM(I12:N12)","v":13406},{"$f":"I13+I14","v":4717},3101,3224,1481,627,256,0,0]
["  Diurna",23091,23074,{"$f":"D18+D23","v":9266},8569,3501,1738,17,{"$f":"I18+I23","v":17},0,0,0,0,0,0,0]
["  Cuarto Turno",13506,117,0,{"$f":"E19+E24","v":0},{"$f":"F19+F24","v":0},{"$f":"G19+G24","v":117},13389,{"$f":"I19+I24","v":4700},3101,3224,1481,627,256,0,0]
["EDUCACIÓN MEDIA SUPERIOR PRIVADA",5528,0,0,{"$f":"E20+E25","v":0},{"$f":"F20+F25","v":0},0,0,{"$f":"I20+I25","v":0},0,0,0,0,0,5408,120]
["TOTAL MONTEVIDEO",17338,6900,{"$f":"D17+D20","v":2688},{"$f":"E17+E20","v":2143},{"$f":"F17+F20","v":1194},{"$f":"G17+G20","v":875},6266,{"$f":"I17+I20","v":1649},1954,1135,950,322,256,4069,103]
["EDUCACIÓN MEDIA SUPERIOR PÚBLICA",13049,6783,{"$f":"D18+D19","v":2688},{"$f":"E18+E19","v":2143},{"$f":"F18+F19","v":1194},{"$f":"G18+G19","v":758},6266,{"$f":"I18+I19","v":1649},1954,1135,950,322,256,0,0]
["  Diurna",6683,6666,2688,2143,1194,641,17,17,0,0,0,0,0,0,0]
["  Cuarto Turno",6366,117,0,0,0,117,6249,1632,1954,1135,950,322,256,0,0]
["EDUCACIÓN MEDIA SUPERIOR PRIVADA",4289,{"$f":"D20+E20+F20+G20","v":117},0,0,0,117,0,0,0,0,0,0,0,4069,103]
["TOTAL RESTO DEL PAÍS",24904,16408,{"$f":"D22+D25","v":6578},{"$f":"E22+E25","v":6426},{"$f":"F22+F25","v":2307},{"$f":"G22+G25","v":1097},7140,{"$f":"I22+I25","v":3068},1147,2089,531,305,0,1339,17]
["EDUCACIÓN MEDIA SUPERIOR PÚBLICA",23548,16408,{"$f":"D23+D24","v":6578},{"$f":"E23+E24","v":6426},{"$f":"F23+F24","v":2307},{"$f":"G23+G24","v":1097},7140,{"$f":"I23+I24","v":3068},1147,2089,531,305,0,0,0]
["  Diurna",16408,16408,6578,6426,2307,1097,0,0,0,0,0,0,0,0,0]
["  Cuarto Turno",7140,0,0,0,0,0,7140,3068,1147,2089,531,305,0,0,0]
["EDUCACIÓN MEDIA SUPERIOR PRIVADA",1356,0,0,0,0,0,0,0,0,0,0,0,0,1339,17]
["Fuente: DE — CES"]
["Nota:   OTROS (*) Corresponde a los cursos de Bachillerato Internacional y Bachillerato Bicultural"]
["        La referencia \"Privada\", (incluye los Habilitados \"Liceo Naval\" y \"Liceo Militar\"),"]
["        se corresponde con la de \"Liceos Habilitados\" presente en ediciones anteriores"]
["        del Anuario Estadístico del MEC"]
["Nota: A partir de 2012 el Plan 76 no se aplicó más en los quintos año. "]

{"sheet":"II-4.2.7","index":229,"n_rows":33,"n_cols":14,"rows_kept":33,"cut":false,"hidden":false,"merged":[[8,12,9,12],[8,13,9,13],[8,4,9,4],[8,5,9,5],[8,6,9,6],[8,7,9,7],[8,8,9,8],[6,2,9,2],[6,9,9,9],[0,5,1,5],[0,10,1,12],[4,0,4,20],[5,0,9,0],[5,1,9,1],[5,3,5,13],[6,3,6,8],[6,10,6,13],[7,3,7,4],[7,5,7,6],[7,7,7,8],[8,3,9,3],[8,10,9,10],[8,11,9,11]]}
["CONSEJO DE EDUCACIÓN SECUNDARIA",null,null,null,null,null,null,null,null,null,"ALUMNOS MATRICULADOS"]
[]
["Cuadro Nº II-4.2.7"]
[]
["ALUMNOS MATRICULADOS EN EL CES EN QUINTO GRADO DE EDUCACIÓN MEDIA GENERAL PÚBLICA POR PLAN Y ORIENTACIÓN SEGÚN DEPARTAMENTO AÑO 2012"]
["DEPARTAMENTO","TOTAL GENERAL"]
[null,null,"TOTAL PLAN 94","ORIENTACIÓN  PLAN / 94",null,null,null,null,null,"TOTAL PLAN 06","ORIENTACIÓN  PLAN / REFORMULACIÓN 2006"]
[null,null,null,"2º H",null,"2º B",null,"2º C"]
[null,null,null,"ANUAL","1ºSemestre","ANUAL","1ºSemestre","ANUAL","1ºSemestre",null,"DivHum","DivBiol","DivCient","DivArt"]
[]
["TOTAL",{"$f":"SUM(C11+J11)","v":36597},{"$f":"SUM(D11:I11)","v":13406},{"$f":"SUM(D12:D13)","v":4717},3101,3224,1481,627,256,{"$f":"SUM(K11:N11)","v":23191},{"$f":"SUM(K12:K13)","v":9266},{"$f":"SUM(L12:L13)","v":8569},{"$f":"SUM(M12:M13)","v":3501},{"$f":"SUM(N12:N13)","v":1855}]
["MONTEVIDEO",{"$f":"SUM(C12+J12)","v":13049},{"$f":"SUM(D12:I12)","v":6266},1649,1954,1135,950,322,256,{"$f":"SUM(K12:N12)","v":6783},2688,2143,1194,758]
["RESTO DEL PAÍS",23548,7140,{"$f":"SUM(D14:D31)","v":3068},1147,2089,531,305,0,16408,6578,6426,2307,1097]
["Artigas",1036,258,69,126,0,63,0,0,778,370,311,80,17]
["Canelones",5814,2005,771,494,497,97,146,0,3809,1484,1313,697,315]
["Cerro Largo",1219,377,221,0,142,0,14,0,842,340,348,87,67]
["Colonia",1340,443,238,0,205,0,0,0,897,301,335,171,90]
["Durazno",703,180,135,0,45,0,0,0,523,251,178,76,18]
["Flores",310,98,63,0,35,0,0,0,212,69,87,45,11]
["Florida",712,150,90,0,60,0,0,0,562,236,212,75,39]
["Lavalleja",732,151,95,0,56,0,0,0,581,254,255,61,11]
["Maldonado",1900,626,300,52,194,55,25,0,1274,502,418,205,149]
["Paysandú",1254,369,0,155,0,196,18,0,885,293,469,78,45]
["Río Negro",567,200,117,0,74,0,9,0,367,132,171,43,21]
["Rivera",1504,363,57,148,38,98,22,0,1141,619,368,123,31]
["Rocha",956,312,158,29,103,22,0,0,644,268,247,70,59]
["Salto ",1524,261,140,0,101,0,20,0,1263,487,583,136,57]
["San José",1387,595,295,0,262,0,38,0,792,259,338,146,49]
["Soriano",1022,355,88,143,111,0,13,0,667,262,266,86,53]
["Tacuarembó",1023,244,134,0,110,0,0,0,779,301,340,91,47]
["Treinta y Tres",545,153,97,0,56,0,0,0,392,150,187,37,18]
["Fuente: DE — CES"]
["Nota: A partir de 2012 el Plan 76 no se aplicó más en los quintos año. "]

{"sheet":"II-4.2.8 ","index":230,"n_rows":37,"n_cols":7,"rows_kept":37,"cut":false,"hidden":false,"merged":[[10,4,11,4],[10,5,11,5],[10,6,11,6],[0,5,1,7],[4,0,4,10],[6,0,6,7],[8,0,11,0],[8,1,11,1],[8,2,8,6],[8,9,11,10],[9,2,9,5],[10,2,11,2],[10,3,11,3]]}
["CONSEJO DE EDUCACIÓN SECUNDARIA",null,null,null,null,"ALUMNOS MATRICULADOS"]
[]
["Cuadro Nº II-4.2.8"]
[]
[]
[]
["ALUMNOS MATRICULADOS EN EL CES EN QUINTO GRADO DE EDUCACIÓN MEDIA SUPERIOR DE EDUCACIÓN SECUNDARIA PRIVADA POR ORIENTACIÓN SEGÚN DEPARTAMENTO AÑO 2012"]
[]
["DEPARTAMENTO","TOTAL","QUINTO GRADO DE EDUCACIÓN MEDIA GENERAL"]
[null,null,"ORIENTACIÓN Planes 76+86+93+2006",null,null,null,"OTROS (*)"]
[null,null,"Humanística","Biológica","Científica","Artístico","BINT y/o BICUL"]
[]
["TOTAL",{"$f":"C13+D13+E13+F13+G13","v":5528},{"$f":"C14+C15","v":1871},{"$f":"D14+D15","v":1442},{"$f":"E14+E15","v":1698},{"$f":"F14+F15","v":397},{"$f":"G14+G15","v":120}]
["MONTEVIDEO",{"$f":"C14+D14+E14+F14+G14","v":4172},1485,936,1330,318,103]
["RESTO DEL PAÍS",1356,{"$f":"SUM(C16:C33)","v":386},{"$f":"SUM(D16:D33)","v":506},{"$f":"SUM(E16:E33)","v":368},{"$f":"SUM(F16:F33)","v":79},{"$f":"SUM(G16:G33)","v":17}]
["Artigas",0,0,0,0,0,0]
["Canelones",467,136,174,115,42,0]
["Cerro Largo",29,0,20,9,0,0]
["Colonia",0,0,0,0,0,0]
["Durazno",47,19,16,12,0,0]
["Flores",12,0,10,2,0,0]
["Florida",10,2,6,2,0,0]
["Lavalleja",0,0,0,0,0,0]
["Maldonado",464,130,148,132,37,17]
["Paysandú",130,44,52,34,0,0]
["Río Negro",12,8,4,0,0,0]
["Rivera",37,11,9,17,0,0]
["Rocha",0,0,0,0,0,0]
["Salto ",29,9,15,5,0,0]
["San José",33,7,13,13,0,0]
["Soriano",0,0,0,0,0,0]
["Tacuarembó",86,20,39,27,0,0]
["Treinta y Tres",0,0,0,0,0,0]
["Fuente: DE — CES"]
["Nota:   Otros (*) Corresponde a los cursos de Bachillerato Internacional y"]
["        Bachillerato Bicultural"]
["Nota: A partir de 2012 el Plan 76 no se aplicó más en quinto año. "]

{"sheet":"II_4_2_9","index":231,"n_rows":28,"n_cols":25,"rows_kept":28,"cut":false,"hidden":false,"merged":[[6,2,9,2],[0,12,1,14],[5,0,9,0],[5,1,9,1],[8,16,9,16],[6,3,6,14],[6,16,7,22],[7,13,8,14],[7,9,8,10],[8,20,9,20],[8,21,9,21],[8,22,9,22],[6,15,9,15],[8,19,9,19],[6,24,7,24],[7,3,8,4],[7,5,8,6],[7,7,8,8],[7,11,8,12],[8,24,9,24],[8,17,9,17],[8,18,9,18],[6,23,9,23]]}
["CONSEJO DE EDUCACIÓN SECUNDARIA",null,null,null,null,null,null,null,null,null,null,null,"ALUMNOS MATRICULADOS"]
[]
["Cuadro Nº II-4.2.9"]
[]
["ALUMNOS MATRICULADOS EN EL CES EN SEXTO GRADO DE BACHILLERATO POR OPCIÓN Y PLAN SEGÚN GRANDES ÁREAS Y FORMA DE ADMINISTRACIÓN AÑO 2012"]
["GRANDES ÁREAS Y FORMA DE ADMINISTRACIÓN","Total todos los planes"]
[null,null,"Total Plan 94","O P C I Ó N     P L A N    / 94",null,null,null,null,null,null,null,null,null,null,null,"Total Plan 06","O P C I Ó N     P L A N    / R E F O R  M  U L A C I Ó N  2006",null,null,null,null,null,null,"TotPlanes Privados","OTROS (*)"]
[null,null,null,"3º DER",null,"3º ECO",null,"3º AGR",null,"3º MED",null,"3º ARQ",null,"3º ING"]
[null,null,null,null,null,null,null,null,null,null,null,null,null,null,null,null,"Social Humanístico","Social Economía","Ciencias Agrarias","Ciencias Biológicas","Física Matemática","Matemática Diseño","Arte y Expresión",null,"BINT y/o BICUL"]
[null,null,null,"ANUAL","1º Semestre","ANUAL","1º Semestre","ANUAL","1º Semestre","ANUAL","1º Semestre","ANUAL","1º Semestre","ANUAL","1º Semestre"]
["TOTAL",{"$f":"C11+P11+X11+Y11","v":33940},{"$f":"SUM(D11:O11)","v":11618},{"$f":"D12+D15","v":3694},1865,558,191,127,0,3076,1128,147,111,563,158,{"$f":"SUM(Q11:W11)","v":17483},{"$f":"Q12+Q15","v":5802},{"$f":"R12+R15","v":1920},595,5638,1667,804,1057,4744,95]
["EDUCACIÓN MEDIA SUPERIOR PÚBLICA",{"$f":"C12+P12+X12+Y12","v":29101},{"$f":"SUM(D12:O12)","v":11618},{"$f":"D13+D14","v":3694},1865,558,191,127,0,3076,1128,147,111,563,158,{"$f":"SUM(Q12:W12)","v":17483},{"$f":"Q13+Q14","v":5802},{"$f":"R13+R14","v":1920},595,5638,1667,804,1057,0,0]
["  Diurna",17441,15,{"$f":"D18+D23","v":15},0,{"$f":"F18+F23","v":0},0,0,0,0,{"$f":"K18+K23","v":0},0,0,0,0,17426,{"$f":"Q18+Q23","v":5802},{"$f":"R18+R23","v":1920},595,5638,1667,804,1000,0,0]
["  Cuarto Turno",11660,11603,3679,1865,{"$f":"F19+F24","v":558},{"$f":"G19+G24","v":191},127,0,3076,{"$f":"K19+K24","v":1128},147,111,563,158,57,{"$f":"Q19+Q24","v":0},{"$f":"R19+R24","v":0},0,0,0,0,57,0,0]
["EDUCACIÓN MEDIA SUPERIOR PRIVADA",4839,0,0,0,{"$f":"F20+F25","v":0},0,0,0,0,{"$f":"K20+K25","v":0},0,0,0,0,0,{"$f":"Q20+Q25","v":0},{"$f":"R20+R25","v":0},0,0,0,0,0,4744,95]
["TOTAL MONTEVIDEO",14820,5843,{"$f":"D17+D20","v":1310},1319,344,191,38,0,1118,803,128,111,323,158,5198,{"$f":"Q17+Q20","v":1626},{"$f":"R17+R20","v":749},79,1499,540,282,423,3699,80]
["EDUCACIÓN MEDIA SUPERIOR PÚBLICA",11041,5843,{"$f":"D18+D19","v":1310},{"$f":"E18+E19","v":1319},{"$f":"F18+F19","v":344},191,38,0,1118,803,128,111,323,158,5198,{"$f":"Q18+Q19","v":1626},{"$f":"R18+R19","v":749},79,1499,540,282,423,0,0]
["  Diurna",5156,15,15,0,0,0,0,0,0,0,0,0,0,0,5141,1626,749,79,1499,540,282,366,0,0]
["  Cuarto Turno",5885,5828,1295,1319,344,191,38,null,1118,803,128,111,323,158,57,0,0,0,0,0,0,57,0,0]
["EDUCACIÓN MEDIA SUPERIOR PRIVADA",3779,0,0,0,0,0,0,0,0,0,0,0,0,0,0,0,0,0,0,0,0,0,3699,80]
["RESTO DEL PAÍS",19120,5775,{"$f":"D22+D25","v":2384},546,214,0,89,0,1958,325,19,0,240,0,12285,{"$f":"Q22+Q25","v":4176},{"$f":"R22+R25","v":1171},516,4139,1127,522,634,1045,15]
["EDUCACIÓN MEDIA SUPERIOR PÚBLICA",18060,5775,{"$f":"D23+D24","v":2384},{"$f":"E23+E24","v":546},{"$f":"F23+F24","v":214},0,89,0,1958,325,19,0,240,0,12285,{"$f":"Q23+Q24","v":4176},{"$f":"R23+R24","v":1171},516,4139,1127,522,634,0,0]
["  Diurna",12285,0,0,0,0,0,0,0,0,0,0,0,0,0,12285,4176,1171,516,4139,1127,522,634,0,0]
["  Cuarto Turno",5775,5775,2384,546,214,0,89,0,1958,325,19,0,240,0,0,0,0,0,0,0,0,0,0,0]
["EDUCACIÓN MEDIA SUPERIOR PRIVADA",1060,0,0,0,0,0,0,0,0,0,0,0,0,0,0,0,0,0,0,0,0,0,1045,15]
["Fuente: DE — CES"]
["Nota:   La referencia \"Privada\" (incluye los Habilitados \"Liceo Naval\" y \"Liceo Militar\"), se corresponde con la de \"Liceos Habilitados\""]
["        presente en ediciones anteriores del Anuario Estadístico del MEC"]

{"sheet":"II_4_2_10","index":232,"n_rows":34,"n_cols":23,"rows_kept":34,"cut":false,"hidden":false,"merged":[[0,3,1,5],[6,0,10,0],[6,1,10,1],[6,3,7,14],[8,5,8,6],[8,7,8,8],[8,9,8,10],[8,11,8,12],[8,13,8,14],[9,3,10,3],[9,4,10,4],[9,5,10,5],[9,6,10,6],[4,15,4,22],[8,3,8,4],[6,16,7,22],[8,22,10,22],[8,16,10,16],[9,11,10,11],[9,12,10,12],[9,13,10,13],[9,14,10,14],[6,15,10,15],[8,17,10,17],[9,9,10,9],[9,10,10,10],[8,18,10,18],[8,19,10,19],[8,20,10,20],[8,21,10,21],[9,7,10,7],[9,8,10,8],[5,2,5,22],[6,2,10,2]]}
["CONSEJO DE EDUCACIÓN SECUNDARIA",null,null,"ALUMNOS MATRICULADOS"]
[]
["Cuadro Nº II-4.2.10",null,"VOLVER"]
[]
["ALUMNOS MATRICULADOS EN EL CES EN SEXTO GRADO DE EDUCACIÓN MEDIA GENERAL PÚBLICA POR PLAN Y OPCIÓN SEGÚN DEPARTAMENTO AÑO 2012"]
[null,null,"SEXTO GRADO"]
["DEPARTAMENTO","TOTAL GENERAL","TOTAL Plan 94","O P C I Ó N   P L A N /  94",null,null,null,null,null,null,null,null,null,null,null,"Total Plan Ref. 06","O P C I Ó N      P L A N  / R E F O R M U L A C I Ó N  2006"]
[]
[null,null,null,"3º DER",null,"3º ECO",null,"3º AGR",null,"3º MED",null,"3º ARQ",null,"3º ING",null,null,"Social Humanístico","Social Economía","Ciencias Agrarias","Ciencias Biológicas","Física Matemática","Matemática Diseño","Arte y Expresión"]
[null,null,null,"ANUAL","1ºSemestre","ANUAL","1ºSemestre","ANUAL","1ºSemestre","ANUAL","1ºSemestre","ANUAL","1ºSemestre","ANUAL","1ºSemestre"]
[]
["TOTAL",{"$f":"SUM(C12+P12)","v":29101},{"$f":"SUM(D12:O12)","v":11618},{"$f":"D13+D14","v":3694},1865,558,191,127,0,3076,1128,147,111,563,158,{"$f":"+Q12+R12+S12+T12+U12+V12+W12","v":17483},{"$f":"Q13+Q14","v":5802},{"$f":"R13+R14","v":1920},595,5638,1667,804,1057]
["MONTEVIDEO",{"$f":"SUM(C13+P13)","v":11041},{"$f":"SUM(D13:O13)","v":5843},1310,1319,344,191,38,0,1118,803,128,111,323,158,{"$f":"+Q13+R13+S13+T13+U13+V13+W13","v":5198},1626,749,79,1499,540,282,423]
["RESTO DEL PAÍS",18060,5775,{"$f":"SUM(D15:D32)","v":2384},546,214,0,89,0,1958,325,19,0,240,0,12285,{"$f":"SUM(Q15:Q32)","v":4176},{"$f":"SUM(R15:R32)","v":1171},516,4139,1127,522,634]
["Artigas",869,245,56,91,0,0,0,0,98,0,0,0,0,0,624,232,48,0,245,62,13,24]
["Canelones",4344,1538,652,171,92,0,22,0,475,15,19,0,92,0,2806,877,386,85,782,302,149,225]
["Cerro Largo",797,243,135,0,0,0,0,0,102,0,0,0,6,0,554,187,49,40,184,44,20,30]
["Colonia",1158,422,207,0,26,0,0,0,189,0,0,0,0,0,736,190,74,58,225,71,65,53]
["Durazno",528,147,84,0,0,0,0,0,63,0,0,0,0,0,381,166,41,17,107,31,10,9]
["Flores",270,92,38,0,0,0,0,0,54,0,0,0,0,0,178,58,12,9,74,12,6,7]
["Florida",603,174,92,0,0,0,0,0,82,0,0,0,0,0,429,175,28,4,136,42,23,21]
["Lavalleja",528,83,52,0,0,0,0,0,31,0,0,0,0,0,445,162,30,14,192,26,11,10]
["Maldonado",1459,498,199,39,49,0,0,0,157,33,0,0,21,0,961,332,75,27,287,103,62,75]
["Paysandú",997,369,0,131,19,0,30,0,0,168,0,0,21,0,628,218,60,32,250,42,18,8]
["Río Negro",512,177,99,0,8,0,12,0,52,0,0,0,6,0,335,90,20,15,150,35,10,15]
["Rivera",1123,295,50,114,0,0,0,0,0,109,0,0,22,0,828,328,77,55,256,63,20,29]
["Rocha",646,161,78,0,0,0,0,0,83,0,0,0,0,0,485,159,33,16,181,48,21,27]
["Salto ",1227,278,133,0,0,0,13,0,113,0,0,0,19,0,949,325,61,33,404,61,41,24]
["San José",895,418,147,0,10,0,12,0,209,0,0,0,40,0,477,146,40,16,166,66,13,30]
["Soriano",861,316,188,0,10,0,0,0,105,0,0,0,13,0,545,155,61,47,191,53,23,15]
["Tacuarembó",812,207,103,0,0,0,0,0,104,0,0,0,0,0,605,221,60,32,212,43,14,23]
["Treinta y Tres",431,112,71,0,0,0,0,0,41,0,0,0,0,0,319,155,16,16,97,23,3,9]
["Fuente: DE — CES"]
["Nota: A partir de 2012 el Plan 76 no se aplicó más en los sextos año. "]

{"sheet":"II-4.2.11 ","index":233,"n_rows":30,"n_cols":10,"rows_kept":30,"cut":false,"hidden":false,"merged":[[29,0,29,5],[30,0,30,5],[0,3,1,3],[0,4,1,5],[4,0,4,9],[5,0,6,0],[5,1,6,1],[5,2,5,8]]}
["CONSEJO DE EDUCACIÓN SECUNDARIA",null,null,null,"ALUMNOS MATRICULADOS"]
[]
["Cuadro Nº II-4.2.11"]
[]
["ALUMNOS MATRICULADOS EN EL CES EN SEXTO GRADO DE EDUCACIÓN MEDIA GENERAL PRIVADA POR OPCIÓN SEGÚN DEPARTAMENTO. AÑO 2012"]
["DEPARTAMENTO","TOTAL"," TODOS LOS PLANES OPCIÓN SEXTO GRADO",null,null,null,null,null,null,"Otros (*)"]
[null,null,"Social Humanístico","Social Economía","Ciencias Agrarias","Ciencias Biológicas","Física Matemática","Matemática Diseño","Arte y Expresión","B.INT.y/o BICUL."]
["TOTAL",{"$f":"SUM(C8:J8)","v":4839},{"$f":"C9+C10","v":1105},{"$f":"D9+D10","v":924},167,983,809,462,294,95]
["MONTEVIDEO",{"$f":"SUM(C9:J9)","v":3779},824,773,117,689,655,401,240,80]
["RESTO DEL PAÍS",1060,{"$f":"SUM(C11:C28)","v":281},{"$f":"SUM(D11:D28)","v":151},50,294,154,61,54,15]
["Artigas",0,0,0,0,0,0,0,0,0]
["Canelones",356,102,49,9,95,64,17,20,0]
["Cerro Largo",0,0,0,0,0,0,0,0,0]
["Colonia",0,0,0,0,0,0,0,0,0]
["Durazno",22,6,3,0,8,5,0,0,0]
["Flores",0,0,0,0,0,0,0,0,0]
["Florida",31,8,7,0,9,0,7,0,0]
["Lavalleja",23,13,0,0,10,0,0,0,0]
["Maldonado",439,107,56,21,109,62,35,34,15]
["Paysandú",85,24,20,8,24,9,0,0,0]
["Río Negro",0,0,0,0,0,0,0,0,0]
["Rivera",27,5,5,8,5,4,0,0,0]
["Rocha",0,0,0,0,0,0,0,0,0]
["Salto ",12,0,0,0,12,0,0,0,0]
["San José",18,7,0,0,6,5,0,0,0]
["Soriano",0,0,0,0,0,0,0,0,0]
["Tacuarembó",47,9,11,4,16,5,2,0,0]
["Treinta y Tres",0,0,0,0,0,0,0,0,0]
["Fuente D.E - CES"]
["Nota: Otros (*) Corresponde a los cursos de Bachillerato Internacional y Bachillerato Bicultural. "]

{"sheet":"II-4.3.1 ","index":234,"n_rows":48,"n_cols":7,"rows_kept":48,"cut":false,"hidden":false,"merged":[[0,5,1,6],[0,7,1,7],[4,0,4,6],[6,0,7,0],[6,1,7,1],[6,2,6,3],[6,4,7,4],[6,5,6,6]]}
["CONSEJO DE EDUCACIÓN SECUNDARIA",null,null,null,null,"PERSONAL DOCENTE"]
[]
["Cuadro Nº II-4.3.1"]
[]
["PERSONAL DOCENTE Y HORAS DOCENTES DEL CES EN EDUCACIÓN MEDIA SUPERIOR GENERAL PÚBLICA POR CONDICIÓN DE TITULACIÓN AÑO 2012"]
[]
["ASIGNATURAS","TOTAL DOCENTES","PERSONAL DOCENTE",null,"TOTAL HORAS ","HORAS DOCENTES"]
[null,null,"Titulados","No Titulados",null,"Titulados","No Titulados"]
["TOTAL",{"$f":"SUM(C9:D9)","v":7175},{"$f":"SUM(C10:C46)","v":4819},{"$f":"SUM(D10:D46)","v":2356},{"$f":"SUM(F9:G9)","v":89185},{"$f":"SUM(F10:F46)","v":63085},{"$f":"SUM(G10:G46)","v":26100}]
["ASTRONOMÍA",{"$f":"+C10+D10","v":29},8,21,{"$f":"+F10+G10","v":192},78,114]
["BIOLOGÍA",{"$f":"+C11+D11","v":623},515,108,{"$f":"+F11+G11","v":7617},6374,1243]
["CONTABILIDAD",154,15,139,1319,114,1205]
["DIBUJO",320,179,141,2974,1997,977]
["EDUCACIÓN FÍSICA",104,94,10,1122,1070,52]
["EDUCACIÓN MUSICAL",68,28,40,548,223,325]
["ED Y CÍVICA -DERECHO-",622,528,94,7188,6361,827]
["FILOSOFÍA",543,398,145,6520,5222,1298]
["FÍSICA",509,298,211,7818,4904,2914]
["FRANCÉS",3,3,0,50,50,0]
["GEOGRAFÍA",182,144,38,1513,1203,310]
["HISTORIA",614,561,53,7251,6651,600]
["IDIOMA ESPAÑOL",14,9,5,188,131,57]
["INGLÉS",516,212,304,6734,3236,3498]
["ITALIANO",75,26,49,893,357,536]
["LITERATURA",614,509,105,7178,6177,1001]
["FÍSICO - QUÍMICA",8,2,6,104,36,68]
["MATEMÁTICA",974,541,433,17268,10378,6890]
["QUÍMICA",501,363,138,7745,5905,1840]
["REC NATURY PAISAJE AGRARIA",44,34,10,100,74,26]
["GEOLOGÍA",10,3,7,46,25,21]
["DIRECTOR DE COROS",18,8,10,158,70,88]
["PIANISTA ACOMPAÑANTE",11,5,6,73,38,35]
["INFORMÁTICA",90,23,67,884,249,635]
["LENG,COMU,Y MEDIOS AUDIOVISUAL",34,12,22,191,48,143]
["ESTUDIOS ECONÓMICOS Y SOCIALES",212,175,37,1356,1077,279]
["LABORATORIO INFORMÁTICA EDUCAT",17,4,13,199,43,156]
["MANUALIDADES",0,0,0,0,0,0]
["LENGUA ALEMÁN",0,0,0,0,0,0]
["TEATRO",40,13,27,229,69,160]
["LENGUAS PORTUGUES",0,0,0,0,0,0]
["EXPRESIÓN CORPORAL Y TEATRO",43,14,29,205,54,151]
["EXPRESIÓN CORPORAL Y DANZA",34,5,29,232,20,212]
["ACTADAPTADAS AL MEDIO AMBIENT",131,76,55,879,462,417]
["ECONOMÍA",14,14,0,389,389,0]
["ESPACIO CURRICULAR ABIERTO",2,0,2,8,0,8]
["LENGUA DE SE･AS",2,0,2,14,0,14]
["Fuente: Departamento de Computación - División Hacienda — CES"]
["Nota: Los docentes que dictan más de una asignatura son considerados como personas distintas en cada asignatura"]

{"sheet":"II-4.3.2","index":235,"n_rows":18,"n_cols":5,"rows_kept":18,"cut":false,"hidden":false,"merged":[[0,0,0,1],[0,4,1,5],[0,7,1,7],[4,0,4,3],[5,0,6,0],[5,1,6,1]]}
["CONSEJO DE EDUCACIÓN TÉCNICO PROFESIONAL (U.T.U.)",null,null,null,"PERSONAL DOCENTE"]
[]
["Cuadro Nº II-4.3.2"]
[]
["PERSONAL DOCENTE DEL CETP EN EDUCACIÓN MEDIA SUPERIOR TECNOLÓGICA POR TIPO DE CURSO. AÑO 2012."]
["EDUCACIÓN MEDIA SUPERIOR TECNOLÓGICA","TOTAL"]
[]
["TOTAL",{"$f":"SUM(B9:B16)","v":7656}]
["Bachillerato Figari",102]
["Bachillerato Profesional",603]
["Educación Media Profesional",2788]
["Educación Media Prof. De Especialización",11]
["Educación Media Tecnológica",3802]
["EMS",111]
["Articulación a Nivel Terciario",145]
["Curso Técnico",94]
["Fuente: U.T.U. División Informática."]
["Los cursos EMP Especialización, fueron reubicados en el  Nivel Superior de Formación Profesional.  "]

{"sheet":"II-4.4.1","index":236,"n_rows":28,"n_cols":3,"rows_kept":28,"cut":false,"hidden":false,"merged":[[0,2,1,3],[0,7,1,7],[4,0,4,2],[5,0,6,0],[23,0,23,2]]}
["CONSEJO DE EDUCACIÓN SECUNDARIA",null,"GRUPOS"]
[]
["Cuadro Nº II-4.4.1"]
[]
["GRUPOS DE EDUCACIÓN MEDIA SUPERIOR GENERAL COMPARADOS CON EL TOTAL DE AMBOS CICLOS SEGÚN GRANDES ÁREAS Y FORMA DE ADMINISTRACIÓN AÑO 2012"]
[null,"FORMA DE ADMINISTRACIÓN"]
[null,"Grupos en Educación Media Superior General","Total de Grupos en Educación Media Superior General"]
["TOTAL DEL PAÍS",{"$f":"B9+B12","v":4392},{"$f":"C9+C12","v":9745}]
["EDUCACIÓN MEDIA SUPERIOR PÚBLICA",{"$f":"B10+B11","v":3151},{"$f":"C10+C11","v":7452}]
["  Diurna",{"$f":"B15+B20","v":2545},6469]
["  Nocturna",606,983]
["EDUCACIÓN MEDIA SUPERIOR PRIVADA",1241,2293]
["TOTAL MONTEVIDEO",{"$f":"B14+B17","v":1735},{"$f":"C14+C17","v":3682}]
["EDUCACIÓN MEDIA SUPERIOR PÚBLICA",{"$f":"B15+B16","v":871},{"$f":"C15+C16","v":2158}]
["  Diurna",643,1802]
["  Nocturna",228,356]
["EDUCACIÓN MEDIA SUPERIOR PRIVADA",864,1524]
["TOTAL RESTO DEL PAÍS",{"$f":"B19+B22","v":2657},{"$f":"C19+C22","v":6063}]
["EDUCACIÓN MEDIA SUPERIOR PÚBLICA",{"$f":"B20+B21","v":2280},{"$f":"C20+C21","v":5294}]
["  Diurna",1902,4667]
["  Nocturna",378,627]
["EDUCACIÓN MEDIA SUPERIOR PRIVADA",377,769]
["Fuente: DE — CES"]
["Nota: El “Total de ambos Ciclos” presenta de manera agregada la cantidad  total de grupos con que cuente Educación Secundaria y es el resultado de adicionar al total de Grupos del presente cuadro (Ciclo Superior de Educación Secundaria), el total de los grupos presentados en el Cuadro II-3.4.1 (Ciclo Básico de Educación Secundaria)"]
["       "]
["        "]
["        "]
["        "]

{"sheet":"TERCIARIA NO UNIVERSITARIA ","index":237,"n_rows":0,"n_cols":0,"rows_kept":0,"cut":false,"hidden":false,"merged":[[29,0,29,4],[18,0,18,4],[21,0,21,4],[23,0,23,4],[25,0,25,4],[10,0,10,4],[12,0,12,4],[14,0,14,4],[16,0,16,4],[27,0,27,4]]}

{"sheet":"II-5.1.1  ","index":238,"n_rows":52,"n_cols":5,"rows_kept":52,"cut":false,"hidden":false,"merged":[[54,0,55,5],[0,3,1,4],[4,0,4,4],[5,0,9,0],[5,1,9,1],[5,2,5,3],[5,4,9,4],[6,2,7,3],[8,2,9,2],[8,3,9,3],[51,0,51,6]]}
["OFERTAS TERCIARIAS NO UNIVERSITARIAS",null,null,"INSTITUCIONES"]
[]
["Cuadro Nº II-5.1.1"]
[]
["MATRÍCULA Y PERSONAL DOCENTE POR SEXO SEGÚN GRANDES ÁREAS, DEPARTAMENTOS E INSTITUCIONES. AÑO 2012."]
["GRANDES ÁREAS / DEPARTAMENTO / INSTITUCIÓN","TOTAL","MATRICULA",null,"DOCENTES"]
[null,null,"SEXO"]
[]
[null,null,"M","F"]
[]
["TOTAL",{"$f":"+B13+B23","v":8308},{"$f":"+C13+C23","v":3816},{"$f":"+D13+D23","v":4492},{"$f":"+E13+E23","v":1610}]
[]
["MONTEVIDEO",{"$f":"SUM(B15:B21)","v":5625},{"$f":"SUM(C15:C21)","v":2633},{"$f":"SUM(D15:D21)","v":2992},{"$f":"SUM(E15:E21)","v":1610}]
[]
["ESCUELA NAVAL",{"$f":"C15+D15","v":54},40,14,132]
["ESCUELA NACIONAL DE POLICÍA*",283,231,52,109]
["ESCUELA MILITAR",99,93,6,106]
["ESCUELA MILITAR DE AERONÁUTICA",79,66,13,131]
["IMES",57,54,3,"s/d"]
["EMAD",126,36,90,35]
["UTU",4927,2113,2814,1097]
[]
["RESTO DEL PAÍS",{"$f":"SUM(B25:B42)","v":2683},{"$f":"SUM(C25:C42)","v":1183},{"$f":"SUM(D25:D42)","v":1500}]
[]
["Artigas",117,63,54,{"$f":"E26","v":"s/d"}]
["Canelones",295,181,114,{"$f":"E27","v":"s/d"}]
["Cerro Largo",118,47,71,{"$f":"E28","v":"s/d"}]
["Colonia",301,165,136,"s/d"]
["Durazno",54,23,31,"s/d"]
["Flores",129,30,99,"s/d"]
["Florida",104,43,61,{"$f":"E32","v":"s/d"}]
["Lavalleja",3,0,3,"s/d"]
["Maldonado",118,58,60,{"$f":"E34","v":"s/d"}]
["Paysandú",377,118,259,"s/d"]
["Río negro",44,25,19,{"$f":"E36","v":"s/d"}]
["Rivera",269,121,148,"s/d"]
["Rocha",26,15,11,{"$f":"E38","v":"s/d"}]
["Salto",285,83,202,"s/d"]
["San José",57,38,19,{"$f":"E40","v":"s/d"}]
["Soriano",218,89,129,"s/d"]
["Tacuarembó",128,64,64,{"$f":"E42","v":"s/d"}]
["Treinta y Tres",40,20,20,"s/d"]
["Fuente: "]
["           D.E - UTU-"]
["           Secretaría General EMAD"]
["          Gestión Educativa - Escuela Naval"]
["          Jefatura de Estudios - Escuela Nacional de Policía "]
["          Escuela Militar"]
["          Departamento de Bedelía - Escuela Militar de Aeronáutica"]
["          Instituto Militar de Estudios Superiores"]
["Nota: "]
["* Para los docentes no se dispone de datos correspondientes al año 2012, se incorpora el último dato disponible (año 2011)."]

{"sheet":"II-5.2.1","index":239,"n_rows":42,"n_cols":10,"rows_kept":42,"cut":false,"hidden":false,"merged":[[40,0,40,9],[41,0,41,9],[7,5,7,6],[7,8,7,9],[0,6,1,9],[4,0,4,9],[6,0,8,0],[6,1,8,1],[6,2,6,3],[6,4,8,4],[6,5,6,6],[6,7,8,7],[6,8,6,9],[7,2,7,3]]}
["OFERTAS TERCIARIAS NO UNIVERSITARIAS DEL ÁREA SEGURIDAD Y DEFENSA",null,null,null,null,null,"ALUMNOS MATRICULADOS"]
[]
["Cuadro Nº II-5.2.1"]
[]
["ALUMNOS INGRESADOS, MATRICULADOS Y EGRESADOS EN NIVEL TERCIARIO NO UNIVERSITARIO DEL ÁREA SEGURIDAD Y DEFENSA POR SEXO SEGÚN INSTITUCIÓN Y CARRERA. AÑO 2012."]
[]
["INSTITUCION / CARRERA","TOTAL","INGRESADOS",null,"TOTAL","MATRICULADOS",null,"TOTAL","EGRESADOS"]
[null,null,"SEXO",null,null,"SEXO",null,null,"SEXO"]
[null,null,"M","F",null,"M","F",null,"M","F"]
["TOTAL",{"$f":"D10+C10","v":1620},{"$f":"+C12+C17+C20+C23+C31","v":1404},{"$f":"+D12+D17+D20+D23+D31","v":216},{"$f":"SUM(F10:G10)","v":572},{"$f":"+F12+F17+F20+F23+F31","v":484},{"$f":"+G12+G17+G20+G23+G31","v":88},{"$f":"H12+H17+H20+H23+H31","v":1497},"s/d","s/d"]
[]
["ESCUELA NAVAL",{"$f":"SUM(B13:B15)","v":1347},1170,177,54,40,14,1327,1154,173]
["Guarda Marina de la Armada Nacional",{"$f":"SUM(C13:D13)","v":17},12,5,{"$f":"SUM(F13:G13)","v":33},27,6,{"$f":"SUM(I13:J13)","v":16},12,4]
["Piloto o Ingeniero Mercante",{"$f":"SUM(C14:D14)","v":14},12,2,{"$f":"SUM(F14:G14)","v":21},13,8,{"$f":"SUM(I14:J14)","v":18},15,3]
["Cursos OMI",{"$f":"SUM(C15:D15)","v":1316},1146,170,{"$f":"SUM(F15:G15)","v":0},0,0,{"$f":"SUM(I15:J15)","v":1293},1127,166]
[]
["ESCUELA NACIONAL DE POLICÍA",{"$f":"+C17+D17","v":116},{"$f":"+C18","v":91},{"$f":"+D18","v":25},{"$f":"+F17+G17","v":283},{"$f":"+F18","v":231},{"$f":"+G18","v":52},{"$f":"+I17+J17","v":60},{"$f":"+I18","v":48},{"$f":"+J18","v":12}]
["Curso de Cadetes (1º, 2º y 3º año)",{"$f":"SUM(C18:D18)","v":116},91,25,{"$f":"SUM(F18:G18)","v":283},231,52,{"$f":"SUM(I18:J18)","v":60},48,12]
[]
["ESCUELA MILITAR",{"$f":"SUM(C20:D20)","v":71},{"$f":"SUM(C21:C21)","v":62},{"$f":"SUM(D21:D21)","v":9},{"$f":"SUM(F20:G20)","v":99},{"$f":"SUM(F21:F21)","v":93},{"$f":"SUM(G21:G21)","v":6},{"$f":"SUM(I20:J20)","v":30},{"$f":"SUM(I21:I21)","v":29},{"$f":"SUM(J21:J21)","v":1}]
["Alférez del Ejército Nacional del Cuerpo Comando",{"$f":"+C21+D21","v":71},62,9,{"$f":"+F21+G21","v":99},93,6,{"$f":"SUM(I21:J21)","v":30},29,1]
[]
["ESCUELA MILITAR DE AERONÁUTICA ",{"$f":"SUM(C23:D23)","v":29},{"$f":"SUM(C24:C29)","v":27},{"$f":"SUM(D24:D29)","v":2},{"$f":"SUM(F23:G23)","v":79},{"$f":"SUM(F24:F29)","v":66},{"$f":"SUM(G24:G29)","v":13},23,"s/d","s/d"]
["Aspirantes",{"$f":"+C24+D24","v":29},27,2,{"$f":"+F24+G24","v":29},27,2,"s/d","s/d","s/d"]
["Cadetes 1º","n/c","n/c","n/c",{"$f":"+F25+G25","v":18},13,5,"s/d","s/d","s/d"]
["Integrantes del Cuerpo Aéreo (Aviadores)","n/c","n/c","n/c",{"$f":"+F26+G26","v":16},14,2,"s/d","s/d","s/d"]
["Integrantes del Cuerpo Aéreo (Navegantes)","n/c","n/c","n/c",{"$f":"+F27+G27","v":16},12,4,"s/d","s/d","s/d"]
["Integrantes del Cuadro de SSOO FAU (Aviadores)","n/c","n/c","n/c","n/c","n/c","n/c","s/d","s/d","s/d"]
["Integrantes del Cuadro de SSOO FAU (Navegantes)","n/c","n/c","n/c","n/c","n/c","n/c","s/d","s/d","s/d"]
[]
["INSTITUTO MILITAR DE ESTUDIOS SUPERIORES",{"$f":"SUM(C31:D31)","v":57},{"$f":"SUM(C32:C37)","v":54},{"$f":"SUM(D32:D37)","v":3},{"$f":"SUM(F31:G31)","v":57},{"$f":"SUM(F32:F37)","v":54},{"$f":"SUM(G32:G37)","v":3},{"$f":"SUM(I31:J31)","v":57},{"$f":"SUM(I32:I37)","v":54},{"$f":"SUM(J32:J37)","v":3}]
["Curso de Capacitación y Perfeccionamiento de Oficiales Superiores",{"$f":"+C32+D32","v":32},32,0,{"$f":"+F32+G32","v":32},32,0,23,32,0]
["Derechos Humanos con orientación en Derecho Internacional en Conflictos Armados",{"$f":"+C33+D33","v":25},22,3,{"$f":"+F33+G33","v":25},22,3,23,22,3]
["Fuente: "]
["        Gestión Educativa - Escuela Naval"]
["        Jefatura de Estudios - Escuela Nacional de Policía "]
["        Escuela Militar"]
["        Departamento de Bedelía - Escuela Militar de Aeronáutica"]
["        Instituto Militar de Estudios Superiores"]
["Nota: "]
["        Las ofertas de la Escuela Naval y de la Escuela de Policía: Lic. Sistemas Navales, Lic. Sistemas Náuticos, Lic. Seguridad Pública, fueron incluidas en el capítulo de Terciaria Universitaria."]
["        En la oferta de la Escuela Naval se agregan los Cursos OMI: La titulación, capacitación y certificación que otorga la Escuela Naval del Uruguay, tiene el reconocimiento de la Organización Marítima Internacional (OMI), ya que la Institución integra el Registro Internacional de Academias Marítimas y la Lista Blanca de países que cumplen total y plenamente los requisitos del STCW 95."]

{"sheet":"II-5.2.2","index":240,"n_rows":75,"n_cols":10,"rows_kept":75,"cut":false,"hidden":false,"merged":[[0,6,1,9],[4,0,4,9],[5,0,8,0],[5,1,8,1],[5,2,5,3],[5,4,8,4],[5,5,5,6],[5,7,8,7],[5,8,5,9],[6,2,6,3],[6,5,6,6],[6,8,6,9],[7,2,8,2],[7,3,8,3],[7,5,8,5],[7,6,8,6],[7,8,8,8],[7,9,8,9]]}
["OTRAS OFERTAS TERCIARIAS NO UNIVERSITARIAS",null,null,null,null,null,"ALUMNOS MATRICULADOS"]
[]
["Cuadro Nº II-5.2.2"]
[]
["ALUMNOS INGRESADOS, MATRICULADOS Y EGRESADOS EN OTRAS OFERTAS DE NIVEL TERCIARIO NO UNIVERSITARIO POR SEXO SEGÚN INSTITUCIÓN Y CARRERA. AÑO 2012."]
["INSTITUCION / CARRERA","TOTAL","INGRESADOS",null,"TOTAL","MATRICULADOS",null,"TOTAL","EGRESADOS"]
[null,null,"SEXO",null,null,"SEXO",null,null,"SEXO"]
[null,null,"M","F",null,"M","F",null,"M","F"]
[]
["EMAD Margarita Xirgu",{"$f":"SUM(C10:D10)","v":41},{"$f":"SUM(C11:C12)","v":9},{"$f":"SUM(D11:D12)","v":32},{"$f":"SUM(F10:G10)","v":126},{"$f":"SUM(F11:F12)","v":36},{"$f":"SUM(G11:G12)","v":90},{"$f":"SUM(I10:J10)","v":22},{"$f":"SUM(I11:I12)","v":7},{"$f":"SUM(J11:J12)","v":15}]
["Carrera de actuación",{"$f":"SUM(C11:D11)","v":20},6,14,{"$f":"SUM(F11:G11)","v":77},24,53,{"$f":"SUM(I11:J11)","v":14},6,8]
["Carrera de diseño teatral",{"$f":"SUM(C12:D12)","v":21},3,18,{"$f":"SUM(F12:G12)","v":49},12,37,{"$f":"SUM(I12:J12)","v":8},1,7]
[]
["CETP (UTU) ","-","-","-",{"$f":"SUM(E15:E71)","v":7610},{"$f":"SUM(F15:F69)","v":3250},{"$f":"SUM(G15:G69)","v":4063},"-","-","-"]
["Acondicionamiento Térmico","-","-","-",{"$f":"+F15+G15","v":15},0,15,"-","-","-"]
["Administración de Personal","-","-","-",{"$f":"+F16+G16","v":360},273,87,"-","-","-"]
["Administración Hotelera","-","-","-",47,35,12,"-","-","-"]
["Administración Pública","-","-","-",185,145,40,"-","-","-"]
["Agrónica énfasis agrícola","-","-","-",16,0,16,"-","-","-"]
["Agrónica énfasis forestal.","-","-","-",9,0,9,"-","-","-"]
["Analista en Marketing","-","-","-",257,157,100,"-","-","-"]
["Autotrónica Lab. S. de Control","-","-","-",23,0,23,"-","-","-"]
["Com. Social Op. Prensa","-","-","-",41,22,19,"-","-","-"]
["Com. Social Op. Publicidad","-","-","-",95,56,39,"-","-","-"]
["Com. Social Op. Radiodifusión","-","-","-",96,46,50,"-","-","-"]
["Com. Social Op. RR. PP.","-","-","-",53,37,16,"-","-","-"]
["Com. Social Op. Televisión","-","-","-",51,30,21,"-","-","-"]
["Construcción","-","-","-",93,25,68,"-","-","-"]
["Control ambiental","-","-","-",80,50,30,"-","-","-"]
["Corredor de Seguros","-","-","-",34,12,22,"-","-","-"]
["Diseño Gráfico","-","-","-",379,224,155,"-","-","-"]
["Electrotecnia","-","-","-",565,12,553,"-","-","-"]
["Electrónica","-","-","-",365,8,357,"-","-","-"]
["Enología Módulo Enológico II","-","-","-",11,2,9,"-","-","-"]
["Enología Módulo Vitivinícola","-","-","-",14,9,5,"-","-","-"]
["Forestal","-","-","-",14,6,8,"-","-","-"]
["Gestión de Alojamiento","-","-","-",37,25,12,"-","-","-"]
["Gestión Empresas Turísticas","-","-","-",32,21,11,"-","-","-"]
["Guía y Tec. Diseño Circ. Turísticos","-","-","-",72,52,20,"-","-","-"]
["Industrias Lácteas","-","-","-",54,23,31,"-","-","-"]
["Infografía de Arquitectura","-","-","-",83,47,36,"-","-","-"]
["Inmobiliario (Operador)","-","-","-",125,42,83,"-","-","-"]
["Instalaciones Eléctricas","-","-","-",29,1,28,"-","-","-"]
["Instalaciones Sanitarias","-","-","-",30,4,26,"-","-","-"]
["Instrumentación y Control","-","-","-",27,1,26,"-","-","-"]
["Mantenimiento Mecánico Industrial","-","-","-",28,0,28,"-","-","-"]
["Maquinista Naval","-","-","-",100,0,100,"-","-","-"]
["Mecatrónica - Autom. y Control","-","-","-",7,0,7,"-","-","-"]
["Mecatrónica- Mant. Electromecánico","-","-","-",19,0,19,"-","-","-"]
["Motores de Combustión Interna","-","-","-",10,0,10,"-","-","-"]
["Náutica y Pesca","-","-","-",19,2,17,"-","-","-"]
["Organización de eventos","-","-","-",60,48,12,"-","-","-"]
["Pequeña y Mediana Empresa","-","-","-",22,20,2,"-","-","-"]
["Prevencionista en Seg. Industrial","-","-","-",1087,504,583,"-","-","-"]
["Producciones Vegetales Intensivas","-","-","-",20,9,11,"-","-","-"]
["Producción Agrícola Ganadera","-","-","-",196,37,159,"-","-","-"]
["Producción Agropecuaria Familiar","-","-","-",15,9,6,"-","-","-"]
["Producción Lechera","-","-","-",29,11,18,"-","-","-"]
["Redes y Telecomunicaciones","-","-","-",129,9,120,"-","-","-"]
["Rematador","-","-","-",153,51,102,"-","-","-"]
["Rematador - Op. Inmobiliario","-","-","-",239,107,132,"-","-","-"]
["Sistemas de Prod. Arroz-Pasturas","-","-","-",54,20,34,"-","-","-"]
["Óptico","-","-","-",89,53,36,"-","-","-"]
["Tecnólogo Cárnico","-","-","-",61,36,25,"-","-","-"]
["Tecnólogo en Informática","-","-","-",172,29,143,"-","-","-"]
["Tecnólogo en Madera","-","-","-",46,16,30,"-","-","-"]
["Tecnólogo Mecánico","-","-","-",146,8,138,"-","-","-"]
["Tecnólogo Químico","-","-","-",887,638,249,"-","-","-"]
["Técnico en Comunicación Social","-","-","-",433,278,155,"-","-","-"]
["Turismo ","-","-","-",41,29,12,"-","-","-"]
["Tecnólogo Ingeniero ","-","-","-",256,17,239,"-","-","-"]
["Fuente:"]
["         C.E.P.T (UTU)"]
["Nota: "]
["         Si bien a lo largo del Anuario el código S/D corresponde al Sin Dato, en este cuadro, para mejorar la legibilidad, se utiliza el guión (-)."]

{"sheet":"II-5.3.1","index":241,"n_rows":49,"n_cols":11,"rows_kept":49,"cut":false,"hidden":false,"merged":[[47,0,47,10],[46,0,46,10],[0,4,1,6],[4,0,4,10],[5,0,8,0],[5,1,8,1],[5,2,5,10],[6,2,8,2],[6,3,6,4],[6,5,8,5],[6,6,6,7],[6,8,8,8],[6,9,6,10],[7,3,7,4],[7,6,7,7],[7,9,7,10]]}
["OFERTAS TERCIARIAS NO UNIVERSITARIAS DEL ÁREA SEGURIDAD Y DEFENSA",null,null,null,"PERSONAL ACADÉMICO"]
[]
["Cuadro Nº II-5.3.1"]
[]
["PERSONAL ACADÉMICO DE NIVEL TERCIARIO NO UNIVERSITARIO DEL ÁREA SEGURIDAD Y DEFENSA POR CARGA HORARIA, SEXO, SEGÚN INSTITUCIÓN Y FORMACIÓN. AÑO 2012."]
["INSTITUCIONES / FORMACIÓN","TOTAL","HORAS SEMANALES"]
[null,null,"Total","20 horas o menos",null,"Total","Entre 21 y 30 horas",null,"Total","31 horas y más"]
[null,null,null,"SEXO",null,null,"SEXO",null,null,"SEXO"]
[null,null,null,"M","F",null,"M","F",null,"M","F"]
["TOTAL",{"$f":"C10+F10+I10","v":478},{"$f":"D10+E10","v":340},{"$f":"D12+D18+D24+D30","v":275},{"$f":"E12+E18+E24+E30","v":65},{"$f":"G10+H10","v":50},{"$f":"G12+G18+G24+G30","v":32},{"$f":"H12+H18+H24+H30","v":18},{"$f":"J10+K10","v":88},{"$f":"J12+J18+J24+J30","v":82},{"$f":"K12+K18+K24+K30","v":6}]
[]
["ESCUELA NAVAL",{"$f":"C12+F12+I12","v":132},{"$f":"D12+E12","v":44},{"$f":"SUM(D13:D16)","v":33},{"$f":"SUM(E13:E16)","v":11},{"$f":"G12+H12","v":0},{"$f":"SUM(G13:G16)","v":0},{"$f":"SUM(H13:H16)","v":0},{"$f":"J12+K12","v":88},{"$f":"SUM(J13:J16)","v":82},{"$f":"SUM(K13:K16)","v":6}]
["  Sin formación de grado completa",{"$f":"C13+F13+I13","v":0},{"$f":"D13+E13","v":0},0,0,{"$f":"G13+H13","v":0},0,0,{"$f":"J13+K13","v":0},0,0]
["  Con formación de grado",{"$f":"C14+F14+I14","v":122},{"$f":"D14+E14","v":34},30,4,{"$f":"G14+H14","v":0},0,0,{"$f":"J14+K14","v":88},82,6]
["  Con postgrado de especialización o maestría",{"$f":"C15+F15+I15","v":1},{"$f":"D15+E15","v":1},1,0,0,0,0,{"$f":"J15+K15","v":0},0,0]
["  Con doctorado",{"$f":"C16+F16+I16","v":9},{"$f":"D16+E16","v":9},2,7,{"$f":"G16+H16","v":0},0,0,{"$f":"J16+K16","v":0},0,0]
[]
["ESCUELA NACIONAL DE POLICÍA*",{"$f":"C18+F18+I18","v":109},{"$f":"D18+E18","v":108},{"$f":"SUM(D19:D22)","v":84},{"$f":"SUM(E19:E22)","v":24},{"$f":"G18+H18","v":1},{"$f":"SUM(G19:G22)","v":1},{"$f":"SUM(H19:H22)","v":0},{"$f":"J18+K18","v":0},{"$f":"SUM(J19:J22)","v":0},{"$f":"SUM(K19:K22)","v":0}]
["  Sin formación de grado completa",{"$f":"C19+F19+I19","v":11},{"$f":"D19+E19","v":11},7,4,{"$f":"G19+H19","v":0},0,0,{"$f":"J19+K19","v":0},0,0]
["  Con formación de grado",{"$f":"C20+F20+I20","v":98},{"$f":"D20+E20","v":97},77,20,{"$f":"G20+H20","v":1},1,0,{"$f":"J20+K20","v":0},0,0]
["  Con postgrado de especialización o maestría",{"$f":"C21+F21+I21","v":0},{"$f":"D21+E21","v":0},0,0,{"$f":"G21+H21","v":0},0,0,{"$f":"J21+K21","v":0},0,0]
["  Con doctorado",{"$f":"C22+F22+I22","v":0},{"$f":"D22+E22","v":0},0,0,{"$f":"G22+H22","v":0},0,0,{"$f":"J22+K22","v":0},0,0]
[]
["ESCUELA MILITAR",{"$f":"C24+F24+I24","v":106},{"$f":"D24+E24","v":98},{"$f":"SUM(D25:D28)","v":85},{"$f":"SUM(E25:E28)","v":13},{"$f":"G24+H24","v":8},{"$f":"SUM(G25:G28)","v":2},{"$f":"SUM(H25:H28)","v":6},{"$f":"J24+K24","v":0},{"$f":"SUM(J25:J28)","v":0},{"$f":"SUM(K25:K28)","v":0}]
["  Sin formación de grado completa",{"$f":"C25+F25+I25","v":5},{"$f":"D25+E25","v":5},0,5,{"$f":"G25+H25","v":0},0,0,{"$f":"J25+K25","v":0},0,0]
["  Con formación de grado",{"$f":"C26+F26+I26","v":97},{"$f":"D26+E26","v":89},82,7,{"$f":"G26+H26","v":8},2,6,{"$f":"J26+K26","v":0},0,0]
["  Con postgrado de especialización o maestría",{"$f":"C27+F27+I27","v":4},{"$f":"D27+E27","v":4},3,1,{"$f":"G27+H27","v":0},0,0,{"$f":"J27+K27","v":0},0,0]
["  Con doctorado",{"$f":"C28+F28+I28","v":0},{"$f":"D28+E28","v":0},0,0,{"$f":"G28+H28","v":0},0,0,{"$f":"J28+K28","v":0},0,0]
[]
["ESCUELA MILITAR DE AERONÁUTICA",{"$f":"C30+F30+I30","v":131},{"$f":"D30+E30","v":90},73,17,{"$f":"G30+H30","v":41},29,12,{"$f":"J30+K30","v":0},{"$f":"SUM(J31:J34)","v":0},{"$f":"SUM(K31:K34)","v":0}]
["  Sin formación de grado completa","s/d","s/d","s/d","s/d","s/d","s/d","s/d","s/d","s/d","s/d"]
["  Con formación de grado","s/d","s/d","s/d","s/d","s/d","s/d","s/d","s/d","s/d","s/d"]
["  Con postgrado de especialización o maestría","s/d","s/d","s/d","s/d","s/d","s/d","s/d","s/d","s/d","s/d"]
["  Con doctorado","s/d","s/d","s/d","s/d","s/d","s/d","s/d","s/d","s/d","s/d"]
[]
["INSTITUTO MILITAR DE ESTUDIOS SUPERIORES",{"$f":"C36+F36+I36","v":131},{"$f":"D36+E36","v":90},73,17,{"$f":"G36+H36","v":41},29,12,{"$f":"J36+K36","v":0},{"$f":"SUM(J37:J40)","v":0},{"$f":"SUM(K37:K40)","v":0}]
["  Sin formación de grado completa","s/d","s/d","s/d","s/d","s/d","s/d","s/d","s/d","s/d","s/d"]
["  Con formación de grado","s/d","s/d","s/d","s/d","s/d","s/d","s/d","s/d","s/d","s/d"]
["  Con postgrado de especialización o maestría","s/d","s/d","s/d","s/d","s/d","s/d","s/d","s/d","s/d","s/d"]
["  Con doctorado","s/d","s/d","s/d","s/d","s/d","s/d","s/d","s/d","s/d","s/d"]
[" Fuente: "]
["            Jefatura de Estudios - Escuela Nacional de Policía "]
["            Escuela Militar"]
["            Departamento de Bedelía - Escuela Militar de Aeronáutica"]
["            Escuela Naval"]
["            Instituto Militar de Estudios Superiores"]
["Nota: "]
["Sin formación de grado completa incluye docentes que no alcanzaron el grado o contaban con formación terciaria no universitaria"]
["        * Para los docentes no se dispone de datos correspondientes al año 2012, se incorpora el último dato disponible (año 2011)."]

{"sheet":"II-5.3.2","index":242,"n_rows":18,"n_cols":11,"rows_kept":18,"cut":false,"hidden":false,"merged":[[6,9,6,10],[7,3,7,4],[7,6,7,7],[7,9,7,10],[0,2,1,4],[4,0,4,10],[5,0,8,0],[5,1,8,1],[5,2,5,10],[6,2,8,2],[6,3,6,4],[6,5,8,5],[6,6,6,7],[6,8,8,8]]}
["OTRAS OFERTAS TERCIARIAS NO UNIVERSITARIAS ",null,"PERSONAL ACADÉMICO"]
[]
["Cuadro Nº II-5.3.2"]
[]
["PERSONAL ACADÉMICO DE NIVEL TERCIARIO NO UNIVERSITARIO POR CARGA HORARIA SEMANAL, SEXO, SEGÚN INSTITUCIÓN Y FORMACIÓN AÑO 2012."]
["INSTITUCIONES / FORMACIÓN","TOTAL","HORAS SEMANALES"]
[null,null,"Total","20 horas o menos",null,"Total","Entre 21 y 30 horas",null,"Total","31 horas y más"]
[null,null,null,"SEXO",null,null,"SEXO",null,null,"SEXO"]
[null,null,null,"M","F",null,"M","F",null,"M","F"]
["EMAD Margarita Xirgu",{"$f":"C10+F10+I10","v":35},{"$f":"D10+E10","v":35},{"$f":"SUM(D11:D14)","v":19},{"$f":"SUM(E11:E14)","v":16},{"$f":"G10+H10","v":0},{"$f":"SUM(G11:G14)","v":0},{"$f":"SUM(H11:H14)","v":0},{"$f":"J10+K10","v":0},{"$f":"SUM(J11:J14)","v":0},{"$f":"SUM(K11:K14)","v":0}]
["  Sin formación degrado completa",{"$f":"C11+F11+I11","v":28},{"$f":"D11+E11","v":28},15,13,{"$f":"G11+H11","v":0},0,0,{"$f":"J11+K11","v":0},0,0]
["  Con formación de grado",{"$f":"C12+F12+I12","v":6},{"$f":"D12+E12","v":6},4,2,{"$f":"G12+H12","v":0},0,0,{"$f":"J12+K12","v":0},0,0]
["  Con postgrado de especialización o maestría",{"$f":"C13+F13+I13","v":0},{"$f":"D13+E13","v":0},0,0,{"$f":"G13+H13","v":0},0,0,{"$f":"J13+K13","v":0},0,0]
["  Con doctorado",{"$f":"C14+F14+I14","v":1},{"$f":"D14+E14","v":1},0,1,{"$f":"G14+H14","v":0},0,0,{"$f":"J14+K14","v":0},0,0]
["Fuente: "]
["          Secretaría General - EMAD"]
["Nota: "]
["          No se cuenta con datos de personal académico en nivel terciario de UTU"]

{"sheet":"FORMACIÓN EN EDUCACIÓN ","index":243,"n_rows":0,"n_cols":0,"rows_kept":0,"cut":false,"hidden":false,"merged":[[30,0,30,4],[32,0,32,4],[22,0,22,4],[24,0,24,4],[26,0,26,4],[28,0,28,4],[20,0,20,4],[10,0,10,4],[12,0,12,4],[14,0,14,4],[16,0,16,4],[18,0,18,4]]}

{"sheet":"II-6.1.1","index":244,"n_rows":39,"n_cols":3,"rows_kept":39,"cut":false,"hidden":false,"merged":[[0,2,1,3],[45,0,46,3],[4,0,4,2],[5,0,9,0],[5,1,9,1],[5,2,9,2],[0,0,0,1]]}
["ANEP - CONSEJO DE FORMACIÓN EN EDUCACIÓN",null,"INSTITUCIONES"]
[]
["Cuadro Nº II-6.1.1"]
[]
["MATRÍCULA Y PERSONAL DOCENTE SEGÚN GRANDES ÁREAS, DEPARTAMENTOS E INSTITUCIONES. AÑO 2012."]
["GRANDES ÁREAS / DEPARTAMENTO / INSTITUCIÓN","TOTAL","DOCENTES"]
[]
[]
[]
[]
["TOTAL",{"$f":"+B13+B19","v":22331},{"$f":"+C13+C19","v":2901}]
[]
["MONTEVIDEO",{"$f":"SUM(B15:B17)","v":8827},{"$f":"SUM(C15:C17)","v":904}]
[]
["IINN",2167,201]
["IPA ",5725,554]
["INET",935,149]
[]
["RESTO DEL PAÍS",{"$f":"SUM(B21:B38)","v":13504},{"$f":"SUM(C21:C38)","v":1997}]
[]
["Artigas",608,78]
["Canelones",1965,337]
["Cerro Largo",571,60]
["Colonia",969,210]
["Durazno",670,52]
["Flores",161,33]
["Florida",631,185]
["Lavalleja",310,52]
["Maldonado ",954,184]
["Paysandú",1025,96]
["Río Negro",373,33]
["Rivera",1276,173]
["Rocha",303,48]
["Salto",1412,211]
["San José",315,49]
["Soriano",378,49]
["Tacuarembó",680,76]
["Treinta y Tres",903,71]
["Fuente: Informática - D.F.P.D. "]

{"sheet":"II-6.2.1 ","index":245,"n_rows":46,"n_cols":14,"rows_kept":46,"cut":false,"hidden":false,"merged":[[6,11,7,13],[8,11,9,11],[8,12,9,12],[8,13,9,13],[5,5,5,13],[8,10,9,10],[44,0,44,9],[8,5,9,5],[8,6,9,6],[8,7,9,7],[8,8,9,8],[8,9,9,9],[23,0,23,1],[0,8,1,10],[4,0,4,9],[5,0,9,1],[5,2,7,4],[6,5,7,7],[6,8,7,10],[8,2,9,2],[8,3,9,3],[8,4,9,4],[0,0,0,2]]}
["ANEP - CONSEJO DE FORMACIÓN EN EDUCACIÓN",null,null,null,null,null,null,null,"ALUMNOS MATRICULADOS"]
[]
["Cuadro Nº II-6.2.1"]
[]
["ALUMNOS INGRESADOS, MATRICULADOS Y EGRESADOS EN FORMACIÓN EN EDUCACIÓN POR CARRERA SEGÚN DEPARTAMENTO Y ESTABLECIMIENTO. AÑO 2012."]
["DEPARTAMENTO / ESTABLECIMIENTO",null,"TOTAL",null,null,"CARRERA"]
[null,null,null,null,null,"Magisterio",null,null,"Profesorado",null,null,"Educador Social"]
[]
[null,null,"Ingr.","Matr.","Egr.","Ingr.","Matr.","Egr.","Ingr.","Matr.","Egr.","Ingr.","Matr.","Egr."]
[]
["TOTAL",null,{"$f":"+C13+C17","v":5504},{"$f":"+D13+D17","v":22331},{"$f":"E13+E17","v":1613},{"$f":"+F13+F17","v":0},{"$f":"+G13+G17","v":6724},{"$f":"H13+H17","v":853},{"$f":"+I13+I17","v":0},{"$f":"+J13+J17","v":14709},{"$f":"K13+K17","v":760},{"$f":"+L13+L17","v":0},{"$f":"+M13+M17","v":898},{"$f":"N13+N17","v":0}]
[]
["MONTEVIDEO",null,{"$f":"SUM(C14:C16)","v":0},8827,500,0,2167,190,0,6230,310,0,430,0]
["                IINN",null,{"$f":"F14+I14+L14","v":0},{"$f":"G14+J14+M14","v":2167},{"$f":"H14+K14+N14","v":190},"S/D",2167,190,"S/D","N/C",0,"N/C","N/C","N/C"]
["                IPA ",null,{"$f":"F15+I15+L15","v":0},5725,{"$f":"H15+K15+N15","v":295},"S/D","N/C",0,"S/D",5295,295,0,430,{"$f":"SUM(O16:O20)","v":0}]
["                INET ",null,{"$f":"F16+I16+L16","v":0},935,{"$f":"H16+K16+N16","v":15},"S/D","N/C",0,"S/D",935,15,"N/C","N/C","N/C"]
["RESTO DEL PAÍS",null,{"$f":"SUM(C18:C43)","v":5504},13504,{"$f":"H17+K17+N17","v":1113},{"$f":"F18+F19+F25+F26+F31+F30+F32+F33+F34+F35+F36+F37+F38+F39+F40+F41+F42+F43","v":0},4557,663,0,8479,450,0,468,0]
["Artigas         Artigas",null,266,608,{"$f":"H18+K18+N18","v":54},"S/D",352,51,"S/D",125,3,"S/D",131,"S/D"]
["Canelones",null,785,1965,{"$f":"H19+K19+N19","v":145},"S/D",{"$f":"SUM(G20:G24)","v":774},{"$f":"SUM(H20:H24)","v":111},"S/D",{"$f":"SUM(J20:J24)","v":1107},{"$f":"SUM(K20:K24)","v":34},"S/D",{"$f":"M20","v":84},"S/D"]
["                Canelones ",null,{"$f":"F20+I20+L20","v":0},{"$f":"G20+J20+M20","v":491},54,"S/D",221,28,"S/D",186,26,"S/D",84,"S/D"]
["                De la Costa ",null,0,312,11,"S/D",163,8,"S/D",149,3,"S/D",0,"S/D"]
["                Pando",null,0,471,48,"S/D",267,46,"S/D",204,2,"S/D",0,"S/D"]
["                San Ramón ",null,0,180,20,"S/D",123,17,"S/D",57,3,"S/D",0,"S/D"]
["María Auxiliadora",null,0,511,12,"S/D","N/C",12,"S/D",511,0,"S/D",0,"S/D"]
["Cerro Largo     Melo",null,365,{"$f":"G25+J25+M25","v":571},44,"S/D",205,42,"S/D",366,2,"S/D",0,"S/D"]
["Colonia",null,324,{"$f":"G26+J26+M26","v":969},121,"S/D",{"$f":"SUM(G27:G29)","v":212},{"$f":"SUM(H27:H29)","v":46},"S/D",{"$f":"SUM(J27:J29)","v":757},{"$f":"SUM(K27:K29)","v":75},"S/D",0,"S/D"]
["                Colonia",null,{"$f":"F27+I27+L27","v":0},{"$f":"G27+J27+L27","v":428},{"$f":"H27+K27+M27","v":67},"S/D",0,0,"S/D",428,67,"S/D",0,"S/D"]
["                Carmelo",null,{"$f":"F28+I28+L28","v":0},339,22,"S/D",103,15,"S/D",236,7,"S/D",0,"S/D"]
["                Rosario",null,0,202,32,"S/D",109,31,"S/D",93,1,"S/D",0,"S/D"]
["Durazno        Durazno ",null,263,670,34,"S/D",282,33,"S/D",388,1,"S/D",0,"S/D"]
["Flores          Trinidad",null,68,161,6,"S/D",86,6,"S/D",75,0,"S/D",0,"S/D"]
["Florida         Florida",null,235,631,68,"S/D",210,23,"S/D",421,45,"S/D",0,"S/D"]
["Lavalleja       Minas",null,134,310,43,"S/D",132,39,"S/D",178,4,"S/D",0,"S/D"]
["Maldonado   Maldonado",null,358,954,69,"S/D",300,30,"S/D",557,39,"S/D",97,"S/D"]
["Paysandú     Paysandú",null,438,1025,51,"S/D",290,31,"S/D",579,20,"S/D",156,"S/D"]
["Río Negro     Fray Bentos",null,152,373,19,"S/D",111,19,"S/D",262,0,"S/D",0,"S/D"]
["Rivera        Rivera",null,550,1276,95,"S/D",318,37,"S/D",958,58,"S/D",0,"S/D"]
["Rocha          Rocha",null,140,303,24,"S/D",122,22,"S/D",181,2,"S/D",0,"S/D"]
["Salto           Salto ",null,424,1412,227,"S/D",435,71,"S/D",977,156,"S/D",0,"S/D"]
["San José      San José",null,155,315,11,"S/D",182,9,"S/D",133,2,"S/D",0,"S/D"]
["Soriano        Mercedes ",null,144,378,36,"S/D",134,32,"S/D",244,4,"S/D",0,"S/D"]
["Tacuarembó      Tacuarembó ",null,230,680,54,"S/D",188,50,"S/D",492,4,"S/D",0,"S/D"]
["Treinta y Tres    Treinta y Tres",null,473,903,12,"S/D",224,11,"S/D",679,1,"S/D",0,"S/D"]
["Fuente: Informática - DFPD "]
["Nota: No se dispone de datos de ingreso desagregado por Carrera. Por eso se presenta el dato total por Departamento."]
["Los matriculados en Profesorado del INET corresponden tanto al profesorado de Informática como a Maestros Técnicos."]

{"sheet":"II-6.2.2","index":246,"n_rows":17,"n_cols":10,"rows_kept":17,"cut":false,"hidden":false,"merged":[[7,2,8,2],[7,3,8,3],[7,5,8,5],[7,6,8,6],[7,8,8,8],[7,9,8,9],[0,6,1,9],[4,0,4,9],[5,0,8,0],[5,1,8,1],[5,2,5,3],[5,4,8,4],[5,5,5,6],[5,7,8,7],[5,8,5,9],[6,2,6,3],[6,5,6,6],[6,8,6,9]]}
["OTRAS TERCIARIAS NO UNIVERSITARIAS",null,null,null,null,null,"ALUMNOS MATRICULADOS"]
[]
["Cuadro Nº II-6.2.2"]
[]
["ALUMNOS INGRESADOS, MATRICULADOS Y EGRESADOS EN FORMACIÓN EN EDUCACIÓN POR SEXO SEGÚN INSTITUCIÓN Y CARRERA. AÑO 2012."]
["INSTITUCION / CARRERA","TOTAL","INGRESADOS",null,"TOTAL","MATRICULADOS",null,"TOTAL","EGRESADOS"]
[null,null,"SEXO",null,null,"SEXO",null,null,"SEXO"]
[null,null,"M","F",null,"M","F",null,"M","F"]
[]
["C.I.E.P",{"$f":"SUM(C10:D10)","v":61},{"$f":"SUM(C11:C12)","v":0},{"$f":"SUM(D11:D12)","v":61},{"$f":"SUM(F10:G10)","v":105},{"$f":"SUM(F11:F12)","v":0},{"$f":"SUM(G11:G12)","v":105},{"$f":"SUM(I10:J10)","v":30},{"$f":"SUM(I11:I12)","v":0},{"$f":"SUM(J11:J12)","v":30}]
["  Técnico en Educador/a Inicial",{"$f":"SUM(C11:D11)","v":61},0,61,{"$f":"SUM(F11:G11)","v":105},0,105,{"$f":"SUM(I11:J11)","v":30},0,30]
["  Lic. en Educación Inicial",{"$f":"SUM(C12:D12)","v":0},0,0,{"$f":"SUM(F12:G12)","v":0},0,0,{"$f":"SUM(I12:J12)","v":0},0,0]
["INAU – CENFORES",{"$f":"SUM(C13:D13)","v":0},0,0,{"$f":"SUM(F13:G13)","v":318},{"$f":"F14","v":58},{"$f":"G14","v":260},{"$f":"SUM(I13:J13)","v":6},{"$f":"I14","v":2},{"$f":"J14","v":4}]
["Educador Social ",0,0,0,318,58,260,6,2,4]
["Fuente:"]
["         CEN.FOR.ES - I.N.A.U. "]
["         C.I.E.P"]

{"sheet":"II-6.2.3 ","index":247,"n_rows":47,"n_cols":17,"rows_kept":47,"cut":false,"hidden":false,"merged":[[7,13,7,16],[8,12,9,12],[8,13,8,16],[0,9,1,11],[6,0,10,0],[7,1,10,1],[7,3,7,6],[7,8,7,11],[8,2,9,2],[8,5,8,6],[8,7,9,7],[8,8,8,11],[6,1,6,11],[0,0,0,1]]}
["ANEP - CONSEJO DE FORMACIÓN EN EDUCACIÓN",null,null,null,null,null,null,null,null,"ALUMNOS MATRICULADOS"]
[]
["Cuadro Nº II-6.2.3"]
[]
["ALUMNOS MATRICULADOS EN FORMACIÓN EN EDUCACIÓN POR CARRERA Y GRADO SEGÚN DEPARTAMENTO Y ESTABLECIMIENTOS. AÑO 2012."]
[]
["DEPARTAMENTO / ESTABLECIMIENTO","CARRERA"]
[null,"TOTAL",null,"Magisterio",null,null,null,null,"Profesorado",null,null,null,null,"Educador Social"]
[null,null,"TOTAL",null,null,null,null,"TOTAL",null,null,null,null,"TOTAL"]
[null,null,null,"Primero","Segundo","Tercero","Cuarto",null,"Primero","Segundo","Tercero","Cuarto",null,"Primero","Segundo","Tercero","Cuarto"]
[]
["TOTAL",{"$f":"+B14+B18","v":22331},{"$f":"+C14+C18","v":6724},{"$f":"+D14+D18","v":2773},1832,1187,932,{"$f":"+H14+H18","v":14709},{"$f":"+I14+I18","v":7486},3504,2038,1253,{"$f":"M14+M18","v":898},766,132,0,0]
[]
["MONTEVIDEO",{"$f":"SUM(B15:B17)","v":8827},{"$f":"SUM(C15:C17)","v":2167},{"$f":"SUM(D15:D17)","v":952},657,303,255,{"$f":"SUM(H15:H17)","v":6230},{"$f":"SUM(I15:I17)","v":3328},1719,868,315,{"$f":"SUM(M15:M17)","v":430},{"$f":"SUM(N15:N17)","v":375},{"$f":"SUM(O15:O17)","v":55},{"$f":"SUM(P15:P17)","v":0},{"$f":"SUM(Q15:Q17)","v":0}]
["                IINN",{"$f":"SUM(C15+H15+M15)","v":2167},{"$f":"SUM(D15:G15)","v":2167},952,657,303,255,{"$f":"SUM(I15:L15)","v":0},"N/C","N/C","N/C","N/C",{"$f":"SUM(N15:Q15)","v":0},"N/C","N/C","N/C","N/C"]
["                IPA",{"$f":"SUM(C16+H16+M16)","v":5725},{"$f":"SUM(D16:G16)","v":0},"N/C","N/C","N/C","N/C",{"$f":"SUM(I16:L16)","v":5295},2767,1496,754,278,{"$f":"SUM(N16:Q16)","v":430},375,55,"N/C","N/C"]
["                INET",{"$f":"SUM(C17+H17+M17)","v":935},{"$f":"SUM(D17:G17)","v":0},"N/C","N/C","N/C","N/C",{"$f":"SUM(I17:L17)","v":935},561,223,114,37,{"$f":"SUM(N17:Q17)","v":0},"N/C","N/C","N/C","N/C"]
["RESTO DEL PAÍS",{"$f":"(B19+B20+B26+B27+B31+B32+B33+B34+B35+B36+B37+B38+B39+B40+B41+B42+B43+B44)","v":13504},{"$f":"(C19+C20+C26+C27+C31+C32+C33+C34+C35+C36+C37+C38+C39+C40+C41+C42+C43+C44)","v":4557},{"$f":"+D19+D20+D26+D27+D31+D32+D33+D34+D35+D36+D37+D38+D39+D40+D41+D42+D43+D44","v":1821},{"$f":"+E19+E20+E26+E27+E31+E32+E33+E34+E35+E36+E37+E38+E39+E40+E41+E42+E43+E44","v":1175},884,677,{"$f":"+H19+H20+H26+H27+H31+H32+H33+H34+H35+H36+H37+H38+H39+H40+H41+H42+H43+H44","v":8479},4158,1785,1170,938,468,391,77,0,0]
["Artigas",{"$f":"SUM(C19+H19+M19)","v":608},{"$f":"SUM(D19:G19)","v":352},111,105,79,57,{"$f":"SUM(I19:L19)","v":125},71,24,20,10,{"$f":"SUM(N19:Q19)","v":131},78,53,"N/C","N/C"]
["Canelones",{"$f":"SUM(C20+H20+M20)","v":1965},{"$f":"SUM(C21:C24)","v":774},{"$f":"SUM(D21:D24)","v":300},{"$f":"SUM(E21:E24)","v":200},{"$f":"SUM(F21:F24)","v":156},{"$f":"SUM(G21:G24)","v":118},{"$f":"SUM(H21:H25)","v":1107},{"$f":"SUM(I21:I25)","v":574},{"$f":"SUM(J21:J25)","v":249},{"$f":"SUM(K21:K25)","v":166},{"$f":"SUM(L21:L25)","v":118},{"$f":"SUM(N20:Q20)","v":84},84,"N/C","N/C","N/C"]
["                Canelones",407,{"$f":"SUM(D21:G21)","v":221},95,50,36,40,{"$f":"SUM(I21:L21)","v":186},128,23,14,21,{"$f":"SUM(N21:Q21)","v":0},"N/C","N/C","N/C","N/C"]
["                De la Costa",312,163,54,39,34,36,149,77,41,21,10,0,"N/C","N/C","N/C","N/C"]
["                Pando",471,267,109,81,56,21,204,120,50,18,16,0,"N/C","N/C","N/C","N/C"]
["                San Ramón",180,123,42,30,30,21,57,34,16,2,5,0,"N/C","N/C","N/C","N/C"]
["                Atlántida",511,0,"N/C","N/C","N/C","N/C",511,215,119,111,66,0,"N/C","N/C","N/C","N/C"]
["Cerro Largo",571,205,65,56,52,32,366,271,62,21,12,0,"N/C","N/C","N/C","N/C"]
["Colonia",969,{"$f":"SUM(C29:C30)","v":212},{"$f":"SUM(D29:D30)","v":96},{"$f":"SUM(E29:E30)","v":50},{"$f":"SUM(F29:F30)","v":37},{"$f":"SUM(G29:G30)","v":29},{"$f":"SUM(H28:H30)","v":757},{"$f":"SUM(I29:I30)","v":184},{"$f":"SUM(J29:J30)","v":63},{"$f":"SUM(K29:K30)","v":39},{"$f":"SUM(L29:L30)","v":43},0,"N/C","N/C","N/C","N/C"]
["                Colonia",428,{"$f":"SUM(D28:G28)","v":0},"N/C","N/C","N/C","N/C",{"$f":"SUM(I28:L28)","v":428},162,110,81,75,0,"N/C","N/C","N/C","N/C"]
["                Carmelo",339,{"$f":"SUM(D29:G29)","v":103},44,21,21,17,{"$f":"SUM(I29:L29)","v":236},138,41,31,26,0,"N/C","N/C","N/C","N/C"]
["                Rosario",202,109,52,29,16,12,93,46,22,8,17,0,"N/C","N/C","N/C","N/C"]
["Durazno",670,282,146,64,41,31,388,314,39,17,18,0,"N/C","N/C","N/C","N/C"]
["Flores",161,86,43,16,17,10,75,56,5,8,6,0,"N/C","N/C","N/C","N/C"]
["Florida",631,210,74,56,34,46,421,161,121,73,66,0,"N/C","N/C","N/C","N/C"]
["Lavalleja",310,132,61,33,18,20,178,102,34,14,28,0,"N/C","N/C","N/C","N/C"]
["Maldonado",954,300,101,82,77,40,557,273,130,95,59,97,73,24,"N/C","N/C"]
["Paysandú",1025,290,113,66,56,55,579,256,151,96,76,156,156,"N/C","N/C","N/C"]
["Río Negro",373,111,50,29,19,13,262,177,52,11,22,0,"N/C","N/C","N/C","N/C"]
["Rivera",1276,318,126,75,58,59,958,443,259,161,95,0,"N/C","N/C","N/C","N/C"]
["Rocha",303,122,50,38,16,18,181,102,37,27,15,0,"N/C","N/C","N/C","N/C"]
["Salto",1412,435,186,123,92,34,977,463,157,171,186,0,"N/C","N/C","N/C","N/C"]
["San José",315,182,78,49,33,22,133,63,28,24,18,0,"N/C","N/C","N/C","N/C"]
["Soriano",378,134,61,34,25,14,244,129,68,35,12,0,"N/C","N/C","N/C","N/C"]
["Tacuarembó",680,188,72,47,43,26,492,251,135,70,36,0,"N/C","N/C","N/C","N/C"]
["Treinta y Tres",903,224,88,52,31,53,679,268,171,122,118,0,"N/C","N/C","N/C","N/C"]
["Fuente: Informática - DFPD "]
["Nota:   Los cursos de INET tienen como duración un año"]
["Los matriculados en Profesorado del INET corresponden tanto al profesorado de Informática como a Maestros Técnicos"]

{"sheet":"II-6.3.1 ","index":248,"n_rows":51,"n_cols":4,"rows_kept":51,"cut":false,"hidden":false,"merged":[[0,3,1,4],[4,0,4,2],[5,0,7,0],[5,1,6,3],[50,0,50,3]]}
["ANEP - CONSEJO DE FORMACIÓN EN EDUCACIÓN",null,null,"FUNCIONARIOS"]
[]
["Cuadro Nº II-6.3.1"]
[]
["PERSONAL DOCENTE DE LOS INSTITUTOS DE FORMACIÓN EN EDUCACIÓN Y CANTIDAD DE HORAS POR INSTITUCIÓN Y DEPARTAMENTO AÑO 2012"]
["DEPARTAMENTO / ESTABLECIMIENTO"]
[]
[null,"Cant Docentes","Cant Horas","Cant Horas Depto."]
["TOTAL",2901,54377,15575]
[]
["MONTEVIDEO",904,17658,5218]
["                IINN",201,3333,825]
["                IPA ",554,11973,3649]
["                INET ",149,2352,744]
["RESTO DEL PAÍS",1997,36719,10357]
["Artigas",78,1285,406]
["Canelones",337,5781,1490]
["                IFD Canelones ",59,874,212]
["                IFD de la Costa ",47,671,189]
["                IFD Pando",63,980,264]
["                IFD San Ramón ",37,556,135]
["                CERP del Sur",131,2700,690]
["Cerro Largo",60,1191,327]
["Colonia",210,3813,1060]
["                IFD Carmelo",37,506,124]
["                IFD Rosario ",40,621,158]
["                CERP del Suroeste",133,2686,778]
["Durazno ",52,864,244]
["Flores",33,464,106]
["Florida",185,3304,916]
["                IFD Florida",60,916,244]
["                CERP del Centro",125,2388,672]
["Lavalleja",52,731,178]
["Maldonado ",184,3657,1173]
["                IFD Maldonado",58,936,245]
["                CERP del Centro",126,2721,928]
["Paysandú",96,1762,550]
["Río Negro",33,487,118]
["Rivera",173,3530,984]
["                IFD Rivera",79,1115,328]
["                CERP del Norte",94,2415,656]
["Rocha",48,763,237]
["Salto ",211,4942,1429]
["                IFD Salto",62,1169,264]
["                CERP del Litoral",149,3773,1165]
["San José",49,668,181]
["Soriano ",49,765,191]
["Tacuarembó ",76,1260,347]
["Treinta y Tres",71,1452,420]
["Fuente: Contralor Docente - CFE"]
["Nota: En octubre del 2007 el CODICEN aprobó un Sistema Único Nacional de Formación Docente (SUNFD) y el nuevo Plan Integrado 2008, creándose además una estructura departamentalizada con el objetivo de fortalecer la labor de los IFD y promover las actividades de investigación y extensión en el espacio de formación en educación. Las horas de departamento representan horas de docencia indirecta destinadas a promover la producción académica de los docentes. Los Departamentos poseen alcance nacional. Su conducción está a cargo de un Coordinacionador/a Académico/a. "]

{"sheet":"II-6.3.2","index":249,"n_rows":22,"n_cols":11,"rows_kept":22,"cut":false,"hidden":false,"merged":[[6,9,6,10],[7,3,7,4],[7,6,7,7],[7,9,7,10],[0,2,1,4],[4,0,4,10],[5,0,8,0],[5,1,8,1],[5,2,5,10],[6,2,8,2],[6,3,6,4],[6,5,8,5],[6,6,6,7],[6,8,8,8]]}
["OTRAS TERCIARIAS NO UNIVERSITARIAS",null,"PERSONAL ACADÉMICO"]
[]
["Cuadro Nº II-6.3.2"]
[]
["PERSONAL DOCENTE DE FORMACIÓN EN EDUCACIÓN POR CARGA HORARIA SEMANAL, SEXO, SEGÚN INSTITUCIÓN Y FORMACIÓN AÑO 2012"]
["INSTITUCIONES / FORMACIÓN","TOTAL","HORAS SEMANALES"]
[null,null,"Total","20 horas o menos",null,"Total","Entre 21 y 30 horas",null,"Total","31 horas y más"]
[null,null,null,"SEXO",null,null,"SEXO",null,null,"SEXO"]
[null,null,null,"M","F",null,"M","F",null,"M","F"]
["CIEP",{"$f":"C10+F10+I10","v":30},{"$f":"D10+E10","v":30},{"$f":"SUM(D11:D14)","v":4},{"$f":"SUM(E11:E14)","v":26},{"$f":"G10+H10","v":0},{"$f":"SUM(G11:G14)","v":0},{"$f":"SUM(H11:H14)","v":0},{"$f":"J10+K10","v":0},{"$f":"SUM(J11:J14)","v":0},{"$f":"SUM(K11:K14)","v":0}]
["  Sin formación degrado completa",{"$f":"C11+F11+I11","v":0},{"$f":"D11+E11","v":0},0,0,{"$f":"G11+H11","v":0},0,0,{"$f":"J11+K11","v":0},0,0]
["  Con formación de grado",{"$f":"C12+F12+I12","v":19},{"$f":"D12+E12","v":19},2,17,{"$f":"G12+H12","v":0},0,0,{"$f":"J12+K12","v":0},0,0]
["  Con postgrado de especialización o maestría",{"$f":"C13+F13+I13","v":3},{"$f":"D13+E13","v":3},2,1,{"$f":"G13+H13","v":0},0,0,{"$f":"J13+K13","v":0},0,0]
["  Con doctorado",{"$f":"C14+F14+I14","v":8},{"$f":"D14+E14","v":8},0,8,{"$f":"G14+H14","v":0},0,0,{"$f":"J14+K14","v":0},0,0]
[]
["INAU ",{"$f":"C16+F16+I16","v":8},{"$f":"D16+E16","v":4},{"$f":"SUM(D17:D20)","v":1},{"$f":"SUM(E17:E20)","v":3},{"$f":"G16+H16","v":4},{"$f":"SUM(G17:G20)","v":0},{"$f":"SUM(H17:H20)","v":4},{"$f":"J16+K16","v":0},{"$f":"SUM(J17:J20)","v":0},{"$f":"SUM(K17:K20)","v":0}]
["  Sin formación degrado completa",{"$f":"C17+F17+I17","v":0},{"$f":"D17+E17","v":0},0,0,{"$f":"G17+H17","v":0},0,0,{"$f":"J17+K17","v":0},0,0]
["  Con formación de grado",{"$f":"C18+F18+I18","v":7},{"$f":"D18+E18","v":3},0,3,{"$f":"G18+H18","v":4},0,4,{"$f":"J18+K18","v":0},0,0]
["  Con postgrado de especialización o maestría",{"$f":"C19+F19+I19","v":0},{"$f":"D19+E19","v":0},0,0,{"$f":"G19+H19","v":0},0,0,{"$f":"J19+K19","v":0},0,0]
["  Con doctorado",{"$f":"C20+F20+'II-6.3.1 '!G50","v":1},{"$f":"D20+E20","v":1},1,0,{"$f":"G20+H20","v":0},0,0,{"$f":"J20+K20","v":0},0,0]
["Fuente:  CENFORES - INAU"]
["            CIEP"]

{"sheet":"II-6.3.3","index":250,"n_rows":32,"n_cols":4,"rows_kept":32,"cut":false,"hidden":false,"merged":[[0,3,1,4],[4,0,4,2],[5,0,6,0],[5,1,6,1],[5,2,6,2],[0,0,0,1]]}
["ANEP - CONSEJO DE FORMACIÓN EN EDUCACIÓN",null,null,"ALUMNOS MATRICULADOS"]
[]
["Cuadro Nº II-6.3.3"]
[]
["ESTUDIANTES INGRESADOS Y MATRICULADOS EN FORMACIÓN EN EDUCACIÓN SEGÚN ORIGEN GEOGRÁFICO. AÑO 2012."]
["DEPARTAMENTO DONDE CURSÓ EL ÚLTIMO AÑO LICEAL","ESTUDIANTES INGRESADOS","ESTUDIANTES MATRICULADOS"]
[]
["TOTAL ",{"$f":"SUM(B9:B31)","v":9073},{"$f":"SUM(C9:C31)","v":22331}]
["Montevideo",3569,8827]
["Artigas",266,608]
["Canelones",785,1965]
["Cerro Largo",365,571]
["Colonia",324,969]
["Durazno",263,670]
["Flores",68,161]
["Florida",235,631]
["Lavalleja",134,310]
["Maldonado",358,954]
["Paysandú",438,1025]
["Río Negro",152,373]
["Rivera",550,1276]
["Rocha",140,303]
["Salto",424,1412]
["San José",155,315]
["Soriano",144,378]
["Tacuarembó",230,680]
["Treinta y Tres",473,903]
["Total extranjeros","-","-"]
["Extranjeros cono sur (Argentina, Brasil, Chile y Paraguay)","-","-"]
["Extranjeros extra regionales","-","-"]
["Extranjeros extra regionales","-","-"]
["Fuente: Institutos de Formación Docente"]

{"sheet":"EDUCACIÓN UNIVERSITARIA","index":251,"n_rows":0,"n_cols":0,"rows_kept":0,"cut":false,"hidden":false,"merged":[[36,0,36,4],[38,0,38,4],[24,0,24,4],[26,0,26,4],[28,0,28,4],[30,0,30,4],[32,0,32,4],[34,0,34,4],[22,0,22,4],[10,0,10,4],[12,0,12,4],[14,0,14,4],[16,0,16,4],[20,0,20,4]]}

{"sheet":"II-7.1.1 ","index":252,"n_rows":56,"n_cols":10,"rows_kept":56,"cut":false,"hidden":false,"merged":[[48,0,48,9],[50,0,50,9],[0,3,1,5],[4,0,4,10],[5,1,7,1],[5,2,5,3],[5,4,7,4],[5,5,5,6],[5,7,7,7],[5,8,5,9],[6,2,6,3],[6,5,6,6],[6,8,6,9],[46,0,46,6],[47,0,47,6],[49,0,49,9]]}
["OFERTA UNIVERSITARIA DE GRADO",null,null,"INSTITUCIONES"]
[]
["Cuadro Nº II-7.1.1"]
[]
["ALUMNOS INGRESADOS, MATRICULADOS Y EGRESADOS EN PROGRAMAS DE GRADO POR SEXO SEGÚN GRANDES ÁREAS, DEPARTAMENTO E INSTITUCIÓN. AÑO 2012."]
["GRANDES ÁREAS / DEPARTAMENTO / INSTITUCIÓN","TOTAL","INGRESO",null,"TOTAL","MATRÍCULA",null,"TOTAL","EGRESO"]
[null,null,"SEXO",null,null,"SEXO",null,null,"SEXO"]
[null,null,"M","F",null,"M","F",null,"M","F"]
["TOTAL",{"$f":"+C9+D9","v":23275},{"$f":"+C11+C25","v":8883},{"$f":"+D11+D25","v":14392},{"$f":"+F9+G9","v":151081},{"$f":"+F11+F25","v":56152},{"$f":"+G11+G25","v":94929},{"$f":"+I9+J9","v":7826},{"$f":"+I11+I25","v":2802},{"$f":"+J11+J25","v":5024}]
[]
["MONTEVIDEO",{"$f":"SUM(C11:D11)","v":21248},{"$f":"SUM(C12:C24)","v":8123},{"$f":"SUM(D12:D24)","v":13125},{"$f":"SUM(F11:G11)","v":142812},{"$f":"SUM(F12:F24)","v":53254},{"$f":"SUM(G12:G24)","v":89558},{"$f":"SUM(I11:J11)","v":7460},{"$f":"SUM(I12:I24)","v":2689},{"$f":"SUM(J12:J24)","v":4771}]
["UdelaR",17650,6285,11365,124200,43748,80452,6034,2047,3987]
["UCUDAL",1268,512,756,6381,2585,3796,612,235,377]
["Universidad ORT Uruguay",1118,658,460,6972,4165,2807,363,173,190]
["Universidad de Montevideo",334,160,174,1619,795,824,206,98,108]
["Universidad de la Empresa",471,282,189,2563,1424,1139,126,73,53]
["Inst Univ Asociación Cristiana de Jóvenes",184,103,81,554,353,201,39,21,18]
["Inst Metodista Univ Crandon",25,1,24,44,1,43,13,0,13]
["Inst Univ Monseñor Mariano Soler *",16,13,3,61,58,3,6,6,0]
["Inst Univ Bios",18,6,12,25,14,11,3,2,1]
["Inst Univ CEDIIAP",43,1,42,274,17,257,17,0,17]
["Inst Univ CLAEH ",19,12,7,17,4,13,0,0,0]
["Escuela Naval",{"$f":"SUM(C23:D23)","v":25},25,0,{"$f":"SUM(F23:G23)","v":25},25,0,{"$f":"SUM(I23:J23)","v":0},0,0]
["Escuela de Policía",77,65,12,77,65,12,41,34,7]
["RESTO DEL PAÍS",{"$f":"+C25+D25","v":2027},{"$f":"+C26+C28+C30+C36+C38+C40+C42+C45","v":760},{"$f":"+D26+D28+D30+D36+D38+D40+D42+D45","v":1267},{"$f":"+F25+G25","v":8269},{"$f":"+F26+F28+F30+F36+F38+F40+F42+F45","v":2898},{"$f":"+G26+G28+G30+G36+G38+G40+G42+G45","v":5371},{"$f":"+I25+J25","v":366},{"$f":"+I26+I28+I30+I36+I38+I40+I42+I45","v":113},{"$f":"+J26+J28+J30+J36+J38+J40+J42+J45","v":253}]
["Artigas",{"$f":"SUM(C26:D26)","v":6},{"$f":"SUM(C27)","v":5},{"$f":"SUM(D27)","v":1},{"$f":"SUM(F26:G26)","v":24},{"$f":"SUM(F27)","v":18},{"$f":"SUM(G27)","v":6},{"$f":"SUM(I26:J26)","v":8},{"$f":"SUM(I27)","v":6},{"$f":"SUM(J27)","v":2}]
["UdelaR",6,5,1,{"$f":"SUM(F27:G27)","v":24},18,6,8,6,2]
["Colonia",0,{"$f":"SUM(C29)","v":0},{"$f":"SUM(D29)","v":0},8,{"$f":"SUM(F29)","v":1},{"$f":"SUM(G29)","v":7},0,{"$f":"SUM(I29)","v":0},{"$f":"SUM(J29)","v":0}]
["UdelaR",0,0,0,8,1,7,0,0,0]
["Maldonado",318,{"$f":"SUM(C31:C35)","v":146},{"$f":"SUM(D31:D35)","v":172},2208,{"$f":"SUM(F31:F35)","v":953},{"$f":"SUM(G31:G35)","v":1255},124,{"$f":"SUM(I31:I35)","v":48},{"$f":"SUM(J31:J35)","v":76}]
["UdelaR",112,69,43,1113,523,590,45,24,21]
["UCUDAL",{"$f":"SUM(C32:D32)","v":50},27,23,258,128,130,4,1,3]
["Inst Univ CLAEH ",74,25,49,354,134,220,38,13,25]
["Fundación Politécnico de Punta del Este",53,16,37,42,11,31,0,0,0]
["Inst Univ Francisco de Asís ",29,9,20,441,157,284,37,10,27]
["Paysandú",507,{"$f":"SUM(C37)","v":167},{"$f":"SUM(D37)","v":340},1648,{"$f":"SUM(F37)","v":591},{"$f":"SUM(G37)","v":1057},122,{"$f":"SUM(I37)","v":27},{"$f":"SUM(J37)","v":95}]
["UdelaR",507,167,340,1648,591,1057,122,27,95]
["Rivera",114,{"$f":"SUM(C39)","v":46},{"$f":"SUM(D39)","v":68},406,{"$f":"SUM(F39)","v":105},{"$f":"SUM(G39)","v":301},5,{"$f":"SUM(I39)","v":2},{"$f":"SUM(J39)","v":3}]
["UdelaR",114,46,68,406,105,301,5,2,3]
["Rocha",14,{"$f":"SUM(C41)","v":9},{"$f":"SUM(D41)","v":5},170,{"$f":"SUM(F41)","v":64},{"$f":"SUM(G41)","v":106},5,{"$f":"SUM(I41)","v":4},{"$f":"SUM(J41)","v":1}]
["UdelaR",14,9,5,170,64,106,5,4,1]
["Salto",846,{"$f":"SUM(C43:C44)","v":324},{"$f":"SUM(D43:D44)","v":522},3574,{"$f":"SUM(F43:F44)","v":1105},{"$f":"SUM(G43:G44)","v":2469},102,{"$f":"SUM(I43:I44)","v":26},{"$f":"SUM(J43:J44)","v":76}]
["UdelaR",709,256,453,3141,909,2232,96,25,71]
["UCUDAL",137,68,69,433,196,237,6,1,5]
["Tacuarembó",222,{"$f":"SUM(C46)","v":63},{"$f":"SUM(D46)","v":159},231,{"$f":"SUM(F46)","v":61},{"$f":"SUM(G46)","v":170},0,{"$f":"SUM(I46)","v":0},{"$f":"SUM(J46)","v":0}]
["UdelaR",222,63,159,231,61,170,0,0,0]
["Fuente: Oficinas Productoras de cada una de las Instituciones. "]
["Nota: "]
["La expresión “Estudiantes” hace referencia a relaciones entre personas e instituciones y no al conteo de personas físicas. De manera que una persona puede ser estudiante de más de una institución o región, ostentando en cualquiera de ambas categorías inserciones múltiples y en cada caso será contada como personas diferentes."]
["La información del Instituto Universitario Autónomo del Sur está incluida en la información brindada por la UDE. \"La Resolución Ministerial de fecha 27 de diciembre de 2011 en la que se autoriza con carácter provisorio la subrogación para el dictado de las carreras del Instituto Universitario Autónomo del Sur por parte de la Universidad de la Empresa.\" Resolución Ministerial 27/12/2011 Nª - M-290/13."]
["* No se dispone de datos correspondientes al año 2012, se incorpora el último dato disponible (año 2011)."]
["        "]
["        "]
["        "]
["        "]
["        "]

{"sheet":"II-7.2.2 ","index":253,"n_rows":342,"n_cols":10,"rows_kept":342,"cut":false,"hidden":false,"merged":[[235,6,236,8],[338,0,338,21],[339,0,339,21],[340,0,340,9],[341,0,341,9],[240,1,242,1],[240,2,240,3],[240,4,242,4],[240,5,240,6],[240,7,242,7],[240,8,240,9],[241,2,241,3],[241,5,241,6],[241,8,241,9],[239,0,239,6],[239,7,239,9],[180,5,180,6],[180,7,182,7],[92,5,92,6],[92,8,92,9],[175,6,176,8],[179,0,179,6],[179,7,179,9],[180,8,180,9],[181,2,181,3],[181,5,181,6],[181,8,181,9],[180,1,182,1],[180,2,180,3],[180,4,182,4],[86,6,87,8],[90,0,90,6],[91,1,93,1],[91,2,91,3],[91,4,93,4],[91,5,91,6],[91,7,93,7],[91,8,91,9],[92,2,92,3],[0,6,1,8],[4,0,4,6],[5,1,7,1],[5,2,5,3],[5,4,7,4],[5,5,5,6],[5,7,7,7],[5,8,5,9],[6,2,6,3],[6,5,6,6],[6,8,6,9]]}
["UNIVERSIDAD DE LA REPÚBLICA: OFERTA DE GRADO",null,null,null,null,null,"ALUMNOS MATRICULADOS"]
[]
["Cuadro Nº II-7.2.2"]
[]
["ALUMNOS INGRESADOS Y EGRESADOS EN PROGRAMAS DE GRADO POR SEXO SEGÚN SERVICIO UNIVERSITARIO Y CARRERA. AÑO 2012"]
[null,"TOTAL","INGRESADOS",null,"TOTAL","MATRÍCULA",null,"TOTAL","EGRESADOS"]
["SERVICIO UNIVERSITARIO / CARRERA",null,"SEXO",null,null,"SEXO",null,null,"SEXO"]
[null,null,"M","F",null,"M","F",null,"M","F"]
["TOTAL",{"$f":"SUM(C9:D9)","v":19334},{"$f":"C11+C30+C34+C64+C95+C100+C110+C123+C128+C137+C143+C153+C158+C184+C188+C193+C225+C244+C260+C271+C282+C293+C298+C26+C50+C301+C305+C308+C312+C318+C322+C325+C328+C331+C334+C289","v":6900},{"$f":"D11+D30+D34+D64+D95+D100+D110+D123+D128+D137+D143+D153+D158+D184+D188+D193+D225+D244+D260+D271+D282+D293+D298+D26+D50+D301+D305+D308+D312+D318+D322+D325+D328+D331+D334+D289","v":12434},{"$f":"SUM(F9:G9)","v":130941},{"$f":"F11+F30+F34+F64+F95+F100+F110+F123+F128+F137+F143+F153+F158+F184+F188+F193+F225+F244+F260+F271+F282+F293+F298+F26+F50+F301+F305+F308+F312+F318+F322+F325+F328+F331+F334+F289","v":46020},{"$f":"G11+G30+G34+G64+G95+G100+G110+G123+G128+G137+G143+G153+G158+G184+G188+G193+G225+G244+G260+G271+G282+G293+G298+G26+G50+G301+G305+G308+G312+G318+G322+G325+G328+G331+G334+G289","v":84921},{"$f":"SUM(I9:J9)","v":6315},{"$f":"I11+I30+I34+I64+I95+I100+I110+I123+I128+I137+I143+I153+I158+I184+I188+I193+I225+I244+I260+I271+I282+I293+I298+I26+I50+I301+I305+I308+I312+I318+I322+I325+I328+I331+I334+I289","v":2135},{"$f":"J11+J30+J34+J64+J95+J100+J110+J123+J128+J137+J143+J153+J158+J184+J188+J193+J225+J244+J260+J271+J282+J293+J298+J26+J50+J301+J305+J308+J312+J318+J322+J325+J328+J331+J334+J289","v":4180}]
[]
["FACULTAD DE HUMANIDADES Y CIENCIAS DE LA EDUCACIÓN",{"$f":"SUM(C11:D11)","v":991},{"$f":"SUM(C12:C24)","v":322},{"$f":"SUM(D12:D24)","v":669},{"$f":"SUM(F11:G11)","v":5977},{"$f":"SUM(F12:F24)","v":1933},{"$f":"SUM(G12:G24)","v":4044},{"$f":"SUM(I11:J11)","v":61},{"$f":"SUM(I12:I24)","v":21},{"$f":"SUM(J12:J24)","v":40}]
["Licenciado en Ciencias Antropológicas",121,46,75,922,315,607,8,5,3]
["Licenciado en Ciencias de la Educación",180,35,145,819,203,616,18,5,13]
["Licenciado en Ciencias Históricas",96,52,44,816,400,416,4,1,3]
["Licenciado en Filosofía",125,68,57,735,332,403,7,5,2]
["Licenciado en Letras",144,47,97,871,272,599,3,0,3]
["Licenciado en Lingüística",101,18,83,503,117,386,7,1,6]
["Licenciado en Turismo ","s/d","s/d","s/d",7,0,7,1,1,0]
["Licenciado en Turismo (Maldonado)","s/d","s/d","s/d",138,44,94,1,0,1]
["Licenciado Binacional en Turismo (Salto)",{"$f":"SUM(C20:D20)","v":69},25,44,94,24,70,1,1,0]
["Técnico Universitario en Corrección de Estilo",{"$f":"SUM(C21:D21)","v":155},31,124,556,102,454,8,2,6]
["Técnico Universitario en Turismo (Maldonado)",{"$f":"SUM(C22:D22)","v":0},0,0,15,4,11,1,0,1]
["Técnico Universitario en Interpretación LSU Español LSU (2)",{"$f":"SUM(C23:D23)","v":0},0,0,24,1,23,2,0,2]
["Técnico Universitario en Museología",{"$f":"SUM(C24:D24)","v":0},0,0,477,119,358,0,0,0]
[]
["FACULTAD DE AGRONOMÍA -",{"$f":"SUM(C26:D26)","v":381},{"$f":"SUM(C27:C28)","v":239},{"$f":"SUM(D27:D28)","v":142},{"$f":"SUM(F26:G26)","v":2289},{"$f":"SUM(F27:F28)","v":1575},{"$f":"SUM(G27:G28)","v":714},{"$f":"SUM(I26:J26)","v":154},{"$f":"SUM(I27:I28)","v":124},{"$f":"SUM(J27:J28)","v":30}]
["Ingeniero Agrónomo",{"$f":"SUM(C27:D27)","v":320},207,113,{"$f":"SUM(F27:G27)","v":2155},1505,650,{"$f":"SUM(I27:J27)","v":152},123,29]
["Ingeniero Agrónomo (Salto)",{"$f":"SUM(C28:D28)","v":61},32,29,{"$f":"SUM(F28:G28)","v":134},70,64,{"$f":"SUM(I28:J28)","v":2},1,1]
[]
["FACULTAD DE ARQUITECTURA -",{"$f":"SUM(C30:D30)","v":551},{"$f":"SUM(C31:C32)","v":190},{"$f":"SUM(D31:D32)","v":361},{"$f":"SUM(F30:G30)","v":5483},{"$f":"SUM(F31:F32)","v":2342},{"$f":"SUM(G31:G32)","v":3141},{"$f":"SUM(I30:J30)","v":297},{"$f":"SUM(I31:I32)","v":135},{"$f":"SUM(J31:J32)","v":162}]
["Arquitecto",{"$f":"SUM(C31:D31)","v":531},180,351,{"$f":"SUM(F31:G31)","v":5395},2293,3102,{"$f":"SUM(I31:J31)","v":297},135,162]
["Arquitecto (Salto)",{"$f":"SUM(C32:D32)","v":20},10,10,{"$f":"SUM(F32:G32)","v":88},49,39,{"$f":"SUM(I32:J32)","v":0},0,0]
[]
["FACULTAD DE CIENCIAS ECONÓMICAS Y ADMINISTRACIÓN",{"$f":"SUM(C34:D34)","v":2687},{"$f":"SUM(C35:C48)","v":1103},{"$f":"SUM(D35:D48)","v":1584},{"$f":"SUM(F34:G34)","v":17663},{"$f":"SUM(F35:F48)","v":7253},{"$f":"SUM(G35:G48)","v":10410},{"$f":"SUM(I34:J34)","v":1151},{"$f":"SUM(I35:I48)","v":514},{"$f":"SUM(J35:J48)","v":637}]
["Ciclo Básico de CCEE",0,0,0,1162,471,691,0,0,0]
["Contador Público",0,0,0,10156,4056,6100,0,0,0]
["Contador Público",0,0,0,0,0,0,11,4,7]
["Contador Público",0,0,0,0,0,0,250,96,154]
["Contador Público",1786,706,1080,0,0,0,557,240,317]
["Economista",0,0,0,0,0,0,1,0,1]
["Licenciado en Administración – Contador",0,0,0,0,0,0,11,4,7]
["Licenciado en Administración",338,136,202,2791,1034,1757,16,8,8]
["Licenciado en Economía",0,0,0,2671,1330,1341,0,0,0]
["Licenciado en Economía",0,0,0,0,0,0,74,38,36]
["Licenciado en Economía",364,191,173,0,0,0,219,117,102]
["Licenciado en Estadística",51,27,24,695,311,384,12,7,5]
["Tecnólogo en Administración y Contabilidad (Maldonado)","s/d","s/d","s/d",62,22,40,0,0,0]
["Tecnólogo en Administración y Contabilidad (Tacuarembó)",{"$f":"SUM(C48:D48)","v":148},43,105,126,29,97,0,0,0]
[]
["FACULTAD DE DERECHO",{"$f":"SUM(C50:D50)","v":2579},{"$f":"SUM(C51:C62)","v":763},{"$f":"SUM(D51:D62)","v":1816},{"$f":"SUM(F50:G50)","v":24001},{"$f":"SUM(F51:F62)","v":6750},{"$f":"SUM(G51:G62)","v":17251},{"$f":"SUM(I50:J50)","v":905},{"$f":"SUM(I51:I62)","v":262},{"$f":"SUM(J51:J62)","v":643}]
["Dr. en Derecho – Escribano Público",1071,331,740,0,0,0,0,0,0]
["Dr. en Derecho – Escribano Público (Salto)",118,32,86,0,0,0,0,0,0]
["Doctor en Derecho y Ciencias Sociales",0,0,0,8880,2543,6337,414,142,272]
["Doctor en Derecho y Ciencias Sociales (Salto)",0,0,0,625,184,441,19,7,12]
["Escribano Público",0,0,0,8447,2378,6069,262,53,209]
["Escribano Público (Salto)",0,0,0,570,170,400,8,4,4]
["Licenciado en Relaciones Internaciones",455,180,275,2592,874,1718,82,29,53]
["Licenciado en Relaciones Internaciones (Salto)",0,0,0,6,3,3,0,0,0]
["Licenciado en Relaciones Laborales",897,217,680,1197,276,921,0,0,0]
["Técnico en Relaciones Laborales",0,0,0,1418,272,1146,103,22,81]
["Técnico en Relaciones Laborales (Rocha)",0,0,0,57,17,40,0,0,0]
["Traductor Público",38,3,35,209,33,176,17,5,12]
[]
["FACULTAD DE INGENIERÍA",{"$f":"SUM(C64:D64)","v":1323},{"$f":"SUM(C65:C84)","v":1018},{"$f":"SUM(D65:D84)","v":305},{"$f":"SUM(F64:G64)","v":9271},{"$f":"SUM(F65:F84)","v":7187},{"$f":"SUM(G65:G84)","v":2084},{"$f":"SUM(I64:J64)","v":312},{"$f":"SUM(I65:I84)","v":243},{"$f":"SUM(J65:J84)","v":69}]
["Licenciado en Ciencias Hídricas Aplicadas (Salto)",73,44,29,0,0,0,0,0,0]
["Analista Programador",0,0,0,11,6,5,0,0,0]
["Ciclo Básico de Ingeniería",0,0,0,257,189,68,0,0,0]
["Ingeniero Agrimensor",28,15,13,140,91,49,2,1,1]
["Ingeniero Civil",155,98,57,1262,792,470,54,28,26]
["Ingeniero de Producción",45,18,27,95,48,47,0,0,0]
["Ingeniero Electricista",160,136,24,1458,1208,250,52,46,6]
["Ingeniero en Computación",590,486,104,4095,3206,889,112,86,26]
["Ingeniero de Sistemas en Computación",0,0,0,0,0,0,2,2,0]
["Ingeniero Industrial Mecánico",132,99,33,1028,848,180,46,39,7]
["Tecnólogo en Informática",17,16,1,274,223,51,6,6,0]
["Tecnólogo en Informática (Maldonado)","s/d","s/d","s/d",49,40,9,8,7,1]
["Tecnólogo en Informática (Paysandú)",{"$f":"SUM(C77:D77)","v":18},15,3,79,65,14,5,5,0]
["Tecnólogo en Telecomunicaciones (Rocha)",14,9,5,44,35,9,5,4,1]
["Tecnólogo Mecánico",61,58,3,327,300,27,17,16,1]
["Tecnólogo Mecánico (Paysandú)",15,15,0,56,53,3,3,3,0]
["Ingeniero Naval",15,9,6,90,77,13,0,0,0]
["Perito en Ingeniería Electrónica",0,0,0,3,3,0,0,0,0]
["Perito en Ingeniería Mecánica",0,0,0,1,1,0,0,0,0]
["Perito en Instrumentación Industrial",0,0,0,2,2,0,0,0,0]
[null,null,null,null,null,null,null,null,"(Continúa)"]
[]
["UNIVERSIDAD DE LA REPÚBLICA: OFERTA DE GRADO",null,null,null,null,null,"ALUMNOS MATRICULADOS"]
[]
["Cuadro Nº II-7.2.2  (continuación)"]
[]
["ALUMNOS INGRESADOS Y EGRESADOS EN PROGRAMAS DE GRADO POR SEXO SEGÚN SERVICIO UNIVERSITARIO Y CARRERA AÑO 2012"]
[null,"TOTAL","INGRESADOS",null,"TOTAL","MATRÍCULA",null,"TOTAL","EGRESADOS"]
["SERVICIO UNIVERSITARIO / CARRERA",null,"SEXO",null,null,"SEXO",null,null,"SEXO"]
[null,null,"M","F",null,"M","F",null,"M","F"]
["FACULTAD DE MEDICINA",{"$f":"SUM(C95:D95)","v":1191},{"$f":"SUM(C96+C97+C98)","v":348},{"$f":"SUM(D96+D97+D98)","v":843},{"$f":"SUM(F95:G95)","v":8144},{"$f":"SUM(F96+F97+F98)","v":2377},{"$f":"SUM(G96+G97+G98)","v":5767},{"$f":"SUM(I95:J95)","v":525},{"$f":"SUM(I96+I97+I98)","v":180},{"$f":"SUM(J96+J97+J98)","v":345}]
["Dr. en Medicina",{"$f":"SUM(C96:D96)","v":1191},348,843,{"$f":"SUM(F96:G96)","v":8101},2361,5740,{"$f":"SUM(I96:J96)","v":517},175,342]
["Dr. en Medicina (Paysandú)",{"$f":"SUM(C97:D97)","v":0},0,0,{"$f":"SUM(F97:G97)","v":18},8,10,{"$f":"SUM(I97:J97)","v":5},3,2]
["Dr. en Medicina (Salto)",{"$f":"SUM(C98:D98)","v":0},0,0,{"$f":"SUM(F98:G98)","v":25},8,17,{"$f":"SUM(I98:J98)","v":3},2,1]
[]
["FACULTAD DE ODONTOLOGÍA ",{"$f":"SUM(C100:D100)","v":359},{"$f":"SUM(C101:C108)","v":91},{"$f":"SUM(D101:D108)","v":268},{"$f":"SUM(F100:G100)","v":2959},{"$f":"SUM(F101:F108)","v":653},{"$f":"SUM(G101:G108)","v":2306},{"$f":"SUM(I100:J100)","v":289},{"$f":"SUM(I101:I108)","v":59},{"$f":"SUM(J101:J108)","v":230}]
["Asistente en Odontología",40,4,36,304,27,277,46,2,44]
["Asistente en Odontología (Rivera)",0,0,0,10,2,8,0,0,0]
["Asistente en Odontología (Salto)",11,4,7,12,3,9,0,0,0]
["Doctor en Odontología",193,53,140,1803,463,1340,134,32,102]
["Higienista en Odontología",31,3,28,338,38,300,37,4,33]
["Higienista en Odontología (Rivera)",0,0,0,14,2,12,3,0,3]
["Higienista en Odontología (Salto)",38,12,26,51,10,41,0,0,0]
["Laboratorista en Odontología",46,15,31,427,108,319,69,21,48]
[]
["FACULTAD DE QUÍMICA",{"$f":"SUM(C110:D110)","v":326},{"$f":"SUM(C111:C121)","v":105},{"$f":"SUM(D111:D121)","v":221},{"$f":"SUM(F110:G110)","v":3843},{"$f":"SUM(F111:F121)","v":999},{"$f":"SUM(G111:G121)","v":2844},{"$f":"SUM(I110:J110)","v":88},{"$f":"SUM(I111:I121)","v":19},{"$f":"SUM(J111:J121)","v":69}]
["Bioquímico Clínico",95,24,71,1046,226,820,23,1,22]
["Bioquímico Clínico (Salto)",2,0,2,5,1,4,0,0,0]
["Licenciado en Química",0,0,0,33,10,23,11,4,7]
["Licenciado en Vitivinicultura y Enología",0,0,0,3,1,2,0,0,0]
["Magister en Química",0,0,0,1,0,1,0,0,0]
["Químico  ",59,24,35,654,241,413,10,5,5]
["Químico (Salto)",3,1,2,4,1,3,0,0,0]
["Químico Farmacéutico",120,37,83,1853,456,1397,35,7,28]
["Químico Farmacéutico (Salto)",1,1,0,4,2,2,0,0,0]
["Tecnólogo Químico",22,10,12,206,55,151,9,2,7]
["Tecnólogo Químico (Paysandú)",24,8,16,34,6,28,0,0,0]
[]
["FACULTAD DE VETERINARIA ",{"$f":"SUM(C123:D123)","v":536},{"$f":"SUM(C124:C126)","v":196},{"$f":"SUM(D124:D126)","v":340},{"$f":"SUM(F123:G123)","v":3681},{"$f":"SUM(F124:F126)","v":1422},{"$f":"SUM(G124:G126)","v":2259},{"$f":"SUM(I123:J123)","v":114},{"$f":"SUM(I124:I126)","v":55},{"$f":"SUM(J124:J126)","v":59}]
["Dr. en Ciencias Veterinarias",{"$f":"SUM(C124:D124)","v":477},170,307,{"$f":"SUM(F124:G124)","v":3443},1310,2133,{"$f":"SUM(I124:J124)","v":104},48,56]
["Dr. en Ciencias Veterinarias (Salto)",{"$f":"SUM(C125:D125)","v":59},26,33,{"$f":"SUM(F125:G125)","v":238},112,126,{"$f":"SUM(I125:J125)","v":0},0,0]
["Dr. en Medicina y Tecnología Veterinaria",{"$f":"SUM(C126:D126)","v":0},0,0,{"$f":"SUM(F126:G126)","v":0},0,0,{"$f":"SUM(I126:J126)","v":10},7,3]
[]
["ESCUELA UNIV DE BIBLIOTECOLOGÍA Y CS AFINES",{"$f":"SUM(C128:D128)","v":197},{"$f":"SUM(C129:C135)","v":45},{"$f":"SUM(D129:D135)","v":152},{"$f":"SUM(F128:G128)","v":744},{"$f":"SUM(F129:F135)","v":159},{"$f":"SUM(G129:G135)","v":585},{"$f":"SUM(I128:J128)","v":76},{"$f":"SUM(I129:I135)","v":8},{"$f":"SUM(J129:J135)","v":68}]
["Archivólogo",55,11,44,262,64,198,30,4,26]
["Archivólogo (Paysandú)",0,0,0,13,2,11,16,0,16]
["Archivólogo (Rivera)",0,0,0,4,2,2,0,0,0]
["Licenciado en Archivología (Paysandú)",62,11,51,26,5,21,0,0,0]
["Licenciado en Bibliotecología",52,19,33,405,78,327,30,4,26]
["Licenciado en Bibliotecología (Paysandú)",28,4,24,32,6,26,0,0,0]
["Licenciado en Bibliotecología (Rivera)",0,0,0,2,2,0,0,0,0]
[]
["INSTITUTO ESCUELA NACIONAL DE BELLAS ARTES ",{"$f":"+C137+D137","v":502},{"$f":"SUM(C138:C141)","v":148},{"$f":"SUM(D138:D141)","v":354},{"$f":"+F137+G137","v":2357},{"$f":"SUM(F138:F141)","v":757},{"$f":"SUM(G138:G141)","v":1600},{"$f":"+I137+J137","v":51},{"$f":"SUM(I138:I141)","v":18},{"$f":"SUM(J138:J141)","v":33}]
["Creador Plástico",{"$f":"SUM(C138:D138)","v":0},0,0,{"$f":"SUM(F138:G138)","v":0},0,0,{"$f":"SUM(I138:J138)","v":26},10,16]
["Licenciado en Artes",{"$f":"SUM(C139:D139)","v":456},132,324,{"$f":"SUM(F139:G139)","v":2231},703,1528,{"$f":"SUM(I139:J139)","v":25},8,17]
["Licenciado en Lenguajes y Medios Audiovisuales (Maldonado)","s/d","s/d","s/d",{"$f":"SUM(F140:G140)","v":79},39,40,{"$f":"SUM(I140:J140)","v":0},0,0]
["Técnico Universitario en Tecnologías de la Imagen Fotográfica (Paysandú)",{"$f":"SUM(C141:D141)","v":46},16,30,{"$f":"SUM(F141:G141)","v":47},15,32,{"$f":"SUM(I141:J141)","v":0},0,0]
[]
["ESCUELA DE ENFERMERÍA ",{"$f":"SUM(C143:D143)","v":509},{"$f":"SUM(C144:C151)","v":76},{"$f":"SUM(D144:D151)","v":433},{"$f":"SUM(F143:G143)","v":3280},{"$f":"SUM(F144:F151)","v":524},{"$f":"SUM(G144:G151)","v":2756},{"$f":"SUM(I143:J143)","v":318},{"$f":"SUM(I144:I151)","v":31},{"$f":"SUM(J144:J151)","v":287}]
["Licenciado en Enfermería",148,17,131,917,144,773,79,8,71]
["Licenciado en Enfermería (Rivera)",0,0,0,178,21,157,0,0,0]
["Licenciado en Enfermería (Rocha)",0,0,0,37,6,31,0,0,0]
["Licenciado en Enfermería (Salto)",0,0,0,47,9,38,0,0,0]
["Licenciado en Enfermería",296,39,257,1688,266,1422,216,22,194]
["Licenciado en Enfermería (Rivera)",0,0,0,39,5,34,0,0,0]
["Licenciado en Enfermería (Rocha)",0,0,0,31,6,25,0,0,0]
["Licenciado en Enfermería (Salto)",65,20,45,343,67,276,23,1,22]
[]
["ESCUELA DE NUTRICIÓN ",{"$f":"SUM(C153:D153)","v":401},{"$f":"+C154+C155+C156","v":64},{"$f":"+D154+D155+D156","v":337},{"$f":"+F153+G153","v":1962},{"$f":"+F154+F155+F156","v":234},{"$f":"+G154+G155+G156","v":1728},{"$f":"+I153+J153","v":94},{"$f":"+I154+I155+I156","v":3},{"$f":"+J154+J155+J156","v":91}]
["Licenciado en Nutrición",{"$f":"SUM(C154:D154)","v":360},59,301,{"$f":"SUM(F154:G154)","v":1929},230,1699,{"$f":"SUM(I154:J154)","v":93},2,91]
["Nutricionista Dietista",{"$f":"SUM(C155:D155)","v":0},0,0,{"$f":"SUM(F155:G155)","v":0},0,0,{"$f":"SUM(I155:J155)","v":1},1,0]
["Técnico Operador de Alimentos (Tacuarembó)",{"$f":"SUM(C156:D156)","v":41},5,36,{"$f":"SUM(F156:G156)","v":33},4,29,{"$f":"SUM(I156:J156)","v":0},0,0]
[]
["ESCUELA UNIVERSITARIA DE MÚSICA",{"$f":"SUM(C158:D158)","v":48},{"$f":"SUM(C159:C167)","v":33},{"$f":"SUM(D159:D167)","v":15},{"$f":"SUM(F158:G158)","v":309},{"$f":"SUM(F159:F167)","v":200},{"$f":"SUM(G159:G167)","v":109},{"$f":"SUM(I158:J158)","v":11},{"$f":"SUM(I159:I167)","v":7},{"$f":"SUM(J159:J167)","v":4}]
["Diplomado en Música (Salto)",0,0,0,2,0,2,0,0,0]
["Licenciado en Interpretación Musical",25,18,7,137,94,43,5,4,1]
["Licenciado en Música",21,13,8,129,86,43,2,2,0]
["Licenciado en Dirección Coral",0,0,0,3,2,1,0,0,0]
["Licenciado en Dirección Orquestal",0,0,0,3,2,1,0,0,0]
["Técnico en Dirección de Coros (Salto)",1,1,0,5,2,3,0,0,0]
["Técnico en Interpretación (Salto)",1,1,0,15,10,5,0,0,0]
["Licenciado en Interpretación Instrumental",0,0,0,0,0,0,2,1,1]
["Licenciado en Musicología",0,0,0,15,4,11,2,0,2]
[]
[null,null,null,null,null,null,null,null,"(Continúa)"]
[]
[]
[]
[]
[]
[]
["UNIVERSIDAD DE LA REPÚBLICA: OFERTA DE GRADO",null,null,null,null,null,"ALUMNOS MATRICULADOS"]
[]
["Cuadro Nº II-7.2.2  (continuación)"]
[]
["ALUMNOS INGRESADOS Y EGRESADOS EN PROGRAMAS DE GRADO POR SEXO SEGÚN SERVICIO UNIVERSITARIO Y CARRERA AÑO 2012"]
[null,"TOTAL","INGRESADOS",null,"TOTAL","EGRESADOS",null,"TOTAL","EGRESADOS"]
["SERVICIO UNIVERSITARIO / CARRERA",null,"SEXO",null,null,"SEXO",null,null,"SEXO"]
[null,null,"M","F",null,"M","F",null,"M","F"]
["ESCUELA DE PARTERAS",{"$f":"SUM(C184:D184)","v":366},{"$f":"SUM(C185:C186)","v":35},{"$f":"SUM(D185:D186)","v":331},{"$f":"SUM(F184:G184)","v":1133},{"$f":"SUM(F185:F186)","v":70},{"$f":"SUM(G185:G186)","v":1063},{"$f":"SUM(I184:J184)","v":66},{"$f":"SUM(I185:I186)","v":0},{"$f":"SUM(J185:J186)","v":66}]
["Obstetra - Partera",{"$f":"SUM(C185:D185)","v":314},35,279,{"$f":"SUM(F185:G185)","v":1004},70,934,{"$f":"SUM(I185:J185)","v":40},0,40]
["Obstétrica (Carrera Binacional) (Paysandú)",{"$f":"SUM(C186:D186)","v":52},0,52,{"$f":"SUM(F186:G186)","v":129},0,129,{"$f":"SUM(I186:J186)","v":26},0,26]
[]
["FACULTAD DE PSICOLOGÍA",{"$f":"SUM(C188:D188)","v":1268},{"$f":"SUM(C189:C191)","v":301},{"$f":"SUM(D189:D191)","v":967},{"$f":"SUM(F188:G188)","v":7091},{"$f":"SUM(F189:F191)","v":1562},{"$f":"SUM(G189:G191)","v":5529},{"$f":"SUM(I188:J188)","v":631},{"$f":"SUM(I189:I191)","v":110},{"$f":"SUM(J189:J191)","v":521}]
["Licenciado en Psicología",{"$f":"SUM(C189:D189)","v":1268},301,967,{"$f":"SUM(F189:G189)","v":7082},1561,5521,{"$f":"SUM(I189:J189)","v":625},110,515]
["Licenciado en Psicología (Salto)",{"$f":"SUM(C190:D190)","v":0},0,0,{"$f":"SUM(F190:G190)","v":9},1,8,{"$f":"SUM(I190:J190)","v":0},0,0]
["Psicólogo",{"$f":"SUM(C191:D191)","v":0},0,0,{"$f":"SUM(F191:G191)","v":0},0,0,{"$f":"SUM(I191:J191)","v":6},0,6]
[]
["ESCUELA DE TECNOLOGÍA MEDICA",{"$f":"SUM(C193:D193)","v":823},{"$f":"SUM(C194:C223)","v":138},{"$f":"SUM(D194:D223)","v":685},{"$f":"SUM(F193:G193)","v":4008},{"$f":"SUM(F194:F223)","v":842},{"$f":"SUM(G194:G223)","v":3166},{"$f":"SUM(I193:J193)","v":232},{"$f":"SUM(I194:I223)","v":42},{"$f":"SUM(J194:J223)","v":190}]
["Licenciado en Fisioterapia",44,16,28,273,95,178,34,10,24]
["Licenciado en Fisioterapia (Paysandú)",24,9,15,127,41,86,15,5,10]
["Licenciado en Fonoaudiología",36,3,33,152,10,142,15,2,13]
["Licenciado en Imagenología",30,10,20,272,119,153,13,4,9]
["Licenciado en Imagenología (Paysandú)",19,4,15,124,50,74,3,0,3]
["Licenciado en Instrumentación Quirúrgica",47,7,40,246,47,199,15,4,11]
["Licenciado en Instrumentación Quirúrgica (Paysandú)",12,3,9,71,16,55,4,0,4]
["Licenciado en Laboratorio Clínico",107,18,89,361,63,298,21,4,17]
["Licenciado en Laboratorio Clínico (Paysandú)",13,2,11,77,13,64,9,2,7]
["Licenciado en Neumocardiología",33,3,30,152,38,114,10,2,8]
["Licenciado en Neurofisiología Clínica",33,5,28,143,35,108,3,0,3]
["Licenciado en Oftalmología",28,11,17,170,44,126,2,0,2]
["Licenciado en Registros Médicos",89,14,75,54,8,46,3,0,3]
["Licenciando en Psicomotricidad",38,2,36,288,10,278,26,1,25]
["Licenciando en Psicomotricidad (Paysandú)",25,0,25,141,5,136,8,1,7]
["Técnico en Anatomía Patológica",24,3,21,150,26,124,0,0,0]
["Técnico en Anatomía Patológica (Paysandú)",5,1,4,39,14,25,4,1,3]
["Técnico en Hemoterapia",30,2,28,106,26,80,15,3,12]
["Técnico en Hemoterapia (Paysandú)",11,1,10,50,10,40,10,1,9]
["Técnico en Podología Médica",40,9,31,123,26,97,4,0,4]
["Técnico en Podología Médica (Paysandú)",31,5,26,83,20,63,3,0,3]
["Técnico en Radioisótopos",10,2,8,56,16,40,1,0,1]
["Tecnólogo en Cosmetología Médica",28,0,28,153,2,151,7,0,7]
["Tecnólogo en Radioterapia ",14,2,12,62,15,47,6,2,4]
["Tecnólogo en Radioterapia (Paysandú)",0,0,0,12,3,9,0,0,0]
["Tecnólogo en Salud Ocupacional (Paysandú)",21,4,17,136,36,100,1,0,1]
["Licenciado en Terapia Ocupacional",31,2,29,107,8,99,0,0,0]
["Técnico en EEG y Neurofisiología Clínica",0,0,0,1,1,0,0,0,0]
["Técnico en Oftalmología",0,0,0,1,0,1,0,0,0]
["Tecnólogo en Registros Médicos",0,0,0,278,45,233,0,0,0]
[]
["CIENCIAS DE LA COMUNICACIÓN",{"$f":"SUM(C225:D225)","v":639},{"$f":"SUM(C226:C226)","v":261},{"$f":"SUM(D226:D226)","v":378},{"$f":"SUM(F225:G225)","v":2818},{"$f":"SUM(F226:F226)","v":1052},{"$f":"SUM(G226:G226)","v":1766},{"$f":"SUM(I225:J225)","v":151},{"$f":"SUM(I226:I226)","v":52},{"$f":"SUM(J226:J226)","v":99}]
["Lic. en Ciencias de la Comunicación",{"$f":"SUM(C226:D226)","v":639},261,378,{"$f":"SUM(F226:G226)","v":2818},1052,1766,{"$f":"SUM(I226:J226)","v":151},52,99]
[]
[null,null,null,null,null,null,null,null,"(Continúa)"]
[]
[]
[]
[]
[]
[]
[]
["UNIVERSIDAD DE LA REPÚBLICA: OFERTA DE GRADO",null,null,null,null,null,"ALUMNOS MATRICULADOS"]
[]
["Cuadro Nº II-7.2.2  (continuación)"]
[]
["ALUMNOS INGRESADOS Y EGRESADOS EN PROGRAMAS DE GRADO POR SEXO SEGÚN SERVICIO UNIVERSITARIO Y CARRERA AÑO 2012"]
[null,"TOTAL","INGRESADOS",null,"TOTAL","MATRÍCULA",null,"TOTAL","EGRESADOS"]
["SERVICIO UNIVERSITARIO / CARRERA",null,"SEXO",null,null,"SEXO",null,null,"SEXO"]
[null,null,"M","F",null,"M","F",null,"M","F"]
["FACULTAD DE CIENCIAS",{"$f":"SUM(C244:D244)","v":461},{"$f":"SUM(C245:C258)","v":237},{"$f":"SUM(D245:D258)","v":224},{"$f":"SUM(F244:G244)","v":4769},{"$f":"SUM(F245:F258)","v":2101},{"$f":"SUM(G245:G258)","v":2668},{"$f":"SUM(I244:J244)","v":180},{"$f":"SUM(I245:I258)","v":56},{"$f":"SUM(J245:J258)","v":124}]
["Licenciado en Astronomía",0,0,0,1,1,0,0,0,0]
["Licenciado en Bioquímica",74,28,46,1134,348,786,72,17,55]
["Licenciado en Ciencias Biológicas",111,53,58,1710,560,1150,94,29,65]
["Licenciado en Ciencias Físicas",95,66,29,784,519,265,3,1,2]
["Licenciado en Ciencias Meteorológicas",0,0,0,3,3,0,0,0,0]
["Licenciado en Física",0,0,0,0,0,0,1,1,0]
["Licenciado en Geografía",20,14,6,157,91,66,2,1,1]
["Licenciado en Geología",25,17,8,221,124,97,2,2,0]
["Licenciado en Gestión Ambiental (Maldonado)","s/d","s/d","s/d",24,10,14,0,0,0]
["Licenciado en Gestión Ambiental (Rocha)","s/d","s/d","s/d",0,0,0,0,0,0]
["Licenciado en Matemática",{"$f":"SUM(C255:D255)","v":55},34,21,588,382,206,4,3,1]
["Licenciado en Recursos Naturales",{"$f":"SUM(C256:D256)","v":20},10,10,22,11,11,0,0,0]
["Licenciado en Recursos Naturales (Rivera)",{"$f":"SUM(C257:D257)","v":26},6,20,81,33,48,0,0,0]
["Técnico en Gestión de Recursos Naturales (Rivera)",{"$f":"SUM(C258:D258)","v":35},9,26,44,19,25,2,2,0]
[]
["FACULTAD DE CIENCIAS SOCIALES",{"$f":"SUM(C260:D260)","v":955},{"$f":"SUM(C261:C269)","v":235},{"$f":"SUM(D261:D269)","v":720},{"$f":"SUM(F260:G260)","v":6584},{"$f":"SUM(F261:F269)","v":1604},{"$f":"SUM(G261:G269)","v":4980},{"$f":"SUM(I260:J260)","v":207},{"$f":"SUM(I261:I269)","v":47},{"$f":"SUM(J261:J269)","v":160}]
["Licenciado en Ciencia Política",0,0,0,699,308,391,25,11,14]
["Licenciado en Ciencias Sociales (Salto)",0,0,0,254,43,211,1,1,0]
["Licenciado en Sociología",0,0,0,974,331,643,44,13,31]
["Licenciado en Trabajo Social",0,0,0,1713,191,1522,98,14,84]
["Licenciado en Trabajo Social (Salto)",0,0,0,301,50,251,39,8,31]
["Asistente Social Universitario",0,0,0,1,0,1,0,0,0]
["Estudios Iniciales en CCSS",812,210,602,2259,570,1689,0,0,0]
["Estudios Iniciales en CCSS (Salto)",143,25,118,205,36,169,0,0,0]
["Licenciado en Desarrollo",0,0,0,178,75,103,0,0,0]
[]
["INSTITUTO SUPERIOR DE EDUCACIÓN FÍSICA",{"$f":"SUM(C271:D271)","v":374},{"$f":"SUM(C272:C280)","v":271},{"$f":"SUM(D272:D280)","v":103},{"$f":"SUM(F271:G271)","v":1397},{"$f":"SUM(F272:F280)","v":882},{"$f":"SUM(G272:G280)","v":515},{"$f":"SUM(I271:J271)","v":119},{"$f":"SUM(I272:I280)","v":76},{"$f":"SUM(J272:J280)","v":43}]
["Licenciado en Educación Física",111,85,26,553,320,233,60,38,22]
["Licenciado en Educación Física (Maldonado)",73,56,17,311,193,118,34,17,17]
["Licenciado en Educación Física (Paysandú)",70,45,25,302,189,113,10,6,4]
["Profesor de Educación Física",0,0,0,2,1,1,0,0,0]
["Profesor de Educación Física (Maldonado)",0,0,0,2,1,1,0,0,0]
["Técnico Deportivo Superior Opción Básquetbol",0,0,0,4,4,0,3,3,0]
["Técnico Deportivo Superior Opción Básquetbol (Paysandú)",30,23,7,43,32,11,0,0,0]
["Técnico Deportivo Superior Opción Fútbol",51,49,2,118,114,4,12,12,0]
["Técnico Deportivo Superior Opción Voleibol (Maldonado)",39,13,26,62,28,34,0,0,0]
[]
["ESCUELA DE ADMINISTRACIÓN",{"$f":"SUM(C282:D282)","v":1116},{"$f":"SUM(C283:C287)","v":405},{"$f":"SUM(D283:D287)","v":711},{"$f":"SUM(F282:G282)","v":5255},{"$f":"SUM(F283:F287)","v":1685},{"$f":"SUM(G283:G287)","v":3570},{"$f":"SUM(I282:J282)","v":185},{"$f":"SUM(I283:I287)","v":43},{"$f":"SUM(J283:J287)","v":142}]
["Técnico en Administración de Empresas",0,0,0,249,70,179,4,2,2]
["Técnico en Administración Pública",0,0,0,184,49,135,0,0,0]
["Técnico Universitario en Administración",1116,405,711,4791,1556,3235,180,41,139]
["Técnico Universitario en Administración (Maldonado)",0,0,0,23,9,14,1,0,1]
["Técnico Universitario en Administración (Colonia)",0,0,0,8,1,7,0,0,0]
[]
["Escuela Universitaria Centro de Diseño",{"$f":"SUM(C289:D289)","v":205},{"$f":"SUM(C290:C291)","v":36},{"$f":"SUM(D290:D291)","v":169},{"$f":"SUM(F289:G289)","v":963},{"$f":"SUM(F290:F291)","v":168},{"$f":"SUM(G290:G291)","v":795},{"$f":"SUM(I289:J289)","v":13},{"$f":"SUM(I290:I291)","v":1},{"$f":"SUM(J290:J291)","v":12}]
["Diseñador Industrial",{"$f":"SUM(C290:D290)","v":106},29,77,{"$f":"SUM(F290:G290)","v":477},148,329,{"$f":"SUM(I290:J290)","v":5},1,4]
["Diseñador Textil y Modas",{"$f":"SUM(C291:D291)","v":99},7,92,{"$f":"SUM(F291:G291)","v":486},20,466,{"$f":"SUM(I291:J291)","v":8},0,8]
[]
["Área Cs y Tecnología",{"$f":"SUM(C293:D293)","v":32},{"$f":"SUM(C294:C296)","v":18},{"$f":"SUM(D294:D296)","v":14},{"$f":"SUM(F293:G293)","v":272},{"$f":"SUM(F294:F296)","v":122},{"$f":"SUM(G294:G296)","v":150},"N/C","N/C","N/C"]
["Ciclo Inicial Optativo (Maldonado)","s/d","s/d","s/d",{"$f":"SUM(F294:G294)","v":194},75,119,"N/C"]
["Ciclo Inicial Optativo (Rocha)","s/d","s/d","s/d",{"$f":"SUM(F295:G295)","v":1},0,1,"N/C"]
["Ciclo Inicial Optativo (Salto)",{"$f":"SUM(C296:D296)","v":32},18,14,{"$f":"SUM(F296:G296)","v":77},47,30,"N/C"]
[]
["Fac. Ingeniería y Fac. Ciencias",{"$f":"SUM(C298:D298)","v":15},{"$f":"SUM(C299)","v":9},{"$f":"SUM(D299)","v":6},{"$f":"SUM(F298:G298)","v":99},{"$f":"SUM(F299)","v":54},{"$f":"SUM(G299)","v":45},{"$f":"SUM(I298:J298)","v":0},{"$f":"SUM(I299)","v":0},{"$f":"SUM(J299)","v":0}]
["Licenciado en Ciencias de la Atmósfera",{"$f":"SUM(C299:D299)","v":15},9,6,{"$f":"SUM(F299:G299)","v":99},54,45,{"$f":"SUM(I299:J299)","v":0},0,0]
[]
["Fac. Ingeniería y Fac. Química",{"$f":"SUM(C301:D301)","v":149},{"$f":"SUM(C302:C303)","v":74},{"$f":"SUM(D302:D303)","v":75},{"$f":"SUM(F301:G301)","v":2103},{"$f":"SUM(F302:F303)","v":780},{"$f":"SUM(G302:G303)","v":1323},{"$f":"SUM(I301:J301)","v":44},{"$f":"SUM(I302:I303)","v":18},{"$f":"SUM(J302:J303)","v":26}]
["Ingeniero Químico",{"$f":"SUM(C302:D302)","v":148},74,74,{"$f":"SUM(F302:G302)","v":2098},778,1320,{"$f":"SUM(I302:J302)","v":44},18,26]
["Ingeniero Químico (Salto)",{"$f":"SUM(C303:D303)","v":1},0,1,{"$f":"SUM(F303:G303)","v":5},2,3,{"$f":"SUM(I303:J303)","v":0},0,0]
[]
["Fac. Ingeniería, Fac. Química, Fac. Agronomía y C.E.T.P. - U.T.U.",{"$f":"SUM(C305:D305)","v":6},{"$f":"SUM(C306)","v":5},{"$f":"SUM(D306)","v":1},{"$f":"SUM(F305:G305)","v":24},{"$f":"SUM(F306)","v":18},{"$f":"SUM(G306)","v":6},{"$f":"SUM(I305:J305)","v":8},{"$f":"SUM(I306)","v":6},{"$f":"SUM(J306)","v":2}]
["Tecnólogo Agro energético (Artigas)",{"$f":"SUM(C306:D306)","v":6},5,1,{"$f":"SUM(F306:G306)","v":24},18,6,{"$f":"SUM(I306:J306)","v":8},6,2]
[]
["Fac. Ingeniería, Fac. Química, Fac. Agronomía y Fac. Veterinaria",{"$f":"SUM(C308:D308)","v":100},{"$f":"SUM(C309:C310)","v":23},{"$f":"SUM(D309:D310)","v":77},{"$f":"SUM(F308:G308)","v":1170},{"$f":"SUM(F309:F310)","v":291},{"$f":"SUM(G309:G310)","v":879},{"$f":"SUM(I308:J308)","v":32},{"$f":"SUM(I309:I310)","v":4},{"$f":"SUM(J309:J310)","v":28}]
["Ingeniero Alimentario",{"$f":"SUM(C309:D309)","v":98},23,75,{"$f":"SUM(F309:G309)","v":1168},291,877,{"$f":"SUM(I309:J309)","v":32},4,28]
["Ingeniero Alimentario (Salto)",{"$f":"SUM(C310:D310)","v":2},0,2,{"$f":"SUM(F310:G310)","v":2},0,2,{"$f":"SUM(I310:J310)","v":0},0,0]
[]
["Fac. Ciencias, Fac. Humanidades, Fac. Medicina y Fac. Odontología",{"$f":"SUM(C312:D312)","v":29},{"$f":"SUM(C313:C316)","v":8},{"$f":"SUM(D313:D316)","v":21},{"$f":"SUM(F312:G312)","v":257},{"$f":"SUM(F313:F316)","v":80},{"$f":"SUM(G313:G316)","v":177},{"$f":"SUM(I312:J312)","v":1},{"$f":"SUM(I313:I316)","v":1},{"$f":"SUM(J313:J316)","v":0}]
["Licenciado en Biología Humana",{"$f":"SUM(C313:D313)","v":16},3,13,{"$f":"SUM(F313:G313)","v":230},72,158,{"$f":"SUM(I313:J313)","v":1},1,0]
["Licenciado en Biología Humana (Paysandú)",{"$f":"SUM(C314:D314)","v":1},1,0,{"$f":"SUM(F314:G314)","v":9},2,7,{"$f":"SUM(I314:J314)","v":0},0,0]
["Licenciado en Biología Humana (Rivera)",{"$f":"SUM(C315:D315)","v":3},0,3,{"$f":"SUM(F315:G315)","v":3},1,2,{"$f":"SUM(I315:J315)","v":0},0,0]
["Licenciado en Biología Humana (Salto)",{"$f":"SUM(C316:D316)","v":9},4,5,{"$f":"SUM(F316:G316)","v":15},5,10,{"$f":"SUM(I316:J316)","v":0},0,0]
[]
["Fac. Cs. Econ. Y Adm., Fac. Derecho, Fac. Hum. y Cs. Educ., Fac. Cs. Soc. Y Fac. Psicología.",{"$f":"SUM(C318:D318)","v":12},{"$f":"SUM(C319:C320)","v":2},{"$f":"SUM(D319:D320)","v":10},{"$f":"SUM(F318:G318)","v":222},{"$f":"SUM(F319:F320)","v":47},{"$f":"SUM(G319:G320)","v":175},{"$f":"SUM(I318:J318)","v":0},{"$f":"SUM(I319:I320)","v":0},{"$f":"SUM(J319:J320)","v":0}]
["Técnico en Gestión Universitaria (1)",{"$f":"SUM(C319:D319)","v":12},2,10,{"$f":"SUM(F319:G319)","v":217},47,170,{"$f":"SUM(I319:J319)","v":0},0,0]
["Técnico en Gestión Universitaria (Salto) (1)",{"$f":"SUM(C320:D320)","v":0},0,0,{"$f":"SUM(F320:G320)","v":5},0,5,{"$f":"SUM(I320:J320)","v":0},0,0]
[]
["Fac. Agronomía, Fac. Ingeniería, C.E.T.P. - U.T.U.",{"$f":"SUM(C322:D322)","v":50},{"$f":"SUM(C323)","v":31},{"$f":"SUM(D323)","v":19},{"$f":"SUM(F322:G322)","v":31},{"$f":"SUM(F323)","v":18},{"$f":"SUM(G323)","v":13},{"$f":"SUM(I322:J322)","v":0},{"$f":"SUM(I323)","v":0},{"$f":"SUM(J323)","v":0}]
["Tecnólogo en Madera (Rivera)",{"$f":"SUM(C323:D323)","v":50},31,19,{"$f":"SUM(F323:G323)","v":31},18,13,{"$f":"SUM(I323:J323)","v":0},0,0]
[]
["Fac. Agronomía, Fac. Arquitectura","s/d","s/d","s/d",{"$f":"SUM(F325:G325)","v":154},{"$f":"SUM(F326)","v":58},{"$f":"SUM(G326)","v":96},{"$f":"SUM(I325:J325)","v":0},{"$f":"SUM(I326)","v":0},{"$f":"SUM(J326)","v":0}]
["Licenciatura en Diseño de Paisaje (Maldonado)","s/d","s/d","s/d",{"$f":"SUM(F326:G326)","v":154},58,96,{"$f":"SUM(I326:J326)","v":0},0,0]
[]
["Fac. Agronomía, Fac. Ingeniería, Fac. Química, Fac. Veterinaria y C.E.T.P. - U.T.U.(*)",{"$f":"SUM(C328:D328)","v":33},{"$f":"SUM(C329)","v":15},{"$f":"SUM(D329)","v":18},{"$f":"SUM(F328:G328)","v":72},{"$f":"SUM(F329)","v":28},{"$f":"SUM(G329)","v":44},{"$f":"SUM(I328:J328)","v":0},{"$f":"SUM(I329)","v":0},{"$f":"SUM(J329)","v":0}]
["Tecnólogo Cárnico (Tacuarembó)",{"$f":"SUM(C329:D329)","v":33},15,18,{"$f":"SUM(F329:G329)","v":72},28,44,{"$f":"SUM(I329:J329)","v":0},0,0]
[]
["I.E.N.B.A. y Fac. Arquitectura",{"$f":"SUM(C331:D331)","v":108},{"$f":"SUM(C332)","v":47},{"$f":"SUM(D332)","v":61},{"$f":"SUM(F331:G331)","v":500},{"$f":"SUM(F332)","v":167},{"$f":"SUM(G332)","v":333},{"$f":"SUM(I331:J331)","v":0},{"$f":"SUM(I332)","v":0},{"$f":"SUM(J332)","v":0}]
["Licenciado en Diseño de Comunicación Visual",{"$f":"SUM(C332:D332)","v":108},47,61,{"$f":"SUM(F332:G332)","v":500},167,333,{"$f":"SUM(I332:J332)","v":0},0,0]
[]
["Fac. Ciencias y Fac. Medicina",{"$f":"SUM(C334:D334)","v":12},{"$f":"SUM(C335)","v":8},{"$f":"SUM(D335)","v":4},{"$f":"SUM(F334:G334)","v":56},{"$f":"SUM(F335)","v":26},{"$f":"SUM(G335)","v":30},{"$f":"SUM(I334:J334)","v":0},{"$f":"SUM(I335)","v":0},{"$f":"SUM(J335)","v":0}]
["Licenciado en Física Médica",{"$f":"SUM(C335:D335)","v":12},8,4,{"$f":"SUM(F335:G335)","v":56},26,30,{"$f":"SUM(I335:J335)","v":0},0,0]
[]
["Fuente: División Estadística - Dirección General de Planeamiento - UdelaR"]
["Notas:"]
["S/D (*) El Centro Universitario Regional Este (CURE) informó no disponer de los datos."]
["(*) C.ET.P. - U.T.U.: Consejo de Educación Técnico Profesional – Universidad del Trabajo del Uruguay."]
["(1) Esta carrera tiene restringido su ingreso sólo a funcionarios de la Universidad de la República. La administración de la carrera, la bedelía y el futuro otorgamiento de títulos, son coordinados por la CSE y Fac. De Ciencias Económicas y de Administración, con el apoyo de los otros servicios participantes: Facultad de Humanidades y Cs. de la Educación, Derecho, Psicología, Ciencias Sociales y Lic. En Comunicación."]
["(2) L.S.U.: Lenguaje de Señas Uruguayas."]

{"sheet":"II-7.2.3 ","index":254,"n_rows":182,"n_cols":32,"rows_kept":182,"cut":false,"hidden":false,"merged":[[142,8,142,9],[143,2,143,3],[143,5,143,6],[143,8,143,9],[142,0,144,0],[142,1,144,1],[142,2,142,3],[142,4,144,4],[142,5,142,6],[142,7,144,7],[141,0,141,9],[97,0,99,0],[97,1,99,1],[97,2,97,3],[97,4,99,4],[97,5,97,6],[97,7,99,7],[97,8,97,9],[98,2,98,3],[98,5,98,6],[98,8,98,9],[137,5,138,8],[96,0,96,9],[6,5,6,6],[6,8,6,9],[48,5,49,8],[52,0,52,9],[53,0,55,0],[53,1,55,1],[53,2,53,3],[53,4,55,4],[53,5,53,6],[53,7,55,7],[53,8,53,9],[54,2,54,3],[54,5,54,6],[54,8,54,9],[92,5,93,8],[0,5,1,8],[4,0,4,9],[5,0,7,0],[5,1,7,1],[5,2,5,3],[5,4,7,4],[5,5,5,6],[5,7,7,7],[5,8,5,9],[6,2,6,3]]}
["UNIVERSIDADES PRIVADAS: OFERTA DE GRADO",null,null,null,null,"ALUMNOS MATRICULADOS"]
[]
["Cuadro Nº II-7.2.3"]
[]
["ALUMNOS INGRESADOS, MATRICULADOS Y EGRESADOS EN PROGRAMAS DE GRADO EN UNIVERSIDADES PRIVADAS POR SEXO SEGÚN UNIVERSIDAD Y CARRERA. AÑO 2012."]
["UNIVERSIDAD / CARRERA","TOTAL","INGRESADOS",null,"TOTAL","MATRICULADOS",null,"TOTAL","EGRESADOS"]
[null,null,"SEXO",null,null,"SEXO",null,null,"SEXO"]
[null,null,"    M","   F",null,"M","F",null,"M","F"]
["TOTAL",{"$f":"SUM(C9:D9)","v":3378},{"$f":"+C11+C77+C117+C153","v":1707},{"$f":"+D11+D77+D117+D153","v":1671},{"$f":"SUM(F9:G9)","v":18226},{"$f":"+F11+F77+F117+F153","v":9293},{"$f":"+G11+G77+G117+G153","v":8933},{"$f":"SUM(I9:J9)","v":1317},{"$f":"+I11+I77+I117+I153","v":581},{"$f":"+J11+J77+J117+J153","v":736},null,null,null,null,null,null,null,null,null,null,null,null,null,null,null,null,null,{"$f":"+AE9+AF9","v":3},null,null,1,2]
[null,null,null,null,null,null,null,null,null,null,null,null,null,null,null,null,null,null,null,null,null,null,null,null,null,null,null,{"$f":"+AE10+AF10","v":24},null,null,10,14]
["UCUDAL",{"$f":"SUM(C11:D11)","v":1455},{"$f":"+C13+C22+C35+C57+C61+C67+C75","v":607},{"$f":"+D13+D22+D35+D57+D61+D67+D75","v":848},{"$f":"SUM(F11:G11)","v":7072},{"$f":"+F13+F22+F35+F57+F61+F67+F75","v":2909},{"$f":"+G13+G22+G35+G57+G61+G67+G75","v":4163},{"$f":"SUM(I11:J11)","v":622},{"$f":"+I13+I22+I35+I57+I61+I67+I75","v":237},{"$f":"+J13+J22+J35+J57+J61+J67+J75","v":385}]
[]
["FACULTAD DE CIENCIAS HUMANAS",{"$f":"SUM(C13:D13)","v":227},{"$f":"SUM(C14:C20)","v":64},{"$f":"SUM(D14:D20)","v":163},{"$f":"SUM(F13:G13)","v":1232},{"$f":"SUM(F14:F20)","v":381},{"$f":"SUM(G14:G20)","v":851},{"$f":"SUM(I13:J13)","v":68},{"$f":"SUM(I14:I20)","v":21},{"$f":"SUM(J14:J20)","v":47}]
["Técnico en Educación, Tiempo Libre y Recreación",23,14,9,60,30,30,9,4,5]
["Técnico en Educación Social",10,3,7,10,3,7,0,0,0]
["Licenciatura en Comunicación Social",134,39,95,859,298,561,50,16,34]
["Licenciatura en Ciencias Sociales",12,1,11,110,28,82,8,1,7]
["Licenciatura en Educación Inicial",25,0,25,143,0,143,1,0,1]
["Licenciatura en Educación énfasis en Tiempo Libre y Recreación",12,6,6,39,21,18,0,0,0]
["Licenciatura en Educación Social",11,1,10,11,1,10,0,0,0]
[]
["FACULTAD DE CIENCIAS EMPRESARIALES",{"$f":"SUM(C22:D22)","v":621},{"$f":"SUM(C23:C33)","v":303},{"$f":"SUM(D23:D33)","v":318},{"$f":"SUM(F22:G22)","v":3083},{"$f":"SUM(F23:F33)","v":1434},{"$f":"SUM(G23:G33)","v":1649},{"$f":"SUM(I22:J22)","v":349},{"$f":"SUM(I23:I33)","v":149},{"$f":"SUM(J23:J33)","v":200}]
["Licenciatura en Dirección de Empresas",101,61,40,459,264,195,72,35,37]
["Licenciatura en Dirección de Empresas Turísticas",51,21,30,177,67,110,30,5,25]
["Licenciatura en Negocios Internacionales",95,47,48,541,276,265,62,32,30]
["Contador Público",156,77,79,897,401,496,130,58,72]
["Licenciatura en Economía",22,14,8,145,86,59,28,14,14]
["Licenciatura en Recursos Humanos y Relaciones Laborales",30,6,24,203,41,162,17,3,14]
["Licenciatura en Dirección de Empresas (Maldonado)",18,11,7,94,48,46,4,1,3]
["Contador Público (Maldonado)",32,16,16,164,80,84,0,0,0]
["Licenciatura en Dirección de Empresas (Salto)",20,7,13,80,34,46,1,0,1]
["Contador Público (Salto)",85,38,47,312,132,180,5,1,4]
["Licenciatura en Producción y Gestión Agrícola Ganadera (Salto)",11,5,6,11,5,6,0,0,0]
[]
["FACULTAD DE INGENIERÍA Y TECNOLOGÍAS",{"$f":"SUM(C35:D35)","v":219},{"$f":"SUM(C36:C45)","v":166},{"$f":"SUM(D36:D45)","v":53},{"$f":"SUM(F35:G35)","v":957},{"$f":"SUM(F36:F45)","v":776},{"$f":"SUM(G36:G45)","v":181},{"$f":"SUM(I35:J35)","v":51},{"$f":"SUM(I36:I45)","v":43},{"$f":"SUM(J36:J45)","v":8}]
["Ingeniería en Informática",71,64,7,405,348,57,13,10,3]
["Ingeniería en Electrónica",18,13,5,98,78,20,3,3,0]
["Ingeniería en Telecomunicación",9,5,4,58,42,16,5,5,0]
["Ingeniería Industrial",28,22,6,132,109,23,3,2,1]
["Ingeniería en Sistemas Eléctricos de Potencia",7,7,0,13,13,0,0,0,0]
["Licenciatura en Informática",21,18,3,90,79,11,27,23,4]
["Licenciatura en Ingeniería Audiovisual",20,12,8,107,75,32,0,0,0]
["Ingeniería en Alimentos",24,7,17,24,7,17,0,0,0]
["Ingeniería en Informática (Salto)",13,12,1,22,19,3,0,0,0]
["Licenciatura en Informática (Salto)",8,6,2,8,6,2,0,0,0]
[null,null,null,null,null,null,null,null,"(Continúa)"]
[]
[]
["UNIVERSIDADES PRIVADAS: OFERTA DE GRADO",null,null,null,null,"ALUMNOS MATRICULADOS"]
[]
["Cuadro Nº II-7.2.3 (continuación)"]
[]
["ALUMNOS INGRESADOS, MATRICULADOS Y EGRESADOS EN PROGRAMAS DE GRADO DE UNIVERSIDADES PRIVADAS POR SEXO SEGÚN UNIVERSIDAD Y CARRERA. AÑO 2012."]
["UNIVERSIDAD / CARRERA","TOTAL","INGRESADOS",null,"TOTAL","MATRICULADOS",null,"TOTAL","EGRESADOS"]
[null,null,"SEXO",null,null,"SEXO",null,null,"SEXO"]
[null,null,"    M","   F",null,"M","F",null,"M","F"]
["FACULTAD DE DERECHO",{"$f":"SUM(C57:D57)","v":66},{"$f":"SUM(C58:C59)","v":26},{"$f":"SUM(D58:D59)","v":40},{"$f":"SUM(F57:G57)","v":345},{"$f":"SUM(F58:F59)","v":132},{"$f":"SUM(G58:G59)","v":213},{"$f":"SUM(I57:J57)","v":32},{"$f":"SUM(I58:I59)","v":9},{"$f":"SUM(J58:J59)","v":23}]
["Dr. en Derecho",{"$f":"SUM(C58:D58)","v":41},20,21,{"$f":"SUM(F58:G58)","v":282},117,165,{"$f":"SUM(I58:J58)","v":20},6,14]
["Notariado",{"$f":"SUM(C59:D59)","v":25},6,19,{"$f":"SUM(F59:G59)","v":63},15,48,{"$f":"SUM(I59:J59)","v":12},3,9]
[]
["FACULTAD DE PSICOLOGÍA",{"$f":"SUM(C61:D61)","v":171},{"$f":"SUM(C62:C65)","v":26},{"$f":"SUM(D62:D65)","v":145},{"$f":"SUM(F61:G61)","v":761},{"$f":"SUM(F62:F65)","v":116},{"$f":"SUM(G62:G65)","v":645},{"$f":"SUM(I61:J61)","v":46},{"$f":"SUM(I62:I65)","v":7},{"$f":"SUM(J62:J65)","v":39}]
["Técnico en Acompañamiento Terapéutico",{"$f":"SUM(C62:D62)","v":10},1,9,{"$f":"SUM(F62:G62)","v":31},3,28,{"$f":"SUM(I62:J62)","v":3},0,3]
["Licenciatura en Psicología",{"$f":"SUM(C63:D63)","v":118},23,95,{"$f":"SUM(F63:G63)","v":607},109,498,{"$f":"SUM(I63:J63)","v":40},7,33]
["Licenciatura en Psicopedagogía",{"$f":"SUM(C64:D64)","v":34},1,33,{"$f":"SUM(F64:G64)","v":114},3,111,{"$f":"SUM(I64:J64)","v":3},0,3]
["Licenciatura en Fonoaudiología",{"$f":"SUM(C65:D65)","v":9},1,8,{"$f":"SUM(F65:G65)","v":9},1,8,{"$f":"SUM(I65:J65)","v":0},0,0]
[]
["FACULTAD DE ENFERMERÍA Y TECNOLOGÍAS DE LA SALUD",{"$f":"SUM(C67:D67)","v":137},{"$f":"SUM(C68:C72)","v":20},{"$f":"SUM(D68:D72)","v":117},{"$f":"SUM(F67:G67)","v":593},{"$f":"SUM(F68:F72)","v":48},{"$f":"SUM(G68:G72)","v":545},{"$f":"SUM(I67:J67)","v":64},{"$f":"SUM(I68:I72)","v":3},{"$f":"SUM(J68:J72)","v":61}]
["Licenciatura en Enfermería",16,3,13,83,7,76,11,1,10]
["Licenciatura en Enfermería - Profesionalización",12,1,11,43,6,37,6,0,6]
["Licenciatura en Nutrición",33,5,28,227,19,208,22,2,20]
["Licenciatura en Psicomotricidad",45,1,44,209,6,203,25,0,25]
["Licenciatura en Fisioterapia",31,10,21,31,10,21,0,0,0]
[]
["FACULTAD DE ODONTOLOGÍA -"]
["Dr. en Odontología",{"$f":"SUM(C75:D75)","v":14},2,12,{"$f":"SUM(F75:G75)","v":101},22,79,{"$f":"SUM(I75:J75)","v":12},5,7]
[]
["UNIVERSIDAD ORT URUGUAY",{"$f":"SUM(C77:D77)","v":1118},{"$f":"+C79+C85+C101+C109","v":658},{"$f":"+D79+D85+D101+D109","v":460},{"$f":"SUM(F77:G77)","v":6972},{"$f":"+F79+F85+F101+F109","v":4165},{"$f":"+G79+G85+G101+G109","v":2807},{"$f":"SUM(I77:J77)","v":363},{"$f":"+I79+I85+I101+I109","v":173},{"$f":"+J79+J85+J101+J109","v":190}]
[null,null,null,null,null,null,null,null,null,null,null,null,null,null,null,null,null,null,null,null,null,null,null,null,null,null,null,null,null,null,17,15]
["FACULTAD DE ADMINISTRACIÓN Y CIENCIAS SOCIALES",{"$f":"SUM(C79:D79)","v":396},{"$f":"SUM(C80:C83)","v":232},{"$f":"SUM(D80:D83)","v":164},{"$f":"SUM(F79:G79)","v":2386},{"$f":"SUM(F80:F83)","v":1384},{"$f":"SUM(G80:G83)","v":1002},{"$f":"SUM(I79:J79)","v":131},{"$f":"SUM(I80:I83)","v":63},{"$f":"SUM(J80:J83)","v":68},null,null,null,null,null,null,null,null,null,null,null,null,null,null,null,null,null,null,null,null,22,33]
["Licenciatura en Gerencia y Administración",{"$f":"SUM(C80:D80)","v":187},118,69,{"$f":"SUM(F80:G80)","v":1029},645,384,{"$f":"SUM(I80:J80)","v":56},31,25]
["Licenciatura en Estudios Internacionales",{"$f":"SUM(C81:D81)","v":62},30,32,{"$f":"SUM(F81:G81)","v":342},165,177,{"$f":"SUM(I81:J81)","v":17},8,9]
["Licenciatura en Economía",{"$f":"SUM(C82:D82)","v":31},18,13,{"$f":"SUM(F82:G82)","v":176},113,63,{"$f":"SUM(I82:J82)","v":14},8,6]
["Contador Público",{"$f":"SUM(C83:D83)","v":116},66,50,{"$f":"SUM(F83:G83)","v":839},461,378,{"$f":"SUM(I83:J83)","v":44},16,28]
[]
["FACULTAD DE ARQUITECTURA",{"$f":"SUM(C85:D85)","v":104},{"$f":"SUM(C86:C88)","v":33},{"$f":"SUM(D86:D88)","v":71},{"$f":"SUM(F85:G85)","v":734},{"$f":"SUM(F86:F88)","v":267},{"$f":"SUM(G86:G88)","v":467},{"$f":"SUM(I85:J85)","v":65},{"$f":"SUM(I86:I88)","v":21},{"$f":"SUM(J86:J88)","v":44}]
["Arquitectura",{"$f":"SUM(C86:D86)","v":66},29,37,{"$f":"SUM(F86:G86)","v":540},247,293,{"$f":"SUM(I86:J86)","v":53},21,32]
["Licenciatura en Diseño de Interiores",{"$f":"SUM(C87:D87)","v":33},3,30,{"$f":"SUM(F87:G87)","v":183},19,164,{"$f":"SUM(I87:J87)","v":11},0,11]
["Diseñador de Interiores ",{"$f":"SUM(C88:D88)","v":5},1,4,{"$f":"SUM(F88:G88)","v":11},1,10,{"$f":"SUM(I88:J88)","v":1},0,1]
[null,null,null,null,null,null,null,null,"(Continúa)"]
[]
[]
[]
["UNIVERSIDADES PRIVADAS: OFERTA DE GRADO",null,null,null,null,"ALUMNOS MATRICULADOS"]
[]
["Cuadro Nº II-7.2.3 (continuación)"]
[]
["ALUMNOS INGRESADOS, MATRICULADOS Y EGRESADOS EN PROGRAMAS DE GRADO DE UNIVERSIDADES PRIVADAS POR SEXO SEGÚN UNIVERSIDAD Y CARRERA. AÑO 2012."]
["UNIVERSIDAD / CARRERA","TOTAL","INGRESADOS",null,"TOTAL","MATRICULADOS",null,"TOTAL","EGRESADOS"]
[null,null,"SEXO",null,null,"SEXO",null,null,"SEXO"]
[null,null,"    M","   F",null,"M","F",null,"M","F"]
["FACULTAD DE COMUNICACIÓN Y DISEÑO",{"$f":"SUM(C101:D101)","v":267},{"$f":"SUM(C102:C107)","v":106},{"$f":"SUM(D102:D107)","v":161},{"$f":"SUM(F101:G101)","v":1503},{"$f":"SUM(F102:F107)","v":576},{"$f":"SUM(G102:G107)","v":927},{"$f":"SUM(I101:J101)","v":88},{"$f":"SUM(I102:I107)","v":25},{"$f":"SUM(J102:J107)","v":63}]
["Licenciatura en Comunicación",98,43,55,584,239,345,24,5,19]
["Licenciatura en Diseño Gráfico",67,22,45,437,169,268,38,14,24]
["Licenciatura en Diseño de Modas",29,0,29,191,3,188,13,0,13]
["Licenciatura en Diseño Industrial",27,6,21,114,45,69,13,6,7]
["Licenciatura en Diseño Multimedia",18,15,3,76,49,27,0,0,0]
["Licenciatura en Animación y Videojuegos",28,20,8,101,71,30,0,0,0]
[]
["FACULTAD DE INGENIERÍA",{"$f":"SUM(C109:D109)","v":351},{"$f":"SUM(C110:C115)","v":287},{"$f":"SUM(D110:D115)","v":64},{"$f":"SUM(F109:G109)","v":2349},{"$f":"SUM(F110:F115)","v":1938},{"$f":"SUM(G110:G115)","v":411},{"$f":"SUM(I109:J109)","v":79},{"$f":"SUM(I110:I115)","v":64},{"$f":"SUM(J110:J115)","v":15}]
["Licenciatura en Sistemas",129,112,17,874,731,143,25,18,7]
["Ingeniería en Telecomunicaciones",17,17,0,150,131,19,12,8,4]
["Ingeniería en Sistemas",156,130,26,1038,895,143,38,34,4]
["Ingeniería en Electrónica",20,17,3,142,126,16,4,4,0]
["Licenciatura en Biotecnología",29,11,18,129,47,82,0,0,0]
["Técnico Biotecnólogo ",0,0,0,16,8,8,0,0,0]
[]
["UNIVERSIDAD DE MONTEVIDEO",{"$f":"SUM(C117:D117)","v":334},{"$f":"+C119+C125+C131+C146+C150","v":160},{"$f":"+D119+D125+D131+D146+D150","v":174},{"$f":"SUM(F117:G117)","v":1619},{"$f":"+F119+F125+F131+F146+F150","v":795},{"$f":"+G119+G125+G131+G146+G150","v":824},{"$f":"SUM(I117:J117)","v":206},{"$f":"+I119+I125+I131+I146+I150","v":98},{"$f":"+J119+J125+J131+J146+J150","v":108}]
[]
["FACULTAD DE CIENCIAS EMPRESARIALES Y ECONOMÍA",{"$f":"SUM(C119:D119)","v":162},{"$f":"SUM(C120:C123)","v":77},{"$f":"SUM(D120:D123)","v":85},{"$f":"SUM(F119:G119)","v":762},{"$f":"SUM(F120:F123)","v":393},{"$f":"SUM(G120:G123)","v":369},{"$f":"SUM(I119:J119)","v":94},{"$f":"SUM(I120:I123)","v":43},{"$f":"SUM(J120:J123)","v":51}]
["Licenciatura en Dirección y Administración de Empresas",{"$f":"SUM(C120:D120)","v":30},15,15,{"$f":"SUM(F120:G120)","v":166},96,70,{"$f":"SUM(I120:J120)","v":22},10,12]
["Licenciatura en Economía",{"$f":"SUM(C121:D121)","v":23},13,10,{"$f":"SUM(F121:G121)","v":97},60,37,{"$f":"SUM(I121:J121)","v":19},14,5]
["Contador Público",{"$f":"SUM(C122:D122)","v":77},39,38,{"$f":"SUM(F122:G122)","v":445},210,235,{"$f":"SUM(I122:J122)","v":53},19,34]
["Licenciatura en Negocios Internacionales",{"$f":"SUM(C123:D123)","v":32},10,22,{"$f":"SUM(F123:G123)","v":54},27,27,{"$f":"SUM(I123:J123)","v":0},0,0]
[]
["FACULTAD DE INGENIERÍA",{"$f":"SUM(C125:D125)","v":58},{"$f":"SUM(C126:C129)","v":41},{"$f":"SUM(D126:D129)","v":17},{"$f":"SUM(F125:G125)","v":301},{"$f":"SUM(F126:F129)","v":216},{"$f":"SUM(G126:G129)","v":85},{"$f":"SUM(I125:J125)","v":39},{"$f":"SUM(I126:I129)","v":27},{"$f":"SUM(J126:J129)","v":12}]
["Ingeniería Civil",{"$f":"SUM(C126:D126)","v":27},16,11,{"$f":"SUM(F126:G126)","v":119},75,44,{"$f":"SUM(I126:J126)","v":15},8,7]
["Ingeniería Industrial",{"$f":"SUM(C127:D127)","v":20},16,4,{"$f":"SUM(F127:G127)","v":120},94,26,{"$f":"SUM(I127:J127)","v":16},14,2]
["Ingeniería Telemática",{"$f":"SUM(C128:D128)","v":6},5,1,{"$f":"SUM(F128:G128)","v":49},38,11,{"$f":"SUM(I128:J128)","v":8},5,3]
["Ingeniería en Informática ",{"$f":"SUM(C129:D129)","v":5},4,1,{"$f":"SUM(F129:G129)","v":13},9,4,{"$f":"SUM(I129:J129)","v":0},0,0]
[]
["FACULTAD DE HUMANIDADES",{"$f":"SUM(C131:D131)","v":30},{"$f":"SUM(C132:C133)","v":11},{"$f":"SUM(D132:D133)","v":19},{"$f":"SUM(F131:G131)","v":131},{"$f":"SUM(F132:F133)","v":35},{"$f":"SUM(G132:G133)","v":96},{"$f":"SUM(I131:J131)","v":0},{"$f":"SUM(I132:I133)","v":0},{"$f":"SUM(J132:J133)","v":0}]
["Licenciatura en Humanidades",{"$f":"SUM(C132:D132)","v":12},6,6,{"$f":"SUM(F132:G132)","v":52},17,35,{"$f":"SUM(I132:J132)","v":0},0,0]
["Licenciatura en Traducción Inglés - Español",{"$f":"SUM(C133:D133)","v":18},5,13,{"$f":"SUM(F133:G133)","v":79},18,61,{"$f":"SUM(I133:J133)","v":0},0,0]
[null,null,null,null,null,null,null,null,"(Continúa)"]
[]
[]
[]
["UNIVERSIDADES PRIVADAS: OFERTA DE GRADO",null,null,null,null,"ALUMNOS MATRICULADOS"]
[]
["Cuadro Nº II-7.2.3 (continuación)"]
[]
["ALUMNOS INGRESADOS, MATRICULADOS Y EGRESADOS EN PROGRAMAS DE GRADO DE UNIVERSIDADES PRIVADAS POR SEXO SEGÚN UNIVERSIDAD Y CARRERA. AÑO 2012."]
["UNIVERSIDAD / CARRERA","TOTAL","INGRESADOS",null,"TOTAL","MATRICULADOS",null,"TOTAL","EGRESADOS"]
[null,null,"SEXO",null,null,"SEXO",null,null,"SEXO"]
[null,null,"    M","   F",null,"M","F",null,"M","F"]
["FACULTAD DE DERECHO",{"$f":"SUM(C146:D146)","v":46},{"$f":"SUM(C147:C148)","v":19},{"$f":"SUM(D147:D148)","v":27},{"$f":"SUM(F146:G146)","v":218},{"$f":"SUM(F147:F148)","v":94},{"$f":"SUM(G147:G148)","v":124},{"$f":"SUM(I146:J146)","v":33},{"$f":"SUM(I147:I148)","v":16},{"$f":"SUM(J147:J148)","v":17}]
["Derecho",{"$f":"SUM(C147:D147)","v":41},17,24,{"$f":"SUM(F147:G147)","v":171},83,88,{"$f":"SUM(I147:J147)","v":26},15,11]
["Escribanía",{"$f":"SUM(C148:D148)","v":5},2,3,{"$f":"SUM(F148:G148)","v":47},11,36,{"$f":"SUM(I148:J148)","v":7},1,6]
[]
["FACULTAD DE COMUNICACIÓN",{"$f":"SUM(C150:D150)","v":38},{"$f":"SUM(C151:C151)","v":12},{"$f":"SUM(D151:D151)","v":26},{"$f":"SUM(F150:G150)","v":207},{"$f":"SUM(F151:F151)","v":57},{"$f":"SUM(G151:G151)","v":150},{"$f":"SUM(I150:J150)","v":40},{"$f":"SUM(I151:I151)","v":12},{"$f":"SUM(J151:J151)","v":28}]
["Licenciatura en Comunicación",{"$f":"SUM(C151:D151)","v":38},12,26,{"$f":"SUM(F151:G151)","v":207},57,150,{"$f":"SUM(I151:J151)","v":40},12,28]
[]
["UNIVERSIDAD DE LA EMPRESA",{"$f":"SUM(C153:D153)","v":471},{"$f":"+C155+C159+C163+C179+C170+C174","v":282},{"$f":"+D155+D159+D163+D179+D170+D174","v":189},{"$f":"SUM(F153:G153)","v":2563},{"$f":"+F155+F159+F163+F179+F170+F174","v":1424},{"$f":"+G155+G159+G163+G179+G170+G174","v":1139},{"$f":"SUM(I153:J153)","v":126},{"$f":"+I155+I159+I163+I179+I170+I174","v":73},{"$f":"+J155+J159+J163+J179+J170+J174","v":53}]
[]
["FACULTAD DE CIENCIAS JURÍDICAS",{"$f":"SUM(C155:D155)","v":47},{"$f":"SUM(C156:C157)","v":21},{"$f":"SUM(D156:D157)","v":26},{"$f":"SUM(F155:G155)","v":241},{"$f":"SUM(F156:F157)","v":98},{"$f":"SUM(G156:G157)","v":143},{"$f":"SUM(I155:J155)","v":15},{"$f":"SUM(I156:I157)","v":9},{"$f":"SUM(J156:J157)","v":6}]
["Dr. en Derecho",{"$f":"SUM(C156:D156)","v":21},13,8,{"$f":"SUM(F156:G156)","v":132},66,66,{"$f":"SUM(I156:J156)","v":13},8,5]
["Escribano Público",{"$f":"SUM(C157:D157)","v":26},8,18,{"$f":"SUM(F157:G157)","v":109},32,77,{"$f":"SUM(I157:J157)","v":2},1,1]
[]
["FACULTAD DE DISEÑO Y COMUNICACIÓN",{"$f":"SUM(C159:D159)","v":12},{"$f":"SUM(C160:C161)","v":2},{"$f":"SUM(D160:D161)","v":10},{"$f":"SUM(F159:G159)","v":134},{"$f":"SUM(F160:F161)","v":14},{"$f":"SUM(G160:G161)","v":120},{"$f":"SUM(I159:J159)","v":15},{"$f":"SUM(I160:I161)","v":1},{"$f":"SUM(J160:J161)","v":14}]
["Licenciatura en Diseño de Indumentaria",{"$f":"SUM(C160:D160)","v":12},2,10,{"$f":"SUM(F160:G160)","v":95},2,93,{"$f":"SUM(I160:J160)","v":12},0,12]
["Licenciatura en Diseño Aplicado",{"$f":"SUM(C161:D161)","v":0},0,0,{"$f":"SUM(F161:G161)","v":39},12,27,{"$f":"SUM(I161:J161)","v":3},1,2]
[]
["FACULTAD DE CIENCIAS EMPRESARIALES",{"$f":"SUM(C163:D163)","v":235},{"$f":"SUM(C164:C168)","v":135},{"$f":"SUM(D164:D168)","v":100},{"$f":"SUM(F163:G163)","v":1470},{"$f":"SUM(F164:F168)","v":730},{"$f":"SUM(G164:G168)","v":740},{"$f":"SUM(I163:J163)","v":48},{"$f":"SUM(I164:I168)","v":22},{"$f":"SUM(J164:J168)","v":26}]
["Contador Público",77,36,41,549,228,321,20,6,14]
["Licenciatura en Administración de Empresas",64,42,22,379,214,165,8,5,3]
["Licenciatura en Marketing",61,39,22,398,221,177,17,10,7]
["Licenciatura en Comercio Exterior",20,15,5,78,49,29,2,0,2]
["Licenciatura en Recursos Humanos",13,3,10,66,18,48,1,1,0]
[]
["FACULTAD DE CIENCIAS DE LA SALUD",{"$f":"SUM(C170:D170)","v":49},{"$f":"SUM(C171:C172)","v":22},{"$f":"SUM(D171:D172)","v":27},{"$f":"SUM(F170:G170)","v":49},{"$f":"SUM(F171:F172)","v":22},{"$f":"SUM(G171:G172)","v":27},{"$f":"SUM(I170:J170)","v":0},{"$f":"SUM(I171:I172)","v":0},{"$f":"SUM(J171:J172)","v":0}]
["Licenciatura en Fisioterapia",{"$f":"SUM(C171:D171)","v":15},8,7,{"$f":"SUM(F171:G171)","v":15},8,7,{"$f":"SUM(I171:J171)","v":0},0,0]
["Licenciatura en Imagenología",{"$f":"SUM(C172:D172)","v":34},14,20,{"$f":"SUM(F172:G172)","v":34},14,20,{"$f":"SUM(I172:J172)","v":0},0,0]
[]
["FACULTAD DE INGENIERIA",{"$f":"SUM(C174:D174)","v":37},{"$f":"SUM(C175:C177)","v":30},{"$f":"SUM(D175:D177)","v":7},{"$f":"SUM(F174:G174)","v":370},{"$f":"SUM(F175:F177)","v":318},{"$f":"SUM(G175:G177)","v":52},{"$f":"SUM(I174:J174)","v":14},{"$f":"SUM(I175:I177)","v":14},{"$f":"SUM(J175:J177)","v":0}]
["Ingeniería en Informática",{"$f":"SUM(C175:D175)","v":10},8,2,{"$f":"SUM(F175:G175)","v":73},57,16,{"$f":"SUM(I175:J175)","v":3},3,0]
["Licenciatura en Informática",{"$f":"SUM(C176:D176)","v":27},22,5,{"$f":"SUM(F176:G176)","v":253},221,32,{"$f":"SUM(I176:J176)","v":10},10,0]
["Analista en Informática",{"$f":"SUM(C177:D177)","v":0},0,0,{"$f":"SUM(F177:G177)","v":44},40,4,{"$f":"SUM(I177:J177)","v":1},1,0]
[]
["FACULTAD DE CIENCIAS AGRARIAS",{"$f":"SUM(C179:D179)","v":91},{"$f":"SUM(C180:C181)","v":72},{"$f":"SUM(D180:D181)","v":19},{"$f":"SUM(F179:G179)","v":299},{"$f":"SUM(F180:F181)","v":242},{"$f":"SUM(G180:G181)","v":57},{"$f":"SUM(I179:J179)","v":34},{"$f":"SUM(I180:I181)","v":27},{"$f":"SUM(J180:J181)","v":7}]
["Ingeniero Agrónomo",{"$f":"SUM(C180:D180)","v":42},37,5,{"$f":"SUM(F180:G180)","v":93},83,10,{"$f":"SUM(I180:J180)","v":0},0,0]
["Lic. en Gestión Agropecuaria",{"$f":"SUM(C181:D181)","v":49},35,14,{"$f":"SUM(F181:G181)","v":206},159,47,{"$f":"SUM(I181:J181)","v":34},27,7]
["Fuente: Oficinas Productoras de cada una de las Instituciones. "]

{"sheet":"II-7.2.4","index":255,"n_rows":56,"n_cols":10,"rows_kept":56,"cut":false,"hidden":false,"merged":[[6,5,6,6],[6,8,6,9],[0,5,1,8],[4,0,4,9],[5,0,7,0],[5,1,7,1],[5,2,5,3],[5,4,7,4],[5,5,5,6],[5,7,7,7],[5,8,5,9],[6,2,6,3]]}
["INSTITUTOS UNIVERSITARIOS: OFERTA DE GRADO",null,null,null,null,"ALUMNOS MATRICULADOS"]
[]
["Cuadro Nº II-7.2.4"]
[]
["ALUMNOS INGRESADOS, MATRICULADOS Y EGRESADOS EN PROGRAMAS DE GRADO DE INSTITUTOS UNIVERSITARIOS Y OFERTAS UNIVERSITAREAS DEL ÁREA SEGURIDAD Y DEFENSA POR SEXO SEGÚN INSTITUCIÓN Y CARRERA. AÑO 2012."]
["INSTITUTO UNIVERSITARIO / CARRERA","TOTAL","INGRESADOS",null,"TOTAL","MATRICULADOS",null,"TOTAL","EGRESADOS"]
[null,null,"SEXO",null,null,"SEXO",null,null,"SEXO"]
[null,null,"M","F",null,"M","F",null,"M","F"]
["TOTAL",{"$f":"SUM(C9:D9)","v":563},{"$f":"+C11+C15+C21+C24+C27+C33+C38+C47+C43+C51","v":276},{"$f":"+D11+D15+D21+D24+D27+D33+D38+D47+D43+D51","v":287},{"$f":"SUM(F9:G9)","v":1914},{"$f":"+F11+F15+F21+F24+F27+F33+F38+F47+F43+F51","v":839},{"$f":"+G11+G15+G21+G24+G27+G33+G38+G47+G43+G51","v":1075},{"$f":"SUM(I9:J9)","v":194},{"$f":"+I11+I15+I21+I24+I27+I33+I38+I47+I43+I51","v":86},{"$f":"+J11+J15+J21+J24+J27+J33+J38+J47+J43+J51","v":108}]
[]
["INST UNIV ASOCIACIÓN CRISTIANA DE JÓVENES",{"$f":"SUM(C11:D11)","v":184},{"$f":"SUM(C12:C13)","v":103},{"$f":"SUM(D12:D13)","v":81},{"$f":"SUM(F11:G11)","v":554},{"$f":"SUM(F12:F13)","v":353},{"$f":"SUM(G12:G13)","v":201},{"$f":"SUM(I11:J11)","v":39},{"$f":"SUM(I12:I13)","v":21},{"$f":"SUM(J12:J13)","v":18}]
["Licenciatura en Educación Física, Recreación y Deporte",{"$f":"SUM(C12:D12)","v":129},79,50,{"$f":"SUM(F12:G12)","v":454},309,145,{"$f":"SUM(I12:J12)","v":23},16,7]
["Tecnicatura en Fitness",{"$f":"SUM(C13:D13)","v":55},24,31,{"$f":"SUM(F13:G13)","v":100},44,56,{"$f":"SUM(I13:J13)","v":16},5,11]
[]
["INST UNIV CLAEH -",{"$f":"SUM(C15:D15)","v":93},{"$f":"SUM(C16:C19)","v":37},{"$f":"SUM(D16:D19)","v":56},{"$f":"SUM(F15:G15)","v":371},{"$f":"SUM(F16:F19)","v":138},{"$f":"SUM(G16:G19)","v":233},{"$f":"SUM(I15:J15)","v":38},{"$f":"SUM(I16:I19)","v":13},{"$f":"SUM(J16:J19)","v":25}]
["Licenciatura en Gestión Cultural (Maldonado)",{"$f":"SUM(C16:D16)","v":19},12,7,{"$f":"SUM(F16:G16)","v":17},4,13,{"$f":"SUM(I16:J16)","v":0},0,0]
["Dr. en Medicina (Maldonado) ",{"$f":"SUM(C17:D17)","v":43},15,28,{"$f":"SUM(F17:G17)","v":252},102,150,{"$f":"SUM(I17:J17)","v":31},11,20]
["Abogacía (Maldonado) ",{"$f":"SUM(C18:D18)","v":22},5,17,{"$f":"SUM(F18:G18)","v":73},23,50,{"$f":"SUM(I18:J18)","v":6},2,4]
["Notariado (Maldonado)",{"$f":"SUM(C19:D19)","v":9},5,4,{"$f":"SUM(F19:G19)","v":29},9,20,{"$f":"SUM(I19:J19)","v":1},0,1]
[]
["INST METODISTA UNIV CRANDON",{"$f":"SUM(C21:D21)","v":25},{"$f":"SUM(C22:C22)","v":1},{"$f":"SUM(D22:D22)","v":24},{"$f":"SUM(F21:G21)","v":44},{"$f":"SUM(F22:F22)","v":1},{"$f":"SUM(G22:G22)","v":43},{"$f":"SUM(I21:J21)","v":13},{"$f":"SUM(I22:I22)","v":0},{"$f":"SUM(J22:J22)","v":13}]
["Licenciatura en Gestión de Empresas",{"$f":"SUM(C22:D22)","v":25},1,24,{"$f":"SUM(F22:G22)","v":44},1,43,{"$f":"SUM(I22:J22)","v":13},0,13]
[]
["INST UNIV MONSEÑOR MARIANO SOLER - ",{"$f":"SUM(C24:D24)","v":16},{"$f":"SUM(C25:C25)","v":13},{"$f":"SUM(D25:D25)","v":3},{"$f":"SUM(F24:G24)","v":61},{"$f":"SUM(F25:F25)","v":58},{"$f":"SUM(G25:G25)","v":3},{"$f":"SUM(I24:J24)","v":6},{"$f":"SUM(I25:I25)","v":6},{"$f":"SUM(J25:J25)","v":0}]
["Licenciatura en Ciencias Teológicas *",{"$f":"SUM(C25:D25)","v":16},13,3,{"$f":"SUM(F25:G25)","v":61},58,3,{"$f":"SUM(I25:J25)","v":6},6,0]
[]
["INST UNIV FRANCISCO DE ASÍS ",{"$f":"+C27+D27","v":29},{"$f":"SUM(C28:C31)","v":9},{"$f":"SUM(D28:D31)","v":20},{"$f":"+F27+G27","v":441},{"$f":"SUM(F28:F31)","v":157},{"$f":"SUM(G28:G31)","v":284},{"$f":"+I27+J27","v":37},{"$f":"SUM(I28:I31)","v":10},{"$f":"SUM(J28:J31)","v":27}]
["Licenciatura en Turismo (Maldonado)",{"$f":"+C28+D28","v":15},5,10,{"$f":"+F28+G28","v":120},54,66,{"$f":"+I28+J28","v":2},2,0]
["Lic. en Administración de Empresas (Maldonado)",{"$f":"+C29+D29","v":6},2,4,{"$f":"+F29+G29","v":166},65,101,{"$f":"+I29+J29","v":8},2,6]
["Contador Público (Maldonado)",{"$f":"+C30+D30","v":8},2,6,{"$f":"+F30+G30","v":103},30,73,{"$f":"+I30+J30","v":18},5,13]
["Licenciatura en Psicología Plan 2002 (Maldonado)",{"$f":"+C31+D31","v":0},0,0,{"$f":"+F31+G31","v":52},8,44,{"$f":"+I31+J31","v":9},1,8]
[]
["INST UNIV BIOS",{"$f":"SUM(C33:D33)","v":18},{"$f":"SUM(C34:C36)","v":6},{"$f":"SUM(D34:D36)","v":12},{"$f":"SUM(F33:G33)","v":25},{"$f":"SUM(F34:F36)","v":14},{"$f":"SUM(G34:G36)","v":11},{"$f":"SUM(I33:J33)","v":3},{"$f":"SUM(I34:I36)","v":2},{"$f":"SUM(J34:J36)","v":1}]
["Tecnicatura en Enseñanza Informática",{"$f":"SUM(C34:D34)","v":0},0,0,{"$f":"SUM(F34:G34)","v":0},0,0,{"$f":"SUM(I34:J34)","v":0},0,0]
["Licenciatura en Diseño Industrial",{"$f":"SUM(C35:D35)","v":0},0,0,{"$f":"SUM(F35:G35)","v":0},0,0,{"$f":"SUM(I35:J35)","v":0},0,0]
["Licenciatura en Diseño Gráfico",{"$f":"SUM(C36:D36)","v":18},6,12,{"$f":"SUM(F36:G36)","v":25},14,11,{"$f":"SUM(I36:J36)","v":3},2,1]
[]
["INST UNIV CEDIIAP",{"$f":"+C38+D38","v":43},{"$f":"SUM(C39:C41)","v":1},{"$f":"SUM(D39:D41)","v":42},{"$f":"+F38+G38","v":274},{"$f":"SUM(F39:F41)","v":17},{"$f":"SUM(G39:G41)","v":257},{"$f":"+I38+J38","v":17},{"$f":"SUM(I39:I41)","v":0},{"$f":"SUM(J39:J41)","v":17}]
["Lic. Psicomotricidad",{"$f":"+C39+D39","v":25},0,25,{"$f":"+F39+G39","v":164},10,154,{"$f":"+I39+J39","v":9},0,9]
["Lic. Psicopedagogía",{"$f":"+C40+D40","v":18},1,17,{"$f":"+F40+G40","v":90},1,89,{"$f":"+I40+J40","v":8},0,8]
["Lic. en Musicoterapia",{"$f":"+C41+D41","v":0},0,0,{"$f":"+F41+G41","v":20},6,14,{"$f":"+I41+J41","v":0},0,0]
[]
["FUNDACIÓN POLITÉCNICO DE PUNTA DEL ESTE",{"$f":"+C43+D43","v":53},{"$f":"C44+C45","v":16},{"$f":"D44+D45","v":37},{"$f":"+F43+G43","v":42},{"$f":"F44+F45","v":11},{"$f":"G44+G45","v":31},{"$f":"+I43+J43","v":0},{"$f":"I44+I45","v":0},{"$f":"J44+J45","v":0}]
["Contador Público",{"$f":"+C44+D44","v":41},13,28,{"$f":"+F44+G44","v":33},10,23,{"$f":"+I44+J44","v":0},0,0]
["Licenciado en Economía y Finanzas Aplicadas",{"$f":"+C45+D45","v":12},3,9,{"$f":"+F45+G45","v":9},1,8,{"$f":"+I45+J45","v":0},0,0]
[]
["ESCUELA NAVAL",{"$f":"+C47+D47","v":25},{"$f":"C48+C49","v":25},{"$f":"D48+D49","v":0},{"$f":"+F47+G47","v":25},{"$f":"F48+F49","v":25},{"$f":"G48+G49","v":0},{"$f":"+I47+J47","v":0},{"$f":"I48+I49","v":0},{"$f":"J48+J49","v":0}]
["Licenciado en Sistemas Navales",{"$f":"+C48+D48","v":22},22,0,{"$f":"+F48+G48","v":22},22,0,{"$f":"+I48+J48","v":0},0,0]
["Licenciado en Sistemas Náuticos",{"$f":"+C49+D49","v":3},3,0,{"$f":"+F49+G49","v":3},3,0,{"$f":"+I49+J49","v":0},0,0]
[]
["ESCUELA DE POLICÍA",{"$f":"+C51+D51","v":77},{"$f":"+C52","v":65},{"$f":"+D52","v":12},{"$f":"+F51+G51","v":77},{"$f":"+F52","v":65},{"$f":"+G52","v":12},{"$f":"+I51+J51","v":41},{"$f":"+I52","v":34},{"$f":"+J52","v":7}]
["Curso de Licenciatura Segur. Pública",{"$f":"SUM(C52:D52)","v":77},65,12,{"$f":"SUM(F52:G52)","v":77},65,12,{"$f":"SUM(I52:J52)","v":41},34,7]
["Fuente: Oficinas Productoras de cada una de las Instituciones. "]
["Nota: (a) Ingresos, Matrículas y Egresos de Licenciatura en Sistemas Navales y de Licenciatura en Sistemas Náuticos, refieren a trámite de reválidas."]
["         Para la definición de ingreso, matrícula y egreso, ir a Anexo-Definiciones."]
["         * No se dispone de datos correspondientes al año 2012, se incorpora el último dato disponible (año 2011)."]

{"sheet":"II-7.2.5","index":256,"n_rows":33,"n_cols":10,"rows_kept":33,"cut":false,"hidden":false,"merged":[[0,2,1,4],[4,0,4,4],[5,0,7,0],[5,1,7,1],[5,2,5,3],[5,4,7,4],[5,5,5,6],[5,7,7,7],[5,8,5,9],[6,2,6,3],[6,5,6,6],[6,8,6,9]]}
["OFERTA UNIVERSITARIA DE POSTGRADO",null,"INSTITUCIONES"]
[]
["Cuadro Nº II-7.2.5"]
[]
["ALUMNOS INGRESADOS, MATRICULADOS Y EGRESADOS EN PROGRAMAS DE POSTGRADO POR SEXO SEGÚN INSTITUCIÓN. AÑO 2012."]
["INSTITUCIÓN","TOTAL","INGRESADOS",null,"TOTAL","MATRICULADOS",null,"TOTAL","EGRESADOS"]
[null,null,"SEXO",null,null,"SEXO",null,null,"SEXO"]
[null,null,"M","F",null,"M","F",null,"M","F"]
["TOTAL",{"$f":"SUM(C9:D9)","v":3579},{"$f":"+C11+C24","v":1324},{"$f":"+D11+D24","v":2255},{"$f":"SUM(F9:G9)","v":11674},{"$f":"+F11+F24","v":4204},{"$f":"+G11+G24","v":7470},{"$f":"SUM(I9:J9)","v":1277},{"$f":"+I11+I24","v":539},{"$f":"+J11+J24","v":738}]
[]
["Montevideo",{"$f":"SUM(C11:D11)","v":3579},{"$f":"SUM(C12:C23)","v":1324},{"$f":"SUM(D12:D23)","v":2255},{"$f":"SUM(F11:G11)","v":11626},{"$f":"SUM(F12:F23)","v":4189},{"$f":"SUM(G12:G23)","v":7437},{"$f":"SUM(I11:J11)","v":1277},{"$f":"SUM(I12:I23)","v":539},{"$f":"SUM(J12:J23)","v":738}]
["UdelaR",1929,748,1181,6802,2578,4224,590,248,342]
["UCUDAL",598,137,461,2395,544,1851,212,70,142]
["Universidad ORT Uruguay",222,85,137,539,230,309,158,64,94]
["Universidad de Montevideo",263,119,144,603,285,318,123,70,53]
["Universidad de la Empresa",315,136,179,912,416,496,86,38,48]
["Inst Univ CLAEH ",144,39,105,161,57,104,45,11,34]
["Inst Univ de Postgrado en Psicoanálisis",6,1,5,42,7,35,7,3,4]
["Inst Univ BIOS*",0,0,0,43,14,29,0,0,0]
["Inst Metodista Univ Crandon",4,0,4,4,0,4,2,0,2]
["Inst Univ CEDIIAP",4,0,4,37,0,37,2,0,2]
["Inst Univ Asociación Cristiana de Jóvenes",33,20,13,33,20,13,0,0,0]
["Centro de Altos Estudios Nacionales",61,39,22,55,38,17,52,35,17]
["Resto del país",0,{"$f":"+C25+C27+C29","v":0},{"$f":"+D25+D27+D29","v":0},48,{"$f":"+F25+F27+F29","v":15},{"$f":"+G25+G27+G29","v":33},0,{"$f":"+I25+I27+I29","v":0},{"$f":"+J25+J27+J29","v":0}]
["Maldonado",{"$f":"SUM(C25:D25)","v":0},{"$f":"SUM(C26)","v":0},{"$f":"SUM(D26)","v":0},{"$f":"SUM(F25:G25)","v":24},{"$f":"SUM(F26)","v":12},{"$f":"SUM(G26)","v":12},{"$f":"SUM(I25:J25)","v":0},{"$f":"SUM(I26)","v":0},{"$f":"SUM(J26)","v":0}]
["UdelaR",0,0,0,24,12,12,0,0,0]
["Paysandú",{"$f":"SUM(C27:D27)","v":0},{"$f":"SUM(C28)","v":0},{"$f":"SUM(D28)","v":0},{"$f":"SUM(F27:G27)","v":3},{"$f":"SUM(F28)","v":0},{"$f":"SUM(G28)","v":3},{"$f":"SUM(I27:J27)","v":0},{"$f":"SUM(I28)","v":0},{"$f":"SUM(J28)","v":0}]
["UCUDAL",{"$f":"SUM(C28:D28)","v":0},0,0,{"$f":"SUM(F28:G28)","v":3},0,3,{"$f":"SUM(I28:J28)","v":0},0,0]
["Salto",{"$f":"SUM(C29:D29)","v":0},{"$f":"SUM(C30:C31)","v":0},{"$f":"SUM(D30:D31)","v":0},{"$f":"SUM(F29:G29)","v":21},{"$f":"SUM(F30:F31)","v":3},{"$f":"SUM(G30:G31)","v":18},{"$f":"SUM(I29:J29)","v":0},{"$f":"SUM(I30:I31)","v":0},{"$f":"SUM(J30:J31)","v":0}]
["UdelaR",{"$f":"SUM(C30:D30)","v":0},0,0,{"$f":"SUM(F30:G30)","v":13},3,10,{"$f":"SUM(I30:J30)","v":0},0,0]
["UCUDAL",{"$f":"SUM(C31:D31)","v":0},0,0,{"$f":"SUM(F31:G31)","v":8},0,8,{"$f":"SUM(I31:J31)","v":0},0,0]
["Fuente: Oficinas Productoras de cada una de las Instituciones. "]
["Nota: *No se dispone de datos correspondientes a matrícula para el año 2012, se incorpora el último dato disponible (año 2011)."]

{"sheet":"II-7.2.6","index":257,"n_rows":307,"n_cols":10,"rows_kept":307,"cut":false,"hidden":false,"merged":[[305,0,305,9],[306,0,306,9],[299,0,299,9],[300,0,300,9],[301,0,301,9],[302,0,302,9],[303,0,303,9],[304,0,304,9],[298,0,298,9],[100,0,100,6],[101,0,103,0],[101,1,103,1],[101,2,101,3],[101,4,103,4],[101,5,101,6],[101,7,103,7],[101,8,101,9],[102,2,102,3],[102,5,102,6],[102,8,102,9],[5,7,7,7],[5,8,5,9],[6,2,6,3],[6,5,6,6],[6,8,6,9],[96,3,97,6],[0,3,1,6],[4,0,4,6],[5,0,7,0],[5,1,7,1],[5,2,5,3],[5,4,7,4],[5,5,5,6]]}
["UNIVERSIDAD DE LA REPÚBLICA: OFERTA DE POSTGRADO",null,null,"ALUMNOS MATRICULADOS"]
[]
["Cuadro Nº II-7.2.6"]
[]
["ALUMNOS INGRESADOS, MATRICULADOS Y EGRESADOS EN PROGRAMAS DE POSTGRADO DE LA UNIVERSIDAD DE LA REPÚBLICA POR SEXO SEGÚN SERVICIO UNIVERSITARIO Y ACREDITACIÓN. AÑO 2012."]
["SERVICIO UNIVERSITARIO / ACREDITACIÓN","TOTAL","INGRESADOS",null,"TOTAL","MATRICULADOS",null,"TOTAL","EGRESADOS"]
[null,null,"SEXO",null,null,"SEXO",null,null,"SEXO"]
[null,null,"M","F",null,"M","F",null,"M","F"]
["TOTAL",{"$f":"SUM(C9:D9)","v":1929},{"$f":"+C11+C27+C37+C62+C105+C186+C200+C208+C217+C224+C233+C246+C251+C280+C178+C260+C264+C267+C271+C274+C277+C257+C284+C287+C291+C294","v":748},{"$f":"+D11+D27+D37+D62+D105+D186+D200+D208+D217+D224+D233+D246+D251+D280+D178+D260+D264+D267+D271+D274+D277+D257+D284+D287+D291+D294","v":1181},{"$f":"SUM(F9:G9)","v":6839},{"$f":"+F11+F27+F37+F62+F105+F186+F200+F208+F217+F224+F233+F246+F251+F280+F178+F260+F264+F267+F271+F274+F277+F257+F284+F287+F291+F294","v":2593},{"$f":"+G11+G27+G37+G62+G105+G186+G200+G208+G217+G224+G233+G246+G251+G280+G178+G260+G264+G267+G271+G274+G277+G257+G284+G287+G291+G294","v":4246},{"$f":"SUM(I9:J9)","v":590},{"$f":"+I11+I27+I37+I62+I105+I186+I200+I208+I217+I224+I233+I246+I251+I280+I178+I260+I264+I267+I271+I274+I277+I257+I284+I287+I291+I294","v":248},{"$f":"+J11+J27+J37+J62+J105+J186+J200+J208+J217+J224+J233+J246+J251+J280+J178+J260+J264+J267+J271+J274+J277+J257+J284+J287+J291+J294","v":342}]
[]
["FACULTAD DE CIENCIAS ECONÓMICAS Y ADMINISTRACIÓN",{"$f":"+C11+D11","v":183},{"$f":"SUM(C12:C25)","v":74},{"$f":"SUM(D12:D25)","v":109},{"$f":"+F11+G11","v":427},{"$f":"SUM(F12:F25)","v":207},{"$f":"SUM(G12:G25)","v":220},{"$f":"+I11+J11","v":23},{"$f":"SUM(I12:I25)","v":9},{"$f":"SUM(J12:J25)","v":14}]
["Magíster en Políticas y Gestión Pública",0,0,0,20,6,14,2,0,2]
["Diplomado Especialista en Costos y Gestión Empresarial",11,7,4,25,16,9,3,0,3]
["Diplomado en Economía, Derecho, y Gestión del Deporte (3)",0,0,0,24,5,19,0,0,0]
["Diplomado en Transformación Organizacional",18,5,13,15,4,11,0,0,0]
["Diplomado en Administración",0,0,0,1,0,1,0,0,0]
["Especialista en Tributación",8,2,6,0,0,0,0,0,0]
["Magíster en Economía  ",26,8,18,67,31,36,0,0,0]
["Magíster en Finanzas",4,2,2,39,20,19,0,0,0]
["Magíster en Gerencia y Administración (MBA) (4)",17,11,6,80,51,29,14,5,9]
["Magíster en Marketing",4,2,2,11,7,4,0,0,0]
["Magíster en Tributación",26,7,19,0,0,0,0,0,0]
["Especialista en Administración",20,9,11,47,22,25,2,2,0]
["Especialista en Finanzas",29,15,14,64,31,33,2,2,0]
["Especialista en Marketing",20,6,14,34,14,20,0,0,0]
[]
["FACULTAD DE DERECHO",{"$f":"+C27+D27","v":98},{"$f":"SUM(C28:C35)","v":33},{"$f":"SUM(D28:D35)","v":65},{"$f":"+F27+G27","v":248},{"$f":"SUM(F28:F35)","v":88},{"$f":"SUM(G28:G35)","v":160},{"$f":"+I27+J27","v":9},{"$f":"SUM(I28:I35)","v":7},{"$f":"SUM(J28:J35)","v":2}]
["Especialista en Derecho Comercial",4,1,3,9,4,5,0,0,0]
["Especialista en Derecho de Daños",0,0,0,7,1,6,1,1,0]
["Especialista en Derecho del Trabajo y de la Seguridad Social",0,0,0,6,3,3,1,1,0]
["Especialista en Derecho Procesal",22,9,13,37,14,23,0,0,0]
["Magíster en Derecho – Orientación Derecho Comercial",24,2,22,42,8,34,0,0,0]
["Magíster en Derecho – Orientación Derecho de Daños",2,2,0,30,17,13,2,1,1]
["Magíster en Derecho – Orientación Derecho del Trabajo y de la Seguridad Social",32,14,18,64,29,35,0,0,0]
["Magíster en Relaciones Internacionales – Orientación Economía",14,5,9,53,12,41,5,4,1]
[]
["FACULTAD DE INGENIERÍA",{"$f":"+C37+D37","v":126},{"$f":"SUM(C38:C60)","v":91},{"$f":"SUM(D38:D60)","v":35},{"$f":"+F37+G37","v":346},{"$f":"SUM(F38:F60)","v":259},{"$f":"SUM(G38:G60)","v":87},{"$f":"+I37+J37","v":48},{"$f":"SUM(I38:I60)","v":36},{"$f":"SUM(J38:J60)","v":12}]
["Diplomado Especialista en Estudios avanzados en Computación",1,1,0,5,4,1,5,5,0]
["Diplomado Especialista en Telecomunicaciones",0,0,0,6,6,0,1,1,0]
["Diplomado en Sistemas Eléctricos de Potencia",1,1,0,1,1,0,0,0,0]
["Doctor en Informática (PEDECIBA) (2)",3,2,1,22,18,4,5,2,3]
["Doctor en Ingeniería Ambiental",1,1,0,0,0,0,0,0,0]
["Doctor en Ingeniería Eléctrica",2,2,0,18,16,2,2,1,1]
["Doctor en Ingeniería Estructural",2,2,0,0,0,0,0,0,0]
["Doctor en Ingeniería Física",1,1,0,1,1,0,0,0,0]
["Doctor en Ingeniería Industrial",0,0,0,2,2,0,0,0,0]
["Doctor en Ingeniería Mecánica de los Fluidos Aplicada",3,3,0,9,4,5,1,1,0]
["Diplomado Especialista en Ingeniería de Minas",16,9,7,0,0,0,0,0,0]
["Diplomado Especialista en Gestión de Tecnologías",21,9,12,24,17,7,14,11,3]
["Magíster en Ingeniería de Celulosa y Papel",4,2,2,21,13,8,0,0,0]
["Magíster en Informática (PEDECIBA) (2)",24,20,4,65,55,10,5,3,2]
["Magíster en Ingeniería de la Energía",16,13,3,51,39,12,0,0,0]
["Magíster en Ingeniería Eléctrica",7,7,0,29,27,2,6,5,1]
["Magíster en Ingeniería en Computación",1,1,0,10,7,3,2,2,0]
["Magíster en Ingeniería Estructural",14,11,3,16,10,6,0,0,0]
["Magíster en Ingeniería Matemática",6,5,1,21,18,3,4,3,1]
["Magíster en Ingeniería Mecánica de los Fluidos Aplicada",0,0,0,16,8,8,3,2,1]
["Magíster en Ingeniería Química",3,1,2,7,2,5,0,0,0]
["Magíster en Ingeniería Ambiental",0,0,0,19,10,9,0,0,0]
["Doctor en Ingeniería Química",0,0,0,3,1,2,0,0,0]
[]
["FACULTAD DE CIENCIAS SOCIALES",{"$f":"+C62+D62","v":329},{"$f":"SUM(C63:C87)","v":126},{"$f":"SUM(D63:D87)","v":203},{"$f":"+F62+G62","v":775},{"$f":"SUM(F63:F87)","v":305},{"$f":"SUM(G63:G87)","v":470},{"$f":"+I62+J62","v":38},{"$f":"SUM(I63:I87)","v":19},{"$f":"SUM(J63:J87)","v":19}]
["Certificado de Métodos Sociodemográficos aplicados a la Gestión (5)",0,0,0,0,0,0,1,1,0]
["Certificado en Análisis de la Información Sociodemográfica aplicada a la Gestión (5)",0,0,0,0,0,0,1,1,0]
["Certificado en Economía (6)",3,0,3,0,0,0,3,1,2]
["Certificado en Economía para no Economistas (6)",1,1,0,0,0,0,3,1,2]
["Diplomado Especialista en Políticas Sociales",32,7,25,2,0,2,0,0,0]
["Diplomado en Jóvenes, Juventud y Políticas Públicas",0,0,0,22,9,13,0,0,0]
["Diplomado en Análisis de la Información Sociodemográfica aplicada a la Gestión",31,12,19,56,19,37,0,0,0]
["Diplomado Especialista en Ciencia Política",0,0,0,0,0,0,2,1,1]
["Diplomado en Economía ",1,0,1,1,1,0,0,0,0]
["Diplomado en Economía – Especialización Econometría",0,0,0,1,1,0,6,2,4]
["Diplomado en Economía para no Economistas",22,13,9,67,34,33,0,0,0]
["Diplomado en Economía y Gestión Bancaria",15,4,11,33,12,21,5,4,1]
["Diplomado Especialista en Estudios Internacionales, Sistema Internacional e Integración",43,16,27,36,12,24,5,2,3]
["Diplomado Especialista en Intervención Familiar",0,0,0,32,3,29,1,0,1]
["Diplomado en Género y Políticas Públicas",69,13,56,60,6,54,0,0,0]
["Diplomado en Historia Económica",0,0,0,0,0,0,1,0,1]
["Diplomado en Investigación Social aplicada a Estudios de Mercado, Publicidad y Opinión Pública",0,0,0,27,8,19,2,1,1]
["Doctor en Ciencias Sociales",17,13,4,55,29,26,0,0,0]
["Magíster en Estudios Contemporáneos de América Latina",0,0,0,12,3,9,0,0,0]
["Magíster en Ciencia Política",34,18,16,73,41,32,2,2,0]
["Magíster en Demografía y Estudios de Población",0,0,0,29,9,20,0,0,0]
["Magíster en Economía Internacional",36,20,16,108,61,47,1,1,0]
["Magíster en Historia Económica",0,0,0,49,21,28,0,0,0]
["Magíster en Sociología",25,9,16,69,28,41,4,2,2]
["Magíster en Trabajo Social",0,0,0,43,8,35,1,0,1]
[]
[]
[]
[]
[null,null,null,null,null,"(Continúa)"]
[]
[]
[]
[]
["UNIVERSIDAD DE LA REPÚBLICA: OFERTA DE POSTGRADO",null,null,"ALUMNOS MATRICULADOS"]
[]
["Cuadro Nº II-6.2.6 (continuación)"]
[]
["ALUMNOS INGRESADOS Y EGRESADOS EN PROGRAMAS DE POSTGRADO DE LA UNIVERSIDAD DE LA REPÚBLICA POR SEXO SEGÚN SERVICIO UNIVERSITARIO Y ACREDITACIÓN AÑO 2012."]
["SERVICIO UNIVERSITARIO / ACREDITACIÓN","TOTAL","INGRESADOS",null,"TOTAL","EGRESADOS",null,"TOTAL","EGRESADOS"]
[null,null,"SEXO",null,null,"SEXO",null,null,"SEXO"]
[null,null,"M","F",null,"M","F",null,"M","F"]
["FACULTAD DE MEDICINA ",{"$f":"+C105+D105","v":578},{"$f":"SUM(C106:C176)","v":201},{"$f":"SUM(D106:D176)","v":377},{"$f":"+F105+G105","v":2500},{"$f":"SUM(F106:F176)","v":823},{"$f":"SUM(G106:G176)","v":1677},{"$f":"+I105+J105","v":287},{"$f":"SUM(I106:I176)","v":100},{"$f":"SUM(J106:J176)","v":187}]
["Diplomado en Banco Multitejido para Trasplante (7)",0,0,0,1,1,0,3,2,1]
["Diplomado en Bases Inmunogenéticas de los Trasplantes",0,0,0,0,0,0,1,1,0]
["Diplomado en Coordinación de Trasplantes",3,1,2,13,4,9,0,0,0]
["Diplomado en Genética Médica",1,1,0,4,1,3,0,0,0]
["Diplomado de Profundización en Cuidados Paliativos del Adulto",0,0,0,15,2,13,1,0,1]
["Diplomado en Profundización en Endoscopía Digestiva",0,0,0,8,1,7,0,0,0]
["Diplomado en Profundización en Infectología Pediátrica",0,0,0,1,1,0,0,0,0]
["Diplomado en Profundización en Neurodesarrollo",0,0,0,10,1,9,0,0,0]
["Diplomado en Psicoterapia en los Servicios de Salud (7)",24,5,19,36,10,26,0,0,0]
["Diplomado en Trasplantes de Progenitores Hematopéyicos",0,0,0,3,0,3,0,0,0]
["Diplomado en Urología Pediátrica",0,0,0,1,0,1,0,0,0]
["Especialista en Administración de Servicios de Salud (8)",2,0,2,37,13,24,4,2,2]
["Especialista en Anatomía Patológica (8)",2,0,2,24,2,22,5,0,5]
["Especialista en Anestesiología",22,8,14,91,35,56,15,7,8]
["Especialista en Cardiología (8)",27,13,14,110,52,58,14,7,7]
["Especialista en Cardiología Pediátrica",0,0,0,9,2,7,0,0,0]
["Especialista en Cirugía Cardíaca",1,1,0,6,6,0,1,1,0]
["Especialista en Cirugía General",11,8,3,52,32,20,9,7,2]
["Especialista en Cirugía Pediátrica (8)",1,1,0,2,2,0,1,1,0]
["Especialista en Cirugía Plástica Reparadora y Estética",4,0,4,18,8,10,7,3,4]
["Especialista en Cirugía Torácica",0,0,0,4,4,0,0,0,0]
["Especialista en Cirugía Vascular Periférica",1,1,0,8,4,4,1,1,0]
["Especialista en Dermatología",7,3,4,33,5,28,8,0,8]
["Especialista en Endocrinología y Metabolismo",12,4,8,59,14,45,5,1,4]
["Especialista en Enfermedades Infecciosas",1,1,0,17,6,11,2,1,1]
["Especialista en Epidemiología (8)",0,0,0,26,8,18,1,0,1]
["Especialista en Farmacología y Terapéutica (8)",0,0,0,6,3,3,2,0,2]
["Especialista en Fisiatría",0,0,0,3,0,3,0,0,0]
["Especialista en Gastroenterología",10,4,6,58,17,41,2,1,1]
["Especialista en Gastroenterología, Hepatología y Nutrición Pediátrica",0,0,0,2,0,2,0,0,0]
["Especialista en Geriatría",11,4,7,48,14,34,0,0,0]
["Especialista en Gerontopsicomotricidad",4,0,4,4,1,3,1,0,1]
["Especialista en Ginecotología",17,4,13,58,14,44,19,6,13]
["Especialista en Hematología",5,0,5,24,2,22,7,0,7]
["Especialista en Hemoterapia y Medicina Transfusional",4,0,4,28,8,20,3,0,3]
["Especialista en Imagenología (8)",21,7,14,98,41,57,4,2,2]
["Especialista en Laboratorio Clínico",0,0,0,1,1,0,0,0,0]
["Especialista en Laboratorio de Patología Clínica (8)",6,1,5,31,4,27,9,2,7]
["Especialista en Medicina del Deporte",7,5,2,45,27,18,3,3,0]
["Especialista en Medicina Familiar y Comunitaria",49,15,34,165,40,125,14,4,10]
["Especialista en Medicina Intensiva",30,15,15,130,63,67,14,6,8]
["Especialista en Medicina Interna (8)",24,8,16,169,54,115,23,4,19]
["Especialista en Medicina Legal",2,0,2,20,4,16,0,0,0]
["Especialista en Medicina Nuclear",5,2,3,21,8,13,0,0,0]
["Especialista en Microbiología",1,0,1,12,1,11,0,0,0]
["Especialista en Nefrología",8,1,7,44,24,20,7,1,6]
["Especialista en Neonatología (8)",0,0,0,28,4,24,6,0,6]
["Especialista en Neumología (8)",4,1,3,23,8,15,5,4,1]
["Especialista en Neumología Pediátrica (7)",4,1,3,0,0,0,0,0,0]
["Especialista en Neurocirugía",2,2,0,39,23,16,0,0,0]
["Especialista en Neurología",2,0,2,0,0,0,6,5,1]
["Especialista en Neuropediatría",1,1,0,8,2,6,0,0,0]
["Especialista en Oftalmología",10,5,5,43,18,25,9,5,4]
["Especialista en Oncología Médica",5,1,4,21,5,16,1,1,0]
["Especialista en Oncología Radioterápica",0,0,0,7,4,3,2,1,1]
["Especialista en Otorrinolaringología",13,5,8,39,24,15,6,3,3]
["Especialista en Parasitología y Micología Médica",0,0,0,6,1,5,0,0,0]
["Especialista en Pediatría",133,32,101,402,68,334,34,5,29]
["Especialista en Pre Ancianidad y Geriatría",0,0,0,2,1,1,0,0,0]
["Especialista en Psiquiatría",0,0,0,50,18,32,8,3,5]
["Especialista en Psiquiatría Pediátrica",5,0,5,31,5,26,3,1,2]
["Especialista en Radiodiagnóstico",0,0,0,6,2,4,0,0,0]
["Especialista en Rehabilitación y Medicina Física",7,2,5,27,7,20,2,0,2]
["Especialista en Reumatología",{"$f":"+C169+D169","v":3},1,2,{"$f":"+F169+G169","v":26},5,21,{"$f":"+I169+J169","v":0},0,0]
["Especialista en Salud Ocupacional",11,5,6,42,10,32,1,0,1]
["Especialista en Terapia Intensiva Pediátrica",0,0,0,19,3,16,6,2,4]
["Especialista en Toxicología Clínica",1,0,1,14,2,12,0,0,0]
["Especialista en Traumatología y Ortopedia",9,9,0,58,44,14,7,5,2]
["Especialista en Urología",6,5,1,24,15,9,0,0,0]
["Magíster PROINBIO en Ciencias Médicas",37,18,19,20,10,10,4,1,3]
["Doctor PROINBIO en Ciencias Médicas",2,0,2,10,4,6,1,1,0]
[]
["FACULTAD DE ODONTOLOGÍA ",{"$f":"+C178+D178","v":18},{"$f":"SUM(C179:C184)","v":13},{"$f":"SUM(D179:D184)","v":5},{"$f":"+F178+G178","v":77},{"$f":"SUM(F179:F184)","v":32},{"$f":"SUM(G179:G184)","v":45},{"$f":"+I178+J178","v":13},{"$f":"SUM(I179:I184)","v":3},{"$f":"SUM(J179:J184)","v":10}]
["Especialista en Cirugía y Traumatología Buco Máxilo Facial",0,0,0,18,12,6,4,3,1]
["Especialista en Odontopediatría",0,0,0,12,0,12,9,0,9]
["Especialista en Prostodoncia",18,13,5,18,13,5,0,0,0]
["Especialista en Odontología Restauradora Integral",0,0,0,8,2,6,0,0,0]
["Especialista en Endodoncia",0,0,0,12,2,10,0,0,0]
["Especialista en Ortopedia y Ortodoncia Dento Máxilo Facial",0,0,0,9,3,6,0,0,0]
[]
["FACULTAD DE HUMANIDADES Y CIENCIAS DE LA EDUCACIÓN",{"$f":"+C186+D186","v":82},{"$f":"SUM(C187:C198)","v":24},{"$f":"SUM(D187:D198)","v":58},{"$f":"+F186+G186","v":371},{"$f":"SUM(F187:F198)","v":123},{"$f":"SUM(G187:G198)","v":248},{"$f":"+I186+J186","v":14},{"$f":"SUM(I187:I198)","v":6},{"$f":"SUM(J187:J198)","v":8}]
["Magíster en Ciencias Humanas – Antropología de la Cuenca del Plata",8,3,5,52,15,37,4,2,2]
["Magíster en Ciencias Humanas – Estudios Fronterizos",0,0,0,2,0,2,0,0,0]
["Magíster en Ciencias Humanas – Estudios Latinoamericanos",0,0,0,49,19,30,0,0,0]
["Magíster en Ciencias Humanas – Estudios Migratorios",0,0,0,1,0,1,0,0,0]
["Magíster en Ciencias Humanas – Filosofía Contemporánea",18,9,9,79,33,46,2,1,1]
["Magíster en Ciencias Humanas – Filosofía y Sociedad",0,0,0,1,1,0,0,0,0]
["Magíster en Ciencias Humanas – Historia Comparada",0,0,0,7,6,1,1,1,0]
["Magíster en Ciencias Humanas – Historia del Uruguay",0,0,0,1,0,1,0,0,0]
["Magíster en Ciencias Humanas – Historia Rioplatense",6,4,2,27,13,14,3,2,1]
["Magíster en Ciencias Humanas – Lenguaje, Cultura y Sociedad",41,5,36,65,15,50,1,0,1]
["Magíster en Ciencias Humanas – Literatura Latinoamericana",9,3,6,45,14,31,2,0,2]
["Magíster en Ciencias Humanas – Teoría e Historia del Teatro",0,0,0,42,7,35,1,0,1]
[]
["FACULTAD DE AGRONOMÍA",{"$f":"+C200+D200","v":84},{"$f":"SUM(C201:C206)","v":48},{"$f":"SUM(D201:D206)","v":36},{"$f":"+F200+G200","v":281},{"$f":"SUM(F201:F206)","v":157},{"$f":"SUM(G201:G206)","v":124},{"$f":"+I200+J200","v":28},{"$f":"SUM(I201:I206)","v":12},{"$f":"SUM(J201:J206)","v":16}]
["Diplomado en Agronomía",29,15,14,41,24,17,0,0,0]
["Diplomado en Desarrollo Rural Sustentable",0,0,0,7,3,4,1,0,1]
["Magíster en Desarrollo Rural Sustentable",0,0,0,24,10,14,4,2,2]
["Magíster en Ciencias Agrarias",33,17,16,150,81,69,23,10,13]
["Magíster en Agronomía",8,6,2,33,27,6,0,0,0]
["Doctor en Ciencias Agrarias",14,10,4,26,12,14,0,0,0]
[]
["FACULTAD DE ARQUITECTURA",{"$f":"+C208+D208","v":33},{"$f":"SUM(C209:C215)","v":7},{"$f":"SUM(D209:D215)","v":26},{"$f":"+F208+G208","v":151},{"$f":"SUM(F209:F215)","v":67},{"$f":"SUM(G209:G215)","v":84},{"$f":"+I208+J208","v":0},{"$f":"SUM(I209:I215)","v":0},{"$f":"SUM(J209:J215)","v":0}]
["Diplomado Especialista en Proyecto de Mobiliario",14,4,10,11,3,8,0,0,0]
["Diplomado Especialista en Proyecto del Paisaje",19,3,16,13,2,11,0,0,0]
["Diplomado Especialista en Construcción de Obras de Arquitectura",0,0,0,6,5,1,0,0,0]
["Diplomado Especialista en Diseño de Estructuras en la Arquitectura",0,0,0,18,8,10,0,0,0]
["Diplomado Especialista en Intervención en el Patrimonio Arquitectónico",0,0,0,21,9,12,0,0,0]
["Magíster en Construcción de Obras de Arquitectura",0,0,0,18,10,8,0,0,0]
["Magíster en Ordenamiento Territorial y Desarrollo Urbano",0,0,0,64,30,34,0,0,0]
[]
["FACULTAD DE QUÍMICA",{"$f":"+C217+D217","v":35},{"$f":"SUM(C218:C222)","v":10},{"$f":"SUM(D218:D222)","v":25},{"$f":"+F217+G217","v":169},{"$f":"SUM(F218:F222)","v":45},{"$f":"SUM(G218:G222)","v":124},{"$f":"+I217+J217","v":16},{"$f":"SUM(I218:I222)","v":6},{"$f":"SUM(J218:J222)","v":10}]
["Doctor en Química",24,8,16,136,42,94,13,6,7]
["Doctor en Química – Orientación Educación en Química",1,0,1,2,0,2,0,0,0]
["Especialista en Farmacia Hospitalaria",2,0,2,8,0,8,0,0,0]
["Magíster en Química",7,2,5,19,3,16,3,0,3]
["Magíster en Química – Orientación Educación en Química",1,0,1,4,0,4,0,0,0]
[]
["FACULTAD DE VETERINARIA",{"$f":"+C224+D224","v":47},{"$f":"SUM(C225:C231)","v":19},{"$f":"SUM(D225:D231)","v":28},{"$f":"+F224+G224","v":67},{"$f":"SUM(F225:F231)","v":30},{"$f":"SUM(G225:G231)","v":37},{"$f":"+I224+J224","v":6},{"$f":"SUM(I225:I231)","v":3},{"$f":"SUM(J225:J231)","v":3}]
["Doctor en Producción Animal (9)",4,1,3,13,6,7,0,0,0]
["Doctor en Salud Animal (9)",3,3,0,5,3,2,0,0,0]
["Magíster en Educación y Extensión Rural",28,8,20,0,0,0,0,0,0]
["Magíster en Nutrición de Rumiantes",3,3,0,6,4,2,2,2,0]
["Magíster en Producción Animal",1,1,0,7,3,4,0,0,0]
["Magíster en Reproducción Animal",3,1,2,12,5,7,2,1,1]
["Magíster en Salud Animal",5,2,3,24,9,15,2,0,2]
[]
["FACULTAD DE CIENCIAS",{"$f":"+C233+D233","v":149},{"$f":"SUM(C234:C244)","v":50},{"$f":"SUM(D234:D244)","v":99},{"$f":"+F233+G233","v":591},{"$f":"SUM(F234:F244)","v":225},{"$f":"SUM(G234:G244)","v":366},{"$f":"+I233+J233","v":73},{"$f":"SUM(I234:I244)","v":36},{"$f":"SUM(J234:J244)","v":37}]
["Doctor en Biotecnología",2,0,2,0,0,0,0,0,0]
["Doctor en Ciencias Biológicas (PEDECIBA) (2)",29,10,19,137,55,82,11,6,5]
["Doctor en Física (PEDECIBA) (2)",2,2,0,11,7,4,4,2,2]
["Doctor en Matemática (PEDECIBA) (2)",3,3,0,14,11,3,2,2,0]
["Magíster en Biotecnología",11,3,8,44,9,35,10,5,5]
["Magíster en Ciencias Ambientales",7,3,4,33,13,20,9,3,6]
["Magíster en Ciencias Biológicas ",0,0,0,24,12,12,0,0,0]
["Magíster en Ciencias Biológicas (PEDECIBA) (2)",80,25,55,282,89,193,30,13,17]
["Magíster en Física (PEDECIBA) (2)",3,2,1,15,14,1,4,3,1]
["Magíster en Geociencias (PEDECIBA) (2)",9,1,8,21,7,14,0,0,0]
["Magíster en Matemática (PEDECIBA) (2)",3,1,2,10,8,2,3,2,1]
[]
["FACULTAD DE ENFERMERÍA",{"$f":"+C246+D246","v":0},{"$f":"SUM(C247:C249)","v":0},{"$f":"SUM(D247:D249)","v":0},{"$f":"+F246+G246","v":111},{"$f":"SUM(F247:F249)","v":5},{"$f":"SUM(G247:G249)","v":106},{"$f":"+I246+J246","v":0},{"$f":"SUM(I247:I249)","v":0},{"$f":"SUM(J247:J249)","v":0}]
["Magíster en Gestión de Servicios de Salud ",{"$f":"+C247+D247","v":0},0,0,{"$f":"+F247+G247","v":47},1,46,{"$f":"+I247+J247","v":0},0,0]
["Magíster en Salud Mental",{"$f":"+C248+D248","v":0},0,0,{"$f":"+F248+G248","v":22},3,19,{"$f":"+I248+J248","v":0},0,0]
["Magíster en Atención a la Salud en Primer Nivel",{"$f":"+C249+D249","v":0},0,0,{"$f":"+F249+G249","v":42},1,41,{"$f":"+I249+J249","v":0},0,0]
[]
["FACULTAD DE PSICOLOGÍA",{"$f":"+C251+D251","v":34},{"$f":"SUM(C252:C255)","v":1},{"$f":"SUM(D252:D255)","v":33},{"$f":"+F251+G251","v":206},{"$f":"SUM(F252:F255)","v":38},{"$f":"SUM(G252:G255)","v":168},{"$f":"+I251+J251","v":9},{"$f":"SUM(I252:I255)","v":2},{"$f":"SUM(J252:J255)","v":7}]
["Diplomado en Psicogerontología",{"$f":"+C252+D252","v":34},1,33,{"$f":"+F252+G252","v":0},0,0,{"$f":"+I252+J252","v":0},0,0]
["Magíster en Psicología Clínica",{"$f":"+C253+D253","v":0},0,0,{"$f":"+F253+G253","v":62},9,53,{"$f":"+I253+J253","v":0},0,0]
["Magíster en Psicología Social",{"$f":"+C254+D254","v":0},0,0,{"$f":"+F254+G254","v":65},19,46,{"$f":"+I254+J254","v":0},0,0]
["Magíster en Psicología y Educación",{"$f":"+C255+D255","v":0},0,0,{"$f":"+F255+G255","v":79},10,69,{"$f":"+I255+J255","v":9},2,7]
[]
["Facultades de Ciencias Económicas y Administración, y Medicina",{"$f":"+C257+D257","v":29},{"$f":"SUM(C258:C258)","v":12},{"$f":"SUM(D258:D258)","v":17},{"$f":"+F257+G257","v":85},{"$f":"SUM(F258:F258)","v":41},{"$f":"SUM(G258:G258)","v":44},{"$f":"+I257+J257","v":13},{"$f":"SUM(I258:I258)","v":5},{"$f":"SUM(J258:J258)","v":8}]
["Diplomado en Gestión de Servicios de Salud",{"$f":"+C258+D258","v":29},12,17,{"$f":"+F258+G258","v":85},41,44,{"$f":"+I258+J258","v":13},5,8]
[]
["Facultad de Ciencias y ANEP",{"$f":"+C260+D260","v":0},{"$f":"SUM(C261:C262)","v":0},{"$f":"SUM(D261:D262)","v":0},{"$f":"+F260+G260","v":33},{"$f":"SUM(F261:F262)","v":9},{"$f":"SUM(G261:G262)","v":24},{"$f":"+I260+J260","v":0},{"$f":"SUM(I261:I262)","v":0},{"$f":"SUM(J261:J262)","v":0}]
["Diplomado en Geografía",{"$f":"+C261+D261","v":0},0,0,{"$f":"+F261+G261","v":20},6,14,{"$f":"+I261+J261","v":0},0,0]
["Diplomado en Geografía (Salto)",{"$f":"+C262+D262","v":0},0,0,{"$f":"+F262+G262","v":13},3,10,{"$f":"+I262+J262","v":0},0,0]
[]
["Facultad de Humanidades y Ciencias de la Educación, y Comisión Sectorial de Enseñanza",{"$f":"+C264+D264","v":51},{"$f":"SUM(C265:C265)","v":17},{"$f":"SUM(D265:D265)","v":34},{"$f":"+F264+G264","v":67},{"$f":"SUM(F265:F265)","v":17},{"$f":"SUM(G265:G265)","v":50},{"$f":"+I264+J264","v":7},{"$f":"SUM(I265:I265)","v":2},{"$f":"SUM(J265:J265)","v":5}]
["Magíster en Enseñanza Universitaria",{"$f":"+C265+D265","v":51},17,34,{"$f":"+F265+G265","v":67},17,50,{"$f":"+I265+J265","v":7},2,5]
[]
["Facultades de Arquitectura, Ciencias, Ciencias Sociales, Derecho, e Ingeniería",{"$f":"+C267+D267","v":0},{"$f":"SUM(C268:C269)","v":0},{"$f":"SUM(D268:D269)","v":0},{"$f":"+F267+G267","v":60},{"$f":"SUM(F268:F269)","v":25},{"$f":"SUM(G268:G269)","v":35},{"$f":"+I267+J267","v":1},{"$f":"SUM(I268:I269)","v":1},{"$f":"SUM(J268:J269)","v":0}]
["Magíster en Manejo Costero Integrado del Cono Sur",{"$f":"+C268+D268","v":0},0,0,{"$f":"+F268+G268","v":36},13,23,{"$f":"+I268+J268","v":1},1,0]
["Magíster en Manejo Costero Integrado del Cono Sur (Maldonado)",{"$f":"+C269+D269","v":0},0,0,{"$f":"+F269+G269","v":24},12,12,{"$f":"+I269+J269","v":0},0,0]
[]
["Facultades de Ciencias, Ingeniería y Química",{"$f":"+C271+D271","v":11},{"$f":"SUM(C272:C272)","v":6},{"$f":"SUM(D272:D272)","v":5},{"$f":"+F271+G271","v":29},{"$f":"SUM(F272:F272)","v":19},{"$f":"SUM(G272:G272)","v":10},{"$f":"+I271+J271","v":1},{"$f":"SUM(I272:I272)","v":1},{"$f":"SUM(J272:J272)","v":0}]
["Magíster en Bioinformática",{"$f":"+C272+D272","v":11},6,5,{"$f":"+F272+G272","v":29},19,10,{"$f":"+I272+J272","v":1},1,0]
[]
["Facultades de Derecho, Ciencias Sociales, Medicina y Psicología",{"$f":"+C274+D274","v":0},{"$f":"SUM(C275:C275)","v":0},{"$f":"SUM(D275:D275)","v":0},{"$f":"+F274+G274","v":78},{"$f":"SUM(F275:F275)","v":26},{"$f":"SUM(G275:G275)","v":52},{"$f":"+I274+J274","v":1},{"$f":"SUM(I275:I275)","v":0},{"$f":"SUM(J275:J275)","v":1}]
["Magíster en Derechos de la Infancia y Políticas Públicas",{"$f":"+C275+D275","v":0},0,0,{"$f":"+F275+G275","v":78},26,52,{"$f":"+I275+J275","v":1},0,1]
[]
["Facultad de Agronomía y Veterinaria",{"$f":"+C277+D277","v":0},{"$f":"SUM(C279:C279)","v":0},{"$f":"SUM(D279:D279)","v":0},{"$f":"+F277+G277","v":32},{"$f":"SUM(F278:F278)","v":18},{"$f":"SUM(G278:G278)","v":14},{"$f":"+I277+J277","v":0},{"$f":"SUM(I279:I279)","v":0},{"$f":"SUM(J279:J279)","v":0}]
["Especialista en Industria Cárnica",{"$f":"+C278+D278","v":0},0,0,{"$f":"+F278+G278","v":32},18,14,{"$f":"+I278+J278","v":0},0,0]
[]
["FACULTAD DE CIENCIAS ECONÓMICAS Y ADMINISTRACIÓN, FAC DE CIENCIAS SOCIALES Y UNIVERSIDAD DE SIENA",{"$f":"+C280+D280","v":0},{"$f":"SUM(C281:C282)","v":0},{"$f":"SUM(D281:D282)","v":0},{"$f":"+F280+G280","v":26},{"$f":"SUM(F281:F282)","v":11},{"$f":"SUM(G281:G282)","v":15},{"$f":"+I280+J280","v":0},{"$f":"SUM(I281)","v":0},{"$f":"SUM(J281)","v":0}]
["Diplomado en Economía y Gestión del Turismo Sustentable",{"$f":"+C281+D281","v":0},0,0,{"$f":"+F281+G281","v":2},1,1,{"$f":"+I281+J281","v":0},0,0]
["Magíster en Economía y Gestión del Turismo Sustentable (1)",{"$f":"+C282+D282","v":0},0,0,0,10,14,0,0,0]
[]
["Facultades de Ingeniería y Química",{"$f":"+C284+D284","v":0},{"$f":"SUM(C285:C285)","v":0},{"$f":"SUM(D285:D285)","v":0},{"$f":"+F284+G284","v":17},{"$f":"SUM(F285:F285)","v":2},{"$f":"SUM(G285:G285)","v":15},{"$f":"+I284+J284","v":0},{"$f":"SUM(I285:I285)","v":0},{"$f":"SUM(J285:J285)","v":0}]
["Magíster en Ciencia y Tecnología de Alimentos",{"$f":"+C285+D285","v":0},0,0,{"$f":"+F285+G285","v":17},2,15,{"$f":"+I285+J285","v":0},0,0]
[]
["ANEP y UdelaR",{"$f":"+C287+D287","v":0},{"$f":"SUM(C288:C289)","v":0},{"$f":"SUM(D288:D289)","v":0},{"$f":"+F287+G287","v":54},{"$f":"SUM(F288:F289)","v":7},{"$f":"SUM(G288:G289)","v":47},{"$f":"+I287+J287","v":0},{"$f":"SUM(I288)","v":0},{"$f":"SUM(J288)","v":0}]
["Magíster en Educación Ambiental",{"$f":"+C288+D288","v":0},0,0,{"$f":"+F288+G288","v":7},1,6,{"$f":"+I288+J288","v":0},0,0]
["Diplomado en Educación y Desarrollo",{"$f":"+C289+D289","v":0},0,0,0,6,41,0,0,0]
[]
["Escuela de Bibliotecología y Ciencias Afines y Licenciatura en Ciencias de la Comunicación",{"$f":"+C291+D291","v":42},{"$f":"SUM(C292:C292)","v":16},{"$f":"SUM(D292:D292)","v":26},{"$f":"+F291+G291","v":38},{"$f":"SUM(F292:F292)","v":14},{"$f":"SUM(G292:G292)","v":24},{"$f":"+I291+J291","v":0},{"$f":"SUM(I292:I292)","v":0},{"$f":"SUM(J292:J292)","v":0}]
["Magíster en Información y Comunicación",{"$f":"+C292+D292","v":42},16,26,{"$f":"+F292+G292","v":38},14,24,{"$f":"+I292+J292","v":0},0,0]
[]
["Carreras Compartidas",{"$f":"+C294+D294","v":0},{"$f":"SUM(C295:C295)","v":0},{"$f":"SUM(D295:D295)","v":0},{"$f":"+F294+G294","v":0},{"$f":"SUM(F295:F295)","v":0},{"$f":"SUM(G295:G295)","v":0},{"$f":"+I294+J294","v":3},{"$f":"SUM(I295:I295)","v":0},{"$f":"SUM(J295:J295)","v":3}]
["Especialista en Enseñanza Universitaria",{"$f":"+C295+D295","v":0},0,0,{"$f":"+F295+G295","v":0},0,0,{"$f":"+I295+J295","v":3},0,3]
[]
["Fuente: División Estadística - Dirección General de Planeamiento - UdelaR."]
["Nota:"]
["(1) Título que sólo expide la Universidad de Siena"]
["(2) PEDECIBA: Programa de Desarrollo de Ciencias Básicas."]
["(3) Título expedido únicamente por la Universidad de Limoges con la misma currícula del Diploma que otorga la UdelaR."]
["(4) MBA: Master in Business Administración."]
["(5) Los certificados son módulos con perfiles diferentes y complementarios que forman parte del  Diploma en Análisis de Información Sociodemográfica Aplicado."]
["(6) Los certificados en economía son programas cortos que permiten obtener una rápida aproximación a una especialización puntual en una rama de la economía."]
["(7) Incluye Ingresos y Egresos por Actuación Documentada."]
["(8) Incluye Ingresos y Egresos por Competencia Notoria."]
["(9) El título de Doctorado se obtiene mediante una investigación original con defensa pública de una tesis doctoral que deberá estar avalada por al menos dos publicaciones en revistas arbitradas a nivel internacional. "]

{"sheet":"II-7.2.7 ","index":258,"n_rows":170,"n_cols":10,"rows_kept":170,"cut":false,"hidden":false,"merged":[[6,5,6,6],[6,8,6,9],[0,5,1,8],[4,0,4,9],[5,0,7,0],[5,1,7,1],[5,2,5,3],[5,4,7,4],[5,5,5,6],[5,7,7,7],[5,8,5,9],[6,2,6,3]]}
["UNIVERSIDADES PRIVADAS: OFERTA DE POSTGRADO",null,null,null,null,"ALUMNOS MATRICULADOS"]
[]
["Cuadro Nº II-7.2.7"]
[]
["ALUMNOS INGRESADOS, MATRICULADOS Y EGRESADOS EN PROGRAMAS DE POSTGRADO DE UNIVERSIDADES PRIVADAS POR SEXO SEGÚN UNIVERSIDAD Y ACREDITACIÓN. AÑO 2012."]
["UNIVERSIDAD / ACREDITACIÓN","TOTAL","INGRESADOS",null,"TOTAL","MATRICULADOS",null,"TOTAL","EGRESADOS"]
[null,null,"SEXO",null,null,"SEXO",null,null,"SEXO"]
[null,null,"M","F",null,"M","F",null,"M","F"]
["TOTAL",{"$f":"SUM(C9:D9)","v":1398},{"$f":"C11+C80+C112+C143","v":477},{"$f":"D11+D80+D112+D143","v":921},{"$f":"SUM(F9:G9)","v":4460},{"$f":"F11+F80+F112+F143","v":1475},{"$f":"G11+G80+G112+G143","v":2985},{"$f":"SUM(I9:J9)","v":579},{"$f":"I11+I80+I112+I143","v":242},{"$f":"J11+J80+J112+J143","v":337}]
[]
["UCUDAL",{"$f":"SUM(C11:D11)","v":598},{"$f":"+C13+C21+C38+C60+C70+C74+C77+C67","v":137},{"$f":"+D13+D21+D38+D60+D70+D74+D77+D67","v":461},{"$f":"SUM(F11:G11)","v":2406},{"$f":"+F13+F21+F38+F60+F70+F74+F77+F67","v":544},{"$f":"+G13+G21+G38+G60+G70+G74+G77+G67","v":1862},{"$f":"SUM(I11:J11)","v":212},{"$f":"+I13+I21+I38+I60+I70+I74+I77+I67","v":70},{"$f":"+J13+J21+J38+J60+J70+J74+J77+J67","v":142}]
[]
["FACULTAD DE CIENCIAS EMPRESARIALES",{"$f":"+C13+D13","v":99},{"$f":"SUM(C14:C19)","v":45},{"$f":"SUM(D14:D19)","v":54},{"$f":"+F13+G13","v":319},{"$f":"SUM(F14:F19)","v":147},{"$f":"SUM(G14:G19)","v":172},{"$f":"+I13+J13","v":81},{"$f":"SUM(I14:I19)","v":36},{"$f":"SUM(J14:J19)","v":45}]
["Postgrado en Finanzas Corporativas",2,0,2,49,22,27,19,9,10]
["Postgrado en Finanzas Bancarias",0,0,0,17,7,10,8,3,5]
["Postgrado en Tributaria",17,3,14,36,9,27,4,0,4]
["Postgrado en Marketing",23,9,14,64,30,34,11,6,5]
["Postgrado en Gestión de RRHH",20,9,11,63,22,41,17,5,12]
["Postgrado en Dirección y Administración de Empresas",37,24,13,90,57,33,22,13,9]
[]
["FACULTAD DE CIENCIAS HUMANAS",{"$f":"+C21+D21","v":235},{"$f":"SUM(C22:C36)","v":56},{"$f":"SUM(D22:D36)","v":179},{"$f":"+F21+G21","v":804},{"$f":"SUM(F22:F36)","v":219},{"$f":"SUM(G22:G36)","v":585},{"$f":"+I21+J21","v":76},{"$f":"SUM(I22:I36)","v":23},{"$f":"SUM(J22:J36)","v":53}]
["Postgrado en Cambio Organizacional ",15,4,11,72,16,56,9,2,7]
["Postgrado en Comunicación y Cultura",2,1,1,14,7,7,1,0,1]
["Postgrado en Estrategias Comunicacionales",6,1,5,27,7,20,1,0,1]
["Postgrado en Comunicación Organizacional",16,2,14,16,2,14,0,0,0]
["Postgrado en Gestión de Centros Educativos",51,14,37,150,33,117,6,2,4]
["Postgrado en Didáctica de la Matemática",0,0,0,4,0,4,1,0,1]
["Postgrado en Dificultades de Aprendizaje del Lenguaje y Razonamiento",73,6,67,186,8,178,20,0,20]
["Postgrado en Docencia Universitaria",1,0,1,4,0,4,0,0,0]
["Postgrado en Orientación Educativa",20,3,17,51,7,44,0,0,0]
["Maestría en Dirección de Empresas",31,18,13,145,95,50,26,18,8]
["Maestría en Comunicación - énfasis en Recepción y Cultura",7,3,4,26,13,13,1,0,1]
["Maestría en Educación",4,1,3,49,12,37,6,0,6]
["Maestría en Comunicación Política",4,1,3,13,6,7,0,0,0]
["Maestría en Estudios Organizacionales",5,2,3,34,11,23,5,1,4]
["Maestría en Evaluación de Sistemas Educativos",0,0,0,13,2,11,0,0,0]
[]
["FACULTAD DE PSICOLOGÍA",{"$f":"+C38+D38","v":198},{"$f":"SUM(C39:C58)","v":23},{"$f":"SUM(D39:D58)","v":175},{"$f":"+F38+G38","v":878},{"$f":"SUM(F39:F58)","v":113},{"$f":"SUM(G39:G58)","v":765},{"$f":"+I38+J38","v":49},{"$f":"SUM(I39:I58)","v":9},{"$f":"SUM(J39:J58)","v":40}]
["Postgrado en Psiconeuroinmunoendocrinología",23,3,20,63,5,58,15,3,12]
["Postgrado en Psicología Educacional",40,2,38,148,15,133,2,1,1]
["Postgrado en Psicología del Trabajo y Organización",26,3,23,81,8,73,0,0,0]
["Postgrado en Psicología Clínica orientación Cognitiva",24,4,20,74,6,68,1,0,1]
["Postgrado en Drogodependencia",5,0,5,56,13,43,1,0,1]
["Postgrado en Psicología Infantil y del Adolescente",14,0,14,55,5,50,2,0,2]
["Postgrado en Psicología Analítica",0,0,0,26,9,17,2,1,1]
["Postgrado en Psicología Sistémica y Familias",24,2,22,63,3,60,7,1,6]
["Postgrado en Intervención Psicosocial",6,0,6,33,3,30,0,0,0]
["Postgrado en Diabetología",24,9,15,66,21,45,11,3,8]
["Postgrado en Psicología Educacional (Paysandú)",0,0,0,3,0,3,0,0,0]
["Postgrado en Psicología Educacional (Salto)",0,0,0,8,0,8,0,0,0]
["Maestría en Intervención Psicopedagógica",5,0,5,27,1,26,3,0,3]
["Maestría en Psicología Educacional",3,0,3,25,2,23,0,0,0]
["Maestría en Psicología Clínica Niños y Adolescentes",0,0,0,7,0,7,0,0,0]
["Maestría en Psicoterapia Jungiana",0,0,0,32,8,24,0,0,0]
["Maestría en Psicología Clínica Familiar Sistémica",4,0,4,22,3,19,0,0,0]
["Maestría en Psicología Clínica orientación Analítica",0,0,0,0,0,0,0,0,0]
["Maestría en Nutrición",0,0,0,85,10,75,5,0,5]
["Doctorado en Psicología",0,0,0,4,1,3,0,0,0]
[]
["FACULTAD DE ENFERMERÍA Y TECNOLOGÍAS DE LA SALUD",{"$f":"+C60+D60","v":11},{"$f":"SUM(C61:C65)","v":2},{"$f":"SUM(D61:D65)","v":9},{"$f":"+F60+G60","v":149},{"$f":"SUM(F61:F65)","v":18},{"$f":"SUM(G61:G65)","v":131},{"$f":"+I60+J60","v":6},{"$f":"SUM(I61:I65)","v":2},{"$f":"SUM(J61:J65)","v":4}]
["Postgrado en Gestión de Servicios de Salud",9,2,7,92,16,76,5,2,3]
["Postgrado en Salud Comunitaria",0,0,0,21,0,21,1,0,1]
["Postgrado en Enfermería Oncológica",2,0,2,2,0,2,0,0,0]
["Postgrado en Enfermería Cuidados Intensivos",0,0,0,20,1,19,0,0,0]
["Postgrado en Urgencias y Emergencias Hospitalarias",0,0,0,14,1,13,0,0,0]
[]
["FACULTAD DE ODONTOLOGÍA",{"$f":"+C67+D67","v":37},{"$f":"SUM(C68:C69)","v":6},{"$f":"SUM(D68:D69)","v":31},{"$f":"+F67+G67","v":207},{"$f":"SUM(F68:F69)","v":29},{"$f":"SUM(G68:G69)","v":178},{"$f":"+I67+J67","v":0},{"$f":"SUM(I68:I69)","v":0},{"$f":"SUM(J68:J69)","v":0}]
["Postgrado de Especialización en Ortodoncia y Ortopedia Buco maxilofacial",{"$f":"+C68+D68","v":37},6,31,{"$f":"+F68+G68","v":207},29,178,{"$f":"+I68+J68","v":0},0,0]
[]
["FACULTAD DE INGENIERÍA Y TECNOLOGÍAS -",{"$f":"+C70+D70","v":12},{"$f":"SUM(C71:C72)","v":5},{"$f":"SUM(D71:D72)","v":7},{"$f":"+F70+G70","v":31},{"$f":"SUM(F71:F72)","v":13},{"$f":"SUM(G71:G72)","v":18},{"$f":"+I70+J70","v":0},{"$f":"SUM(I71:I72)","v":0},{"$f":"SUM(J71:J72)","v":0}]
["Postgrado en Ciencia y Tecnología de Alimentos",{"$f":"+C71+D71","v":12},5,7,{"$f":"+F71+G71","v":25},7,18,{"$f":"+I71+J71","v":0},0,0]
["Maestría en Ciencias de la Ingeniería Eléctrica",{"$f":"+C72+D72","v":0},0,0,{"$f":"+F72+G72","v":6},6,0,{"$f":"+I72+J72","v":0},0,0]
[]
["FACULTAD DE DERECHO",{"$f":"+C74+D74","v":0},{"$f":"SUM(C75:C75)","v":0},{"$f":"SUM(D75:D75)","v":0},{"$f":"+F74+G74","v":12},{"$f":"SUM(F75:F75)","v":5},{"$f":"SUM(G75:G75)","v":7},{"$f":"+I74+J74","v":0},{"$f":"SUM(I75:I75)","v":0},{"$f":"SUM(J75:J75)","v":0}]
["Maestría en Derecho",{"$f":"+C75+D75","v":0},0,0,{"$f":"+F75+G75","v":12},5,7,{"$f":"+I75+J75","v":0},0,0]
[]
["Psicología y Enfermería y Tecnologías de la Salud",{"$f":"+C77+D77","v":6},{"$f":"SUM(C78:C78)","v":0},{"$f":"SUM(D78:D78)","v":6},{"$f":"+F77+G77","v":6},{"$f":"SUM(F78:F78)","v":0},{"$f":"SUM(G78:G78)","v":6},{"$f":"+I77+J77","v":0},{"$f":"SUM(I78:I78)","v":0},{"$f":"SUM(J78:J78)","v":0}]
["Maestría en Atención Temprana",{"$f":"+C78+D78","v":6},0,6,{"$f":"+F78+G78","v":6},0,6,{"$f":"+I78+J78","v":0},0,0]
[]
["UNIVERSIDAD ORT URUGUAY",{"$f":"SUM(C80:D80)","v":222},{"$f":"+C82+C98+C105+C102","v":85},{"$f":"+D82+D98+D105+D102","v":137},{"$f":"SUM(F80:G80)","v":539},{"$f":"+F82+F98+F105+F102","v":230},{"$f":"+G82+G98+G105+G102","v":309},{"$f":"SUM(I80:J80)","v":158},{"$f":"+I82+I98+I105+I102","v":64},{"$f":"+J82+J98+J105+J102","v":94}]
[]
["FACULTAD DE ADMINISTRACIÓN Y CIENCIAS SOCIALES",{"$f":"+C82+D82","v":143},{"$f":"SUM(C83:C96)","v":58},{"$f":"SUM(D83:D96)","v":85},{"$f":"+F82+G82","v":372},{"$f":"SUM(F83:F96)","v":166},{"$f":"SUM(G83:G96)","v":206},{"$f":"+I82+J82","v":105},{"$f":"SUM(I83:I96)","v":50},{"$f":"SUM(J83:J96)","v":55}]
["Diploma de Especialización en Recursos Humanos",13,4,9,31,8,23,7,0,7]
["Diploma de Especialización en Finanzas",12,3,9,27,8,19,3,1,2]
["Master en Administración de Empresas",20,12,8,72,46,26,27,19,8]
["Master en Políticas Públicas",0,0,0,1,1,0,0,0,0]
["MBA en Agro negocios",0,0,0,1,1,0,0,0,0]
["Master en Dirección de Recursos Humanos",5,1,4,22,5,17,4,1,3]
["Master en Dirección Financiera",3,1,2,19,14,5,8,3,5]
["Diploma de Especialización en Impuestos",32,9,23,75,21,54,18,3,15]
["Diploma de Especialización en Dirección de Marketing",16,4,12,25,5,20,19,9,10]
["Diploma de Especialización en Contabilidad",15,6,9,22,7,15,4,1,3]
["Master en Contabilidad e Impuestos",9,3,6,22,8,14,4,3,1]
["Diploma de Especialización en Economía",1,0,1,1,0,1,1,0,1]
["Master en Economía",4,3,1,15,9,6,1,1,0]
["Master en Gerencia de Empresas Tecnológicas TIC",13,12,1,39,33,6,9,9,0]
[]
["FACULTAD DE INGENIERÍA",{"$f":"+C98+D98","v":5},{"$f":"SUM(C99:C100)","v":4},{"$f":"SUM(D99:D100)","v":1},{"$f":"+F98+G98","v":27},{"$f":"SUM(F99:F100)","v":23},{"$f":"SUM(G99:G100)","v":4},{"$f":"+I98+J98","v":3},{"$f":"SUM(I99:I100)","v":1},{"$f":"SUM(J99:J100)","v":2}]
["Doctorado en Ingeniería Informática",{"$f":"+C99+D99","v":0},0,0,{"$f":"+F99+G99","v":4},4,0,{"$f":"+I99+J99","v":0},0,0]
["Master en Ingeniería",{"$f":"+C100+D100","v":5},4,1,{"$f":"+F100+G100","v":23},19,4,{"$f":"+I100+J100","v":3},1,2]
[]
["FACULTAD DE INGENIERÍA",{"$f":"+C102+D102","v":10},{"$f":"C103","v":6},{"$f":"D103","v":4},{"$f":"+F102+G102","v":10},{"$f":"F103","v":6},{"$f":"G103","v":4},{"$f":"+I102+J102","v":0},{"$f":"I103","v":0},{"$f":"J103","v":0}]
["Diploma de Especialización en Desarrollos Inmobiliarios",{"$f":"+C103+D103","v":10},6,4,{"$f":"+F103+G103","v":10},6,4,{"$f":"+I103+J103","v":0},0,0]
[]
["INSTITUTO DE EDUCACIÓN",{"$f":"+C105+D105","v":64},{"$f":"SUM(C106:C110)","v":17},{"$f":"SUM(D106:D110)","v":47},{"$f":"+F105+G105","v":130},{"$f":"SUM(F106:F110)","v":35},{"$f":"SUM(G106:G110)","v":95},{"$f":"+I105+J105","v":50},{"$f":"SUM(I106:I110)","v":13},{"$f":"SUM(J106:J110)","v":37}]
["Diploma en Educación (a distancia)",0,0,0,0,0,0,23,7,16]
["Master en Educación",37,10,27,74,20,54,10,1,9]
["Diploma en Planificación y Gestión Educativa (a distancia)",0,0,0,1,1,0,10,2,8]
["Master en Gestión Educativa",14,5,9,42,12,30,7,3,4]
["Doctorado en Educación",13,2,11,13,2,11,0,0,0]
[]
["UNIVERSIDAD DE MONTEVIDEO",{"$f":"+C112+D112","v":263},{"$f":"+C114+C118+C126+C130+C137+C140","v":119},{"$f":"+D114+D118+D126+D130+D137+D140","v":144},{"$f":"+F112+G112","v":603},{"$f":"+F114+F118+F126+F130+F137+F140","v":285},{"$f":"+G114+G118+G126+G130+G137+G140","v":318},{"$f":"+I112+J112","v":123},{"$f":"+I114+I118+I126+I130+I137+I140","v":70},{"$f":"+J114+J118+J126+J130+J137+J140","v":53}]
[]
["FACULTAD DE CIENCIAS EMPRESARIALES Y ECONOMÍA",{"$f":"+C114+D114","v":30},{"$f":"SUM(C115:C116)","v":12},{"$f":"SUM(D115:D116)","v":18},{"$f":"+F114+G114","v":71},{"$f":"SUM(F115:F116)","v":35},{"$f":"SUM(G115:G116)","v":36},{"$f":"+I114+J114","v":12},{"$f":"SUM(I115:I116)","v":4},{"$f":"SUM(J115:J116)","v":8}]
["Maestría en Finanzas",{"$f":"+C115+D115","v":22},10,12,{"$f":"+F115+G115","v":52},25,27,{"$f":"+I115+J115","v":11},3,8]
["Maestría en Economía",{"$f":"+C116+D116","v":8},2,6,{"$f":"+F116+G116","v":19},10,9,{"$f":"+I116+J116","v":1},1,0]
[]
["FACULTAD DE DERECHO",{"$f":"+C118+D118","v":99},{"$f":"SUM(C119:C124)","v":35},{"$f":"SUM(D119:D124)","v":64},{"$f":"+F118+G118","v":233},{"$f":"SUM(F119:F124)","v":86},{"$f":"SUM(G119:G124)","v":147},{"$f":"+I118+J118","v":26},{"$f":"SUM(I119:I124)","v":10},{"$f":"SUM(J119:J124)","v":16}]
["Maestría en Comercio Internacional e Integración",9,4,5,19,9,10,2,1,1]
["Maestría en Derecho Administrativo Económico",3,1,2,29,8,21,5,2,3]
["Maestría en Derecho de la Empresa",15,8,7,46,22,24,4,3,1]
["Maestría en Derecho y Técnica Tributaria",14,6,8,81,31,50,15,4,11]
["Maestría en Gestión Humana de las Organizaciones",28,8,20,28,8,20,0,0,0]
["Maestría en Contabilidad y Técnica Tributaria",30,8,22,30,8,22,0,0,0]
[]
["INSTITUTO DE ESTUDIOS EMPRESARIALES",{"$f":"+C126+D126","v":68},{"$f":"SUM(C127:C128)","v":43},{"$f":"SUM(D127:D128)","v":25},{"$f":"+F126+G126","v":137},{"$f":"SUM(F127:F128)","v":90},{"$f":"SUM(G127:G128)","v":47},{"$f":"+I126+J126","v":64},{"$f":"SUM(I127:I128)","v":43},{"$f":"SUM(J127:J128)","v":21}]
["Maestría en Dirección y Administración de Empresas",{"$f":"+C127+D127","v":49},33,16,{"$f":"+F127+G127","v":87},61,26,{"$f":"+I127+J127","v":36},26,10]
["Maestría en Dirección de Empresas de Salud",{"$f":"+C128+D128","v":19},10,9,{"$f":"+F128+G128","v":50},29,21,{"$f":"+I128+J128","v":28},17,11]
[]
["CENTRO DE CIENCIAS BIOMÉDICAS",{"$f":"+C130+D130","v":47},{"$f":"SUM(C131:C135)","v":21},{"$f":"SUM(D131:D135)","v":26},{"$f":"+F130+G130","v":124},{"$f":"SUM(F131:F135)","v":50},{"$f":"SUM(G131:G135)","v":74},{"$f":"+I130+J130","v":21},{"$f":"SUM(I131:I135)","v":13},{"$f":"SUM(J131:J135)","v":8}]
["Maestría en Medicina Familiar",12,3,9,29,6,23,5,1,4]
["Maestría en Farmacología Clínica",7,2,5,15,5,10,0,0,0]
["Especialización en Medicina de Emergencia",18,6,12,56,21,35,2,2,0]
["Especialización en Traumatología y Ortopedia",10,10,0,15,13,2,5,5,0]
["Especialización en Mastología",0,0,0,9,5,4,9,5,4]
[]
["FACULTAD DE HUMANIDADES",{"$f":"+C137+D137","v":10},{"$f":"SUM(C138:C138)","v":6},{"$f":"SUM(D138:D138)","v":4},{"$f":"+F137+G137","v":23},{"$f":"SUM(F138:F138)","v":18},{"$f":"SUM(G138:G138)","v":5},{"$f":"+I137+J137","v":0},{"$f":"SUM(I138:I138)","v":0},{"$f":"SUM(J138:J138)","v":0}]
["Maestría en Historia",{"$f":"+C138+D138","v":10},6,4,{"$f":"+F138+G138","v":23},18,5,{"$f":"+I138+J138","v":0},0,0]
[]
["FACULTAD DE COMUNICACIÓN",{"$f":"+C140+D140","v":9},{"$f":"SUM(C141:C141)","v":2},{"$f":"SUM(D141:D141)","v":7},{"$f":"+F140+G140","v":15},{"$f":"SUM(F141:F141)","v":6},{"$f":"SUM(G141:G141)","v":9},{"$f":"+I140+J140","v":0},{"$f":"SUM(I141:I141)","v":0},{"$f":"SUM(J141:J141)","v":0}]
["Maestría en Estudios Latinoamericanos",{"$f":"+C141+D141","v":9},2,7,{"$f":"+F141+G141","v":15},6,9,{"$f":"+I141+J141","v":0},0,0]
[]
["UNIVERSIDAD DE LA EMPRESA",{"$f":"+C143+D143","v":315},{"$f":"+C145+C159+C163+C167","v":136},{"$f":"+D145+D159+D163+D167","v":179},{"$f":"+F143+G143","v":912},{"$f":"+F145+F159+F163+F167","v":416},{"$f":"+G145+G159+G163+G167","v":496},{"$f":"+I143+J143","v":86},{"$f":"+I145+I159+I163+I167","v":38},{"$f":"+J145+J159+J163+J167","v":48}]
[]
["FACULTAD DE CIENCIAS EMPRESARIALES ",{"$f":"+C145+D145","v":150},{"$f":"SUM(C146:C157)","v":76},{"$f":"SUM(D146:D157)","v":74},{"$f":"+F145+G145","v":469},{"$f":"SUM(F146:F157)","v":245},{"$f":"SUM(G146:G157)","v":224},{"$f":"+I145+J145","v":47},{"$f":"SUM(I146:I157)","v":18},{"$f":"SUM(J146:J157)","v":29}]
["Postgrado de Especialización en Dirección de Marketing",17,6,11,29,9,20,11,2,9]
["Postgrado de Especialización en Habilidades Gerenciales",7,4,3,42,18,24,15,2,13]
["Postgrado de Especialización en Recursos Humanos",11,4,7,35,10,25,4,3,1]
["Maestría en Dirección y Administración de Empresas",19,8,11,104,59,45,3,2,1]
["Maestría en Administración",11,4,7,94,53,41,0,0,0]
["Doctorado en Administración",0,0,0,47,32,15,0,0,0]
["Postgrado de Finanzas Estratégicas",5,4,1,11,7,4,5,4,1]
["Postgrado en Dirección Estratégica de Ventas",0,0,0,8,7,1,1,1,0]
["Postgrado en Comunicación Corporativa y Relaciones Públicas",15,10,5,34,14,20,8,4,4]
["Postgrado en Tributación y Fiscalidad",33,15,18,33,15,18,0,0,0]
["Postgrado en Negocios",7,4,3,7,4,3,0,0,0]
["Postgrado en Metodología de la Investigación",25,17,8,25,17,8,0,0,0]
[]
["FACULTAD DE CIENCIAS JURIDÍCAS",{"$f":"+C159+D159","v":41},{"$f":"SUM(C160:C161)","v":25},{"$f":"SUM(D160:D161)","v":16},{"$f":"+F159+G159","v":90},{"$f":"SUM(F160:F161)","v":56},{"$f":"SUM(G160:G161)","v":34},{"$f":"+I159+J159","v":2},{"$f":"SUM(I160:I161)","v":2},{"$f":"SUM(J160:J161)","v":0}]
["Maestría en Derecho de las Relaciones Internacionales y de la Integración en América Latina",{"$f":"+C160+D160","v":22},15,7,{"$f":"+F160+G160","v":71},46,25,{"$f":"+I160+J160","v":2},2,0]
["Maestría en Ciencias Criminológico Forenses",{"$f":"+C161+D161","v":19},10,9,{"$f":"+F161+G161","v":19},10,9,{"$f":"+I161+J161","v":0},0,0]
[]
["FACULTAD DE CIENCIAS DE LA  EDUCACIÓN",{"$f":"+C163+D163","v":116},{"$f":"SUM(C164:C165)","v":28},{"$f":"SUM(D164:D165)","v":88},{"$f":"+F163+G163","v":342},{"$f":"SUM(F164:F165)","v":105},{"$f":"SUM(G164:G165)","v":237},{"$f":"+I163+J163","v":37},{"$f":"SUM(I164:I165)","v":18},{"$f":"SUM(J164:J165)","v":19}]
["Maestría en Educación",{"$f":"+C164+D164","v":116},28,88,{"$f":"+F164+G164","v":285},85,200,{"$f":"+I164+J164","v":23},9,14]
["Doctorado en Educación",{"$f":"+C165+D165","v":0},0,0,{"$f":"+F165+G165","v":57},20,37,{"$f":"+I165+J165","v":14},9,5]
[]
["FACULTAD DE CIENCIAS AGRARIAS",{"$f":"+C167+D167","v":8},{"$f":"SUM(C168)","v":7},{"$f":"SUM(D168)","v":1},{"$f":"+F167+G167","v":11},{"$f":"SUM(F168)","v":10},{"$f":"SUM(G168)","v":1},{"$f":"+I167+J167","v":0},{"$f":"SUM(I168)","v":0},{"$f":"SUM(J168)","v":0}]
["Maestría en Administración de Agro negocios",{"$f":"+C168+D168","v":8},7,1,{"$f":"+F168+G168","v":11},10,1,{"$f":"+I168+J168","v":0},0,0]
[]
["Fuente: Oficinas Productoras de cada una de las Instituciones. "]

{"sheet":"II-7.2.8 ","index":259,"n_rows":56,"n_cols":10,"rows_kept":56,"cut":false,"hidden":false,"merged":[[6,5,6,6],[6,8,6,9],[55,0,55,9],[0,5,1,8],[4,0,4,9],[5,0,7,0],[5,1,7,1],[5,2,5,3],[5,4,7,4],[5,5,5,6],[5,7,7,7],[5,8,5,9],[6,2,6,3]]}
["INSTITUTOS UNIVERSITARIOS: OFERTA DE POSTGRADO",null,null,null,null,"ALUMNOS MATRICULADOS"]
[]
["Cuadro Nº II-7.2.8"]
[]
["ALUMNOS INGRESADOS, MATRICULADOS Y EGRESADOS EN PROGRAMAS DE POSTGRADO DE INSTITUTOS UNIVERSITARIOS POR SEXO SEGÚN INSTITUTO UNIVERSITARIO Y ACREDITACIÓN. AÑO 2012."]
["INSTITUTO UNIVERSITARIO / ACREDITACIÓN","TOTAL","INGRESADOS",null,"TOTAL","MATRICULADOS",null,"TOTAL","EGRESADOS"]
[null,null,"SEXO",null,null,"SEXO",null,null,"SEXO"]
[null,null,"M","F",null,"M","F",null,"M","F"]
["TOTAL",{"$f":"SUM(C9:D9)","v":252},{"$f":"+C11+C30+C33+C43+C40+C49+C46","v":99},{"$f":"+D11+D30+D33+D43+D40+D49+D46","v":153},{"$f":"SUM(F9:G9)","v":375},{"$f":"+F11+F30+F33+F43+F40+F49+F46","v":136},{"$f":"+G11+G30+G33+G43+G40+G49+G46","v":239},{"$f":"SUM(I9:J9)","v":108},{"$f":"+I11+I30+I33+I43+I40+I49+I46","v":49},{"$f":"+J11+J30+J33+J43+J40+J49+J46","v":59}]
[]
["INST UNIV CLAEH ",{"$f":"+C11+D11","v":144},{"$f":"SUM(C13:C28)","v":39},{"$f":"SUM(D13:D28)","v":105},{"$f":"+F11+G11","v":161},{"$f":"SUM(F13:F28)","v":57},{"$f":"SUM(G13:G28)","v":104},{"$f":"11+J11","v":45},{"$f":"SUM(I13:I28)","v":11},{"$f":"SUM(J13:J28)","v":34}]
[]
["Especialización en Didáctica de la Educación Básica",{"$f":"+C13+D13","v":10},0,10,{"$f":"+F13+G13","v":10},0,10,{"$f":"+I13+J13","v":1},1,0]
["Maestría en Didáctica de la Educación Básica",0,0,0,0,0,0,2,0,2]
["Especialización en Didáctica de la Educación Media",10,3,7,10,4,6,7,0,7]
["Maestría en Didáctica de la Educación Media",7,3,4,7,2,5,5,0,5]
["Especialización en Política y Gestión de la Educación",6,4,2,8,7,1,4,3,1]
["Maestría en Política y Gestión de la Educación",6,5,1,9,9,0,15,7,8]
["Especialización en Tecnología Educativa",18,18,0,0,0,0,0,0,0]
["Maestría en Tecnología Educativa",4,3,1,4,4,0,3,0,3]
["Especialización en Política y Gestión de la Salud",50,0,50,36,4,32,3,0,3]
["Maestría en Política y Gestión de la Salud",17,1,16,29,10,19,2,0,2]
["Diploma en Políticas Sociales",2,1,1,13,8,5,1,0,1]
["Maestría en Políticas Sociales",0,0,0,0,0,0,1,0,1]
["Especialización en Didáctica de la Historia",14,1,13,35,9,26,0,0,0]
["Maestría en Didáctica de la Historia",0,0,0,0,0,0,0,0,0]
["Especialización en Desarrollo Local",0,0,0,0,0,0,1,0,1]
["Posgrado de Especialización en Integración y Mercosur",0,0,0,0,0,0,0,0,0]
[]
["INSTITUTO UNIVERSITARIO DE POSTGRADO EN PSICOANÁLISIS (IUPP) -",{"$f":"+C30+D30","v":6},{"$f":"SUM(C31)","v":1},{"$f":"SUM(D31)","v":5},{"$f":"+F30+G30","v":42},{"$f":"SUM(F31)","v":7},{"$f":"SUM(G31)","v":35},{"$f":"+I30+J30","v":7},{"$f":"SUM(I31)","v":3},{"$f":"SUM(J31)","v":4}]
["Maestría en Psicoanálisis",{"$f":"+C31+D31","v":6},1,5,{"$f":"+F31+G31","v":42},7,35,{"$f":"+I31+J31","v":7},3,4]
[]
["INST UNIV BIOS *",{"$f":"+C33+D33","v":0},{"$f":"SUM(C34:C38)","v":0},{"$f":"SUM(D34:D38)","v":0},{"$f":"+F33+G33","v":43},{"$f":"SUM(F34:F38)","v":14},{"$f":"SUM(G34:G38)","v":29},{"$f":"+I33+J33","v":0},{"$f":"SUM(I34:I38)","v":0},{"$f":"SUM(J34:J38)","v":0}]
["Maestría en Diseño",0,0,0,12,3,9,0,0,0]
["Maestría en Paisajismo",0,0,0,25,8,17,0,0,0]
["Maestría en Comunicación",0,0,0,6,3,3,0,0,0]
["Maestría en Gerontología",0,0,0,0,0,0,0,0,0]
["Maestría en Educación",0,0,0,0,0,0,0,0,0]
[]
["INST METODISTA UNIV CRANDON",{"$f":"+C40+D40","v":4},{"$f":"SUM(C41)","v":0},{"$f":"SUM(D41)","v":4},{"$f":"+F40+G40","v":4},{"$f":"SUM(F41)","v":0},{"$f":"SUM(G41)","v":4},{"$f":"+I40+J40","v":2},{"$f":"SUM(I41)","v":0},{"$f":"SUM(J41)","v":2}]
["Posgrado de Especialización de Traducción en la lengua inglesa",{"$f":"+C41+D41","v":4},0,4,{"$f":"+F41+G41","v":4},0,4,{"$f":"+I41+J41","v":2},0,2]
[]
["INST UNIV CEDIIAP",{"$f":"+C43+D43","v":4},{"$f":"SUM(C44)","v":0},{"$f":"SUM(D44)","v":4},{"$f":"+F43+G43","v":37},{"$f":"SUM(F44)","v":0},{"$f":"SUM(G44)","v":37},{"$f":"+I43+J43","v":2},{"$f":"SUM(I44)","v":0},{"$f":"SUM(J44)","v":2}]
["Especialización en Dificultades de Aprendizaje con mención en las funciones psicológicas superiores",{"$f":"+C44+D44","v":4},0,4,{"$f":"+F44+G44","v":37},0,37,{"$f":"+I44+J44","v":2},0,2]
[]
["INST UNIV ASOCIACIÓN CRISTIANA DE JÓVENES",{"$f":"+C46+D46","v":33},{"$f":"SUM(C47)","v":20},{"$f":"SUM(D47)","v":13},{"$f":"+F46+G46","v":33},{"$f":"SUM(F47)","v":20},{"$f":"SUM(G47)","v":13},{"$f":"+I46+J46","v":0},{"$f":"SUM(I47)","v":0},{"$f":"SUM(J47)","v":0}]
["Posgrado de Especialización en educación física y deporte escolar",{"$f":"+C47+D47","v":33},20,13,{"$f":"+F47+G47","v":33},20,13,{"$f":"+I47+J47","v":0},0,0]
[]
["Centro de Altos Estudios Nacionales (CALEN)",{"$f":"+C49+D49","v":61},{"$f":"SUM(C50:C53)","v":39},{"$f":"SUM(D50:D53)","v":22},{"$f":"+F49+G49","v":55},{"$f":"SUM(F50:F53)","v":38},{"$f":"SUM(G50:G53)","v":17},{"$f":"+I49+J49","v":52},{"$f":"SUM(I50:I53)","v":35},{"$f":"SUM(J50:J53)","v":17}]
["Especialización en Altos Estudios Nacionales",{"$f":"+C50+D50","v":19},16,3,{"$f":"+F50+G50","v":19},16,3,{"$f":"+I50+J50","v":16},14,2]
["Especialización en Ejercicios Estratégicos",{"$f":"+C51+D51","v":27},16,11,{"$f":"+F51+G51","v":27},16,11,{"$f":"+I51+J51","v":21},14,7]
["Especialización en Metodología de Investigación en el Ámbito de la Estrategia Nacional",{"$f":"+C52+D52","v":15},7,8,{"$f":"+F52+G52","v":9},6,3,{"$f":"+I52+J52","v":15},7,8]
["Maestría en Estrategia Nacional",{"$f":"+C53+D53","v":0},0,0,{"$f":"+F53+G53","v":0},0,0,{"$f":"+I53+J53","v":0},0,0]
["Fuente: Oficinas Productoras de cada una de las Instituciones. "]
["Nota: Para las definiciones de ingreso, matrícula y egreso, ir a Anexo-Definiciones. "]
["* No se dispone de datos correspondientes a matrícula para el año 2012, se incorpora el último dato disponible (año 2011)."]

{"sheet":"II-7.2.9 ","index":260,"n_rows":139,"n_cols":11,"rows_kept":139,"cut":false,"hidden":false,"merged":[[138,0,138,10],[0,3,1,6],[4,0,4,10],[5,0,8,0],[5,1,5,10],[6,1,8,1],[6,2,6,4],[6,5,6,7],[6,8,6,10],[7,2,8,2],[7,3,7,4],[7,5,8,5],[7,6,7,7],[7,8,8,8],[7,9,7,10],[137,0,137,10]]}
["UNIVERSIDADES E INSTITUTOS UNIVERSITARIOS",null,null,"PERSONAL ACADÉMICO"]
[]
["Cuadro Nº II-7.2.9"]
[]
["PERSONAL DOCENTE Y NO DOCENTE DE INSTITUCIONES UNIVERSITARIAS PUBLICAS Y PRIVADAS EXPRESADAS EN POSICIONES FUNCIONALES POR CARGA HORARIA SEMANAL SEGÚN INSTITUCIÓN, ACTIVIDAD Y SEXO. AÑO 2012."]
["INSTITUCIÓN / ACTIVIDAD","Carga horaria semanal"]
[null,"TOTAL","19 y -",null,null,"20 a 39",null,null,"40 y +"]
[null,null,"Total","Sexo",null,"Total","Sexo",null,"Total","Sexo"]
[null,null,null,"M","F",null,"M","F",null,"M","F"]
["TOTAL DOCENTYE Y NO DOCENTE",{"$f":"+C10+F10+I10","v":24418},{"$f":"+C11+C12","v":9750},{"$f":"SUM(D11:D12)","v":0},{"$f":"SUM(E11:E12)","v":0},{"$f":"+F11+F12","v":8020},{"$f":"SUM(G11:G12)","v":0},{"$f":"SUM(H11:H12)","v":0},{"$f":"+I11+I12","v":6648},{"$f":"SUM(J11:J12)","v":0},{"$f":"SUM(K11:K12)","v":0}]
["Total Personal Docente",{"$f":"+C11+F11+I11","v":17316},{"$f":"C15+C19+C23","v":9546},"s/d","s/d",{"$f":"F15+F19+F23","v":5323},"s/d","s/d",{"$f":"I15+I19+I23","v":2447},"s/d","s/d"]
["Total Personal NO Docente",{"$f":"+C12+F12+I12","v":7102},{"$f":"C16+C20+C24","v":204},"s/d","s/d",{"$f":"F16+F20+F24","v":2697},"s/d","s/d",{"$f":"I16+I20+I24","v":4201},"s/d","s/d"]
[]
["TOTAL UDELAR DOCENTYE Y NO DOCENTE*",{"$f":"+C14+F14+I14","v":16661},{"$f":"+C15+C16","v":3649},{"$f":"SUM(D15:D16)","v":0},{"$f":"SUM(E15:E16)","v":0},{"$f":"+F15+F16","v":7229},{"$f":"SUM(G15:G16)","v":0},{"$f":"SUM(H15:H16)","v":0},{"$f":"+I15+I16","v":5783},{"$f":"SUM(J15:J16)","v":0},{"$f":"SUM(K15:K16)","v":0}]
["Personal Docente UDELAR",{"$f":"+C15+F15+I15","v":10571},3649,"s/d","s/d",4783,"s/d","s/d",2139,"s/d","s/d"]
["Personal NO Docente UDELAR",{"$f":"+C16+F16+I16","v":6090},0,"s/d","s/d",2446,"s/d","s/d",3644,"s/d","s/d"]
[]
["TOTAL PRIVADOS DOCENTE Y NO DOCENTE",{"$f":"+C18+F18+I18","v":7321},{"$f":"+D18+E18","v":6057},{"$f":"+D19+D20","v":3433},{"$f":"+E19+E20","v":2624},{"$f":"+G18+H18","v":620},{"$f":"+G19+G20","v":282},{"$f":"+H19+H20","v":338},{"$f":"+J18+K18","v":644},{"$f":"+J19+J20","v":276},{"$f":"+K19+K20","v":368}]
["Personal Docente de Universidades e Institutos Privados",{"$f":"+C19+F19+I19","v":6491},{"$f":"+D19+E19","v":5853},{"$f":"SUM(D27:D30,D34:D37,D41:D44,D48:D51,D55:D58,D62:D65,D69:D72,D76:D79,D83:D86,D90:D93,D97:D100,D104:D107,D111:D114)","v":3344},{"$f":"SUM(E27:E30,E34:E37,E41:E44,E48:E51,E55:E58,E62:E65,E69:E72,E76:E79,E83:E86,E90:E93,E97:E100,E104:E107,E111:E114)","v":2509},{"$f":"+G19+H19","v":418},{"$f":"SUM(G27:G30,G34:G37,G41:G44,G48:G51,G55:G58,G62:G65,G69:G72,G76:G79,G83:G86,G90:G93,G97:G100,G104:G107,G111:G114)","v":200},{"$f":"SUM(H27:H30,H34:H37,H41:H44,H48:H51,H55:H58,H62:H65,H69:H72,H76:H79,H83:H86,H90:H93,H97:H100,H104:H107,H111:H114)","v":218},{"$f":"+J19+K19","v":220},{"$f":"SUM(J27:J30,J34:J37,J41:J44,J48:J51,J55:J58,J62:J65,J69:J72,J76:J79,J83:J86,J90:J93,J97:J100,J104:J107,J111:J114)","v":106},{"$f":"SUM(K27:K30,K34:K37,K41:K44,K48:K51,K55:K58,K62:K65,K69:K72,K76:K79,K83:K86,K90:K93,K97:K100,K104:K107,K111:K114)","v":114}]
["Personal NO Docente de Universidades e Institutos Privados",{"$f":"+C20+F20+I20","v":830},{"$f":"+D20+E20","v":204},{"$f":"+D31+D38+D45+D52+D59+D66+D73+D80+D87+D94+D101+D108+D115","v":89},{"$f":"+E31+E38+E45+E52+E59+E66+E73+E80+E87+E94+E101+E108+E115","v":115},{"$f":"+G20+H20","v":202},{"$f":"+G31+G38+G45+G52+G59+G66+G73+G80+G87+G94+G101+G108+G115","v":82},{"$f":"+H31+H38+H45+H52+H59+H66+H73+H80+H87+H94+H101+H108+H115","v":120},{"$f":"+J20+K20","v":424},{"$f":"+J31+J38+J45+J52+J59+J66+J73+J80+J87+J94+J101+J108+J115","v":170},{"$f":"+K31+K38+K45+K52+K59+K66+K73+K80+K87+K94+K101+K108+K115","v":254}]
[]
["TOTAL SEGURIDAD Y DEFENSA DOCENTE Y NO DOCENTE",{"$f":"+C22+F22+I22","v":436},{"$f":"+D22+E22","v":44},{"$f":"+D23+D24","v":33},{"$f":"+E23+E24","v":11},{"$f":"+G22+H22","v":171},{"$f":"+G23+G24","v":116},{"$f":"+H23+H24","v":55},{"$f":"+J22+K22","v":221},{"$f":"+J23+J24","v":210},{"$f":"+K23+K24","v":11}]
["Personal Docente Área Seguridad y Defensa",{"$f":"+C23+F23+I23","v":254},{"$f":"+D23+E23","v":44},{"$f":"SUM(D118:D121,D125:D128,D132:D135)","v":33},{"$f":"SUM(E118:E121,E125:E128,E132:E135)","v":11},{"$f":"+G23+H23","v":122},{"$f":"SUM(G118:G121,G125:G128,G132:G135)","v":102},{"$f":"SUM(H118:H121,H125:H128,H132:H135)","v":20},{"$f":"+J23+K23","v":88},{"$f":"SUM(J118:J121,J125:J128,J132:J135)","v":82},{"$f":"SUM(K118:K121,K125:K128,K132:K135)","v":6}]
["Personal NO Docente Área Seguridad y Defensa",{"$f":"+C24+F24+I24","v":182},{"$f":"+D24+E24","v":0},{"$f":"+D122+D129+D136","v":0},{"$f":"+E122+E129+E136","v":0},{"$f":"+G24+H24","v":49},{"$f":"+G122+G129+G136","v":14},{"$f":"+H122+H129+H136","v":35},{"$f":"+J24+K24","v":133},{"$f":"+J122+J129+J136","v":128},{"$f":"+K122+K129+K136","v":5}]
[]
["UCUDAL",{"$f":"C26+F26+I26","v":2361},{"$f":"+D26+E26","v":1853},{"$f":"SUM(D27:D31)","v":942},{"$f":"SUM(E27:E31)","v":911},{"$f":"+G26+H26","v":266},{"$f":"SUM(G27:G31)","v":100},{"$f":"SUM(H27:H31)","v":166},{"$f":"+J26+K26","v":242},{"$f":"SUM(J27:J31)","v":106},{"$f":"SUM(K27:K31)","v":136}]
["Personal Docente",1720,1694,887,807,21,5,16,5,4,1]
["Personal de Investigación y Extensión",41,29,11,18,11,2,9,1,1,0]
["Docente-Investigador",144,1,1,0,102,42,60,41,25,16]
["Personal de Gestión Universitaria",158,71,27,44,45,18,27,42,18,24]
["Personal no docente",298,58,16,42,87,33,54,153,58,95]
[]
["UNIVERSIDAD ORT URUGUAY ",{"$f":"C33+F33+I33","v":2467},{"$f":"+D33+E33","v":2127},{"$f":"SUM(D34:D38)","v":1434},{"$f":"SUM(E34:E38)","v":693},{"$f":"+G33+H33","v":191},{"$f":"SUM(G34:G38)","v":103},{"$f":"SUM(H34:H38)","v":88},{"$f":"+J33+K33","v":149},{"$f":"SUM(J34:J38)","v":71},{"$f":"SUM(K34:K38)","v":78}]
["Personal Docente",1781,1766,1190,576,15,8,7,0,0,0]
["Personal de Investigación y Extensión",45,32,21,11,11,9,2,2,0,2]
["Docente-Investigador",0,0,0,0,0,0,0,0,0,0]
["Personal de Gestión Universitaria",431,256,191,65,122,62,60,53,25,28]
["Personal no docente",210,73,32,41,43,24,19,94,46,48]
[]
["UNIVERSIDAD DE MONTEVIDEO",{"$f":"C40+F40+I40","v":735},{"$f":"+D40+E40","v":505},{"$f":"SUM(D41:D45)","v":170},{"$f":"SUM(E41:E45)","v":335},{"$f":"+G40+H40","v":77},{"$f":"SUM(G41:G45)","v":39},{"$f":"SUM(H41:H45)","v":38},{"$f":"+J40+K40","v":153},{"$f":"SUM(J41:J45)","v":54},{"$f":"SUM(K41:K45)","v":99}]
["Personal Docente",0,0,0,0,0,0,0,0,0,0]
["Personal de Investigación y Extensión",0,0,0,0,0,0,0,0,0,0]
["Docente-Investigador",590,496,162,334,34,20,14,60,22,38]
["Personal de Gestión Universitaria",0,0,0,0,0,0,0,0,0,0]
["Personal no docente",145,9,8,1,43,19,24,93,32,61]
[]
["UNIVERSIDAD DE LA EMPRESA",{"$f":"C47+F47+I47","v":770},{"$f":"+D47+E47","v":637},{"$f":"SUM(D48:D52)","v":413},{"$f":"SUM(E48:E52)","v":224},{"$f":"+G47+H47","v":42},{"$f":"SUM(G48:G52)","v":23},{"$f":"SUM(H48:H52)","v":19},{"$f":"+J47+K47","v":91},{"$f":"SUM(J48:J52)","v":40},{"$f":"SUM(K48:K52)","v":51}]
["Personal Docente",597,580,378,202,12,10,2,5,4,1]
["Personal de Investigación y Extensión",2,2,1,1,0,0,0,0,0,0]
["Docente-Investigador",29,19,11,8,10,8,2,0,0,0]
["Personal de Gestión Universitaria",14,1,0,1,3,2,1,10,6,4]
["Personal no docente",128,35,23,12,17,3,14,76,30,46]
[]
["INST UNIV ASOCIACIÓN CRISTIANA DE JÓVENES **",{"$f":"C54+F54+I54","v":135},{"$f":"+D54+E54","v":113},{"$f":"SUM(D55:D59)","v":59},{"$f":"SUM(E55:E59)","v":54},{"$f":"+G54+H54","v":22},{"$f":"SUM(G55:G59)","v":12},{"$f":"SUM(H55:H59)","v":10},{"$f":"+J54+K54","v":0},{"$f":"SUM(J55:J59)","v":0},{"$f":"SUM(K55:K59)","v":0}]
["Personal Docente",{"$f":"C55+F55+I55","v":116},{"$f":"+D55+E55","v":113},59,54,{"$f":"+G55+H55","v":3},2,1,{"$f":"+J55+K55","v":0},0,0]
["Personal de Investigación y Extensión",{"$f":"C56+F56+I56","v":1},{"$f":"+D56+E56","v":0},0,0,{"$f":"+G56+H56","v":1},1,0,{"$f":"+J56+K56","v":0},0,0]
["Docente-Investigador",{"$f":"C57+F57+I57","v":10},{"$f":"+D57+E57","v":0},0,0,{"$f":"+G57+H57","v":10},5,5,{"$f":"+J57+K57","v":0},0,0]
["Personal de Gestión Universitaria",{"$f":"C58+F58+I58","v":8},{"$f":"+D58+E58","v":0},0,0,{"$f":"+G58+H58","v":8},4,4,{"$f":"+J58+K58","v":0},0,0]
["Personal no docente",17,0,"s/d","s/d",0,"s/d","s/d",0,"s/d","s/d"]
[]
["INST UNIV CLAEH ",{"$f":"C61+F61+I61","v":297},{"$f":"+D61+E61","v":297},{"$f":"SUM(D62:D66)","v":135},{"$f":"SUM(E62:E66)","v":162},{"$f":"+G61+H61","v":0},{"$f":"SUM(G62:G66)","v":0},{"$f":"SUM(H62:H66)","v":0},{"$f":"+J61+K61","v":0},{"$f":"SUM(J62:J66)","v":0},{"$f":"SUM(K62:K66)","v":0}]
["Personal Docente",297,297,135,162,0,0,0,0,0,0]
["Personal de Investigación y Extensión",0,0,0,0,0,0,0,0,0,0]
["Docente-Investigador",0,0,0,0,0,0,0,0,0,0]
["Personal de Gestión Universitaria",0,0,0,0,0,0,0,0,0,0]
["Personal no docente",0,0,0,0,0,0,0,0,0,0]
[]
["INST METODISTA UNIV CRANDON",{"$f":"C68+F68+I68","v":72},{"$f":"+D68+E68","v":72},{"$f":"SUM(D69:D73)","v":34},{"$f":"SUM(E69:E73)","v":38},{"$f":"+G68+H68","v":0},{"$f":"SUM(G69:G73)","v":0},{"$f":"SUM(H69:H73)","v":0},{"$f":"+J68+K68","v":0},{"$f":"SUM(J69:J73)","v":0},{"$f":"SUM(K69:K73)","v":0}]
["Personal Docente",72,72,34,38,0,0,0,0,0,0]
["Personal de Investigación y Extensión",0,0,0,0,0,0,0,0,0,0]
["Docente-Investigador",0,0,0,0,0,0,0,0,0,0]
["Personal de Gestión Universitaria",0,0,0,0,0,0,0,0,0,0]
["Personal no docente",0,0,0,0,0,0,0,0,0,0]
[]
["INST UNIV DE POSTGRADO EN PSICOANÁLISIS (APU)",{"$f":"C75+F75+I75","v":50},{"$f":"+D75+E75","v":50},{"$f":"SUM(D76:D80)","v":12},{"$f":"SUM(E76:E80)","v":38},{"$f":"+G75+H75","v":0},{"$f":"SUM(G76:G80)","v":0},{"$f":"SUM(H76:H80)","v":0},{"$f":"+J75+K75","v":0},{"$f":"SUM(J76:J80)","v":0},{"$f":"SUM(K76:K80)","v":0}]
["Personal Docente",25,25,6,19,0,0,0,0,0,0]
["Personal de Investigación y Extensión",0,0,0,0,0,0,0,0,0,0]
["Docente-Investigador",25,25,6,19,0,0,0,0,0,0]
["Personal de Gestión Universitaria",0,0,0,0,0,0,0,0,0,0]
["Personal no docente",0,0,0,0,0,0,0,0,0,0]
[]
["INST UNIV MONSEÑOR MARIANO SOLER **",{"$f":"C82+F82+I82","v":69},{"$f":"+D82+E82","v":60},{"$f":"SUM(D83:D87)","v":57},{"$f":"SUM(E83:E87)","v":3},{"$f":"+G82+H82","v":9},{"$f":"SUM(G83:G87)","v":3},{"$f":"SUM(H83:H87)","v":6},{"$f":"+J82+K82","v":0},{"$f":"SUM(J83:J87)","v":0},{"$f":"SUM(K83:K87)","v":0}]
["Personal Docente",60,60,57,3,0,0,0,0,0,0]
["Personal de Investigación y Extensión",0,0,0,0,0,0,0,0,0,0]
["Docente-Investigador",0,0,0,0,0,0,0,0,0,0]
["Personal de Gestión Universitaria",0,0,0,0,0,0,0,0,0,0]
["Personal no docente",9,0,0,0,9,3,6,0,0,0]
[]
["INST UNIV FRANCISCO DE ASIS ",{"$f":"C89+F89+I89","v":149},{"$f":"+D89+E89","v":149},{"$f":"SUM(D90:D94)","v":91},{"$f":"SUM(E90:E94)","v":58},{"$f":"+G89+H89","v":0},{"$f":"SUM(G90:G94)","v":0},{"$f":"SUM(H90:H94)","v":0},{"$f":"+J89+K89","v":0},{"$f":"SUM(J90:J94)","v":0},{"$f":"SUM(K90:K94)","v":0}]
["Personal Docente",118,118,82,36,0,0,0,0,0,0]
["Personal de Investigación y Extensión",0,0,0,0,0,0,0,0,0,0]
["Docente-Investigador",6,6,2,4,0,0,0,0,0,0]
["Personal de Gestión Universitaria",11,11,2,9,0,0,0,0,0,0]
["Personal no docente",14,14,5,9,0,0,0,0,0,0]
[]
["INST UNIV BIOS **",{"$f":"C96+F96+I96","v":99},{"$f":"+D96+E96","v":90},{"$f":"SUM(D97:D101)","v":42},{"$f":"SUM(E97:E101)","v":48},{"$f":"+G96+H96","v":9},{"$f":"SUM(G97:G101)","v":1},{"$f":"SUM(H97:H101)","v":8},{"$f":"+J96+K96","v":0},{"$f":"SUM(J97:J101)","v":0},{"$f":"SUM(K97:K101)","v":0}]
["Personal Docente",71,65,34,31,6,1,5,0,0,0]
["Personal de Investigación y Extensión",0,0,0,0,0,0,0,0,0,0]
["Docente-Investigador",13,10,3,7,3,0,3,0,0,0]
["Personal de Gestión Universitaria",0,0,0,0,0,0,0,0,0,0]
["Personal no docente",15,15,5,10,0,0,0,0,0,0]
[]
["INST UNIV CEDIIAP",{"$f":"C103+F103+I103","v":66},{"$f":"+D103+E103","v":59},{"$f":"SUM(D104:D108)","v":19},{"$f":"SUM(E104:E108)","v":40},{"$f":"+G103+H103","v":3},{"$f":"SUM(G104:G108)","v":0},{"$f":"SUM(H104:H108)","v":3},{"$f":"+J103+K103","v":4},{"$f":"SUM(J104:J108)","v":3},{"$f":"SUM(K104:K108)","v":1}]
["Personal Docente",48,48,10,38,0,0,0,0,0,0]
["Personal de Investigación y Extensión",0,0,0,0,0,0,0,0,0,0]
["Docente-Investigador",11,11,9,2,0,0,0,0,0,0]
["Personal de Gestión Universitaria",0,0,0,0,0,0,0,0,0,0]
["Personal no docente",7,0,0,0,3,0,3,4,3,1]
[]
["Fundación Politécnico de Punta del Este",51,45,{"$f":"SUM(D111:D115)","v":25},{"$f":"SUM(E111:E115)","v":20},1,{"$f":"SUM(G111:G115)","v":1},{"$f":"SUM(H111:H115)","v":0},5,{"$f":"SUM(J111:J115)","v":2},{"$f":"SUM(K111:K115)","v":3}]
["Personal Docente",43,41,22,19,1,1,0,1,1,0]
["Personal de Investigación y Extensión",3,3,2,1,0,0,0,0,0,0]
["Docente-Investigador",1,1,1,0,0,0,0,0,0,0]
["Personal de Gestión Universitaria",0,0,0,0,0,0,0,0,0,0]
["Personal no docente",4,0,0,0,0,0,0,4,1,3]
[]
["Escuela de Policía",0,0,{"$f":"SUM(D118:D122)","v":0},{"$f":"SUM(E118:E122)","v":0},0,{"$f":"SUM(G118:G122)","v":0},{"$f":"SUM(H118:H122)","v":0},0,{"$f":"SUM(J118:J122)","v":0},{"$f":"SUM(K118:K122)","v":0}]
["Personal Docente",0,0,"s/d","s/d",0,"s/d","s/d",0,"s/d","s/d"]
["Personal de Investigación y Extensión",0,0,"s/d","s/d",0,"s/d","s/d",0,"s/d","s/d"]
["Docente-Investigador",0,0,"s/d","s/d",0,"s/d","s/d",0,"s/d","s/d"]
["Personal de Gestión Universitaria",0,0,"s/d","s/d",0,"s/d","s/d",0,"s/d","s/d"]
["Personal no docente",0,0,"s/d","s/d",0,"s/d","s/d",0,"s/d","s/d"]
[]
["Escuela Naval",{"$f":"C124+F124+I124","v":258},{"$f":"+D124+E124","v":44},{"$f":"SUM(D125:D129)","v":33},{"$f":"SUM(E125:E129)","v":11},{"$f":"+G124+H124","v":0},{"$f":"SUM(G125:G129)","v":0},{"$f":"SUM(H125:H129)","v":0},{"$f":"+J124+K124","v":214},{"$f":"SUM(J125:J129)","v":208},{"$f":"SUM(K125:K129)","v":6}]
["Personal Docente",132,44,33,11,0,0,0,88,82,6]
["Personal de Investigación y Extensión",0,0,0,0,0,0,0,0,0,0]
["Docente-Investigador",0,0,0,0,0,0,0,0,0,0]
["Personal de Gestión Universitaria",0,0,0,0,0,0,0,0,0,0]
["Personal no docente",126,0,0,0,0,0,0,126,126,0]
[]
["Centro de Altos Estudios Nacionales",{"$f":"C131+F131+I131","v":178},{"$f":"+D131+E131","v":0},{"$f":"SUM(D132:D136)","v":0},{"$f":"SUM(E132:E136)","v":0},{"$f":"+G131+H131","v":171},{"$f":"SUM(G132:G136)","v":116},{"$f":"SUM(H132:H136)","v":55},{"$f":"+J131+K131","v":7},{"$f":"SUM(J132:J136)","v":2},{"$f":"SUM(K132:K136)","v":5}]
["Personal Docente",122,0,0,0,122,102,20,0,0,0]
["Personal de Investigación y Extensión",0,0,0,0,0,0,0,0,0,0]
["Docente-Investigador",0,0,0,0,0,0,0,0,0,0]
["Personal de Gestión Universitaria",0,0,0,0,0,0,0,0,0,0]
["Personal no docente",56,0,0,0,49,14,35,7,2,5]
["Fuente: Oficinas Productoras de cada una de las Instituciones. "]
["Nota:* Padrón Setiembre 2011 - SECIU. No se dispone de la información discriminada por sexo. El personal no docente es Técnico, Administrativo y de Servicios (T/A/S)."]
["** No se dispone de datos correspondientes al año 2012, se incorpora el último dato disponible (año 2011)."]

{"sheet":"II-7.2.10 ","index":261,"n_rows":71,"n_cols":7,"rows_kept":71,"cut":false,"hidden":false,"merged":[[69,0,69,6],[70,0,70,6],[0,2,1,4],[4,0,4,6],[5,0,6,0],[5,1,6,1],[5,2,5,5],[68,0,68,6]]}
["UNIVERSIDADES PRIVADAS E INSTITUTOS UNIVERSITARIOS",null,"ALUMNOS MATRICULADOS"]
[]
["Cuadro Nº II-7.2.10"]
[]
["ALUMNOS INGRESADOS Y MATRICULADOS DE GRADO EN UNIVERSIDADES E INSTITUTOS UNIVERSITARIOS, SEGÚN INSTITUCIÓN Y LUGAR DE ORIGEN. AÑO 2012."]
["INSTITUCIÓN / FORMACIÓN","TOTAL","ORIGEN DE LOS ESTUDIANTES"]
[null,null,"Total Uruguay","Montevideo","Interior","Extranjero","Sin dato"]
[]
["UDELAR (*)"]
["Ingresados","s/d","s/d","s/d","s/d","s/d","s/d"]
["Matriculados",{"$f":"SUM(D11:G11)","v":85905},{"$f":"SUM(D11:E11)","v":85023},42763,42260,854,28]
[]
["UCUDAL"]
["Ingresados",{"$f":"SUM(D14:G14)","v":1412},{"$f":"SUM(D14:E14)","v":1360},948,412,52,0]
["Matriculados",{"$f":"SUM(D15:G15)","v":6971},{"$f":"SUM(D15:E15)","v":6740},4838,1902,231,0]
[]
["UNIVERSIDAD ORT URUGUAY (**)"]
["Ingresados",{"$f":"SUM(D18:G18)","v":1113},{"$f":"SUM(D18:E18)","v":1107},849,258,6,0]
["Matriculados",{"$f":"SUM(D19:G19)","v":6961},{"$f":"SUM(D19:E19)","v":6879},5152,1727,82,0]
[]
["UNIVERSIDAD DE MONTEVIDEO"]
["Ingresados",{"$f":"SUM(D22:G22)","v":334},{"$f":"SUM(D22:E22)","v":331},237,94,3,0]
["Matriculados",{"$f":"SUM(D23:G23)","v":1618},{"$f":"SUM(D23:E23)","v":1602},1165,437,16,0]
[]
["UNIVERSIDAD DE LA EMPRESA"]
["Ingresados",{"$f":"SUM(D26:G26)","v":471},{"$f":"SUM(D26:E26)","v":469},347,122,2,0]
["Matriculados",{"$f":"SUM(D27:G27)","v":2519},{"$f":"SUM(D27:E27)","v":2517},2169,348,2,0]
[]
["INST UNIV ASOCIACIÓN CRISTIANA DE JÓVENES"]
["Ingresados",{"$f":"SUM(D30:F30)","v":129},{"$f":"SUM(D30:E30)","v":129},129,0,0,0]
["Matriculados",{"$f":"SUM(D31:G31)","v":454},{"$f":"SUM(D31:E31)","v":454},454,0,0,0]
[]
["INST UNIV CLAEH "]
["Ingresados",{"$f":"SUM(D34:G34)","v":94},{"$f":"SUM(D34:E34)","v":84},28,56,10,0]
["Matriculados",{"$f":"SUM(D35:G35)","v":313},{"$f":"SUM(D35:E35)","v":283},71,212,30,0]
[]
["INST METODISTA UNIV CRANDON"]
["Ingresados",{"$f":"SUM(D38:G38)","v":30},{"$f":"SUM(D38:E38)","v":30},25,5,{"$f":"SUM(G38:H38)","v":0},{"$f":"SUM(H38:I38)","v":0}]
["Matriculados",{"$f":"SUM(D39:G39)","v":44},{"$f":"SUM(D39:E39)","v":44},42,2,{"$f":"SUM(G39:H39)","v":0},{"$f":"SUM(H39:I39)","v":0}]
[]
["INST UNIV MONSEÑOR MARIANO SOLER"]
["Ingresados",{"$f":"SUM(D42:G42)","v":16},{"$f":"SUM(D42:E42,G42)","v":7},7,0,9,0]
["Matriculados",{"$f":"SUM(D43:G43)","v":61},37,23,11,27,0]
[]
["INST UNIV FRANCISCO DE ASIS"]
["Ingresados",{"$f":"SUM(D46:G46)","v":29},{"$f":"SUM(D46:E46)","v":29},0,29,0,0]
["Matriculados",{"$f":"SUM(D47:G47)","v":441},{"$f":"SUM(D47:E47)","v":440},15,425,1,0]
[]
["INST UNIV BIOS"]
["Ingresados",{"$f":"SUM(D50:G50)","v":18},{"$f":"SUM(D50:E50)","v":18},11,7,0,0]
["Matriculados",{"$f":"SUM(D51:G51)","v":24},{"$f":"SUM(D51:E51)","v":24},13,11,0,0]
[]
["INST UNIV CEDIIAP"]
["Ingresados",{"$f":"SUM(D54:G54)","v":43},{"$f":"SUM(D54:E54)","v":43},29,14,0,0]
["Matriculados",{"$f":"SUM(D55:G55)","v":274},{"$f":"SUM(D55:E55)","v":274},203,71,0,0]
[]
["FUNDACIÓN POLITÉCNICO DE PUNTA DEL ESTE"]
["Ingresados",{"$f":"SUM(D58:G58)","v":53},{"$f":"SUM(D58:E58)","v":33},8,25,1,19]
["Matriculados","s/d","s/d","s/d","s/d","s/d","s/d"]
[]
["ESCUELA POLICÍA"]
["Ingresados",{"$f":"SUM(D62:G62)","v":77},"s/d","s/d","s/d","s/d",77]
["Matriculados",{"$f":"SUM(D63:G63)","v":77},"s/d","s/d","s/d","s/d",77]
[]
["ESCUELA NAVAL"]
["Ingresados","s/d","s/d","s/d","s/d","s/d","s/d"]
["Matriculados","s/d","s/d","s/d","s/d","s/d","s/d"]
["Fuente: Oficinas Productoras de cada una de las Instituciones. "]
["Nota: Se excluye a las carreas cortas o tecnicaturas. La categoría \"Sin dato\" refiere a los  alumnos de los cuales no se cuenta con información de origen. "]
["* Censo de Estudiantes 2012 - UdelaR. El dato corresponde a la cantidad de personas."]
["** No se incluyen los estudiantes de intercambio procedentes del extranjero que cursan un período lectivo en la universidad, debido a que no tienen el objetivo académico de graduarse en la Universidad ORT Uruguay."]

{"sheet":"EDUCACIÓN DE JÓVENES Y ADULTOS","index":262,"n_rows":0,"n_cols":0,"rows_kept":0,"cut":false,"hidden":false,"merged":[[37,0,37,4],[22,0,22,4],[26,0,26,4],[28,0,28,4],[30,0,30,4],[32,0,32,4],[34,0,34,4],[20,0,20,4],[10,0,10,4],[12,0,12,4],[14,0,14,4],[16,0,16,4],[18,0,18,4]]}

{"sheet":" II-8.1.1","index":263,"n_rows":31,"n_cols":10,"rows_kept":31,"cut":false,"hidden":false,"merged":[[6,7,7,7],[6,8,6,9],[0,2,0,4],[1,0,1,1],[2,2,3,3],[5,0,5,6],[6,0,7,0],[6,1,7,1],[6,2,6,3],[6,4,7,4],[6,5,6,6]]}
["ANEP",null,"ALUMNOS MATRICULADOS"]
["CODICEN – PROGRAMA NACIONAL DE JÓVENES Y ADULTOS"]
[]
["Cuadro Nº  II-8.1.1"]
[]
["ALUMNOS MATRICULADOS EN EDUCACIÓN PRIMARIA POR SEXO SEGÚN GRANDES ÁREAS Y DEPARTAMENTO. AÑO 2012."]
["GRANDES ÁREAS Y DEPARTAMENTOS","TOTAL","PRIMER  TRAMO: NIVEL I",null,"TOTAL","SEGUNDO TRAMO: NIVEL II",null,"TOTAL","CICLO PRIMARIO TOTAL"]
[null,null,"M","F",null,"M","F",null,"M","F"]
["TOTAL",{"$f":"+B10+B11+B30","v":1697},{"$f":"C10+C11+C30","v":774},{"$f":"D10+D11+D30","v":923},{"$f":"+E10+E11","v":1537},{"$f":"F10+F11","v":745},{"$f":"G10+G11","v":792},{"$f":"+I9+J9","v":3234},{"$f":"SUM(C9+F9)","v":1519},1715]
["MONTEVIDEO",{"$f":"C10+D10","v":571},295,276,{"$f":"F10+G10","v":709},406,303,{"$f":"SUM(B10+E10)","v":1280},701,579]
["RESTO DEL PAÍS",{"$f":"C11+D11","v":601},{"$f":"SUM(C12:C29)","v":290},{"$f":"SUM(D12:D29)","v":311},{"$f":"F11+G11","v":828},{"$f":"SUM(F12:F29)","v":339},{"$f":"SUM(G12:G29)","v":489},1429,629,800]
["Artigas",{"$f":"C12+D12","v":17},5,12,{"$f":"F12+G12","v":28},11,17,45,16,29]
["Canelones",143,66,77,{"$f":"F13+G13","v":242},88,154,385,{"$f":"SUM(C13+F13)","v":154},231]
["Cerro Largo",22,10,12,{"$f":"F14+G14","v":15},8,7,37,18,19]
["Colonia",37,15,22,20,3,17,57,18,39]
["Durazno",{"$f":"SUM(C16:D16)","v":0},0,0,{"$f":"SUM(F16:G16)","v":17},2,15,17,{"$f":"SUM(C16+F16)","v":2},{"$f":"SUM(D16+G16)","v":15}]
["Flores","-","-","-","-","-","-",0,"-","-"]
["Florida",31,17,14,6,3,3,37,20,17]
["Lavalleja",1,1,0,58,30,28,59,31,28]
["Maldonado",47,38,9,53,47,6,100,85,15]
["Paysandú",50,21,29,102,38,64,152,59,93]
["Río Negro",17,12,5,43,20,23,60,32,28]
["Rivera",47,17,30,88,23,65,135,40,95]
["Rocha",34,10,24,6,1,5,40,11,29]
["Salto",84,37,47,2,0,2,86,37,49]
["San José",16,15,1,35,12,23,51,27,24]
["Soriano",34,14,20,54,28,26,88,42,46]
["Tacuarembó",21,12,9,40,16,24,61,28,33]
["Treinta y Tres",0,0,0,19,9,10,19,9,10]
["Prog de Alfabetización ",525,189,336]
["Fuente: ANEP - CODICEN - Programa de Educación de Jóvenes y Adultos."]

{"sheet":" II-8.1.2","index":264,"n_rows":29,"n_cols":4,"rows_kept":29,"cut":false,"hidden":false,"merged":[[0,1,0,3],[1,0,1,1],[2,2,3,3],[4,0,4,4],[5,0,6,0],[5,1,6,1],[5,2,5,3]]}
["ANEP","ALUMNOS MATRICULADOS"]
["CODICEN – PROGRAMA NACIONAL DE JÓVENES Y ADULTOS"]
[]
["Cuadro Nº  II-8.1.2"]
["TALLERES SEGÚN SEXO, GRANDES ÁREAS Y DEPARTAMENTOS. AÑO 2012."]
["GRANDES ÁREAS Y DEPARTAMENTOS","TOTAL","TALLERES"]
[null,null,"M","F"]
["TOTAL",{"$f":"+B9+B10","v":4291},{"$f":"C9+C10","v":1879},{"$f":"D9+D10","v":2412}]
["MONTEVIDEO",{"$f":"C9+D9","v":3603},1545,2058]
["RESTO DEL PAÍS",688,334,354]
["Artigas",0,"-","-"]
["Canelones",{"$f":"C12+D12","v":133},59,74]
["Cerro Largo",15,9,6]
["Colonia",33,9,24]
["Durazno",{"$f":"C15+D15","v":0},"-","-"]
["Flores",15,7,8]
["Florida",7,7,0]
["Lavalleja",30,9,21]
["Maldonado",18,15,3]
["Paysandú",9,4,5]
["Río Negro",13,9,4]
["Rivera",82,39,43]
["Rocha",0,"-","-"]
["Salto",{"$f":"C24+D24","v":176},94,82]
["San José",0,"-","-"]
["Soriano",15,3,12]
["Tacuarembó",142,70,72]
["Treinta y Tres",0,"-","-"]
["Fuente: ANEP - CODICEN - Dirección Sectorial de Educación de Adultos"]

{"sheet":"II-8.1.3","index":265,"n_rows":30,"n_cols":4,"rows_kept":30,"cut":false,"hidden":false,"merged":[[0,3,0,4],[29,0,29,6],[31,0,31,6],[2,0,2,4],[3,0,3,3],[4,0,6,0],[4,1,6,1],[4,2,4,3],[5,2,5,3]]}
["ANEP",null,null,"PRUEBAS DE ACREDITACIÓN"]
["CODICEN – DIRECCIÓN SECTORIAL DE EDUCACIÓN DE ADULTOS"]
["Cuadro Nº II-8.1.3"]
["CANTIDAD DE PRUEBAS DE ACREDITACIÓN SEGÚN SEXO, GRANDES ÁREAS Y DEPARTAMENTOS. AÑO 2012."]
["GRANDES ÁREAS Y DEPARTAMENTOS","TOTAL","Prueba de Acreditación"]
[null,null,"SEXO"]
[null,null,"M","F"]
["TOTAL",{"$f":"+B9+B10","v":1154},{"$f":"C9+C10","v":534},{"$f":"D9+D10","v":620}]
["MONTEVIDEO",{"$f":"C9+D9","v":333},175,158]
["RESTO DEL PAÍS",{"$f":"C10+D10","v":821},359,462]
["Artigas",{"$f":"C11+D11","v":38},9,29]
["Canelones",179,77,102]
["Cerro Largo",28,10,18]
["Colonia",9,2,7]
["Durazno",37,8,29]
["Flores",7,2,5]
["Florida",16,8,8]
["Lavalleja",10,4,6]
["Maldonado",49,27,22]
["Paysandú",88,49,39]
["Río Negro",39,24,15]
["Rivera",33,9,24]
["Rocha",23,9,14]
["Salto",61,15,46]
["San José",113,76,37]
["Soriano",27,10,17]
["Tacuarembó",48,18,30]
["Treinta y Tres",16,2,14]
["Fuente: ANEP - CODICEN - Dirección Sectorial de Educación de Adultos"]
["Observaciones: La modalidad Prueba de Acreditación corresponde a Segundo Tramo "]

{"sheet":"II-8.1.4","index":266,"n_rows":29,"n_cols":11,"rows_kept":29,"cut":false,"hidden":false,"merged":[[10,6,10,7],[10,9,10,10],[0,10,1,12],[4,0,4,12],[7,0,11,0],[7,2,9,4],[7,5,8,10],[9,6,9,7],[9,9,9,10],[10,2,11,2],[10,3,10,4]]}
["CONSEJO DE EDUCACIÓN TÉCNICO PROFESIONAL (U.T.U.)",null,null,null,null,null,null,null,null,null,"ALUMNOS MATRICULADOS"]
[]
["Cuadro Nº II-8.1.4"]
[]
["ALUMNOS MATRICULADOS EN CURSOS DE EDUCACIÓN TÉCNICA PARA JÓVENES Y ADULTOS POR GRANDES ÁREAS Y SEXO SEGÚN TIPO DE CURSO. AÑO 2012"]
[]
[]
["TIPO DE CURSO",null,"TOTAL",null,null,"GRANDES ÁREAS"]
[]
[null,"TOTAL ",null,null,null,null,"MONTEVIDEO ",null,null,"RESTO DEL PAÍS"]
[null,null,"Total","SEXO",null,null,"SEXO",null,null,"SEXO"]
[null,"Total ",null,"Masculino","Femenino","Total ","Masculino ","Femenino ","Total","Masculino ","Femenino"]
["TOTAL",null,{"$f":"SUM(C16:C28)","v":9859},4964,4895,4501,2261,2240,5358,2703,2655]
[]
["Nivel Formación profesional "]
["Acreditación de saberes",null,{"$f":"+D16+E16","v":60},{"$f":"+G16+J16","v":4},{"$f":"+H16+K16","v":56},{"$f":"+G16+H16","v":0},0,0,{"$f":"+J16+K16","v":60},4,56]
["Capacitación Profesional",null,{"$f":"+D17+E17","v":213},{"$f":"+G17+J17","v":129},84,{"$f":"+G17+H17","v":107},67,40,{"$f":"+J17+K17","v":106},62,44]
["Capacitación Profesional Básica",null,4469,2274,2195,1100,623,477,3369,1651,1718]
["Curso Básico",null,767,374,393,567,285,282,200,89,111]
["Curso Básico Especialización",null,822,398,424,449,286,163,373,112,261]
["Form.Prof. en Artes y Artesanías",null,502,290,212,483,282,201,19,8,11]
["Formación Profesional Acelerada",null,14,13,1,14,13,1,0,0,0]
["Formación Profesional Básica",null,1943,942,1001,960,350,610,983,592,391]
["Formación Profesional Especializada",null,185,24,161,185,24,161,0,0,0]
["Capacitación Profesional Superior",null,{"$f":"+D25+E25","v":361},{"$f":"+G25+J25","v":226},{"$f":"+H25+K25","v":135},{"$f":"+G25+H25","v":167},78,89,{"$f":"+J25+K25","v":194},148,46]
["Capacitación Técnica",null,{"$f":"+D26+E26","v":65},{"$f":"+G26+J26","v":14},51,{"$f":"+G26+H26","v":65},14,51,{"$f":"+J26+K26","v":0},0,0]
["E. M. P. Especialización",null,{"$f":"+D27+E27","v":73},7,66,{"$f":"+G27+H27","v":70},7,63,{"$f":"+J27+K27","v":3},0,3]
["Formación Profesional Superior",null,{"$f":"+D28+E28","v":385},269,116,{"$f":"+G28+H28","v":334},232,102,{"$f":"+J28+K28","v":51},37,14]
["Fuente: DE-CETP (UTU) "]

{"sheet":"II-8.1.5","index":267,"n_rows":23,"n_cols":13,"rows_kept":23,"cut":false,"hidden":false,"merged":[[0,11,1,13],[4,0,4,13],[5,0,6,0],[5,2,5,12],[5,1,6,1]]}
["CONSEJO DE EDUCACIÓN TÉCNICO PROFESIONAL (U.T.U.)",null,null,null,null,null,null,null,null,null,null,"ALUMNOS MATRICULADOS"]
[]
["Cuadro Nº II-8.1.5"]
[]
["ALUMNOS MATRICULADOS EN CURSOS DE EDUCACIÓN TÉCNICA PARA JÓVENES Y ADULTOS POR EDAD SEGÚN TIPO DE CURSO. AÑO 2012."]
["TIPO DE CURSO","TOTAL","EDAD"]
[null,null,"13 años","14 años","15 años","16 años","17 años","18años","19años","20 a 24 años","25 a 29 años","30 años y más","Edad desconocida"]
["TOTAL",{"$f":"SUM(B9:B21)","v":9859},{"$f":"SUM(C9:C21)","v":5},99,1053,1328,1147,713,441,1367,784,2921,1]
["Acreditación de Saberes",{"$f":"+C9+D9+E9+F9+G9+H9+I9+J9+K9+L9+M9","v":60},0,0,0,0,0,0,0,3,5,52,0]
["Capacitación Profesional",{"$f":"+C10+D10+E10+F10+G10+H10+I10+J10+K10+L10+M10","v":213},0,0,8,17,10,12,13,28,21,104,0]
["Capacitación Profesional Básica",4469,2,56,534,588,515,302,163,551,355,1402,1]
["Curso Básico",767,0,9,134,185,109,57,30,77,42,124,0]
["Curso Básico Especialización",822,0,5,52,128,131,85,41,100,62,218,0]
["Form.Prof. en Artes y Artesanías",502,0,0,9,11,15,18,23,110,65,251,0]
["Formación Profesional Acelerada",14,0,0,0,0,0,1,0,1,0,12,0]
["Formación Profesional Básica",1943,3,28,290,327,272,119,74,216,120,494,0]
["Formación Profesional Especializada",185,0,0,2,11,26,28,12,46,20,40,0]
["Capacitación Profesional Superior",{"$f":"+C18+D18+E18+F18+G18+H18+I18+J18+K18+L18+M18","v":361},0,1,9,27,21,26,28,54,48,147,0]
["Capacitación Técnica",{"$f":"+C19+D19+E19+F19+G19+H19+I19+J19+K19+L19+M19","v":65},0,0,7,3,3,6,4,17,6,19,0]
["E. M. P. Especialización",{"$f":"+C20+D20+E20+F20+G20+H20+I20+J20+K20+L20+M20","v":73},0,0,0,0,9,8,10,36,3,7,0]
["Formación Profesional Superior",{"$f":"+C21+D21+E21+F21+G21+H21+I21+J21+K21+L21+M21","v":385},0,0,8,31,36,51,43,128,37,51,0]
[]
["Fuente: DE - CETP (UTU)"]

{"sheet":"II-8.1.6","index":268,"n_rows":29,"n_cols":5,"rows_kept":29,"cut":false,"hidden":false,"merged":[[4,0,5,0],[4,1,5,1],[3,0,3,2],[0,4,0,6]]}
["CONSEJO DE EDUCACIÓN TÉCNICO PROFESIONAL (U.T.U.)",null,null,null,"ALUMNOS MATRICULADOS"]
[]
["Cuadro Nº II-8.1.6"]
["ALUMNOS MATRICULADOS EN EDUCACIÓN  TÉCNICA EN NIVEL DE FORMACION PROFESIONAL. AÑO 2012."]
["DEPARTAMENTO ","Total "]
[]
["TOTAL ",9859]
["MONTEVIDEO ",4501]
["RESTO DEL PAÍS",5358]
["Artigas",414]
["Canelones",1253]
["Cerro Largo",246]
["Colonia",354]
["Durazno",183]
["Flores",60]
["Florida",72]
["Lavalleja",87]
["Maldonado",167]
["Paysandú",134]
["Rio Negro",88]
["Rivera",229]
["Rocha",507]
["Salto",354]
["San José",422]
["Soriano",255]
["Tacuarembó",345]
["Treinta y Tres",188]
[]
["Fuente: DE - CETP (UTU)"]

{"sheet":"II-8.1.7","index":269,"n_rows":43,"n_cols":3,"rows_kept":43,"cut":false,"hidden":false,"merged":[[0,0,1,1],[0,2,0,3],[4,0,4,3],[6,0,7,0],[6,1,7,1]]}
["CONSEJO DE EDUCACIÓN TÉCNICO PROFESIONAL (UTU)",null,"ALUMNOS MATRICULADOS"]
[]
["Cuadro Nº II-8.1.7"]
[]
["ALUMNOS MATRICULADOS EN EDUCACIÓN TÉCNICA POR TIPO DE CURSO SEGÚN ÁREAS Y SECTORES DE ESTUDIO AÑO 2012."]
[]
["ÁREAS Y SECTOR DE ESTUDIO","Total"]
[]
["TOTAL",9859]
["AGRICULTURA Y PESCA",161]
["Agropecuario",19]
["Hortifruticultura y jardinería",142]
["INDUSTRIA",4513]
["Metal - mecánica",908]
["Electricidad y electrónica",449]
["Producción de alimentos",1520]
["Textil y confección de vestimenta",623]
["Cuero y calzado",112]
["Madera y muebles",269]
["Gráficos",326]
["Cerámica",106]
["Mant, reparac y serv a la producción",114]
["Química, Termodinámica y Agro energía",86]
["MANTENIMIENTO Y REPARACIÓN DE VEHÍCULOS",560]
["Mantenimiento y reparación de vehículos",560]
["CONSTRUCCIÓN",636]
["Construcción y Arquitectura",636]
["COMERCIO,ADMINIST,INFORM Y COMUNICACIÓN",1257]
["Comercio y administración",176]
["Informática",1081]
["SERVICIOS",1903]
["Hotelería",214]
["Gastronomía",1070]
["Turismo",90]
["Servicios personales",469]
["Protección al medio ambiente ",60]
["ARTES Y ARTESANÍAS",829]
["Artes",212]
["Artesanías",617]
[]
["Fuente: DE - UTU"]
["Nota: El presente cuadro no incluye las Áreas y Sectores de Estudios contenidos en Educación "]
["      Media Básica y Superior, en tanto solo aplican para dichos niveles "]

{"sheet":"II-8.1.8","index":270,"n_rows":79,"n_cols":10,"rows_kept":79,"cut":false,"hidden":false,"merged":[[76,0,76,9],[78,0,78,9],[77,0,77,9],[0,5,1,7],[6,0,6,9],[7,0,9,0],[7,1,9,1],[7,2,7,3],[7,4,9,4],[7,5,7,6],[7,7,9,7],[7,8,7,9],[8,2,8,3],[8,5,8,6],[8,8,8,9],[75,0,75,9]]}
["MEC - DIRECCIÓN DE EDUCACIÓN",null,null,null,null,"ALUMNOS MATRICULADOS"]
["ÁREA DE EDUCACIÓN NO FORMAL"]
[]
[]
["Cuadro Nº II-8.1.8"]
[]
["ALUMNOS INGRESADOS, MATRICULADOS Y EGRESADOS EN CECAP POR SEXO, SEGÚN DEPARTAMENTO Y EDAD AÑO 2012"]
["DEPARTAMENTO Y EDAD","TOTAL ","INGRESADOS",null,"TOTAL ","MATRICULADOS",null,"TOTAL ","EGRESADOS"]
[null,null,"SEXO",null,null,"SEXO",null,null,"SEXO"]
[null,null,"M","F",null,"M","F",null,"M","F"]
["TOTAL",{"$f":"SUM(C11:D11)","v":1044},{"$f":"+C13+C17","v":562},{"$f":"+D13+D17","v":482},{"$f":"SUM(E13+E17)","v":2135},{"$f":"+F13+F17","v":1171},{"$f":"+G13+G17","v":964},{"$f":"I11+J11","v":360},{"$f":"+I13+I17","v":202},{"$f":"+J13+J17","v":158}]
[]
["MONTEVIDEO",{"$f":"SUM(C13:D13)","v":284},{"$f":"C14+C15","v":146},{"$f":"D14+D15","v":138},{"$f":"F13+G13","v":697},{"$f":"F14+F15","v":352},{"$f":"G14+G15","v":345},{"$f":"I13+J13","v":87},{"$f":"I14+I15","v":45},{"$f":"J14+J15","v":42}]
["    14 a 17 años",{"$f":"SUM(C14:D14)","v":224},115,109,{"$f":"F14+G14","v":563},283,280,{"$f":"I14+J14","v":51},24,27]
["    18 años y más",{"$f":"SUM(C15:D15)","v":60},31,29,{"$f":"F15+G15","v":134},69,65,{"$f":"I15+J15","v":36},21,15]
[]
["RESTO DEL PAÍS",{"$f":"SUM(C17+D17)","v":760},{"$f":"C18+C19","v":416},{"$f":"D18+D19","v":344},{"$f":"SUM(F17+G17)","v":1438},{"$f":"F18+F19","v":819},{"$f":"G18+G19","v":619},{"$f":"I17+J17","v":273},{"$f":"I18+I19","v":157},{"$f":"J18+J19","v":116}]
["    14 a 17 años",{"$f":"C18+D18","v":657},{"$f":"+C27+C30+C34+C47+C62+C66+C70+C42+C54+C22+C74+C38+C50++C58","v":362},{"$f":"+D27+D30+D34+D47+D62+D66+D70+D42+D54+D22+D74+D38+D50++D58","v":295},{"$f":"SUM(F18+G18)","v":1242},{"$f":"+F27+F30+F34+F47+F62+F66+F70+F42+F54+F22+F74","v":718},{"$f":"+G27+G30+G34+G47+G62+G66+G70+G42+G54+G22+G74","v":524},{"$f":"I18+J18","v":224},{"$f":"+I27+I30+I34+I47+I62+I66+I70+I42+I54+I22+I74+I38+I50++I58","v":129},{"$f":"+J27+J30+J34+J47+J62+J66+J70+J42+J54+J22+J74+J38+J50++J58","v":95}]
["    18 años y más",{"$f":"C19+D19","v":103},{"$f":"+C28+C31+C35+C48+C63+C67+C71+C43+C55+C23+C75++C39+C59+C51","v":54},{"$f":"+D28+D31+D35+D48+D63+D67+D71+D43+D55+D23+D75++D39+D59+D51","v":49},{"$f":"F19+G19","v":196},{"$f":"+F28+F31+F35+F48+F63+F67+F71+F43+F55+F23+F75","v":101},{"$f":"+G28+G31+G35+G48+G63+G67+G71+G43+G55+G23+G75","v":95},{"$f":"I19+J19","v":49},{"$f":"+I28+I31+I35+I48+I63+I67+I71+I43+I55+I23+I75++I39+I59+I51","v":28},{"$f":"+J28+J31+J35+J48+J63+J67+J71+J43+J55+J23+J75++J39+J59+J51","v":21}]
[]
["Artigas",50,{"$f":"C22+C23","v":29},{"$f":"D22+D23","v":21},88,{"$f":"F22+F23","v":49},{"$f":"G22+G23","v":39},{"$f":"I21+J21","v":13},{"$f":"I22+I23","v":8},{"$f":"J22+J23","v":5}]
["    14 a 17 años",{"$f":"C22+D22","v":43},25,18,{"$f":"F22+G22","v":73},41,32,{"$f":"I22+J22","v":7},5,2]
["    18 años y más",{"$f":"C23+D23","v":7},4,3,{"$f":"F23+G23","v":15},8,7,{"$f":"I23+J23","v":6},3,3]
[]
["Canelones",{"$f":"SUM(B26+B29)","v":122},{"$f":"SUM(C26+C29)","v":56},{"$f":"SUM(D26+D29)","v":66},{"$f":"SUM(E29+E26)","v":313},{"$f":"SUM(F26+F29)","v":144},{"$f":"SUM(G26+G29)","v":169},{"$f":"SUM(H26+H29)","v":50},{"$f":"SUM(I26+I29)","v":27},{"$f":"SUM(J26+J29)","v":23}]
["  Barros Blancos",{"$f":"C26+D26","v":45},{"$f":"C27+C28","v":26},{"$f":"D27+D28","v":19},{"$f":"F26+G26","v":138},{"$f":"F27+F28","v":68},{"$f":"G27+G28","v":70},{"$f":"I26+J26","v":23},{"$f":"I27+I28","v":12},{"$f":"J27+J28","v":11}]
["    14 a 17 años",39,22,17,119,58,61,18,10,8]
["    18 años y más",6,4,2,19,10,9,5,2,3]
["  La Paz",77,{"$f":"C30+C31","v":30},{"$f":"D30+D31","v":47},175,{"$f":"F30+F31","v":76},{"$f":"G30+G31","v":99},27,{"$f":"I30+I31","v":15},{"$f":"J30+J31","v":12}]
["    14 a 17 años",58,24,34,150,64,86,20,11,9]
["    18 años y más",19,6,13,25,12,13,7,4,3]
[]
["Colonia",{"$f":"C33+D33","v":51},{"$f":"C34+C35","v":27},{"$f":"D34+D35","v":24},{"$f":"F33+G33","v":86},{"$f":"F34+F35","v":54},{"$f":"G34+G35","v":32},{"$f":"I33+J33","v":26},{"$f":"I34+I35","v":17},{"$f":"J34+J35","v":9}]
["    14 a 17 años",{"$f":"C34+D34","v":47},25,22,{"$f":"F34+G34","v":72},46,26,{"$f":"I34+J34","v":21},14,7]
["    18 años y más",{"$f":"C35+D35","v":4},2,2,{"$f":"F35+G35","v":14},8,6,{"$f":"I35+J35","v":5},3,2]
[]
["Durazno",59,31,28,"s/d","s/d","s/d",9,6,3]
["    14 a 17 años",51,26,25,"s/d","s/d","s/d",8,5,3]
["    18 años y más",8,5,3,"s/d","s/d","s/d",1,1,0]
[]
["Florida",{"$f":"C41+D41","v":42},{"$f":"C42+C43","v":30},{"$f":"D42+D43","v":12},{"$f":"F41+G41","v":72},{"$f":"F42+F43","v":45},{"$f":"G42+G43","v":27},{"$f":"I41+J41","v":12},{"$f":"I42+I43","v":7},{"$f":"J42+J43","v":5}]
["    14 a 17 años",{"$f":"C42+D42","v":34},24,10,{"$f":"F42+G42","v":67},42,25,{"$f":"I42+J42","v":11},6,5]
["    18 años y más",{"$f":"C43+D43","v":8},6,2,{"$f":"F43+G43","v":5},3,2,{"$f":"I43+J43","v":1},1,0]
[]
["Maldonado ",{"$f":"SUM(C45:D45)","v":65},{"$f":"SUM(C46+C49)","v":32},{"$f":"SUM(D46+D49)","v":33},{"$f":"SUM(F45:G45)","v":69},{"$f":"SUM(F46)","v":38},{"$f":"SUM(G46)","v":31},{"$f":"SUM(I45:J45)","v":26},{"$f":"SUM(I46+I49)","v":16},{"$f":"SUM(J46+J49)","v":10}]
["San Carlos",{"$f":"C46+D46","v":44},{"$f":"C47+C48","v":24},{"$f":"D47+D48","v":20},{"$f":"F46+G46","v":69},{"$f":"F47+F48","v":38},{"$f":"G47+G48","v":31},{"$f":"I46+J46","v":23},{"$f":"I47+I48","v":15},{"$f":"J47+J48","v":8}]
["    14 a 17 años",{"$f":"C47+D47","v":39},21,18,{"$f":"F47+G47","v":62},35,27,{"$f":"I47+J47","v":21},14,7]
["    18 años y más",{"$f":"C48+D48","v":5},3,2,{"$f":"F48+G48","v":7},3,4,{"$f":"I48+J48","v":2},1,1]
["Maldonado capital",21,{"$f":"C50+C51","v":8},{"$f":"D50+D51","v":13},"s/d","s/d","s/d",3,{"$f":"I50+I51","v":1},{"$f":"J50+J51","v":2}]
["    14 a 17 años",18,7,11,"s/d","s/d","s/d",3,1,2]
["    18 años y más",3,1,2,"s/d","s/d","s/d",0,0,0]
[]
["Paysandú",{"$f":"C53+D53","v":48},29,19,{"$f":"F53+G53","v":115},72,43,{"$f":"I53+J53","v":27},14,13]
["    14 a 17 años",{"$f":"C54+D54","v":45},27,18,{"$f":"F54+G54","v":108},68,40,{"$f":"I54+J54","v":27},14,13]
["    18 años y más",{"$f":"C55+D55","v":3},2,1,{"$f":"F55+G55","v":7},4,3,{"$f":"I55+J55","v":0},0,0]
[]
["Rocha",{"$f":"SUM(C57+D57)","v":31},{"$f":"C58+C59","v":20},{"$f":"D58+D59","v":11},"s/d","s/d","s/d",{"$f":"SUM(I57+J57)","v":7},{"$f":"I58+I59","v":4},{"$f":"J58+J59","v":3}]
["14 a 17 años",{"$f":"SUM(C58+D58)","v":26},17,9,"s/d","s/d","s/d",{"$f":"SUM(I58+J58)","v":5},3,2]
["18 años y más",{"$f":"SUM(C59+D59)","v":5},3,2,"s/d","s/d","s/d",{"$f":"SUM(I59+J59)","v":2},1,1]
[]
["Río Negro (Young)",{"$f":"C61+D61","v":47},{"$f":"C62+C63","v":26},{"$f":"D62+D63","v":21},{"$f":"F61+G61","v":95},{"$f":"F62+F63","v":49},{"$f":"G62+G63","v":46},{"$f":"I61+J61","v":13},{"$f":"I62+I63","v":7},{"$f":"J62+J63","v":6}]
["    14 a 17 años",{"$f":"C62+D62","v":44},24,20,{"$f":"F62+G62","v":88},45,43,{"$f":"I62+J62","v":10},5,5]
["    18 años y más",{"$f":"C63+D63","v":3},2,1,{"$f":"F63+G63","v":7},4,3,{"$f":"I63+J63","v":3},2,1]
[]
["Rivera",{"$f":"C65+D65","v":131},{"$f":"C66+C67","v":75},{"$f":"D66+D67","v":56},{"$f":"F65+G65","v":334},{"$f":"F66+F67","v":229},{"$f":"G66+G67","v":105},{"$f":"I65+J65","v":41},{"$f":"I66+I67","v":28},{"$f":"J66+J67","v":13}]
["    14 a 17 años",{"$f":"C66+D66","v":114},67,47,{"$f":"F66+G66","v":281},197,84,{"$f":"I66+J66","v":32},22,10]
["    18 años y más",{"$f":"C67+D67","v":17},8,9,{"$f":"F67+G67","v":53},32,21,{"$f":"I67+J67","v":9},6,3]
[]
["Salto",{"$f":"C69+D69","v":43},{"$f":"C70+C71","v":22},{"$f":"D70+D71","v":21},112,{"$f":"F70+F71","v":53},{"$f":"G70+G71","v":56},{"$f":"I69+J69","v":16},{"$f":"I70+I71","v":5},{"$f":"J70+J71","v":11}]
["    14 a 17 años",{"$f":"C70+D70","v":36},19,17,{"$f":"F70+G70","v":89},47,42,{"$f":"I70+J70","v":14},4,10]
["    18 años y más",{"$f":"C71+D71","v":7},3,4,{"$f":"F71+G71","v":20},6,14,{"$f":"I71+J71","v":2},1,1]
[]
["Treinta y Tres",{"$f":"C73+D73","v":71},{"$f":"C74+C75","v":39},{"$f":"D74+D75","v":32},{"$f":"F73+G73","v":157},{"$f":"F74+F75","v":86},{"$f":"G74+G75","v":71},{"$f":"I73+J73","v":33},{"$f":"I74+I75","v":18},{"$f":"J74+J75","v":15}]
["    14 a 17 años",{"$f":"C74+D74","v":63},34,29,{"$f":"F74+G74","v":133},75,58,{"$f":"I74+J74","v":27},15,12]
["    18 años y más",{"$f":"C75+D75","v":8},5,3,{"$f":"F75+G75","v":24},11,13,{"$f":"I75+J75","v":6},3,3]
["Fuente:  Área de Educación No Formal, Dirección de Educación, MEC."]
["Nota: Ingresos: Todos los individuos que comenzaron a cursar la propuesta educativa en el primer o segundo semestre del año 2012."]
["        Matriculados: Todos los individuos que durante el año 2012 cursaron la propuesta educativa. "]
["        Egreso: Todos los individuos que culminaron durante el 2012 los cuatro semestres que prevee la propuesta educativa. "]

{"sheet":"II-8.1.9","index":271,"n_rows":76,"n_cols":7,"rows_kept":76,"cut":false,"hidden":false,"merged":[[73,0,73,6],[74,0,74,6],[75,0,75,6],[0,5,1,7],[6,0,6,6],[7,0,9,0],[7,1,9,1],[7,2,7,3],[7,4,9,4],[7,5,7,6],[8,2,8,3],[8,5,8,6]]}
["MEC - DIRECCIÓN DE EDUCACIÓN",null,null,null,null,"ALUMNOS MATRICULADOS"]
["ÁREA DE EDUCACIÓN NO FORMAL"]
[]
[]
["Cuadro Nº II-8.1.9"]
[]
["ALUMNOS CON EGRESO ANTICIPADO Y DESVINCULADOS DE CECAP POR SEXO, SEGÚN DEPARTAMENTO Y EDAD. AÑO 2012."]
["DEPARTAMENTO Y EDAD","TOTAL ","EGRESO ANTICIPADO",null,"TOTAL ","DESVINCULADOS"]
[null,null,"SEXO",null,null,"SEXO"]
[null,null,"M","F",null,"M","F"]
["TOTAL",{"$f":"SUM(C11:D11)","v":118},{"$f":"+C12+C15","v":55},{"$f":"+D12+D15","v":63},{"$f":"SUM(F11:G11)","v":271},{"$f":"+F12+F15","v":147},{"$f":"+G12+G15","v":124}]
["MONTEVIDEO",{"$f":"SUM(C12:D12)","v":39},{"$f":"SUM(C13+C14)","v":23},{"$f":"SUM(D13+D14)","v":16},{"$f":"SUM(F12:G12)","v":59},{"$f":"SUM(F13+F14)","v":35},{"$f":"SUM(G13+G14)","v":24}]
["    14 a 17 años",29,15,14,42,25,17]
["    18 años y más",10,8,2,17,10,7]
["RESTO DEL PAÍS",79,{"$f":"C16+C17","v":32},{"$f":"D16+D17","v":47},212,{"$f":"F16+F17","v":112},{"$f":"G16+G17","v":100}]
["    14 a 17 años",49,{"$f":"C20+C25+C28+C32+C36+C40+C45+C48+C52+C56+C60+C64+C68+C72","v":17},{"$f":"D20+D25+D28+D32+D36+D40+D45+D48+D52+D56+D60+D64+D68+D72","v":32},173,{"$f":"F20+F25+F28+F32+F36+F40+F45+F48+F52+F56+F60+F64+F68+F72","v":88},{"$f":"G20+G25+G28+G32+G36+G40+G45+G48+G52+G56+G60+G64+G68+G72","v":85}]
["    18 años y más",30,{"$f":"C21+C26+C29+C33+C37+C41+C46+C49+C53+C57+C61+C65+C69+C73","v":15},{"$f":"D21+D26+D29+D33+D37+D41+D46+D49+D53+D57+D61+D65+D69+D73","v":15},39,{"$f":"F21+F26+F29+F33+F37+F41+F46+F49+F53+F57+F61+F65+F69+F73","v":24},{"$f":"G21+G26+G29+G33+G37+G41+G46+G49+G53+G57+G61+G65+G69+G73","v":15}]
[]
["Artigas",4,{"$f":"SUM(C20:C21)","v":1},{"$f":"SUM(D20:D21)","v":3},5,{"$f":"SUM(F20:F21)","v":3},{"$f":"SUM(G20:G21)","v":2}]
["    14 a 17 años",1,0,1,3,1,2]
["    18 años y más",3,1,2,2,2,0]
[]
["Canelones",7,{"$f":"SUM(C24+C27)","v":4},{"$f":"SUM(D24+D27)","v":3},47,{"$f":"SUM(F24+F27)","v":28},{"$f":"SUM(G24+G27)","v":19}]
["  Barros Blancos",4,{"$f":"SUM(C25:C26)","v":2},{"$f":"SUM(D25:D26)","v":2},24,{"$f":"SUM(F25:F26)","v":16},{"$f":"SUM(G25:G26)","v":8}]
["    14 a 17 años",3,2,1,18,11,7]
["    18 años y más",1,0,1,6,5,1]
["  La Paz",3,{"$f":"SUM(C28:C29)","v":2},{"$f":"SUM(D28:D29)","v":1},23,{"$f":"SUM(F28:F29)","v":12},{"$f":"SUM(G28:G29)","v":11}]
["    14 a 17 años",0,0,0,19,10,9]
["    18 años y más",3,2,1,4,2,2]
[]
["Colonia",3,{"$f":"SUM(C32:C33)","v":0},{"$f":"SUM(D32:D33)","v":3},12,{"$f":"SUM(F32:F33)","v":3},{"$f":"SUM(G32:G33)","v":9}]
["    14 a 17 años",3,0,3,12,3,9]
["    18 años y más",0,0,0,0,0,0]
[]
["Durazno",5,{"$f":"SUM(C36:C37)","v":1},{"$f":"SUM(D36:D37)","v":4},1,{"$f":"SUM(F36:F37)","v":0},{"$f":"SUM(G36:G37)","v":1}]
["    14 a 17 años",4,1,3,1,0,1]
["    18 años y más",1,0,1,0,0,0]
[]
["Florida",6,{"$f":"SUM(C40:C41)","v":2},{"$f":"SUM(D40:D41)","v":4},14,{"$f":"SUM(F40:F41)","v":5},{"$f":"SUM(G40:G41)","v":9}]
["    14 a 17 años",6,2,4,13,4,9]
["    18 años y más",0,0,0,1,1,0]
[]
["Maldonado",{"$f":"SUM(C43:D43)","v":12},{"$f":"SUM(C44+C47)","v":4},{"$f":"SUM(D44+D47)","v":8},{"$f":"SUM(F43:G43)","v":12},{"$f":"SUM(F44+F47)","v":5},{"$f":"SUM(G44+G47)","v":7}]
["San Carlos",11,{"$f":"C45+C46","v":4},{"$f":"D45+D46","v":7},12,{"$f":"F45+F46","v":5},{"$f":"G45+G46","v":7}]
["    14 a 17 años",9,3,6,9,4,5]
["    18 años y más",2,1,1,3,1,2]
["Maldonado capital",1,{"$f":"C48+C49","v":0},{"$f":"D48+D49","v":1},0,{"$f":"F48+F49","v":0},{"$f":"G48+G49","v":0}]
["    14 a 17 años",1,0,1,0,0,0]
["    18 años y más",0,0,0,0,0,0]
[]
["Paysandú",18,{"$f":"C52+C53","v":9},{"$f":"D52+D53","v":9},9,{"$f":"F52+F53","v":4},{"$f":"G52+G53","v":5}]
["    14 a 17 años",8,3,5,9,4,5]
["    18 años y más",10,6,4,0,0,0]
[]
["Rocha",3,{"$f":"C56+C57","v":2},{"$f":"D56+D57","v":1},0,{"$f":"F56+F57","v":0},{"$f":"G56+G57","v":0}]
["14 a 17 años",2,2,0,0,0,0]
["18 años y más",1,0,1,0,0,0]
[]
["Río Negro (Young)",3,{"$f":"C60+C61","v":1},{"$f":"D60+D61","v":2},21,{"$f":"F60+F61","v":10},{"$f":"G60+G61","v":11}]
["    14 a 17 años",3,1,2,19,10,9]
["    18 años y más",0,0,0,2,0,2]
[]
["Rivera",6,{"$f":"C64+C65","v":1},{"$f":"D64+D65","v":5},38,{"$f":"F64+F65","v":27},{"$f":"G64+G65","v":11}]
["    14 a 17 años",5,1,4,29,20,9]
["    18 años y más",1,0,1,9,7,2]
[]
["Salto",6,{"$f":"C68+C69","v":3},{"$f":"D68+D69","v":3},25,{"$f":"F68+F69","v":11},{"$f":"G68+G69","v":14}]
["    14 a 17 años",1,1,0,20,9,11]
["    18 años y más",5,2,3,5,2,3]
[]
["Treinta y Tres",6,{"$f":"C72+C73","v":4},{"$f":"D72+D73","v":2},28,{"$f":"F72+F73","v":16},{"$f":"G72+G73","v":12}]
["    14 a 17 años",3,1,2,21,12,9]
["    18 años y más",3,3,0,7,4,3]
["Fuente:  Área de Educación No Formal, Dirección de Educación, MEC."]
["Nota:                                                                                                                                            Egreso Anticipado: Todos los individuos que durante el 2012 egresaron de CECAP para incorporarse a otra propuesta educativa o al mundo del trabajo, habiendo cursado un período menor a cuatro semestres."]
["Desvinculados: Todos los individuos que durante el 2012 dejaron de asistir a la propuesta."]

{"sheet":"II-8.1.10","index":272,"n_rows":64,"n_cols":10,"rows_kept":64,"cut":false,"hidden":false,"merged":[[5,8,5,9],[6,2,6,3],[6,5,6,6],[6,8,6,9],[0,5,1,8],[4,0,4,9],[5,0,7,0],[5,1,7,1],[5,2,5,3],[5,4,7,4],[5,5,5,6],[5,7,7,7]]}
["UNIVERSIDADES PRIVADAS: OFERTAS EDUCATIVAS NO TERCIARIAS",null,null,null,null,"ALUMNOS MATRICULADOS"]
[]
["Cuadro Nº II- 8.1.10"]
[]
["ALUMNOS INGRESADOS, MATRICULADOS Y EGRESADOS EN OFERTAS EDUCATIVAS NO TERCIARIAS DE UNIVERSIDADES PRIVADAS POR SEXO. AÑO 2012."]
["UNIVERSIDAD / ACREDITACIÓN","TOTAL","INGRESADOS",null,"TOTAL","MATRICULADOS",null,"TOTAL","EGRESADOS"]
[null,null,"SEXO",null,null,"SEXO",null,null,"SEXO"]
[null,null,"M","F",null,"M","F",null,"M","F"]
["TOTAL",{"$f":"SUM(C9:D9)","v":1260},{"$f":"+C11+C48","v":809},{"$f":"+D11+D48","v":451},{"$f":"SUM(F9:G9)","v":4497},{"$f":"+F11+F48","v":3075},{"$f":"+G11+G48","v":1422},{"$f":"SUM(I9:J9)","v":535},{"$f":"+I11+I48","v":337},{"$f":"+J11+J48","v":198}]
[]
["UNIVERSIDAD ORT URUGUAY ",{"$f":"SUM(C11:D11)","v":956},{"$f":"SUM(C12:C46)","v":640},{"$f":"SUM(D12:D46)","v":316},{"$f":"SUM(F11:G11)","v":3819},{"$f":"SUM(F12:F46)","v":2703},{"$f":"SUM(G12:G46)","v":1116},{"$f":"SUM(I11:J11)","v":365},{"$f":"SUM(I12:I46)","v":257},{"$f":"SUM(J12:J46)","v":108}]
["Analista en Marketing",{"$f":"+C12+D12","v":125},65,60,{"$f":"+F12+G12","v":324},166,158,{"$f":"+I12+J12","v":8},4,4]
["Analista Programador",95,81,14,439,381,58,51,44,7]
["Diseñador Gráfico",61,30,31,266,146,120,24,11,13]
["Secretariado Ejecutivo",0,0,0,20,1,19,1,0,1]
["Diseñador de Interiores",0,0,0,76,17,59,19,2,17]
["Técnico en Gerencia",61,35,26,257,142,115,8,4,4]
["Técnico en Realización Audiovisual",33,14,19,85,43,42,15,10,5]
["Analista en Publicidad",19,10,9,75,38,37,9,6,3]
["Técnico en Animación Digital",0,0,0,16,11,5,4,3,1]
["Técnico en Electrónica Informática",17,17,0,63,60,3,41,38,3]
["Programador de Páginas Web",0,0,0,11,10,1,0,0,0]
["Diseñador de Páginas Web",0,0,0,12,10,2,25,15,10]
["Técnico en Gerencia Turística",24,10,14,89,44,45,8,3,5]
["Técnico en Diseño de Sonido",47,42,5,158,140,18,13,11,2]
["Analista en Comunicación Corporativa y Relaciones Públicas",38,8,30,132,35,97,12,3,9]
["Técnico en Periodismo Deportivo",0,0,0,19,16,3,2,1,1]
["Técnico en Relaciones Públicas y Organización de Eventos",18,5,13,86,25,61,7,1,6]
["Analista en Tecnologías de la Información",109,94,15,678,603,75,29,22,7]
["Técnico en Electro Electrónica",13,13,0,55,55,0,10,10,0]
["Técnico en Gerencia Comercial",27,16,11,89,53,36,8,5,3]
["Técnico en Edición de Audio Digital",0,0,0,1,1,0,0,0,0]
["Técnico en Sistemas Operativos y Redes",69,62,7,368,349,19,24,24,0]
["Analista en Comercio Exterior",45,24,21,121,60,61,1,0,1]
["Analista Programador de Aplicaciones Web",32,28,4,118,96,22,8,7,1]
["Programador Web - Camino TICs",0,0,0,1,1,0,0,0,0]
["Programador Orientado a Objetos - Camino TICs",0,0,0,17,12,5,6,5,1]
["Técnico en Electrónica Informática - Camino TICs",{"$f":"+C38+D38","v":0},0,0,{"$f":"+F38+G38","v":0},0,0,{"$f":"+I38+J38","v":1},1,0]
["Técnico en Electro Electrónica - Camino TICs",0,0,0,3,3,0,0,0,0]
["Técnico en Producción Musical",12,11,1,27,23,4,0,0,0]
["Técnico en Diseño Web",40,31,9,69,50,19,0,0,0]
["Técnico en Soporte Informático",20,18,2,54,49,5,0,0,0]
["Instalación y mantenimiento de redes",18,18,0,50,48,2,30,26,4]
["Administrador de Sistemas Operativos Microsoft",0,0,0,7,7,0,1,1,0]
["Técnico en Sistemas Eléctricos y Electrónicos",8,6,2,8,6,2,0,0,0]
["Productor de Modas",25,2,23,25,2,23,0,0,0]
[]
["UNIVERSIDAD DE LA EMPRESA",{"$f":"SUM(C48:D48)","v":304},{"$f":"SUM(C49:C63)","v":169},{"$f":"SUM(D49:D63)","v":135},{"$f":"SUM(F48:G48)","v":678},{"$f":"SUM(F49:F63)","v":372},{"$f":"SUM(G49:G63)","v":306},{"$f":"SUM(I48:J48)","v":170},{"$f":"SUM(I49:I63)","v":80},{"$f":"SUM(J49:J63)","v":90}]
["Analista en Comercio Exterior",{"$f":"+C49+D49","v":27},11,16,{"$f":"+F49+G49","v":53},25,28,{"$f":"+I49+J49","v":6},3,3]
["Analista en Marketing",92,46,46,207,108,99,44,17,27]
["Analista en Recursos Humanos",23,4,19,46,8,38,16,4,12]
["Analista en Relaciones Públicas",0,0,0,12,2,10,0,0,0]
["Analista Ejecutivo en Turismo",0,0,0,7,5,2,0,0,0]
["Analista en Publicidad",0,0,0,26,13,13,1,1,0]
["Técnico en Diseño Gráfico",10,5,5,33,19,14,7,3,4]
["Técnico en Diseño de Interiores",{"$f":"+C56+D56","v":12},0,12,{"$f":"+F56+G56","v":27},2,25,{"$f":"+I56+J56","v":9},0,9]
["Técnico en Gerencia",{"$f":"+C57+D57","v":24},17,7,{"$f":"+F57+G57","v":91},55,36,{"$f":"+I57+J57","v":9},6,3]
["Técnico en Gerencia de Ventas",{"$f":"+C58+D58","v":0},0,0,{"$f":"+F58+G58","v":14},11,3,{"$f":"+I58+J58","v":0},0,0]
["Analista en Tecnología Informática",{"$f":"+C59+D59","v":0},0,0,{"$f":"+F59+G59","v":3},2,1,{"$f":"+I59+J59","v":1},1,0]
["Programa de Gestión Agropecuaria",16,10,6,13,8,5,14,5,9]
["Técnico Agropecuario",65,50,15,88,71,17,39,29,10]
["Técnico Forestal",{"$f":"+C62+D62","v":17},16,1,{"$f":"+F62+G62","v":34},31,3,12,8,4]
["Técnico Veterinario",{"$f":"+C63+D63","v":18},10,8,{"$f":"+F63+G63","v":24},12,12,{"$f":"+I63+J63","v":12},3,9]
["Fuente: Oficinas Productoras de cada una de las Instituciones. "]

{"sheet":"II-8.2.1","index":273,"n_rows":87,"n_cols":6,"rows_kept":87,"cut":false,"hidden":false,"merged":[[86,0,86,6],[0,4,1,5],[4,0,4,5],[5,0,8,0],[5,1,8,1],[5,2,5,5],[6,2,6,3],[6,4,6,5],[7,2,7,5]]}
["MEC - DIRECCIÓN DE EDUCACIÓN",null,null,null,"PERSONAL DOCENTE"]
["ÁREA DE EDUCACIÓN NO FORMAL"]
[]
["Cuadro Nº II-8.2.1"]
["PERSONAL DOCENTE DE CECAP,TITULADO Y NO TITULADO, POR SEXO, REGIÓN Y DEPARTAMENTO SEGÚN CARGA HORARIA SEMANAL. AÑO 2012."]
["Dedicación","TOTAL ","DOCENTES"]
[null,null,"TITULADOS",null,"NO TITULADOS"]
[null,null,"SEXO"]
[null,null,"M","F","M","F"]
["TOTAL",{"$f":"SUM(C10:F10)","v":268},{"$f":"+C11+C16","v":26},{"$f":"+D11+D16","v":87},{"$f":"+E11+E16","v":54},{"$f":"+F11+F16","v":101}]
["MONTEVIDEO",{"$f":"SUM(C11:F11)","v":52},{"$f":"SUM(C12:C14)","v":6},{"$f":"SUM(D12:D14)","v":23},{"$f":"SUM(E12:E14)","v":8},{"$f":"SUM(F12:F14)","v":15}]
["Hasta 19 hs semanales",{"$f":"SUM(C12:F12)","v":7},1,4,1,1]
["De 20 hs a 39 hs semanales",{"$f":"SUM(C13:F13)","v":38},5,16,6,11]
["De 40 hs y más semanales",{"$f":"SUM(C14:F14)","v":7},0,3,1,3]
[]
["RESTO DEL PAÍS",{"$f":"SUM(C16:F16)","v":216},{"$f":"SUM(C17:C19)","v":20},{"$f":"SUM(D17:D19)","v":64},{"$f":"SUM(E17:E19)","v":46},{"$f":"SUM(F17:F19)","v":86}]
["Hasta 19 hs semanales",117,{"$f":"C21+C26+C42+C46+C50+C55+C63+C67+C71+C75+C79+C83+C30+C34+C38+C59","v":13},{"$f":"D21+D26+D42+D46+D50+D55+D63+D67+D71+D75+D79+D83+D30+D34+D38+D59","v":22},{"$f":"E21+E26+E42+E46+E50+E55+E63+E67+E71+E75+E79+E83+E30+E34+E38+E59","v":29},{"$f":"F21+F26+F42+F46+F50+F55+F63+F67+F71+F75+F79+F83+F30+F34+F38+F59","v":53}]
["De 20 hs a 39 hs semanales",97,{"$f":"C22+C27+C43+C47+C51+C56+C64+C68+C72+C76+C80+C84+C31+C35+C39+C60","v":7},41,17,32]
["De 40 hs y más semanales",2,0,1,0,1]
["Artigas",18,{"$f":"SUM(C21:C23)","v":2},{"$f":"SUM(D21:D23)","v":7},{"$f":"SUM(E21:E23)","v":4},{"$f":"SUM(F21:F23)","v":5}]
["Hasta 19 hs semanales",10,2,3,1,4]
["De 20 hs a 39 hs semanales",8,0,4,3,1]
["De 40 hs y más semanales",0,0,0,0,0]
["Canelones",31,{"$f":"+C25+C29+C33+C37","v":0},{"$f":"+D25+D29+D33+D37","v":10},{"$f":"+E25+E29+E33+E37","v":7},{"$f":"+F25+F29+F33+F37","v":14}]
["  Barros Blancos",8,{"$f":"SUM(C26:C28)","v":0},{"$f":"SUM(D26:D28)","v":3},{"$f":"SUM(E26:E28)","v":2},{"$f":"SUM(F26:F28)","v":3}]
["Hasta 19 hs semanales",1,0,0,0,1]
["De 20 hs a 39 hs semanales",7,0,3,2,2]
["De 40 hs y más semanales",0,0,0,0,0]
["  La Paz",14,{"$f":"SUM(C30:C32)","v":0},{"$f":"SUM(D30:D32)","v":4},{"$f":"SUM(E30:E32)","v":4},{"$f":"SUM(F30:F32)","v":6}]
["Hasta 19 hs semanales",5,0,0,3,2]
["De 20 hs a 39 hs semanales",8,0,4,1,3]
["De 40 hs y más semanales",1,0,0,0,1]
["  Las Piedras",6,{"$f":"SUM(C34:C36)","v":0},{"$f":"SUM(D34:D36)","v":2},{"$f":"SUM(E34:E36)","v":1},{"$f":"SUM(F34:F36)","v":3}]
["Hasta 19 hs semanales",5,0,1,1,3]
["De 20 hs a 39 hs semanales",1,0,1,0,0]
["De 40 hs y más semanales",0,0,0,0,0]
["  Toledo",3,{"$f":"SUM(C38:C40)","v":0},{"$f":"SUM(D38:D40)","v":1},{"$f":"SUM(E38:E40)","v":0},{"$f":"SUM(F38:F40)","v":2}]
["Hasta 19 hs semanales",0,0,0,0,0]
["De 20 hs a 39 hs semanales",3,0,1,0,2]
["De 40 hs y más semanales",0,0,0,0,0]
["Colonia",{"$f":"SUM(C41:F41)","v":14},{"$f":"SUM(C42:C44)","v":0},{"$f":"SUM(D42:D44)","v":3},{"$f":"SUM(E42:E44)","v":3},{"$f":"SUM(F42:F44)","v":8}]
["Hasta 19 hs semanales",9,0,1,2,6]
["De 20 hs a 39 hs semanales",5,0,2,1,2]
["De 40 hs y más semanales",0,0,0,0,0]
["Durazno",10,{"$f":"SUM(C46:C48)","v":0},{"$f":"SUM(D46:D48)","v":5},{"$f":"SUM(E46:E48)","v":1},{"$f":"SUM(F46:F48)","v":4}]
["Hasta 19 hs semanales",7,0,3,1,3]
["De 20 hs a 39 hs semanales",3,0,2,0,1]
["De 40 hs y más semanales",0,0,0,0,0]
["Florida",12,{"$f":"SUM(C50:C52)","v":1},{"$f":"SUM(D50:D52)","v":3},{"$f":"SUM(E50:E52)","v":4},{"$f":"SUM(F50:F52)","v":4}]
["Hasta 19 hs semanales",8,0,1,4,3]
["De 20 hs a 39 hs semanales",4,1,2,0,1]
["De 40 hs y más semanales",0,0,0,0,0]
["Maldonado",{"$f":"B54+B58","v":20},{"$f":"C54+C58","v":5},{"$f":"D54+D58","v":3},{"$f":"E54+E58","v":5},{"$f":"F54+F58","v":7}]
["Maldonado",{"$f":"SUM(C54:F54)","v":8},{"$f":"SUM(C55:C57)","v":1},{"$f":"SUM(D55:D57)","v":1},{"$f":"SUM(E55:E57)","v":2},{"$f":"SUM(F55:F57)","v":4}]
["Hasta 19 hs semanales",6,0,1,2,3]
["De 20 hs a 39 hs semanales",2,1,0,0,1]
["De 40 hs y más semanales",0,0,0,0,0]
["San Carlos",12,{"$f":"SUM(C59:C61)","v":4},{"$f":"SUM(D59:D61)","v":2},{"$f":"SUM(E59:E61)","v":3},{"$f":"SUM(F59:F61)","v":3}]
["Hasta 19 hs semanales",8,3,0,3,2]
["De 20 hs a 39 hs semanales",4,1,2,0,1]
["De 40 hs y más semanales",0,0,0,0,0]
["Paysandú",16,{"$f":"SUM(C63:C65)","v":2},{"$f":"SUM(D63:D65)","v":5},{"$f":"SUM(E63:E65)","v":2},{"$f":"SUM(F63:F65)","v":7}]
["Hasta 19 hs semanales",10,2,1,1,6]
["De 20 hs a 39 hs semanales",6,0,4,1,1]
["De 40 hs y más semanales",{"$f":"SUM(C65:F65)","v":0},0,0,0,0]
["Río Negro (Young)",17,{"$f":"SUM(C67:C69)","v":0},{"$f":"SUM(D67:D69)","v":6},{"$f":"SUM(E67:E69)","v":1},{"$f":"SUM(F67:F69)","v":10}]
["Hasta 19 hs semanales",8,0,3,1,4]
["De 20 hs a 39 hs semanales",9,0,3,0,6]
["De 40 hs y más semanales",0,0,0,0,0]
["Rivera",26,{"$f":"SUM(C71:C73)","v":3},{"$f":"SUM(D71:D73)","v":7},{"$f":"SUM(E71:E73)","v":8},{"$f":"SUM(F71:F73)","v":8}]
["Hasta 19 hs semanales",5,0,3,1,1]
["De 20 hs a 39 hs semanales",21,3,4,7,7]
["De 40 hs y más semanales",0,0,0,0,0]
["Rocha",12,{"$f":"SUM(C75:C77)","v":1},{"$f":"SUM(D75:D77)","v":5},{"$f":"SUM(E75:E77)","v":3},{"$f":"SUM(F75:F77)","v":3}]
["Hasta 19 hs semanales",8,1,2,2,3]
["De 20 hs a 39 hs semanales",4,0,3,1,0]
["De 40 hs y más semanales",0,0,0,0,0]
["Salto",23,{"$f":"SUM(C79:C81)","v":4},{"$f":"SUM(D79:D81)","v":7},{"$f":"SUM(E79:E81)","v":4},{"$f":"SUM(F79:F81)","v":8}]
["Hasta 19 hs semanales",15,4,1,3,7]
["De 20 hs a 39 hs semanales",7,0,5,1,1]
["De 40 hs y más semanales",1,0,1,0,0]
["Treinta y Tres",17,{"$f":"SUM(C83:C85)","v":2},{"$f":"SUM(D83:D85)","v":3},{"$f":"SUM(E83:E85)","v":4},{"$f":"SUM(F83:F85)","v":8}]
["Hasta 19 hs semanales",12,1,2,4,5]
["De 20 hs a 39 hs semanales",5,1,1,0,3]
["De 40 hs y más semanales",0,0,0,0,0]
[]
["Fuente: Procesamiento propio en base a datos proporcionados por el  Área de Educación No Formal, Dirección de Educación, MEC."]

{"sheet":"II-8.2.2","index":274,"n_rows":24,"n_cols":4,"rows_kept":24,"cut":false,"hidden":false,"merged":[[5,0,6,0],[5,1,6,1],[0,3,1,4],[4,0,4,4]]}
["CONSEJO DE EDUCACIÓN TÉCNICO PROFESIONAL (U.T.U.)",null,null,"PERSONAL DOCENTE"]
[]
["Cuadro Nº II-8.2.2"]
[]
["PERSONAL DOCENTE EN EDUCACIÓN  TECNOLÓGICA POR TIPO DE CURSO. AÑO 2012."]
["EDUCACIÓN MEDIA SUPERIOR","TOTAL"]
[]
["TOTAL",{"$f":"SUM(B9:B23)","v":1374}]
["Formación Profesional Básica",428]
["Formación Profesional Acelerada",1]
["Formación Profesional Especializada",16]
["Formación Profesional en Artes Y Artesanías",64]
["Curso Básico",100]
["Curso Básico de Especialización",116]
["Capacitación",32]
["Capacitación Profesional Básica",388]
["Formación y Des Artesanal y Cultural",1]
["Capacitación Profesional",44]
["Acreditación Saberes",69]
["Curso de Apoyo a Ascensos M. Mercan",5]
["Cursos Mod. Complementario Maquinaria Naval",3]
["Formación Profesional Superior",100]
["Capacitación Técnica",7]
["Fuente: DE - CETP (UTU)"]

{"sheet":"II-8.3.1 ","index":275,"n_rows":24,"n_cols":12,"rows_kept":24,"cut":false,"hidden":false,"merged":[[0,0,0,1],[0,4,1,11],[6,0,6,11],[7,0,10,0],[7,1,8,2],[7,3,10,3],[7,4,8,5],[7,6,8,11],[9,1,10,1],[9,2,10,2],[9,4,9,5],[9,6,10,6],[9,7,9,8],[9,9,10,9],[9,10,9,11]]}
["Consejo de Capacitación Profesional (COCAP)",null,null,null,"CURSOS, ALUMNOS MATRICULADOS Y RECURSOS HUMANOS"]
[]
[]
[]
["Cuadro Nº II-8.3.1"]
[]
["CANTIDAD DE CURSOS, DE HORAS Y DE ALUMNOS MATRICULADOS SEGÚN TIPO DE CURSO Y ÁREA DE FORMACIÓN. AÑO 2012."]
["TIPO DE CURSO Y ÁREA DE FORMACIÓN","CURSOS",null,"TOTAL","ALUMNOS MATRICULADOS",null,"RECURSOS HUMANOS"]
[]
[null,"CANTIDAD","HORAS",null,"SEXO",null,"TOTAL","DOCENTES",null,"TOTAL","FUNCIONARIOS"]
[null,null,null,null,"M","F",null,"M","F",null,"M","F"]
["TOTAL",{"$f":"B13+B18","v":112},{"$f":"SUM(C13,C18)","v":0},{"$f":"E12+F12","v":868},{"$f":"SUM(E13,E18)","v":860},{"$f":"SUM(F13,F18)","v":8},{"$f":"H12+I12","v":31},30,1,{"$f":"K12+L12","v":16},7,9]
["   Cursos Abiertos",104,{"$f":"SUM(C14:C17)","v":0},{"$f":"E13+F13","v":770},764,6,{"$f":"H13+I13","v":23},22,1,{"$f":"K13+L13","v":16},7,9]
["    Industrial",104,0,770,764,6,{"$f":"H14+I14","v":23},22,1,16,7,9]
["    Hotelería / Gastronomía",0,0,0,0,0,0,0,0,0,0,0]
["    Administración y Servicios",0,0,0,0,0,0,0,0,0,0,0]
["    Agropecuario",0,0,0,0,0,0,0,0,0,0,0]
["   Cursos Cerrados",8,{"$f":"SUM(C19:C22)","v":0},98,96,2,8,8,{"$f":"SUM(I19:I22)","v":0},0,{"$f":"SUM(K19:K22)","v":0},{"$f":"SUM(L19:L22)","v":0}]
["    Industrial",8,0,98,96,2,8,8,0,0,0,0]
["    Hotelería / Gastronomía",0,0,0,0,0,0,0,0,0,0,0]
["    Administración y Servicios",0,0,0,0,0,0,0,0,0,0,0]
["    Agropecuario",0,0,0,0,0,0,0,0,0,0,0]
[]
["Fuente: COCAP"]

{"sheet":"II-8.4.1","index":276,"n_rows":345,"n_cols":5,"rows_kept":345,"cut":false,"hidden":false,"merged":[[343,0,343,4],[344,0,344,2],[1,3,2,4],[5,0,5,4],[6,3,6,4],[7,3,7,4]]}
[]
["MEC",null,null,"CENSO EDUCACIÓN TÉCNICA Y TECNOLÓGICA"]
["Área de Investigación y Estadística"]
[]
["Cuadro Nº II.8.4.1"]
["MATRÍCULA Y PERSONAL DOCENTE DEL RELEVAMIENTO DE INSTITUCIONES DE FORMACIÓN TÉCNICO-PROFESIONALPOR SEXO SEGÚN TIPO DE INSTITUCIÓN, ÁREAS DE CONOCIMIENTO E INSTITUCIONES. AÑO 2012."]
["TIPO DE INSTITUCIÓN / ÁREAS DE CONOCIMIENTO /  INSTITUCIONES","MATRÍCULA","TOTAL DOCENTES","DOCENTES"]
[null,null,null,"SEXO"]
[null,null,null,"M","F"]
["TOTAL",{"$f":"B11+B29","v":83530},{"$f":"C11+C29","v":4188},{"$f":"D11+D29","v":1916},{"$f":"E11+E29","v":2272}]
["PÚBLICO",{"$f":"SUM(B12+B14+B16+B18+B20)","v":2195},{"$f":"SUM(D11+E11)","v":424},{"$f":"SUM(D12+D14+D16+D18+D20)","v":390},{"$f":"SUM(E12+E14+E16+E18+E20)","v":34}]
["ADMINISTRACIÓN-COMERCIALIZACIÓN",{"$f":"SUM(B13)","v":18},{"$f":"SUM(D12+E12)","v":1},{"$f":"SUM(D13)","v":1},{"$f":"SUM(E13)","v":0}]
["Centro de Instrucción y Logística del Ejército- CILE   ",18,1,1,0]
["COMUNICACIONES",{"$f":"SUM(B15)","v":55},43,38,5]
["Escuela de Comunicaciones del Ejército- ECOME   ",55,43,38,5]
["GASTRONOMÍA",25,25,24,1]
[" Servicio de Intendencia del Ejército-SIE   ",25,25,24,1]
["INFORMÁTICA",237,27,22,5]
[" CEI   ",237,27,22,5]
["OTROS",{"$f":"SUM(B21:B27)","v":1860},328,{"$f":"SUM(D21:D27)","v":305},{"$f":"SUM(E21:E27)","v":23}]
[" Centro de Instrucción de Blindados y Mecanizados-CIBM   ",263,8,8,0]
["Centro de Instrucción e Infantería-CII  ",304,100,100,0]
[" Centro de Instrucción de Ingenieros-CIIng   ",0,91,76,15]
["Escuela Técnica de Aeronáutica- ETA   ",82,117,113,4]
[" Instituto de Adiestramiento Aeronáutico-IAA   ",276,9,5,4]
[" Servicio de Transporte el Ejército-STE   ",100,3,3,0]
["UDELAR",835,0,0,0]
[]
["PRIVADO",{"$f":"(B30+B57+B64+B86+B91+B95+B100+B103+B113+B115+B117+B224+B259+B262+B264+B275+B278+B282)","v":81335},{"$f":"(C30+C57+C64+C86+C91+C95+C100+C103+C113+C115+C117+C224+C259+C262+C264+C275+C278+C282)","v":3764},1526,2238]
["ADMINISTRACIÓN-COMERCIALIZACIÓN",{"$f":"SUM(B31:B56)","v":19789},833,{"$f":"SUM(D31:D56)","v":452},{"$f":"SUM(E31:E56)","v":381}]
[" Academia de Estudios Americana   ",25,8,0,8]
[" Academia Mario Rodríguez contabilidades ",100,3,0,3]
[" Academias Pitman   ",327,31,11,20]
[" Alta Estrategia   ",0,4,2,2]
[" BIOS   ",12083,{"$f":"SUM(D35+E35)","v":484},295,189]
[" Casa de la Mujer de la Unión   ",515,40,11,29]
[" Centro de Viajantes y Vendedores de Plaza   ",197,8,5,3]
[" CESA ",480,2,1,1]
[" CompuCenter   ",41,7,2,5]
[" Educa Internacional   ",105,5,5,0]
[" Escuela de Negocios Internacionales ",25,32,16,16]
[" Escuela Francesa de Negocios   ",110,10,5,5]
[" FK SRL   ",70,16,4,12]
[" Fundación Ecuménica de Desarrollo del Uruguay   ",388,4,1,3]
[" FUNDASOL ",4597,{"$f":"SUM(D45+E45)","v":13},10,3]
[" Grameen Uruguay   ",85,3,0,3]
[" Instituto de Capacitación Interactiva   ",115,2,2,0]
[" Instituto de Formación y Capacitación   ",0,8,5,3]
[" Instituto LC (Laura Casas)   ",132,17,5,12]
[" Instituto ORGI   ",131,10,5,5]
[" Instituto Latinoamericano ",25,32,16,16]
[" Juventud para Cristo   ",38,7,3,4]
[" Megasoft ",60,1,0,1]
[" Renglón Uno Capacitación Empresarial ",120,17,14,3]
[" Secretaria José Pedro Varela ",20,21,5,16]
[" Universitario Francisco de Asís   ",0,48,29,19]
["AGRARIA",{"$f":"SUM(B58:B63)","v":367},90,{"$f":"SUM(D58:D63)","v":56},{"$f":"SUM(E58:E63)","v":34}]
[" Centro Cooperativista Uruguayo ",86,25,15,10]
[" Ceuta   ",120,15,6,9]
[" Cultura Ambiental ",0,6,1,5]
[" Hábitat CCU ",59,13,8,5]
[" Instituto PROA   ",0,22,19,3]
[" SERINF ",102,9,7,2]
["ARTES-ARTESANIAS",{"$f":"SUM(B65:B85)","v":2855},270,{"$f":"SUM(D65:D85)","v":154},{"$f":"SUM(E65:E85)","v":116}]
[" APESI",64,7,3,4]
[" Aquelarre   ",154,8,6,2]
[" Arte Club srl ",132,3,3,0]
[" AUDA MAB ",73,8,4,4]
[" Centro de Estudios Amadeus   ",49,2,1,1]
[" Cía. Italia Fausta   ",0,8,4,4]
[" Dodeca  ",106,15,10,5]
[" Escuela de Actuación Integral ",62,9,3,6]
[" Escuela de Cine del Uruguay   ",64,41,29,12]
[" Escuela de Comedia Musical   ",744,34,16,18]
[" Escuela de Música MONTEVIDEO   ",0,28,24,4]
[" Escuela de Música Yamaha   ",109,16,11,5]
[" Espacio Desarrollo Armónico   ",401,{"$f":"SUM(D77+E77)","v":11},3,8]
[" Foto Club Uruguayo   ",236,8,7,1]
[" IAM   ",161,23,11,12]
[" INDANS   ",59,23,7,16]
[" Instituto Musical Schubert   ",105,4,1,3]
[" LURAMA S.R.L.   ",40,1,0,1]
[" Ro Danza   ",138,2,1,1]
[" Salados Escuela de Música   ",51,9,8,1]
[" Taller Para Las Artes   ",107,10,2,8]
["COMUNICACIONES",{"$f":"SUM(B87:B90)","v":822},36,{"$f":"SUM(D87:D90)","v":22},{"$f":"SUM(E87:E90)","v":14}]
[" Escuela Nacional de Declamación ",357,10,4,6]
[" Instituto FEC   ",169,7,5,2]
[" IPEP   ",261,17,12,5]
[" Primera Escuela Integral de Locución y Periodismo ",35,2,1,1]
["CONSTRUCCIÓN-ARQUITECTURA",{"$f":"SUM(B92:B94)","v":470},39,{"$f":"SUM(D92:D94)","v":19},{"$f":"SUM(E92:E94)","v":20}]
[" Acción Promocional 18 de Julio   ",213,23,12,11]
[" Arquitectura por Parte Digital   ",0,12,4,8]
[" Arquitemas   ",257,4,3,1]
["DISEÑO",{"$f":"SUM(B96:B99)","v":147},23,{"$f":"SUM(D96:D99)","v":10},{"$f":"SUM(E96:E99)","v":13}]
[" ARS Escuela de Interiorismo   ",12,4,1,3]
[" DISEG   ",74,2,1,1]
[" Escuela de Creación DG   ",14,1,0,1]
[" Escuela Integral de Diseño Pablo Giménez   ",47,16,8,8]
["ELECTROTECNIA Y ELECTRÓNICA",{"$f":"SUM(B101:B102)","v":120},38,{"$f":"SUM(D101:D102)","v":26},{"$f":"SUM(E101:E102)","v":12}]
[" Asociación Cultural y Técnica - Los Pinos   ",78,20,17,3]
[" ICPT   ",42,18,9,9]
["GASTRONOMÍA",{"$f":"SUM(B104:B112)","v":1625},119,{"$f":"SUM(D104:D112)","v":44},{"$f":"SUM(E104:E112)","v":75}]
[" A.P.A.DI.R.   ",69,7,2,5]
[" Alternativa Chuy   ",30,3,2,1]
[" Asociación Uruguaya de Barman   ",106,0,0,0]
[" Centro de Panaderos   ",390,13,7,6]
[" Escuela de Hotelería y Gastronomía del Plata (Asociación Cultural y Técnica)   ",356,38,2,36]
[" Escuela Gastronomica EUG Punta del Este   ",76,13,7,6]
[" FISE ",0,13,5,8]
[" Gato Dumas ",486,29,19,10]
[" Instituto de Alta Gastronomía   ",112,3,0,3]
["GRÁFICOS",241,13,10,3]
[" A+ Escuela de Artes Visuales ",241,13,10,3]
["HOTELERÍA Y TURISMO",340,32,19,13]
[" ITHU   ",340,32,19,13]
["IDIOMAS",{"$f":"SUM(B118:B223)","v":21256},881,{"$f":"SUM(D118:D223)","v":115},{"$f":"SUM(E118:E223)","v":766}]
[" Academia Lacuesta   ",142,6,4,2]
[" Academia Uruguay   ",350,11,2,9]
[" ADI   ",65,2,1,1]
[" Alianza Colonia ",391,13,1,12]
[" Alianza Cultural San Ramon   ",167,5,0,5]
[" Alianza Durazno   ",95,2,0,2]
[" Alianza Francesa   ",676,18,4,14]
[" Alianza Fray Bentos ",291,14,1,13]
[" Alianza Juan Lacaze",124,3,0,3]
[" Alianza Las Piedras   ",168,4,1,3]
[" Alianza Melo ",253,5,0,5]
[" Alianza Minas ",160,4,0,4]
[" Alianza Pando   ",220,3,0,3]
[" Alianza Rivera",176,4,0,4]
[" American Language Institute   ",186,5,0,5]
[" American Language Institute (Pdu)   ",98,3,0,3]
[" Anglo Albo   ",0,16,3,13]
[" Anglo Artigas ",130,7,1,6]
[" Anglo Atlántida   ",57,1,1,0]
[" Anglo Central   ",1920,84,9,75]
[" Anglo Cerro   ",181,7,1,6]
[" Anglo Colón ",70,6,1,5]
[" Anglo Florida   ",720,29,1,28]
[" Anglo La Blanqueada ",190,{"$f":"SUM(D141+E141)","v":14},1,13]
[" Anglo La Teja ",173,11,0,11]
[" Anglo Las Piedras   ",0,20,2,18]
[" Anglo Lascano   ",36,1,0,1]
[" Anglo Maldonado   ",434,2,0,2]
[" Anglo Mercedes   ",138,5,0,5]
[" Anglo Nueva Palmira   ",245,9,1,8]
[" Anglo Pando  ",120,3,0,3]
[" Anglo Rivera   ",471,11,0,11]
[" Anglo San José   ",558,19,0,19]
[" Anglo Sarandí Grande  ",9,7,1,6]
[" Bécassine S.R.L.   ",68,4,0,4]
[" Blive   ",67,2,0,2]
[" Brasil club srl ",null,6,1,5]
[" Britannia Centre Srl.   ",243,13,0,13]
[" Business english ",180,17,3,14]
[" C & B Institute   ",24,2,0,2]
[" Camelot   ",73,4,0,4]
[" CEDI ",128,2,0,2]
[" CEDI Tacuarembó",147,6,1,5]
[" Contetn English   ",649,17,2,15]
[" CTC San José   ",119,7,2,5]
[" Delta Educa   ",173,9,2,7]
[" Dickens   ",585,62,13,49]
[" Emiliy Dickinson   ",203,6,1,5]
[" Empire English Center   ",104,4,1,3]
[" Essential English Institute   ",203,5,0,5]
[" Eureka   ",52,8,4,4]
[" Excel Institute   ",135,6,1,5]
[" Executive Uruguay   ",364,11,0,11]
[" Family English Institute   ",229,14,0,14]
[" Gabriela Rodriguez Instituto de Inglés ",63,2,0,2]
[" Green Park ",98,2,0,2]
[" Greenwich Institute El Pinar   ",167,4,2,2]
[" Greenwich Institute Maldonado   ",246,11,0,11]
[" Highflyers   ",64,1,0,1]
[" Highlands Maldonado ",49,3,1,2]
[" Highlands Mercedes ",71,3,1,2]
[" Highlight Centre   ",108,2,1,1]
[" Higlands Artigas   ",55,2,0,2]
[" IAEL SRL ",15,2,1,1]
[" ICEDU-Netwide Treinta y Tres   ",77,12,2,10]
[" IDE   ",111,4,1,3]
[" IECO. Institutos de Estudios Colón ",124,8,1,7]
[" IETI Pinar   ",289,3,1,2]
[" IETI Rivera   ",172,2,0,2]
[" Infusion English   ",44,4,0,4]
[" Instituto Brighton   ",160,4,1,3]
[" Instituto CITEF (Trinidad)   ",176,12,6,6]
[" Instituto Cultural Anglo Uruguayo Durazno ",0,0,0,0]
[" Instituto de Inglés EPT   ",60,1,0,1]
[" Instituto de Inglés Y.A.M.   ",29,30,0,30]
[" Instituto Evolución",52,2,0,2]
[" Instituto Goethe   ",985,11,2,9]
[" Instituto Teacher's   ",70,5,1,4]
[" Instituto Tecnológico Ecilda Paullier   ",99,2,0,2]
[" Instituto Vinicius de Moraes   ",41,2,0,2]
[" IUDEI Rocha ",101,2,0,2]
[" Kent Institute   ",109,16,0,16]
[" Kingston ",20,1,0,1]
[" Kingston Language Centre ",46,1,0,1]
[" L Kademia ",56,3,0,3]
[" La  Herradura Spanish School   ",100,0,0,0]
[" Lennon Institute   ",129,3,0,3]
[" Lighthouse Institute   ",67,{"$f":"SUM(D205+E205)","v":4},1,3]
[" Limelight   ",56,3,0,3]
[" London Institute   ",492,43,5,38]
[" Michigan Institute   ",166,8,0,8]
[" New school   ",90,2,0,2]
[" Patronato da Cultura Galega   ",202,14,4,10]
[" Queen Victoria Institute   ",137,8,3,5]
[" Saint Marys Paysandú ",109,4,0,4]
[" Seaside English Center   ",65,1,0,1]
[" SH Inglés    ",70,0,0,0]
[" Silicomp ",37,2,2,0]
[" Sociedad Dante Alighieri   ",92,7,2,5]
[" Somerset House   ",135,6,0,6]
[" SUMMIT   ",214,8,4,4]
[" The British Institute   ",173,4,0,4]
[" The English institute ",15,9,1,8]
[" Urubrit ",51,1,1,0]
[" Yes! Institute   ",50,3,0,3]
["MEC - ALIANZA ",2289,35,4,31]
["INFORMÁTICA",{"$f":"SUM(B225:B258)","v":7278},302,{"$f":"SUM(D225:D258)","v":120},{"$f":"SUM(E225:E258)","v":182}]
[" Academia Alfa   ",265,12,2,10]
[" Academia Wolf   ",11,6,1,5]
[" Ametrano & Asociados   ",109,43,13,30]
[" Atenea Capacitaciones   ",281,9,5,4]
[" Canelones Circulo Informático   ",212,6,3,3]
[" CD FORMA   ",218,4,3,1]
[" Centro de informática 2000 ",150,3,2,1]
[" Circulo Informático Parque Batlle ",328,2,2,0]
[" CTC Paysandú ",54,22,10,12]
[" Datasec SRL   ",54,3,3,0]
[" EMI Educa   ",523,10,3,7]
[" GANEM  ",162,4,2,2]
[" Gustavo Perdomo   ",110,2,1,1]
[" IAC Capacitación   ",421,26,12,14]
[" ICEDU-Netwide Minas   ",345,10,4,6]
[" IEAC Carmelo   ",80,2,0,2]
[" INADI ",588,7,6,1]
[" Info Easy   ",60,3,0,3]
[" Instituto Brugman Hnos.   ",54,3,2,1]
[" Instituto de Informatica Viñales ",257,5,1,4]
[" Instituto Mundo Nuevo ",305,20,6,14]
[" Instituto Superior de Informática   ",186,10,4,6]
[" Instituto Tecnológico CTC - Minas   ",27,5,3,2]
[" ITEM DIGITAL ",0,16,5,11]
[" Kalya   ",113,1,1,0]
[" La Academia de Computación EMPOWER   ",0,0,0,0]
[" Mundo informático ",233,13,3,10]
[" Objetivo Centro de Estudios",287,16,5,11]
[" Red Qualitas Ciudad de la Costa   ",183,10,3,7]
[" Red Qualitas Tarariras ",166,4,2,2]
[" Red Qualitas Fray Bentos   ",91,2,2,0]
[" Red Qualitas Mercedes   ",33,2,0,2]
[" Taller de Informática SRL   ",644,15,8,7]
[" Union Informática   ",728,6,3,3]
["MARÍTIMA",{"$f":"SUM(B260:B261)","v":72},14,{"$f":"SUM(D260:D261)","v":10},{"$f":"SUM(E260:E261)","v":4}]
[" Centro de Navegación   ",51,6,6,0]
[" Tercer milenio ",21,8,4,4]
["METAL-MECÁNICA",387,7,7,0]
[" IADE   ",387,7,7,0]
["SALUD, SEGURIDAD E HIGIENE",{"$f":"SUM(B265:B274)","v":1663},{"$f":"SUM(D264+E264)","v":80},{"$f":"SUM(D265:D274)","v":8},{"$f":"SUM(E265:E274)","v":72}]
[" Asociación de Enfermeras Católicas   ",98,0,0,0]
[" Centro de Capacitación para la Salud",276,12,2,10]
[" Centro de Educación Popular   ",92,10,0,10]
[" Decker Institute   ",237,7,2,5]
[" DEI   ",48,3,1,2]
[" EADES   ",42,6,2,4]
[" EFAES ",134,11,0,11]
[" Escuela MONTEVIDEO de Enfermería   ",380,10,1,9]
[" Escuela Privada de Enfermería RIVERA   ",159,12,0,12]
[" Escuela Sacramento de Enfermería   ",197,{"$f":"SUM(D274+E274)","v":9},0,9]
["SERVICIOS PERSONALES-ESTÉTICA",{"$f":"B276+B277","v":123},6,{"$f":"D276+D277","v":0},{"$f":"E276+E277","v":6}]
[" Instituto Caprice ",26,4,0,4]
[" Instituto de Formación Técnica MG   ",97,2,0,2]
["VESTIMENTA",{"$f":"SUM(B279:B281)","v":156},17,{"$f":"SUM(D279:D281)","v":2},{"$f":"SUM(E279:E281)","v":15}]
[" Asociación Damas Salesiana   ",30,3,0,3]
[" Instituto Strasser   ",89,12,2,10]
[" IUDAC   ",37,2,0,2]
["OTROS",{"$f":"SUM(B288:B343)","v":23624},964,{"$f":"SUM(D288:D343)","v":452},{"$f":"SUM(E283:E343)","v":512}]
[" Advance Uruguay   ",0,{"$f":"SUM(D283+E283)","v":0},0,0]
[" Alpha Sports Center   ",0,{"$f":"SUM(D284+E284)","v":0},0,0]
[" Club Casa los Caramelos   ",0,{"$f":"SUM(D285+E285)","v":0},0,0]
[" Gym Elixir   ",0,{"$f":"SUM(D286+E286)","v":0},0,0]
[" Highlands School San Martín   ",0,{"$f":"SUM(D287+E287)","v":8},0,8]
[" Academia de Danza Eufória   ",84,1,0,1]
[" ACATU   ",30,8,0,8]
[" ACP   ",1003,0,0,0]
[" Aero Club del Uruguay   ",55,2,2,0]
[" Asociación Civil El Abrojo   ",230,22,7,15]
[" Asociacion Civil Gurises Unidos ",150,12,5,7]
[" Asociacion de Impedidos de SALTO ",84,13,5,8]
[" Asociación de Química y Farmacia del Uruguay   ",391,34,6,28]
[" AUCYP",49,22,11,11]
[" CAM   ",66,3,3,0]
[" Casa Ambiental de Castillos   ",93,4,2,2]
[" Centro de Capacitación Serrano   ",286,18,9,9]
[" Centro Integral Iguazú   ",27,5,0,5]
[" CEPRIE   ",324,11,5,6]
[" CERS   ",26,57,12,45]
[" Chajá   ",0,7,0,7]
[" CIEDUR   ",0,96,41,55]
[" COCAP   ",854,22,21,1]
[" CODOF   ",290,30,14,16]
[" Colegio de Arbitros de Futbol   ",26,2,0,2]
[" Eca Puentes   ",15,7,2,5]
[" EMAUS Nuevo Paris   ",63,3,1,2]
[" Escuela de Capacitación ",230,8,0,8]
[" Escuela de Entrenadores Fitness MIFF   ",95,3,1,2]
[" Escuela de Formación Profesional y Aduana   ",189,54,35,19]
[" Escuela del Aire   ",32,1,1,0]
[" Escuela Ma-pa   ",3016,76,51,25]
[" Escuela Nacional de Entrenadores Deportivos e Instructores de Fitness   ",205,12,7,5]
[" Espacio Acqua   ",350,6,3,3]
[" Garbo Imagen   ",117,11,2,9]
[" Homoludens   ",62,8,4,4]
[" IAV   ",66,4,1,3]
[" ICT y Eventos Ltda.   ",0,9,7,2]
[" INSTCEE   ",872,9,5,4]
[" Instituto Cultural Gaboto   ",0,15,4,11]
[" Instituto de Restauración y Conservación de Bienes Culturales   ",56,2,1,1]
[" Instituto e Comunicación y Desarrollo (ICD)  ",160,6,1,5]
[" Instituto Kolping   ",317,46,25,21]
[" ITU COLONIA   ",88,25,7,18]
[" Instituto Universitario ACJ   ",306,46,38,8]
[" Logtra ",1165,4,4,0]
[" Movimiento Nacional Gustavo Volpe   ",80,4,3,1]
[" PMI   ",0,13,9,4]
[" Primera Escuela Uruguaya de Tiro   ",1486,2,2,0]
[" Programa Minessotta   ",180,5,2,3]
[" Punta del Este Flightschool ",5,8,5,3]
[" Repapel   ",2350,7,4,3]
[" SVR   ",70,21,10,11]
[" Tai Gym   ",626,7,2,5]
[" Taller Sisto Pascale ",42,{"$f":"SUM(D337+E337)","v":1},1,0]
[" UNIT   ",3161,68,40,28]
[" Unitres   ",1149,64,22,42]
[" Universidad Católica   ",1671,0,0,0]
[" Universitario Crandon   ",41,25,7,18]
[" Veronica Samurio   ",509,4,0,4]
[" Zonamérica   ",782,3,2,1]
["Fuente: Elaboración propia en base a la información del Relevamiento de Instituciones de Formación Técnico-Profesional. Realizado por el Área de Investigación y Estadística."]
["Nota: Las instituciones fueron clasificadas por área de conocimiento principal."]

{"sheet":"II-8.4.2","index":277,"n_rows":101,"n_cols":6,"rows_kept":101,"cut":false,"hidden":false,"merged":[[0,3,1,4],[5,0,5,2],[4,0,4,2],[6,0,6,5],[95,0,95,5]]}
["MEC",null,null,"CENSO EDUCACIÓN TÉCNICA Y TECNOLÓGICA"]
["Área de Investigación y Estadística"]
[]
[]
[]
["Cuadro Nº II-8.4.2"]
["INGRESADOS, MATRÍCULA, DESVINCULADOS Y EGRESADOS DEL RELEVAMIENTO DE INSTITUCIONES DE FORMACIÓN TÉCNICO-PROFESIONAL SEGÚN REGIÓN Y ÁREAS DE CONOCIMIENTO. AÑO 2012."]
[]
["REGIÓN/AREAS DE CONOCIMENTO","TOTAL","INGRESADOS","MATRÍCULA","DESVINCULADOS","EGRESADOS"]
["TOTAL",{"$f":"B11+B31+B48+B62+B73+B84","v":232786},{"$f":"C11+C31+C48+C62+C73+C84","v":78491},{"$f":"D11+D31+D48+D62+D73+D84","v":83530},{"$f":"E11+E31+E48+E62+E73+E84","v":14549.999999999998},{"$f":"F11+F31+F48+F62+F73+F84","v":56215.000000000015}]
["MONTEVIDEO",{"$f":"SUM(C11:F11)","v":181454},{"$f":"SUM(C12:C30)","v":57693},{"$f":"SUM(D12:D30)","v":66696},{"$f":"SUM(E12:E30)","v":11807.999999999998},{"$f":"SUM(F12:F30)","v":45257.000000000015}]
["Administración-Comercialización",{"$f":"SUM(C12:F12)","v":13614},7461,2784,268.99999999999994,3100]
["Agraria",733,441,206,16,70]
["Artes-Artesanías",7824,2767,2701,1493.9999999999998,862.00000000000011]
["Comunicaciones",2646,1027,822,96,701]
["Construcción-Arquitectura",2640,1700,470,13,457]
["Diseños",1160,997,135,12,16]
["Electrotecnia y Electrónica",802,573,120,7,102]
["Gastronomía",4696,1796,1475,284.00000000000006,1141]
["Gráficos",1622,1194,241,31,156]
["Hotelería y Turismo",848,262,340,70,176]
["Idiomas",31840,8688,12377.000000000002,1657,9118]
["Informática",13031,7878,2992,400.99999999999994,1760]
["Marítima",102,0,51,1,50]
["Metal-Mecánica",1579,805,387,0,387]
["Química",74478.000000000015,251,40553,7258.9999999999982,26415.000000000015]
["Salud, Seguridad e Higiene",1987,1987]
["Servicios Personales-Estética",2084,729,763,78,514]
["Otros",520,281,123,6,110]
["Vestimenta",19248,18856,156,114,122]
["REGIÓN SUR",{"$f":"SUM(C32:F47)","v":23774},{"$f":"SUM(C32:C47)","v":9656},{"$f":"SUM(D32:D47)","v":8172},{"$f":"SUM(E32:E47)","v":963},{"$f":"SUM(F32:F47)","v":4983}]
["Administración-Comercialización",{"$f":"SUM(C32:F32)","v":943},771,70,24,78]
["Agraria",248,130,59,13,46]
["Artes-Artesanías",282,98,154,17,13]
["Construcción-Arquitectura",97,97]
["Diseños",158,134,12,4,8]
["Electrotecnia y Electrónica",21,21]
["Gastronomía",225,76,76,15,58]
["Gráficos",119,119]
["Hotelería y Turismo",118,118]
["Idiomas",10250,3167,4247,235.00000000000006,2601]
["Informática",5993,1726,2279,357.99999999999994,1630]
["Marítima",72,30,21,1,20]
["Metal-Mecánica",84,84]
["Salud, Seguridad e Higiene",1296,337,555,119.00000000000001,285]
["Vestimenta",1135,15,699,177,244]
["Otros",2733,2733]
["REGIÓN ESTE",{"$f":"SUM(C49:F61)","v":4390},{"$f":"SUM(C49:C61)","v":1730},{"$f":"SUM(D53:D61)","v":1574},{"$f":"SUM(E53:E61)","v":233},{"$f":"SUM(F53:F61)","v":853}]
["Administración-Comercialización",113,113]
["Agraria",89,89]
["Artes-Artesanías",8,8]
["Comunicaciones",10,10]
["Gastronomía",{"$f":"SUM(C53:F53)","v":88},54,30,2,2]
["Diseños",19,19]
["Electrotecnia y Electrónica",28,28]
["Hotelería y Turismo",68,68]
["Idiomas",1175,309,506.00000000000006,54,306]
["Informática",1443,426,659,87,271]
["Salud, Seguridad e Higiene",87,87,379,90,274]
["Servicios Personales-Estética",4,4]
["Otros",515,515]
["REGIÓN CENTRAL",{"$f":"SUM(C62:F62)","v":5808},{"$f":"SUM(C63:C72)","v":2687},{"$f":"SUM(D63:D72)","v":1586.0000000000002},{"$f":"SUM(E63:E72)","v":776},{"$f":"SUM(F63:F72)","v":759}]
["Administración-Comercialización",{"$f":"SUM(C63:F63)","v":475},211,132,7,125]
["Agraria",{"$f":"SUM(C64:F64)","v":2307},48,1155.0000000000002,737,367]
["Artes-Artesanías",{"$f":"SUM(C65:F65)","v":514},null,257,30,227]
["Construcción-Arquitectura",74,74]
["Diseños",1,1]
["Idiomas",1072,1072]
["Informática",337,337]
["Metal-Mecánica",164,80,42,2,40]
["Salud, Seguridad e Higiene",{"$f":"SUM(C71:F71)","v":135},135]
["Otros",{"$f":"SUM(C72:F72)","v":729},729]
["REGIÓN LITORAL",{"$f":"SUM(C73:F73)","v":11132},{"$f":"SUM(C74:C83)","v":4037},{"$f":"SUM(D74:D83)","v":3498},{"$f":"SUM(E74:E83)","v":567},{"$f":"SUM(F74:F83)","v":3030}]
["Administración-Comercialización",{"$f":"SUM(C74:F74)","v":332},250,41,5,36]
["Agraria",1165,367,102,65,631]
["Comunicaciones",73,73]
["Diseños",67,67]
["Electrotecnia y Electrónica",20,20]
["Idiomas",4203,1069,1541,138,1455]
["Informática",3145,694,1221,324,906]
["Metal-Mecánica",72,72]
["Salud, Seguridad e Higiene",229,229,593,35,2]
["Otros",1196,1196]
["REGIÓN NORTE",{"$f":"SUM(C84:F84)","v":6228},{"$f":"SUM(C85:C95)","v":2688},{"$f":"SUM(D85:D95)","v":2004},{"$f":"SUM(E85:E95)","v":203},{"$f":"SUM(F85:F95)","v":1333}]
["Administración-Comercialización",{"$f":"SUM(C85:F85)","v":302},102,100,28,72]
["Agraria",118,118]
["Artes-Artesanías",230,230]
["Construcción-Arquitectura",21,21]
["Gastronomía",111,36,69,4,2]
["Hotelería y Turismo",34,34]
["Idiomas",3245,732,1430,132,951]
["Informática",484,160,162,7,155]
["Salud, Seguridad e Higiene",{"$f":"SUM(C93:F93)","v":217},49,84,25,59]
["Servicios Personales-Estética",20,20,159,7,94]
["Otros",{"$f":"SUM(C95:F95)","v":1186},1186]
["Fuente: Elaboración propia en base a la información del Relevamiento de Instituciones de Formación Técnico-Profesional. Realizado por el Área de Investigación y Estadística."]
["Nota: Región Sur: Canelones, Colonia, Maldonado y San José"]
["Región Este: Lavalleja, Rocha y Treinta y Tres"]
["Región Central: Durazno, Florida y Tacuarembó"]
["Región Litoral: Flores, Paysandú, Río Negro, Salto y Soriano"]
["Región Norte: Artigas, Cerro Largo y Rivera"]