{"text_format":"1","workbook":"xlsx","n_sheets":275,"sheets":["PRESENTACION","SINOPSIS - ÍNDICE DE CUADROS","SINOPSIS - ÍNDICE DE GRÁFICOS","O I-1.1.1","O I-1.1.2","O I-2.1.1","I-1.1.1","I-1.2.1","I-1.2.2","I-1.2.3","I-1.2.4","I-1.2.5","I-1.2.6","I-1.2.7","I.1.2.8","I.1.2.9","I-1.2.10","I-1-2-11","I-1.2.12","I-1.2.13","I.2.1.1","I.2.2.1","I.2.2.2","I.2.2.3","I.2.3.1","I.2.3.2","I.2.3.3","I.2.3.4","I.2.4.1","I.2.4.2","I.2.4.3","I.2.7.1","I.2.7.2 ","I.2.7.3","I.2.7.4","I.2.7.5 ","I.2.7.6","I.2.8.1","I.2.8.2","I.2.9.1 ","I.2.9.2 ","I.2.9.3 ","I.2.9.4 ","I.2.9.5","I.2.9.6","I.2.9.7","I.2.9.8","I.2.9.9","I-3.1.1","I-3.1.2","I-3.1.3","I-3.1.4","I-3.1.5  ","I-3.1.6","I.3.1.7 ","I-3.1.8 ","I-3.1.9 ","I-3.1.10","I-.3.1.11 ","I-3.3.1","I-4.4.1","I-5.4.1 ","G I-1.2.1","G I-1.2.2.","G I-1.2.3","G I-1.2.4 ","G I-1.2.5","G I-1.2.6","G I-1.2.7","G I-1.2.8","G I-1.2.9","G I-1.2.10","G I-1.2.11 ","G I-1.2.12","G I-1.2.13","G I-1.2.14","G I-1.2.15","G I-1.2.16","G I-1.2.17","G I-1.2.18","G I-1.2.19","G I-1.2.20","G I-1.2.21","G I-1.2.22","G I-1.2.23","G I-1.2.24","G I-1.2.25","G I-2.1.1","G I-2.1.2","G I-2.1.3","G I-2.1.4","G I-2.1.5","G I-2.2.0","G I-2.2.1","G I-2.2.2","G I-2.2.3","G I-2.2.4","G I-2.3.1","G I-2.3.2","G I-2.3.3","G I-2.3.4","G I-2.3.5","G I-2.3.6","GI-2.3.7","GI-2.3.8","GI-2.3.9","G I-2.3.10","G I-2.3.11","GI-2.3.12","GI-2.3.13","GI-2.3.14","GI-2.3.15","GI-2.3.16","GI-2.3.17","G I-2.4.1.","G I-.2.5.1","G I-.2.5.2","G I-2.5.3","G-.2.5.4","G I-2.5.5","GI-.2.6.1","GI-.2.6.2.","GI-.2.6.3.","G I-2.7.1.","G I-2.7.2","G I-2.7.3","G I-2.7.4","G I-2.7.5","G I-2.7.6","G I-2.7.7","G I-2.7.8","G I-3.1.1","G I-3.1.2","G.I-3.1.3","G I-3.1.4","G I-3.1.5","G I-3.1.6","G I-3.2.1","G I-3.2.2","G I-3.3.1","G I-3.3.2","G I-3.3.3","G I-3.3.4","G I-4.1.1 ","G I-4.1.2","G I_4.1.3","G I 4.2.1","G I 4.2.2","G I-4.2.3","G I-4.3.1","G I-4.3.2","G I-4.3.3","G I-4.4.1","G I-4.4.2","G I-4.4.3","G I-4.4.4","G I-5.1.1","G I-5.1.2","G I-5.1.3","G I-5.2.1","G I-5.3.1","G I-5.3.2","G I-5.3.3","PRIMERA INFANCIA E INICIAL","CONTROL"," II-1.1.1","II-1.1.2","II-1.2.1","II-1.2.2","II-1.2.3","II-1.2.4","II-1.2.5","II-1.2.6","II-1.2.7","II-1.3.1 ","II-1.3.2 ","II-1.3.3"," PRIMARIA","CONTROL ","II-2.1.1"," II-2.1.2","II-2.1.3","II-2.1.4","II-2.2.1","II-2.2.2","II-2.2.3","II-2.2.4","II-2.2.5","II-2.2.6","II-2.2.7","II-2.2.8","II-2.2.9","II-2.2.10","II-2.2.11","II-2.2.12","II-2.2.13","II-2.2.14","II-2.2.15","II-2.2.16","II-2.2.17","II-2.2.18","II-2.3.1 ","II-2.3.2 ","MEDIA BASICA","CONTROL Media Básica","II-3.1.1","II-3.1.2","II-3.2.1","II-3.2.2","II-3.2.3","II-3.2.4","II-3.2.5 ","II-3.2.6 ","II-3.3.1","II-3.3.2","II-3.4.1","CONTROL Media Superior","MEDIA SUPERIOR","II-4.1.1","II-4.2.1","II-4.2.2 ","II-4.2.3 ","II-4.2.4 ","II-4.2.5","II-4.2.6","II-4.2.7","II-4.2.8 ","II-4.2.9","II_4_2_10","II-4.2.11 ","II-4.3.1","II-4.3.2","II-4.4.1","TERCIARIA NO UNIVERSITARIA ","II-5.1.1  ","II-5.2.1","II-5.2.2","II-5.3.1","II-5.3.2","FORMACIÓN EN EDUCACIÓN ","II-6.1.1","II-6.2.1 ","II-6.2.2","II-6.2.3 ","II-6.3.1","II-6.3.2","II-6.3.3","EDUCACIÓN UNIVERSITARIA","II-7.1.1  ","II-7.2.2 ","II-7.2.3 ","II-7.2.4","II-7.2.5","II-7.2.6 ","II-7.2.7 ","II-7.2.8 ","II-7.2.9 ","II-7.2.10 ","EDUCACIÓN DE JÓVENES Y ADULTOS"," II-8.1.1"," II-8.1.2","II-8.1.3","II-8.1.4","II-8.1.5","II-8.1.5.","II-8.1.6","II-8.1.7","II-8.1.8","II-8.1.9 ","II-8.1.10","II-8.2.1","ll-8.2.2","II-8.3.1  ","II-8.4.1","II-8.4.2 "],"not_rendered":{"charts":0,"images":104,"macros":1,"external_links":3,"defined_names":678,"comments":0,"pivot_tables":0},"unopened":[],"bounds":{"document_bytes":16777216,"sheet_cells":100000,"rows_first":2000,"rows_last":500,"rows_between":2000,"halvings":0,"cell_chars":16384,"cell_head_chars":4096},"cells_cut":0,"cells_raw":0,"read":"whole","date_system":"1900"}

{"sheet":"PRESENTACION","index":0,"n_rows":32,"n_cols":12,"rows_kept":32,"cut":false,"hidden":false,"merged":[[4,1,4,9],[28,6,28,14],[29,6,29,14],[30,6,30,14],[31,6,37,9],[31,11,37,14],[28,0,28,4],[29,0,37,4]]}
[]
[]
[]
[]
[]
[]
[]
[]
[]
[]
[]
[]
[]
[]
[]
[]
[]
[]
[]
[]
[]
[]
[]
[]
[]
[]
[]
[]
["Autoridades:",null,null,null,null,null,"Esta publicación ha sido elaborada por los integrantes del\nÁrea de Investigación y Estadística de la Dirección de Educación\ndel Ministerio de Educación y Cultura:"]
["Sr. José Alberto Mujica Cordano\nPresidente de la República\n\nDr. Ricardo Ehrlich\nMinistro de Educación y Cultura\n\nMtro. Oscar Gómez\nSubsecretario de Educación y Cultura\n\nSr. Pablo Álvarez\nDirector General de Secretaría\n\nMtro. Luis Garibaldi\nDirector de Educación"]
[null,null,null,null,null,null,"Mag. Gabriel Errandonea Lennon (Coordinador)"]
[null,null,null,null,null,null,"\nEstadística Educativa\nMag. Gabriel Gómez (encargado)\n\nSra. Nathalia Ascue\nLic. Daniel Zoppis \nLic. Daniel Manber\nLic. Mariana Yozzi",null,null,null,null,"\nInvestigación Educativa\nMag. Leandro Pereira (encargado)\n\n\nReportes Internacionales\nLic. Carla Orós (encargada)\nLic. Mariana Émery"]

{"sheet":"SINOPSIS - ÍNDICE DE CUADROS","index":1,"n_rows":0,"n_cols":0,"rows_kept":0,"cut":false,"hidden":false,"merged":[[21,0,21,4],[10,0,10,4],[12,0,12,4],[14,0,14,4],[15,0,15,4],[19,0,19,4],[37,0,37,4],[39,0,39,4],[23,0,23,4],[25,0,25,4],[27,0,27,4],[30,0,30,4],[33,0,33,4],[35,0,35,4]]}

{"sheet":"SINOPSIS - ÍNDICE DE GRÁFICOS","index":2,"n_rows":0,"n_cols":0,"rows_kept":0,"cut":false,"hidden":false,"merged":[]}

{"sheet":"O I-1.1.1","index":3,"n_rows":38,"n_cols":67,"rows_kept":38,"cut":false,"hidden":false,"merged":[[16,25,22,28],[19,33,32,36],[19,37,23,39],[21,49,24,54],[37,2,39,41],[26,25,32,28],[27,49,32,54],[28,37,32,39],[34,2,34,4],[34,10,34,11],[34,15,34,20],[34,24,34,28],[34,33,34,39],[34,49,34,56],[1,1,1,63],[3,66,43,66],[5,10,7,39],[6,60,42,62],[9,21,9,42],[10,10,11,11],[10,15,11,20],[10,24,11,39],[10,49,11,56],[13,33,16,39],[13,49,18,56],[14,2,32,5],[14,10,32,11],[14,15,32,16],[14,17,32,20],[16,24,32,24]]}
[]
[null,"Organigrama I-1.1.1\nSISTEMA NACIONAL DE EDUCACIÓN - 2013"]
[]
[null,null,null,null,null,null,null,null,null,null,null,null,null,null,null,null,null,null,null,null,null,null,null,null,null,null,null,null,null,null,null,null,null,null,null,null,null,null,null,null,null,null,null,null,null,null,null,null,null,null,null,null,null,null,null,null,null,null,null,null,null,null,null,null,null,null,"SISTEMA NACIONAL DE EDUCACIÓN - 2012"]
[]
[null,null,null,null,null,null,null,null,null,null,"ESCOLARIDAD OBLIGATORIA"]
[null,null,null,null,null,null,null,null,null,null,null,null,null,null,null,null,null,null,null,null,null,null,null,null,null,null,null,null,null,null,null,null,null,null,null,null,null,null,null,null,null,null,null,null,null,null,null,null,null,null,null,null,null,null,null,null,null,null,null,null,"CAMPO   LABORAL"]
[]
[]
[]
[null,null,null,null,null,null,null,null,null,null,"EDUC. INICIAL",null,null,null,null,"EDUCACIÓN PRIMARIA",null,null,null,null,null,null,null,null,"EDUCACIÓN MEDIA",null,null,null,null,null,null,null,null,null,null,null,null,null,null,null,null,null,null,null,null,null,null,null,null,"EDUCACIÓN TERCIARIA"]
[]
[]
[null,null,0,1,2,3,null,null,null,null,4,5,null,null,null,"1º","2º","3º","4º","5º","6º",null,null,null,null,null,null,null,null,null,null,null,null,"Formación\nprofesional técnica y tecnológica",null,null,null,null,null,null,null,null,null,null,null,null,null,null,null,"EDUCACIÓN UNIVERSITARIA"]
[null,null,"EDUCACIÓN\nEN LA PRIMERA INFANCIA",null,null,null,null,null,null,null,"EDUCACIÓN INICIAL",null,null,null,null,"EDUCACIÓN PRIMARIA",null,"Incluye:\n - Urbana común\n - Rural común\n - T.C.\n - Especial\n - Escuelas Aprender\n - Práctica"]
[null,null,null,null,null,null,null,null,null,null,null,null,null,null,null,null,null,null,null,null,null,null,null,null,null,null,"1º","2º","3º"]
[null,null,null,null,null,null,null,null,null,null,null,null,null,null,null,null,null,null,null,null,null,null,null,null,"EDUCACIÓN MEDIA BÁSICA","Educación media básica general (incluye 7º, 8º y 9º rural)"]
[]
[null,null,null,null,null,null,null,null,null,null,null,null,null,null,null,null,null,null,null,null,null,null,null,null,null,null,null,null,null,null,null,null,null,null,null,null,null,"1º","2º","3º"]
[null,null,null,null,null,null,null,null,null,null,null,null,null,null,null,null,null,null,null,null,null,null,null,null,null,null,null,null,null,null,null,null,null,"EDUCACIÓN MEDIA SUPERIOR",null,null,null,"Educación media tecnológica superior"]
[null,null,null,null,null,null,null,null,null,null,null,null,null,null,null,null,null,null,null,null,null,null,null,null,null,null,null,null,null,null,null,null,null,null,null,null,null,null,null,null,null,null,null,null,null,null,null,null,null,null,null,"1º","2º","3º","4º"]
[null,null,null,null,null,null,null,null,null,null,null,null,null,null,null,null,null,null,null,null,null,null,null,null,null,null,null,null,null,null,null,null,null,null,null,null,null,null,null,null,null,null,null,null,null,null,null,null,null,"FORMACIÓN EN EDUCACIÓN"]
[]
[]
[]
[null,null,null,null,null,null,null,null,null,null,null,null,null,null,null,null,null,null,null,null,null,null,null,null,null,null,"1º","2º","3º"]
[null,null,null,null,null,null,null,null,null,null,null,null,null,null,null,null,null,null,null,null,null,null,null,null,null,"Educación media básica tecnológica ",null,null,null,null,null,null,null,null,null,null,null,null,null,null,null,null,null,null,null,null,null,null,null,null,null,"1º","2º","3º","4º"]
[null,null,null,null,null,null,null,null,null,null,null,null,null,null,null,null,null,null,null,null,null,null,null,null,null,null,null,null,null,null,null,null,null,null,null,null,null,"4º","5º","6º",null,null,null,null,null,null,null,null,null,"EDUCACIÓN TERCIARIA NO UNIVERSITARIA\n(técnicas, policial, militar, artística, etc.)"]
[null,null,null,null,null,null,null,null,null,null,null,null,null,null,null,null,null,null,null,null,null,null,null,null,null,null,null,null,null,null,null,null,null,null,null,null,null,"Educación media general superior"]
[]
[]
[]
[]
[]
[null,null,"0-3 años",null,null,null,null,null,null,null,"4-5 años",null,null,null,null,"6 años",null,null,null,null,null,null,null,null,"12 años",null,null,null,null,null,null,null,null,"15 años",null,null,null,null,null,null,null,null,null,null,null,null,null,null,null,"18 años"]
[]
[]
[null,null,"EDUCACIÓN NO FORMAL"]

{"sheet":"O I-1.1.2","index":4,"n_rows":65,"n_cols":28,"rows_kept":65,"cut":false,"hidden":false,"merged":[[63,14,65,21],[64,7,65,10],[14,3,32,10],[14,25,36,34],[36,8,40,11],[37,2,39,5],[40,18,42,23],[45,5,47,12],[45,18,48,23],[45,27,48,32],[50,5,52,12],[50,18,57,23],[50,27,54,32],[55,5,57,12],[60,6,62,11],[1,1,1,35],[2,1,2,35],[5,16,7,21],[10,4,12,9],[10,16,12,21],[10,27,12,32]]}
[]
[null,"Organigrama I-1.1.2"]
[null,"ESTRUCTURA ORGANIZACIONAL DEL SISTEMA NACIONAL DE EDUCACIÓN - 2013"]
[]
[]
[null,null,null,null,null,null,null,null,null,null,null,null,null,null,null,null,"SNEP"]
[]
[]
[]
[]
[null,null,null,null,"MEC",null,null,null,null,null,null,null,null,null,null,null,"ANEP",null,null,null,null,null,null,null,null,null,null,"UdelaR"]
[]
[]
[]
[null,null,null,""]
[]
[]
[]
[]
[]
[]
[]
[]
[]
[]
[]
[]
[]
[]
[]
[]
[]
[]
[]
[]
[]
[null,null,null,null,null,null,null,null,"Habilita y/o autoriza y/o supervisa"]
[null,null,"Autoriza / supervisa"]
[]
[]
[null,null,null,null,null,null,null,null,null,null,null,null,null,null,null,null,null,null,"SECTOR PRIVADO"]
[]
[]
[]
[]
[null,null,null,null,null,"Centros de educación en la primera infancia de Intervención social (INAU)",null,null,null,null,null,null,null,null,null,null,null,null,"UNIVERSIDADES PRIVADAS",null,null,null,null,null,null,null,null,"INSTITUTOS UNIVERSITARIOS PRIVADOS"]
[]
[]
[]
[]
[null,null,null,null,null,"Centros de educación inicial, primaria y media privados (ANEP)",null,null,null,null,null,null,null,null,null,null,null,null,"Tres o más áreas disciplinarias no afines orgánicamente estructuradas en facultades, departamentos o unidades académicas equivalentes.",null,null,null,null,null,null,null,null,"Al menos una carrera completa de grado universitario, una maestría o un doctorado."]
[]
[]
[]
[]
[null,null,null,null,null,"Centros de educación infantil privados (MEC)"]
[]
[]
[]
[]
[null,null,null,null,null,null,"Consejo Consultivo de Enseñanza Universitaria Privada"]
[]
[]
[null,null,null,null,null,null,null,null,null,null,null,null,null,null,"Reconocimiento de carreras universitarias y terciarias no universitarias privadas"]
[null,null,null,null,null,null,null,"y coordina …"]

{"sheet":"O I-2.1.1","index":5,"n_rows":59,"n_cols":34,"rows_kept":59,"cut":false,"hidden":false,"merged":[[54,20,55,21],[57,6,60,8],[57,11,60,17],[57,25,58,29],[58,33,61,33],[20,1,58,3],[21,25,22,29],[22,11,25,12],[23,20,24,21],[24,33,27,33],[28,25,29,29],[29,11,32,12],[29,15,32,21],[31,33,34,33],[35,15,36,21],[35,25,36,29],[38,20,39,21],[40,6,43,8],[41,20,42,21],[42,15,45,16],[44,11,49,12],[12,33,13,33],[15,20,16,21],[15,25,16,26],[16,11,17,12],[18,6,21,8],[18,20,19,21],[18,25,19,29],[12,25,13,26],[12,28,13,29],[0,0,1,35],[3,0,3,35],[5,0,5,35],[6,0,6,35],[10,25,10,29],[44,20,45,21],[45,33,48,33],[48,15,51,16],[48,20,49,21],[51,20,52,21]]}
["Ministerio de Educación y Cultura\nDirección de Educación"]
[]
[]
["Organigrama I-2.1.1"]
[]
["Organigrama I-2.1.1"]
["ESTRUCTURA ORGANIZACIONAL DEL SISTEMA NACIONAL DE EDUCACIÓN EN LA PRIMERA INFANCIA\nY EN EDUCACIÓN INICIAL - 2012"]
[]
[]
[]
[null,null,null,null,null,null,null,null,null,null,null,null,null,null,null,null,null,null,null,null,null,null,null,null,null,"EDUCACIÓN EN LA\nPRIMERA INFANCIA",null,null,null,null,null,null,null,"EDUCACIÓN INICIAL"]
[]
[null,null,null,null,null,null,null,null,null,null,null,null,null,null,null,null,null,null,null,null,null,null,null,null,null,"0 a 24 meses",null,null,"2 años",null,null,null,null,"3 a 5 años"]
[]
[]
[null,null,null,null,null,null,null,null,null,null,null,null,null,null,null,null,null,null,null,null,"Experiencias Oportunas",null,null,null,null,"Talleres"]
[null,null,null,null,null,null,null,null,null,null,null,"CAIF"]
[]
[null,null,null,null,null,null,"INAU",null,null,null,null,null,null,null,null,null,null,null,null,null,"Modalidad Diaria",null,null,null,null,"Diseño Básico Curricular\n(0 a 36 meses)"]
[]
[null,"EDUCACIÓN EN LA PRIMERA INFANCIA E INICIAL"]
[null,null,null,null,null,null,null,null,null,null,null,null,null,null,null,null,null,null,null,null,null,null,null,null,null,"Diseño Básico Curricular\n(0 a 36 meses)"]
[null,null,null,null,null,null,null,null,null,null,null,"Centros Diurnos"]
[null,null,null,null,null,null,null,null,null,null,null,null,null,null,null,null,null,null,null,null,"Modalidad Diaria"]
[null,null,null,null,null,null,null,null,null,null,null,null,null,null,null,null,null,null,null,null,null,null,null,null,null,null,null,null,null,null,null,null,null,"Programa de Educación Inicial y Primaria"]
[]
[]
[]
[null,null,null,null,null,null,null,null,null,null,null,null,null,null,null,null,null,null,null,null,null,null,null,null,null,"Diseño Básico Curricular\n(0 a 36 meses)"]
[null,null,null,null,null,null,null,null,null,null,null,"Centros Educativos Privados",null,null,null,"Colegios y Jardines de Infantes\nHabilitados o Autorizados"]
[]
[null,null,null,null,null,null,null,null,null,null,null,null,null,null,null,null,null,null,null,null,null,null,null,null,null,null,null,null,null,null,null,null,null,"Programa de Educación Inicial y Primaria"]
[]
[]
[]
[null,null,null,null,null,null,null,null,null,null,null,null,null,null,null,"Centros Educativos Primera Infancia\n(CEPI)",null,null,null,null,null,null,null,null,null,"Diseño Básico Curricular\n(0 a 36 meses)"]
[]
[]
[null,null,null,null,null,null,null,null,null,null,null,null,null,null,null,null,null,null,null,null,"Común"]
[]
[null,null,null,null,null,null,"ANEP\nCEIP"]
[null,null,null,null,null,null,null,null,null,null,null,null,null,null,null,null,null,null,null,null,"Tiempo extendido"]
[null,null,null,null,null,null,null,null,null,null,null,null,null,null,null,"Grupos de Educación Inicial en Escuelas\n(urbanas y rurales)"]
[]
[null,null,null,null,null,null,null,null,null,null,null,"Centros Educativos Públicos",null,null,null,null,null,null,null,null,"Tiempo completo"]
[null,null,null,null,null,null,null,null,null,null,null,null,null,null,null,null,null,null,null,null,null,null,null,null,null,null,null,null,null,null,null,null,null,"Programa de Educación Inicial y Primaria"]
[]
[]
[null,null,null,null,null,null,null,null,null,null,null,null,null,null,null,"Grupos de Educación Inicial en Jardines de Infantes",null,null,null,null,"APRENDER"]
[]
[]
[null,null,null,null,null,null,null,null,null,null,null,null,null,null,null,null,null,null,null,null,"JICI"]
[]
[]
[null,null,null,null,null,null,null,null,null,null,null,null,null,null,null,null,null,null,null,null,"Práctica o Hab. de Prác."]
[]
[]
[null,null,null,null,null,null,"Primera Infancia MEC",null,null,null,null,"Centros de Educación Infantil\nPrivados (incluye Programa Nuestros Niños - IM y otros)",null,null,null,null,null,null,null,null,null,null,null,null,null,"Diseño Básico Curricular\n(0 a 36 meses)"]
[null,null,null,null,null,null,null,null,null,null,null,null,null,null,null,null,null,null,null,null,null,null,null,null,null,null,null,null,null,null,null,null,null,"Programa de Educación Inicial y Primaria"]

{"sheet":"I-1.1.1","index":6,"n_rows":28,"n_cols":6,"rows_kept":28,"cut":false,"hidden":false,"merged":[[29,1,29,5],[21,5,26,5],[27,0,27,5],[21,2,21,3],[24,2,24,3],[25,2,25,3],[26,2,26,3],[28,0,28,5],[7,2,7,3],[7,4,8,4],[8,2,8,3],[0,0,0,2],[9,0,10,1],[2,0,2,5],[3,0,3,1],[3,2,3,3],[4,2,4,3],[4,4,6,4],[5,2,5,3],[6,2,6,3],[4,0,6,1],[7,0,8,1],[7,5,8,5],[4,5,6,5],[11,0,11,1],[11,2,11,3],[16,5,17,5],[17,2,17,3],[16,0,17,1],[16,2,16,3],[16,4,17,4],[18,5,19,5],[9,4,10,4],[9,5,10,5],[10,2,10,3],[9,2,9,3],[30,0,34,5],[12,5,15,5],[20,0,26,1],[20,2,20,3],[22,3,23,3],[22,4,23,4],[18,2,18,3],[19,2,19,3],[12,4,13,4],[12,0,13,1],[12,3,13,3],[14,0,15,1],[14,3,15,3],[14,4,15,4],[18,4,19,4],[18,0,19,1]]}
["Ministerio de Educación y Cultura\nDirección de Educación"]
[]
["Cuadro I-1.1.1\nUNIVERSO CUBIERTO POR EL ANUARIO ESTADÍSTICO DE EDUCACIÓN 2013 POR FORMA DE ADMINISTRACIÓN, MATRÍCULA Y FUENTE DE INFORMACIÓN SEGÚN TIPO DE OFERTA Y NIVEL EDUCATIVO\n"]
["Nivel\n(Edad teórica)",null,"Descripción\n(Oferta por forma de administración)",null,"Matricula 2013","Fuentes\nde información"]
["EDUCACIÓN EN LA PRIMERA INFANCIA\n0 a 2 años",null,"PÚBLICO: centros de educación infantil gestionados por organismos públicos (por ej. centros de INAU o intendencias).",null,48530,"· Área de Educación en la Primera Infancia y Área de Investigación y Estadística de la Dirección de Educación del Ministerio de Educación y Cultura – Registro Nacional de Centros de Educación en la Primera Infancia;\n· Sistema de Información Para la Infancia (SIPI) de INAU"]
[null,null,"PRIVADO: Centros de Educación Infantil Privados bajo supervisión del MEC En todos los casos la matrícula reportada excluye a los niños matriculados en centros que ya han sido habilitados por ANEP."]
[null,null,"PÚBLICO/PRIVADO: CAIF (modalidad diaria)"]
["EDUCACIÓN INICIAL\n3 a 5 años\n(4 y 5 años obligatorio)",null,"PUBLICO:Esta.del Consejo de Educación Inicial y Primaria (CEIP) Jardines y clases jardineras en escuelas de educación común.",null,109794,"· Área de Educación en la Primera Infancia, AIEde la Dir. de Edu. del MEC;\n· Depto. de Estadística Educativa del CEIP;\n· SIPI de INAU."]
[null,null,"PRIVADO: jardines de infantes privados, jardines en colegios privados y clases jardineras en colegios privados (bajo supervisión de ANEP)."]
["EDUCACIÓN PRIMARIA\n6 a 11 años\n (obligatorio)",null,"PUBLICO: Establecimientos del Consejo de Educación Inicial y Primaria.",null,317900,"· Departamento de Estadística Educativa del CEIP."]
[null,null,"PRIVADO: Establecimientos privados bajo supervisión de ANEP."]
["EDUCACIÓN FORMAL DE JÓVENES Y ADULTOS",null,"Dirección Sectorial de Educación de Jóvenes y Adultos de la ANEP (Niveles I y II y Acreditación).",null,4287,"· Dirección Sectorial de Educación de Jóvenes y Adultos de la ANEP"]
["EDUCACIÓN MEDIA\nBÁSICA\n12 a 14 años",null,"PÚBLICO: establecimientos del Consejo de Educación Secundaria, del Consejo de Educación Técnico Profesional y del Ciclo Básico Rural (7º, 8º y 9º)","MEDIA BÁSICA\n12 a 14 años (obligatorio)",182087,"· Departamento de Estadística del CES (oficiales, habilitados privados y habilitados militares);\n· Departamento de Estadística del CETP y              · Departamento de Estadística del CEIP(para 7º, 8º y 9º) a través de planillas estadísticas."]
[null,null,"PRIVADO: liceos habilitados privados bajo supervisión de ANEP."]
["EDUCACIÓN MEDIA SUPERIOR\n15 a 17 años",null,"PÚBLICO: establecimientos del Consejo de Educación Secundaria, del Consejo de Educación Técnico Profesional  y los Habilitados Liceo Militar y Escuela Naval.","MEDIA SUPERIOR\n15 a 17 años",155547]
[null,null,"PRIVADO: liceos habilitados privados bajo supervisión de ANEP."]
["FORMACIÓN EN EDUCACIÓN",null,"PÚBLICOS: ANEP - CONSEJO DE FORMACIÓN EN EDUCACIÓN, CEN.FOR.ES - I.N.A.U.        ",null,24192,"· Of. de información para la Gestión del CFE de ANEP;                                                           · CEN.FOR.ES - I.N.A.U.                                        . C.I.E.P"]
[null,null,"PRIVADOS: C.I.E.P"]
["EDUCACIÓN TERCIARIA                     (18 y más años)",null,"PÚBLICOS: Inst. Terc. Univ. y No Univ. (UdelaR; CFE, Esc. Mun. de Arte Dramático, Esc. Nacional de Policía, Esc. Militar, Esc. Militar de Aeronáutica, Esc. Naval).",null,116021,"· Div. de Estadística de la DGP de la UdelaR;                                                                                                                                                                                                                                . Unidades de planeamiento y/o asuntos estudiantiles de univ. e inst. univ. y no univ. públicos y privados. "]
[null,null,"PRIVADOS: Univ. e Inst. Univ. Privados (UC, ORT, de Montevideo, de la Empresa; Fundación Politécnico de Punta del Este, Asociación Cristiana de Jóvenes, CLAEH, Crandon, Mariano Soler)."]
["EDUCACIÓN NO FORMAL",null,"Instituciones de Educación Técnico-Profesional públicas y privadas",null,93228]
[null,null,"Centros de Capacitación y Producción (CECAP) y Consejo De Capacitación Profesional (COCAP) del MEC.",null,3905,"· Relevamiento propio de Instituciones de Educación Técnico-profesional (Área de Investigación y Estadística, Dir. Edu., MEC.)                        · Departamento de Estadística del CETP; \n· Área de Educación No Formal de la Dirección de Educación del MEC;\n· Gerencia de Programas Especiales de CODICEN;\n· Oficina Nacional del Servicio Civil; e\n· Información brindada por las instituciones universitarias."]
[null,null,"PÚBLICO: Establecimientos del Consejo de Educación Técnico Profesional","TÉCNICO-PROFESIONAL DE INSERCIÓN LABORAL 15 y más años",8632]
[null,null,"INEFOP"]
[null,null,"Dir. Sectorial de Edu.de Jóvenes y Adultos de la ANEP (Talleres).",null,4065]
[null,null,"Escuela de Funcionarios Públicos de la ONSC.",null,7605]
[null,null,"Educación no terciaria en universidades e instituciones universitarias privadas.",null,5039]
["Nota:                                                                                                                                                                                                      Educación en la primera infancia de 0 a 3 años y Educación Inicial 3 a 5 años: Esta definición etaria responde a la lógica de los hechos: prácticamente la mitad de los niños atendidos en Centros de Educación Infantil Privados tienen 3 años (también existe una porción minoritaria de niños de 4 y 5 años). En términos teóricos, este nivel atendería a niños de 0 a 36 meses (o hasta 2 años cumplidos y 11 meses). Algo similar sucede en el caso del nivel “Educación Inicial”, donde la enorme mayoría de los niños tienen 4 o 5 años y cuya definición teórica apuntaría a aquellos de 3, 4 y 5.\nEducación Primaria: La matrícula de Educación Primaria Educación de Jóvenes y Adultos de la ANEP.                                                                     Educación Media: Media Básica incluye Ciclo Básico Rural, Educación Media Básica General (CEM) y Educación Media Tecnológica Básica (CETP); y Media Superior incluye Ciclo Superior de Secundaria, Bachillerato Tecnológico y Educación Media Tecnológica.                                                         Instituciones de Educación Técnico-profesional públicas y privadas: incluye a todas las ofertas de educación técnico-profesional públicas y privadas; no incluye ofertas de ANEP o UdelaR.\nTécnico-profesional de inserción laboral: incluye a los cursos de las ofertas de Nivel de Formación Profesional del CETP.\n                                                                             "]

{"sheet":"I-1.2.1","index":7,"n_rows":23,"n_cols":6,"rows_kept":23,"cut":false,"hidden":false,"merged":[[22,0,22,5],[20,0,20,5],[21,0,21,5],[0,0,0,3],[2,0,2,5],[4,5,5,5],[4,0,5,0],[4,1,5,1],[4,2,4,3],[4,4,5,4],[3,0,3,5]]}
["Ministerio de Educación y Cultura\nDirección de Educación"]
[]
["Cuadro I-1.2.1\n"]
["TASA DE ANALFABETISMO Y PORCENTAJE DE POBLACIÓN POR ÁREA DEMOGRÁFICA SEGÚN AÑO LECTIVO. AÑO 2013."]
["AÑO LECTIVO","Fuente","TASA",null,"% de población rural","% de analfabetos rurales sobre total país"]
[null,null,"Total del país","Área Rural"]
[1963,"CENSO",8.8000000000000007,15.4,19.2,2.96]
[1975,"CENSO",5.7,10.3,17,1.75]
[1985,"CENSO",4.3,8.4,12.7,1.06]
[1996,"CENSO",3.1,6.2,9.1999999999999993,0.56999999999999995]
[2006,"ENHA",2.2000000000000002,3,6.4,0.19]
[2007,"ECH",2.1,3.4,6.6,0.21]
[2008,"ECH",1.9,3.1,6.2,0.19]
[2009,"ECH",1.8,3.4,7.9,0.27]
[2010,"ECH",2,3.2,5.8,0.19]
[2011,"ECH",1.7,3.4,8.58,0.28999999999999998]
[2012,"ECH",1.6,2.5,6.4,0.16]
[2013,"ECH",1.6,2.7,5.6,0.15]
[]
["Fuente: 1963 a 1996: Censos de Población ."]
["2006: Encuesta Nacional de Hogares Ampliada (ENHA) 2006. Condiciones de vida de la población residente en el área rural. Enero-Marzo 200, INE."]
["2007 a  2013: Elaboración propia con base en las ECH de 2007 a 2011 y las Proyecciones Poblacionales, Revisión 2005 del INE. (ÁREA SOCIODEMOGRÁFICA) "]
["Nota Las tasas fueron calculadas sobre población con 15 y más años de edad. La evolución de la población rural con base en el total poblacional. "]

{"sheet":"I-1.2.2","index":8,"n_rows":15,"n_cols":9,"rows_kept":15,"cut":false,"hidden":false,"merged":[[0,0,0,3],[14,0,14,8],[15,0,15,8],[6,0,6,1],[7,0,7,1],[8,0,8,1],[12,0,12,1],[9,0,9,1],[2,0,2,8],[3,0,3,8],[4,0,5,1],[4,2,4,8],[10,0,10,1],[11,0,11,1],[13,0,13,1]]}
["Ministerio de Educación y Cultura\nDirección de Educación"]
[]
["Cuadro I-1.2.2\n"]
["TASA DE ANALFABETISMO SEGÚN TRAMOS DE EDAD"]
["TASA DE ANALFABETISMO",null,"TRAMOS DE EDAD"]
[null,null,"TOTAL","15 a 20 años","21 a 39 años","40 a 49 años","50 a 59 años","60 a 64 años","65 y más años"]
[2006,null,2.2000000000000002,1.2,1.4,1.4,2.1,2.6,4.7]
[2007,null,2.1,1.2,1.3,1.5,1.8,2.2999999999999998,4.7]
[2008,null,1.9,0.9,1.3,1.3,1.9,2,4]
[2009,null,1.8,1,1.1000000000000001,1.1000000000000001,1.5,2.2999999999999998,4.2]
[2010,null,2,1.2,1.3,1.3,1.8,2.1,4.5]
[2011,null,1.7,1.3,1.1000000000000001,1.2,1.6,1.8,3.6]
[2012,null,1.6,1,1.1000000000000001,1.3,1.6,2,3.2]
[2013,null,1.6,1.1499999999999999,1,1.18,1.29,2.2599999999999998,3.5]
["Fuentes: Elaboración propia en base a la ECH 2013.\nNota: Población con 15 y más años para todo el país (Año 2006-2013)"]

{"sheet":"I-1.2.3","index":9,"n_rows":29,"n_cols":9,"rows_kept":29,"cut":false,"hidden":false,"merged":[[29,0,29,7],[28,0,28,7],[3,1,3,7],[2,0,2,8],[0,0,0,8]]}
["Ministerio de Educación y Cultura\nDirección de Educación"]
[]
["Cuadro I-1.2.3\nASISTENCIA A ALGÚN ESTABLECIMIENTO EDUCATIVO POR EDADES SIMPLES SEGÚN AÑO LECTIVO. 2013"]
["EDADES\nSIMPLES","AÑO LECTIVO"]
[null,2006,2007,2008,2009,2010,2011,2012,2013]
[0,"s/d","s/d","s/d",6.4,7.9,6.1,7.3,7.4]
[1,"s/d","s/d","s/d",20.7,24,19.899999999999999,28.5,25.2]
[2,"s/d","s/d","s/d",40.700000000000003,41.1,41.3,44.6,44.9]
[3,46.3,49.4,49.9,58.5,61.3,60.4,63.8,60.39]
[4,76.5,78.900000000000006,81.2,86.6,86.1,86.1,89.1,90.244]
[5,95.2,94.7,96.4,97.3,97.3,96.3,97.7,98.6]
[6,99.3,99.3,99,98.9,99.3,98,98.8,98.7]
[7,99.6,99.5,99.1,98.7,99,98.6,99.7,99.53]
[8,99.8,99.7,99.1,98.8,98.8,98.9,99.8,99.83]
[9,99.8,99.9,99.3,98.8,99.2,98.4,99.7,99.67]
[10,99.6,99.8,99.1,98.9,99.3,98.5,99.6,99.38]
[11,99.6,99.9,99.1,99,98.5,97.6,98.9,98.64]
[12,98.5,99.8,97.5,98,98.3,97.7,97.6,97.75]
[13,95.2,95,94.3,94.5,95.6,96,96.6,95.69]
[14,90.2,88.7,89.7,91,91.2,92.4,92.6,92.45]
[15,82.1,82.1,82.6,83.8,82.1,85.2,87,86.9]
[16,76.599999999999994,74.599999999999994,73.3,77.7,78.099999999999994,77.7,80.099999999999994,78.81]
[17,66.900000000000006,65.5,67.7,70.2,66.400000000000006,68.2,68.8,71.180000000000007]
[18,55,53.4,52.8,53.3,49.2,49.1,53.9,53.8]
[19,47,46.3,45.3,44.9,44.2,45.2,45.5,43.78]
[20,40.5,39.299999999999997,42.2,41.4,40.5,39.299999999999997,39.200000000000003,38.659999999999997]
[21,35.6,37.1,39,37.6,36.1,36.799999999999997,36.700000000000003,37.33]
[22,34.299999999999997,31.5,33.5,32.700000000000003,32.1,36.6,31.4,34.42]
["Fuentes:Elaboración propia en base a ECH 2006 y ECH de 2007 a 2012 del INE.\nNota:Todo el país (Años 2006 a 2012)"]

{"sheet":"I-1.2.4","index":10,"n_rows":24,"n_cols":5,"rows_kept":24,"cut":false,"hidden":false,"merged":[[23,0,23,4],[24,0,24,4],[15,0,15,1],[16,0,16,1],[17,0,17,1],[18,0,18,1],[19,0,19,1],[21,0,21,1],[20,0,20,1],[22,0,22,1],[0,0,0,1],[13,0,13,1],[14,0,14,4],[6,0,6,1],[7,0,7,1],[8,0,8,1],[9,0,9,1],[10,0,10,1],[2,0,2,4],[3,0,4,1],[3,2,3,4],[5,0,5,4],[11,0,11,1],[12,0,12,1]]}
["Ministerio de Educación y Cultura\nDirección de Educación"]
[]
["Cuadro I-1.2.4\nASISTENCIA A ALGÚN ESTABLECIMIENTO EDUCATIVO POR EDADES SIMPLES SEGÚN AÑO LECTIVO Y PERTENENCIA DE LOS HOGARES A LOS QUINTILES EXTREMOS DE INGRESOS. AÑO 2013."]
["AÑO LECTIVO",null,"EDADES SIMPLES"]
[null,null,12,13,14]
["1er Quintil"]
[2006,null,97.5,93,83.7]
[2007,null,98.5,92.6,81.900000000000006]
[2008,null,96.9,90.2,81.8]
[2009,null,97.5,91.2,83.5]
[2010,null,97.8,92.6,83.7]
[2011,null,97.5,93.7,86.9]
[2012,null,96.526586620926238,94.039345664492672,85.739730602248699]
[2013,null,97.6,92.1,86.6]
["Quintil Mayor"]
[2006,null,100,99.2,99.3]
[2007,null,99.1,100,100]
[2008,null,98.3,98.1,99.3]
[2009,null,98,94.5,91]
[2010,null,99.3,99.2,99.5]
[2011,null,97.9,99.5,100]
[2012,null,97.652824348723243,100,98.524945770065074]
[2013,null,97.9,100,97.5]
["Fuentes:Elaboración propia en base a la ENHA 2006 y a las ECH 2007 a 2013.\nNota:Todo el país (Años 2006 a 2013)"]

{"sheet":"I-1.2.5","index":11,"n_rows":10,"n_cols":6,"rows_kept":10,"cut":false,"hidden":false,"merged":[[7,0,8,1],[10,0,10,4],[9,0,9,4],[0,0,0,4],[5,0,6,1],[2,0,2,5],[3,0,4,2],[3,3,3,5]]}
["Ministerio de Educación y Cultura\nDirección de Educación"]
[]
["Cuadro I-1.2.5\nDIFERENCIA DE ASISTENCIA ENTRE EL QUINTIL MAYOR Y EL PRIMER Y EL SEGUNDO QUINTIL Y EL PRIMERO DE INGRESOS DE LOS HOGARES PARA 2013 Y DIFERENCIA CON 2012"]
["DIFERENCIAS",null,null,"EDADES SIMPLES"]
[null,null,null,12,13,14]
["Entre el Quintil mayor y el 1erQuintil",null,"Diferencia 2013",0.3,7.9,10.9]
[null,null,"Diferencia 2013-diferencia 2012 =",-0.8,1.9,-1.9]
["Entre el 2do quintil y el 1erquintil",null,"Diferencia 2013",-0.1,5.2,6.9]
[null,null,"Diferencia 2013-diferencia 2012 =",-2,2.7,-1]
["Fuentes:Elaboración propia en base en las ECH 2012 y 2013.\nNotas:Las diferencias “2013-2012” son el resultado de restar a la diferencia entre quintiles de 2012, idéntica diferencia entre quintiles de 2011. Estos valores son interpretados como indicadores de evolución de la brecha entre el año de referencia y el anterior.\nTodo el país (Años 2012 y 2013)"]

{"sheet":"I-1.2.6","index":12,"n_rows":26,"n_cols":21,"rows_kept":26,"cut":false,"hidden":false,"merged":[[15,0,15,20],[24,1,24,20],[25,1,25,20],[3,0,3,9],[4,0,5,0],[4,1,4,20],[6,0,6,20]]}
["Ministerio de Educación y Cultura\nDirección de Educación"]
[]
["Cuadro I-1.2.6"]
["ASISTENCIA A ALGÚN ESTABLECIMIENTO EDUCATIVO POR EDADES SIMPLES SEGÚN GRANDES ÁREAS Y AÑO LECTIVO. AÑO 2013"]
["AÑO LECTIVO","EDADES SIMPLES"]
[null,3,4,5,6,7,8,9,10,11,12,13,14,15,16,17,18,19,20,21,22]
["Montevideo"]
[2006,53.7,79.400000000000006,95.8,99.1,99.5,99.7,99.8,99.6,99.6,99.1,96.8,93.3,86.1,79.099999999999994,72.900000000000006,62.7,55.1,51.3,47.9,46]
[2007,59.6,82.5,94.5,99.1,99.1,99.6,100,99.8,99.9,99.2,96.5,90.7,85.5,80.3,70.400000000000006,60.5,56.9,49.2,49.1,42.6]
[2008,61.5,86.5,96.5,99.1,98.9,99,99.4,98.8,98.9,98.1,96.2,92.8,87.3,79.099999999999994,74.099999999999994,57.6,54.2,51.5,48.5,45.9]
[2009,67.2,86.5,95.5,98.6,98.5,97.9,99.4,99.2,99.3,98.5,96.7,93.5,88.6,81.8,74.8,60.9,51,50.8,52,42]
[2010,72.2,89,95.6,99,98.4,99.2,98.5,99.3,98.2,97.9,96.9,93.6,85.9,82.1,70.900000000000006,56.8,52.6,50.5,48.6,44.2]
[2011,64.7,87.1,93.3,97.6,97.1,98.8,98.5,98.4,97.3,97.5,97.5,94.8,89.2,81.2,73,57,53.1,50.1,48.7,49.9]
[2012,68.7,88.7,96.7,98.9,99.8,99.7,99.8,99.5,98.8,98.2,97.9,94.7,88.6,82.1,73.2,59.3,53,49.3,45.3,40.4]
[2013,65.513326485376012,90.506620315934768,98.209820413730398,98.770607897569548,99.466926516106838,100,99.80999881249258,99.546293853864412,98.228725452445133,98.000744403679477,97.952198630931662,94.756200084068936,90.072472103991714,80.534217000552289,74.763375510610743,56.981263703408416,52.116373181669026,45.93544105797033,48.025016458196184,44.610979374524632]
["Resto del país"]
[2006,41.9,74.8,94.8,99.4,99.6,99.8,99.8,99.6,99.5,98.2,94.4,88.4,79.7,75.099999999999994,63,49.6,41.8,33.1,25.9,24.5]
[2007,43.3,76.900000000000006,94.8,99.5,99.8,99.7,99.9,99.8,99.8,98.5,94.2,87.7,80.2,71.5,62.5,48.9,38.9,32.700000000000003,27.9,23]
[2008,42.8,78,96.3,98.9,99.2,99.1,99.2,99.3,99.1,97.1,93.4,88.1,79.900000000000006,69.900000000000006,63.6,49.7,39.1,35.200000000000003,31.2,23]
[2009,52.5,86.7,98.4,99.1,98.9,99.3,98.5,98.8,98.8,97.7,93.4,89.7,80.900000000000006,75.3,67.400000000000006,48.5,40.5,34,26.6,24.5]
[2010,58,86.3,98.4,99.5,99.2,98.4,99.6,99.3,98.8,98.7,95.4,91.7,81.3,77.2,64.8,45.6,39.4,34.799999999999997,28.9,23.7]
[2011,57.8,85.5,98,98.3,99.3,98.9,98.4,98.5,97.7,97.8,95.3,91.3,83.1,75.8,65.8,44.8,40.200000000000003,32.299999999999997,27.4,26]
[2012,60.7,89.4,98.3,98.7,99.7,99.8,99.6,99.6,99,97.3,96.1,91.5,86.1,79,66.5,50.6,41.3,32.6,29.7,23.6]
[2013,57.056059910275877,90.063387513722162,98.83393646964214,98.668244042589151,99.576933090341058,99.740140629776832,99.611433281328189,99.300678578836639,98.875655362608725,97.626388969689913,94.592529711375207,91.248135256091501,85.317769130998698,77.894708437896327,69.312266199283229,51.998867497168746,38.891925785395031,33.743510863295519,29.611518609073624,26.168190393266581]
["Fuentes","Elaboración propia en base a la ENHA 2006 y a las ECH 2007 a 2013. "]
["Nota:","Todo el país (Años 2006 a 2013)"]

{"sheet":"I-1.2.7","index":13,"n_rows":19,"n_cols":6,"rows_kept":19,"cut":false,"hidden":false,"merged":[[3,0,4,0],[0,0,0,5],[2,0,2,5],[3,1,3,5],[18,1,18,5],[17,0,17,2]]}
["Ministerio de Educación y Cultura\nDirección de Educación"]
[]
["Cuadro I-1.2.7\nJÓVENES DE 15 A 20 AÑOS DE EDAD POR ASISTENCIA A ALGÚN ESTABLECIMIENTO DE EDUCACIÓN Y ACTIVIDAD SEGÚN NIVEL EDUCATIVO MÁXIMO ALCANZADO. AÑO 2013."]
["NIVEL EDUCATIVO MÁXIMO\nALCANZADO","ASISTENCIA A ALGÚN ESTABLECIMIENTO DE EDUCACIÓN Y ACTIVIDAD"]
[null,"TOTAL","Asiste y trabaja o busca trabajo","Asiste y no trabaja ni busca trabajo","No Asiste y trabaja o busca trabajo","No asiste, no trabaja y no busca trabajo"]
["TOTAL ",100,13.1,49.6,24.770215205557989,12.5]
["Sin instrucción ",0.1461005936492476,0,0,6.4728111110426154E-3,0.13962778253820499]
["Educación inicial ",1.7569058729972813E-2,0,0,0,1.7569058729972813E-2]
["Primaria incompleta ",2.1295548555330206,4.1302699470462403E-2,0.2644605682511697,0.66639131533686358,1.1574002724745249]
["Primaria completa ",8.6076058612845756,0.18247162751129659,0.57885425078752539,4.7572079375157967,3.089072045469957]
["Media Básica incompleta ",28.861648285937974,2.3613431391284512,12.887058692985324,8.8011737364148033,4.8120727174093965]
["Media Básica completa ",7.0914269157979746,0.3476824253931462,0.89663845342966508,4.4129160322284351,1.4341900047467282]
["Media Superior incompleta ",39.456407158312629,6.8433024898746737,27.610238137803066,3.9330033227097037,1.0698632079251866]
["Media Superior completa ",3.2727765893833571,0.35939513121312811,0.31655128624003648,1.8989994883396932,0.69783068359049916]
["Terciaria Incompleta ",10.368518712588692,3.0237274761584789,6.9558061115666048,0.25490546613486875,0.13407965872873989]
["Terciaria Completa ",4.8391968782556694E-2,0,0,3.9145095766781532E-2,9.2468730157751651E-3]
[]
["Fuentes: Elaboración propia en base a la ECH 2013. "]
["Nota: Todo el país (Año 2013)"]

{"sheet":"I.1.2.8","index":14,"n_rows":14,"n_cols":7,"rows_kept":14,"cut":false,"hidden":false,"merged":[[0,0,0,6],[2,0,2,6],[3,2,3,6],[5,0,5,1],[6,0,6,1],[4,0,4,1],[7,0,7,1],[8,0,8,1],[14,1,14,6],[9,0,9,1],[12,0,12,1],[10,0,10,1],[13,0,13,6],[11,0,11,1]]}
["Ministerio de Educación y Cultura\nDirección de Educación"]
[]
["Cuadro I-1.2.8\nJÓVENES DE 15 A 20 AÑOS DE EDAD POR ASISTENCIA A ALGÚN ESTABLECIMIENTO DE EDUCACIÓN Y ACTIVIDAD SEGÚN AÑO LECTIVO. AÑO 2013."]
[null,null,"ASISTENCIA A ALGÚN ESTABLECIMIENTO DE EDUCACIÓN Y ACTIVIDAD"]
["AÑO LECTIVO",null,"Asiste y no trabaja y no busca trabajo","Asiste y trabaja o busca trabajo","No asiste y trabaja o busca trabajo","No asiste y no trabaja y no busca trabajo","TOTAL"]
[2006,null,47.9,14.4,25.7,12.1,100]
[2007,null,47.1,13.9,27.3,11.8,100]
[2008,null,48.2,13.3,25.9,12.6,100]
[2009,null,48.4,14.3,25.6,11.7,100]
[2010,null,48.2,13.2,26.2,12.4,100]
[2011,null,48.9,12.9,25.6,12.5,100]
[2012,null,50.2,13,23.7,13,100]
[2013,null,49.5,13.2,24.8,12.6,100]
["Fuentes: Elaboración propia en base a la ENHA 2006 y a las ECH 2007 a 2013. \nNota:Todo el país (Años 2006 a 2013)"]

{"sheet":"I.1.2.9","index":15,"n_rows":14,"n_cols":8,"rows_kept":14,"cut":false,"hidden":false,"merged":[[11,0,11,1],[13,0,13,7],[14,0,14,7],[12,0,12,1],[0,0,0,6],[7,0,7,1],[8,0,8,1],[9,0,9,1],[10,0,10,1],[5,0,5,1],[6,0,6,1],[2,0,2,7],[3,2,4,2],[3,3,3,4],[3,6,3,7],[3,0,4,1]]}
["Ministerio de Educación y Cultura\nDirección de Educación"]
[]
["Cuadro I-1.2.9\nJÓVENES DE 12 A 29 AÑOS DE EDAD QUE ALCANZARON Y NO CULMINARON EDUCACIÓN MEDIA Y NO ASISTEN POR TRAMOS DE EDAD Y QUINTILES EXTREMOS DE INGRESO SEGÚN LA PRINCIPAL RAZÓN POR LA CUAL SE HAN DESVINCULADO DEL SISTEMA EDUCATIVO. AÑO 2013."]
["NIVEL EDUCATIVO MÁXIMO",null,"TOTAL","TRAMOS DE EDAD",null,null,"QUINTILES EXTREMOS DE INGRESO"]
[null,null,null,"12 a 17 años","18 a 29 años",null,"Primer\nquintil","Quintil mayor"]
["TOTAL  ",null,100,100,100,null,100,100]
["Comenzó a trabajar  ",null,26.860571714309529,5.6745252128356256,29.496775139852588,null,20.221244201260856,31.334558996841562]
["No tenía interés o le interesaban otras cosas  ",null,49.343242371646916,64.102815979043882,47.50669214503111,null,45.629964447616402,56.163673219252338]
["Quedó ella o su pareja embarazada  ",null,7.4375763197657774,5.8480681074001311,7.6353606017022697,null,11.789117534329858,1.8950643473341819]
["Le resultaba difícil  ",null,4.6496628342216928,8.4774066797642433,4.1733723929154936,null,5.2231605936851562,2.4796115589497005]
["Debió atender asuntos familiares  ",null,3.9948981255684348,3.2481990831696139,4.0878107212848915,null,5.7729669719678043,2.8473106114175271]
["Otras razones  ",null,3.4502875239603297,8.840864440078585,2.7795320183998338,null,4.3191520293934946,3.2385801159666245]
["Dificultades económicas",null,4.2637611105273265,3.8081204977079239,4.3204569808138134,null,7.0443942217464279,2.0412011502380616]
["Fuentes: Elaboración propia en base a la ECH 2012.\nNota: Jóvenes de 12 a 29 años de todo el país, que declararon haber asistido a educación media pero que hoy no lo hacen (Año 2012)"]

{"sheet":"I-1.2.10","index":16,"n_rows":20,"n_cols":5,"rows_kept":20,"cut":false,"hidden":false,"merged":[[19,0,19,4],[0,0,0,3],[6,0,7,0],[9,0,10,0],[12,0,16,0],[2,0,2,4],[3,1,3,3]]}
["Ministerio de Educación y Cultura\nDirección de Educación"]
[]
["Cuadro I-1.2.10\nSITUACIÓN DE LOS JÓVENES QUE NO ESTUDIAN Y NO TRABAJAN POR ASISTENCIA Y CONDICIÓN DE ACTIVIDAD SEGÚN SEXO, GRANDES ÁREAS Y QUINTILES DE INGRESOS DE LOS HOGARES."]
[null,"ASISTENCIA Y CONDICIÓN DE ACTIVIDAD ECONÓMICA",null,null,"Total"]
[null,null,"No estudia y no trabaja, pero en las últimas 4 semanas buscó trabajo","No estudia, no trabaja y no busca trabajo"]
[]
["SEXO","Hombre ",39.249271137026241,35.18471418579513,35.354596965819781]
[null,"Mujer ",60.750728862973759,64.81528581420487,64.645403034180219]
[]
["GRANDES ÁREAS","Montevideo ",31.013119533527693,35.863483181789277,35.660756717236339]
[null,"Resto del país ",68.9868804664723,64.136516818210723,64.339243282763661]
[]
["QUINTILES DE INGRESOS DE LOS HOGARES","1er quintil ",44.569970845481052,51.492655942010558,51.203314445866091]
[null,"2do quintil ",22.52186588921283,25.815476568957845,25.67781636507646]
[null,"3er quintil ",15.306122448979592,13.055573218032682,13.149637482483397]
[null,"4to quintil ",15.342565597667637,5.9038596045018119,6.2983610552610747]
[null,"Quintil mayor ",2.259475218658892,3.7324346664971064,3.670870651312983]
[]
[null,"Total ",100,100,100]
["Fuente: Elaboración propia en base a la ECH 2013."]

{"sheet":"I-1-2-11","index":17,"n_rows":14,"n_cols":4,"rows_kept":14,"cut":false,"hidden":false,"merged":[[0,0,0,3],[13,0,13,3],[3,1,4,2],[2,0,2,3],[3,0,5,0],[3,3,5,3]]}
["Ministerio de Educación y Cultura\nDirección de Educación"]
[]
["Cuadro I-1.2.11\nSITUACIÓN DE LOS JÓVENES QUE NO ESTUDIAN Y NO TRABAJAN POR ASISTENCIA Y CONDICIÓN DE ACTIVIDAD SEGÚN NIVEL EDUCATIVO ALCANZADO"]
["NIVEL EDUCATIVO ALCANZADO","ASISTENCIA Y CONDICIÓN\nDE ACTIVIDAD ECONÓMICA",null,"Total"]
[]
[null,"No estudia y no trabaja, pero en las últimas 4 semanas buscó trabajo","No estudia, no trabaja y no busca trabajo"]
["Sin instrucción ",null,1.1000000000000001,1.06]
["Educación inicial ",null,0.09,8.5999999999999993E-2]
["Educación Primaria ",23.4,32.51,32.130000000000003]
["Media Básica ",40.799999999999997,47.2,46.96]
["Media Superior ",31.3,16.91,17.518000000000001]
["Terciaria Completa ",4.4400000000000004,2.13,2.226]
["Total",100,100,100]
["Fuente:Elaboración propia en base a la ECH 2013."]

{"sheet":"I-1.2.12","index":18,"n_rows":63,"n_cols":15,"rows_kept":63,"cut":false,"hidden":false,"merged":[[62,1,62,14],[67,0,67,12],[68,0,68,12],[69,0,69,12],[11,1,11,2],[12,1,12,2],[61,1,61,2],[63,0,63,12],[64,0,64,12],[65,0,65,12],[66,0,66,12],[56,0,56,2],[57,1,57,2],[50,0,50,2],[51,1,51,2],[53,0,53,2],[54,0,54,2],[48,0,48,2],[37,0,37,2],[39,0,39,2],[40,0,40,2],[41,0,41,2],[42,0,42,2],[43,0,43,2],[44,1,44,2],[46,0,46,2],[47,0,47,2],[36,0,36,2],[25,0,25,2],[26,0,26,2],[28,1,28,2],[31,0,31,2],[32,0,32,2],[34,1,34,2],[7,0,7,2],[9,0,9,2],[10,0,10,2],[8,0,8,2],[13,0,13,2],[14,0,14,2],[16,1,16,2],[19,1,19,2],[22,1,22,2],[23,2,23,4],[6,0,6,2],[0,0,0,4],[2,0,2,14],[3,0,3,14],[4,0,5,2],[4,3,4,12],[11,12,12,12],[11,11,12,11],[11,10,12,10],[11,9,12,9],[11,8,12,8],[11,7,12,7],[11,6,12,6],[11,5,12,5],[11,4,12,4],[11,3,12,3]]}
["Ministerio de Educación y Cultura\nDirección de Educación"]
[]
["Cuadro I-1.2.12"]
["MATRÍCULA DEL SISTEMA EDUCATIVO POR AÑO LECTIVO SEGÚN NIVEL, FORMA DE ADMINISTRACIÓN Y MODALIDAD"]
["NIVEL/FORMA DE ADMINISTRACIÓN/MODALIDAD",null,null,"AÑO LECTIVO"]
[null,null,null,2002,2003,2004,2005,2006,2007,2008,2009,2010,2011,2012,2013]
[]
["TOTAL SISTEMA  ",null,null,{"$f":"D10+D15+D27+D41+D43","v":942084},948314,953588,937694,947477,949746,973172,986125,{"$f":"K10+L15+L27+L41+L43","v":983258},{"$f":"M10+M15+M27+M41+M43","v":966785},{"$f":"N10+N15+N27+N41+N43","v":992485},{"$f":"O10+O15+O27+O41+O43","v":993510}]
[]
["Total Edu. en la Primera Infancia e Inicial  ",null,null,144319,133964,140628,133640,141065,141307,160934,173003,160504,156089,{"$f":"N12+N13","v":176477},{"$f":"O12+O13","v":177733}]
[]
[null,"Inicial de 0a 2 años",null,"S/D","S/D","S/D","S/D","S/D","S/D","S/D","S/D","S/D","S/D",47500,48530]
[null,"Primera Infancia de 3 a  5 años ",null,null,null,null,null,null,null,null,null,null,null,128977,129203]
[]
["Total Educación Primaria",null,null,{"$f":"D17+D20+D23","v":365004},365495,367428,365840,365879,360653,354852,349271,347207,341607,334130,329000]
[]
[null,"Primaria Común",null,{"$f":"D18+D19","v":353826},354843,355568,354777,353528,348579,342498,336865,330548,{"$f":"M18+M19","v":325509},{"$f":"N18+N19","v":319238},{"$f":"O18+O19","v":314760}]
[null,null,"Común pública",307756,311141,311350,309286,306030,300143,292542,286092,279445,273440,266349,261188]
[null,null,"Común privada ",46070,43702,44218,45491,47498,48436,49956,50773,51103,52069,52889.000000000015,53572]
[null,"Primaria Especial  ",null,{"$f":"D21+D22","v":11178},10652,11860,11063,12351,12074,12354,12406,11808,{"$f":"M21+M22","v":11253},{"$f":"N21+N22","v":10504},{"$f":"O21+O22","v":9953}]
[null,null,"Especial pública ",9076,8884,8553,8379,8221,7913,7778,7535,7416,7286,6910,6813]
[null,null,"Especial privada  ",2102,1768,3307,2684,4130,4161,4576,4871,4392,3967,3594,3140]
[null,"Programa Jóvenes y Adultos ANEP ",null,null,null,null,null,null,null,null,null,{"$f":"L24+L25","v":4851},{"$f":"M24+M25","v":4845},{"$f":"N24+N25","v":4388},{"$f":"O24+O25","v":4287}]
[null,null,"Educación Primaria (Niveles I y II y Programa de Alfabetización) ",null,null,null,null,null,null,null,null,3827,3804,3234,3136]
[null,null,"Pruebas de Acreditación ",null,null,null,null,null,null,null,null,1024,1041,1154,1151]
[]
["Total Educación Media  ",null,null,{"$f":"D29+D35","v":295399},306417,306778,302311,300681,298925,310128,320420,322977,331659,335126,337634]
[]
[null,"Total Educación Media Básica ",null,{"$f":"D30+D31+D34","v":162664},164180,161736,158131,160028,160367,171502,177015,177619,{"$f":"M30+M31+M34","v":182175},{"$f":"N30+N31+N34","v":181444},{"$f":"O30+O31+O34","v":182087}]
[null,null,"Ciclo Básico Rural (7º, 8º y 9º) ",1498,1771,1869,1797,1818,1784,2028,1991,1934,1966,1916,1812]
[null,null,"Total Media Básica General  ",146588,147146,144374,140743,142350,142420,151798,155409,155444,{"$f":"M32+M33","v":156418},{"$f":"N32+N33","v":153287},{"$f":"O32+O33","v":151201}]
["Pública  ",null,null,125367,127162,123869,120487,121195,120960,127681,130013,130073,130978,127593,124749]
["Privada3",null,null,21221,19984,20505,20256,21155,21460,24117,25396,25371,25440,25694,26452]
[null,null,"Media Básica  Tecnológica ",14578,15263,15493,15591,15860,16163,17676,19615,20241,23791,26241,29074]
[null,"Total Educación Media Superior  ",null,{"$f":"D36+D39","v":132735},142237,145042,144180,140653,138558,138626,143405,145358,149484,153682,155547]
[null,null,"Total Media Superior General  ",122617,129454,127356,124512,119418,112877,110507,112664,113327,{"$f":"M37+M38","v":116117},{"$f":"N37+N38","v":117497},{"$f":"O37+O38","v":116552}]
["Pública  ",null,null,108589,115157,112669,108459,103938,97136,94506,96319,96902,99175,100265,99510]
["Privada3",null,null,14028,14297,14687,16053,15480,15741,16001,16345,16425,16942,17232,17042]
[null,null,"Total Media Superior Tecnológica  ",10118,12783,17686,19668,21235,25681,28119,30741,32031,33367,36185,38995]
[]
["Total Edu. Técnica (s/cont. educativa) ",null,null,36416,37219,32372,27146,28840,24419,19957,16769,11912,7546,9859,8632]
[null,null,null,null,null,null,null,null,null,null,null,". "]
["Total Educación Terciaria ",null,null,{"$f":"D45+D52+D58","v":100946},105219,106382,108757,111012,124442,127301,126662,128159,129884,136893,140511]
[]
[null,"Terciaria No Universitaria  ",null,{"$f":"D46+D50","v":5496},{"$f":"E46+E50","v":7238},{"$f":"F46+F50","v":6437},{"$f":"G46+G50","v":5454},{"$f":"H46","v":5726},{"$f":"I46","v":5786},6718,7179,7560,7339,8308,9253]
[null,null,"Terciaria No Universitaria Pública  ",{"$f":"D47+D48+D49","v":5148},6107,6129,5297,5726,5786,6718,7179,7560,{"$f":"M47+M48+M49","v":7339},{"$f":"N47+N48+N49","v":8308},{"$f":"O47+O48+O49","v":9253}]
["CETP ",null,null,2564,3514,3671,4024,3961,3896,4650,4964,6158,6780,7610,8511]
["Terciaria Policial o Militar ",null,null,620,623,653,679,724,652,557,649,603,470,572,626]
["Otras terciaria pública4",null,null,1964,1970,1805,594,1041,1238,1511,1566,799,89,126,116]
[null,null,"Terciaria No Universitaria Privada7",348,1131,308,157,"n/c","n/c","n/c","n/c","n/c","n/c","n/c","n/c"]
[]
[null,"Formación en Educación ",null,{"$f":"D53+D56","v":16735},{"$f":"E53+E56","v":19411},21397,20779,21537,22609,22747,20951,20703,21242,22754,24239]
[null,null,"Publica",{"$f":"D54","v":16610},{"$f":"E54","v":19298},{"$f":"F54+F55","v":21260},{"$f":"G54+G55","v":20631},21406,22456,22572,20855,20655,21149,22649,24120]
["Consejo de Formación en Educación (CFE)",null,null,16610,19298,20968,20435,21175,21992,22108,20391,20191,20919,22331,24067]
["CENFORES - INAU",null,null,"n/c","n/c",292,196,231,464,464,464,464,230,318,53]
[null,null,"Privada",{"$f":"D57","v":125},{"$f":"E57","v":113},137,148,131,153,175,96,48,93,105,119]
["Centro de Inv. y Experim. Pedagógica (CIEP)",null,null,125,113,137,148,131,153,175,96,48,93,105,119]
[null,"Total Educación Universitaria6",null,{"$f":"D59+D60","v":78715},78570,78548,82524,83749,96047,97836,98532,99896,101303,{"$f":"N59+N60+N61","v":105831},{"$f":"O59+O60+O61","v":107019}]
[null,null,"Universitaria Pública (UdelaR)9",70156,70156,70156,70156,70156,81774,81774,81774,81774,81774,85905,85905]
[null,null,"Universitaria Privada  ",8559,8414,8392,12368,13593,14273,16062,16758,18122,19529,19824,21062]
[null,null,"Seguridad y Defensa","n/c","n/c","n/c","n/c","n/c","n/c","n/c","n/c","n/c","s/d",102,52]
[]
[null,"Fuentes: Departamentos de Estadística (u oficinas productoras de información) del CEIP, CES y CETP y de la Universidad de la República, Dirección de\nFormación y Perfeccionamiento Docente, e instituciones privadas de educación terciaria\nNotas: \n1-A partir de 2012, Primera Infancia incluye niños de 0 y 1 año de CAIF. \n2-El dato de Educación Primaria Común Pública para 2011 incluyen 1.041 acreditados por el Programa Nacional de Jóvenes y Adultos de ANEP(Acreditación de Primaria). \n3-Los datos de secundaria privada corresponden a la educación secundaria habilitada, que se componen en su gran mayoría por liceos privados a los que se suma el Liceo Militar y el bachillerato de la Escuela Naval. \n4-La baja significativa de matriculados en la categoría “Otras terciaria pública” en 2005, responde a que el ISEF no reportó información para dicho año sí lo había hecho en 2004 (1181 matriculados). En 2006 y 2007 reportó en UdelaR, institución a la pasó a formar parte. \n5-Algunas instituciones de educación terciaria no universitaria privada fueron reportadas en distintos niveles a lo largo de la serie o bien no reportaron en algunos de los años, lo que explica la irregularidad de la evolución de la matrícula en este nivel. \n6-Los datos de enseñanza terciaria universitaria pública y privada corresponden a carreras cortas y de grado (excluyen carreras de postgrado). \n7-Los datos de UdelaR del 2000 a 2006 corresponden a una proyección realizada del Censo 1999 de carreras de grado. El dato de 2007 corresponde al Censo 2007 y los datos 2008 a 2011 responden a la proyección del Censo 2007. El dato de 2012 corresponde al VII Censo de Estudiantes Universitarios de Grado 2012 (no incluyen carreras de postgrado)."]

{"sheet":"I-1.2.13","index":19,"n_rows":17,"n_cols":9,"rows_kept":17,"cut":false,"hidden":false,"merged":[[16,0,16,8],[7,0,7,1],[8,0,8,1],[9,0,9,1],[15,0,15,1],[10,0,10,1],[11,0,11,1],[12,0,12,1],[13,0,13,1],[14,0,14,1],[6,0,6,1],[0,0,0,3],[2,0,2,8],[5,0,5,1],[3,2,3,8],[3,0,4,1]]}
["Ministerio de Educación y Cultura\nDirección de Educación"]
[]
["Cuadro I-1.2.13\nPORCENTAJE DE POBLACIÓN DE 25 AÑOS O MÁS POR TRAMOS DE EDAD SEGÚN NIVEL EDUCATIVO MÁXIMO ALCANZADO. AÑO 2013."]
["NIVEL EDUCATIVO MÁXIMO\nALCANZADO",null,"TRAMOS DE EDAD"]
[null,null,"TOTAL","25 a 29 años","30 a 39 años","40 a 49 años","50 a 59 años","60 a 69 años","70 y más años"]
["TOTAL ",null,{"$f":"SUM(C10:C16)","v":99.994116751662489},{"$f":"SUM(D10:D16)","v":99.989800081599356},100,100.00000000000001,99.992122179740335,99.985297386012007,99.991581660793159]
["Sin instrucción ",null,1.0995137448556596,0.19847341221270232,0.24239524608939197,0.36805512178011829,0.58322129322297378,1.272630913100713,4.1978483886137612]
["Primaria incompleta ",null,10.329583307263384,2.5797293621651027,3.4123746477859469,4.7585298936676264,8.0737153901096601,17.395927717846579,28.334097757238318]
["Primaria completa ",null,26.801044416657248,14.347885216918266,18.494651427168169,26.126388014664549,29.572549472711231,34.012274973073701,38.326085820613898]
["HASTA PRIMARIA COMPLETA ",null,{"$f":"SUM(C7:C9)","v":38.230141468776296},17.126087991296071,22.149421321043508,31.252973030112294,38.229486156043862,52.680833604020989,70.858031966465973]
["Media Básica incompleta ",null,9.5762006729315488,13.773714810281518,11.882236133192484,10.263500559770518,9.7658711818831136,7.2678782076487787,4.4666546681142343]
["Media Básica completa ",null,10.828305334985624,12.111128110975113,14.967324274031531,12.704628557425728,11.018707197176589,7.6286051322380466,4.5154229780020092]
["Media Superior incompleta ",null,13.86630271460549,18.694750441996465,17.617582864243843,15.670451323989409,13.447176589218939,10.649137503632913,6.4391586305394126]
["Media Superior completa ",null,8.7853706960069555,10.130643954848361,9.6382277414478938,10.036949659092548,10.598031595311122,7.1516249807669299,4.5679650261549094]
["Terciaria incompleta ",null,7.702012537855901,18.078930368557053,9.6409798272113534,7.4545576851927473,5.8182954497710178,4.7964713726428805,2.803597243429341]
["Terciaria completa ",null,11.005783326500671,10.07454440364477,14.10422783882939,12.61693918441676,11.1145540103357,9.8107465850614606,6.3407511480872953]
["Fuentes:Elaboración propia en base a la ECH 2013.\nNota:Todo el país (Año 2013)"]

{"sheet":"I.2.1.1","index":20,"n_rows":8,"n_cols":7,"rows_kept":8,"cut":false,"hidden":false,"merged":[[0,0,0,1],[2,0,2,6],[3,0,4,0],[7,0,7,6],[3,1,3,5]]}
["Ministerio de Educación y Cultura\nDirección de Educación\n"]
[]
["Cuadro I-2.1.1\nTASA NETA DE MATRICULACIÓN ENTRE LOS NIÑOS DE 3 A 5 AÑOS POR AÑO LECTIVO Y TRAMOS DE EDAD. AÑO 2013."]
["TRAMOS\nDE EDAD","AÑO LECTIVO",null,null,null,null,"TOTAL"]
[null,2008,2009,2010,2011,2012,2013]
["3 a 5 años ",76.8,81.2,81.900000000000006,81.5,83.9,84.4]
["4 y 5 años ",88.9,92,91.9,91.2,93.6,94.4]
["Fuente: Elaboración propia en base en las ECH 2008 a 2013."]

{"sheet":"I.2.2.1","index":21,"n_rows":13,"n_cols":3,"rows_kept":13,"cut":false,"hidden":false,"merged":[[12,0,12,2],[0,0,0,2],[2,0,2,2],[6,0,6,2],[9,0,9,2]]}
["Ministerio de Educación y Cultura\nDirección de Educación"]
[]
["Cuadro I-2.2.1\nMATRÍCULA EN EDUCACIÓN PRIMARIA ESPECIAL SEGÚN REGIÓN Y FORMA DE ADMINISTRACIÓN. AÑO 2013."]
["REGIÓN Y FORMA DE ADMINISTRACIÓN","Cantidad\nabsoluta","Porcentaje"]
["TOTAL",{"$f":"SUM(B8+B9)","v":9953},{"$f":"SUM(C8+C9)","v":100}]
[]
["GRANDES ÁREAS"]
["Montevideo ",4577,{"$f":"B8*100/B$5","v":45.986134833718474}]
["Resto del país ",5376,{"$f":"B9*100/B$5","v":54.013865166281526}]
["FORMA DE ADMINISTRACIÓN"]
["Público ",6813,{"$f":"B11*100/B$5","v":68.451723098563249}]
["Privado ",3140,{"$f":"B12*100/B$5","v":31.548276901436754}]
["Fuente: Elaboración propia en base a información del Departamento de Estadística del CEIP."]

{"sheet":"I.2.2.2","index":22,"n_rows":11,"n_cols":15,"rows_kept":11,"cut":false,"hidden":false,"merged":[[2,0,2,14],[4,0,5,0],[4,1,4,14],[0,0,0,14]]}
["Ministerio de Educación y Cultura\nDirección de Educación"]
[]
["Cuadro I-2.2.2\nMATRÍCULA EN EDUCACIÓN PRIMARIA PÚBLICA COMÚN POR AÑO LECTIVO SEGÚN ÁREAS DEMOGRÁFICAS. AÑOS 2001 A 2013."]
[]
["ÁREAS DEMOGRÁFICAS","AÑO LECTIVO"]
[null,2000,2001,2002,2003,2004,2005,2006,2007,2008,2009,2010,2011,2012,2013]
["TOTAL",{"$f":"SUM(B9+B8)","v":301182},{"$f":"SUM(C9+C8)","v":304452},307756,311141,311350,309286,306030,300143,292542,286092,279445,273440,266349,261188]
["Urbana ",285077,288168,291484,294182,293879,292143,285826,280554,273491,267638,262192,256775,249885,245840]
["Rural ",16105,16284,16272,16959,17471,17143,20204,19589,19051,18454,17253,16665,16464,15348]
["% Urbana ",94.7,94.7,94.7,94.5,94.4,94.5,93.4,93.5,93.5,93.6,93.8,93.9,93.81863645067186,{"$f":"O8*100/O7","v":94.123772914528999}]
["Fuente: Elaboración propia en base a información del Departamento de Estadística del CEIP."]

{"sheet":"I.2.2.3","index":23,"n_rows":12,"n_cols":3,"rows_kept":12,"cut":false,"hidden":false,"merged":[[0,0,0,2],[0,3,0,5],[2,0,2,2],[11,0,11,2]]}
["Ministerio de Educación y Cultura\nDirección de Educación\n"]
[]
["Cuadro I-2.2.3\nPORCENTAJE DE ASISTENCIA INSUFICIENTE Y ABANDONO INTERMITENTE DE  1.º A 6.º GRADO EN EDUCACIÓN PRIMARIA COMÚN PÚBLICA SEGÚN REGIONES Y CONTEXTO 1er QUINTIL Y QUINTIL MAYOR. AÑO 2013."]
[null,"ASISTENCIA INSUFICIENTE","ABANDONO INTERMITENTE"]
["TOTAL",8.6999999999999993,0.7]
["MONTEVIDEO ",15.6,1.1000000000000001]
["RESTO DEL PAÍS ",5.7,0.6]
["1Quintil-Urbano ",14.5,1.2]
["1Quintil-Rural ",5.6,0.6]
["5Quintil-Urbano ",4.4000000000000004,0.4]
["5Quintil-Rural ",5.5,1.3]
["Fuente: Monitor Educativo de Enseñanza Estado de Situación 2013."]

{"sheet":"I.2.3.1","index":24,"n_rows":10,"n_cols":5,"rows_kept":10,"cut":false,"hidden":false,"merged":[[0,0,0,1],[2,0,2,4],[9,0,9,4],[10,0,10,4]]}
["Ministerio de Educación y Cultura\nDirección de Educación\n"]
[]
["Cuadro I-2.3.1\nPORCENTAJE DE PROMOCIÓN, NO PROMOCIÓN Y DESVINCULACIÓN DE 1º A 3º GRADO DE EDUCACIÓN MEDIA BÁSICA TÉCNICO PROFESIONAL PÚBLICA SEGÚN TIPO DE CURSO. AÑO 2013."]
["TIPO DE CURSO","% DE PROMOCIÓN","% DE NO PROMOCIÓN","% DE DESVINCULADOS","TOTAL"]
["TOTAL",62.7,16.3,20.9,{"$f":"B5+C5+D5","v":99.9}]
["Articulación Educación Media Básica",0.34200000000000003,0.10100000000000001,0.55800000000000005,{"$f":"B6+C6+D6","v":1.0010000000000001}]
["Ciclo Básico Tecnológico",0.62,0.20300000000000001,0.17599999999999999,{"$f":"B7+C7+D7","v":0.99899999999999989}]
["C.B.T Agrario",0.84899999999999998,3.4000000000000002E-2,0.11600000000000001,{"$f":"B8+C8+D8","v":0.999}]
["Formación Profesional Básica 2007",0.64,0.11799999999999999,0.24199999999999999,{"$f":"B9+C9+D9","v":1}]
["Fuente: Departamento de Estadística del CETP"]

{"sheet":"I.2.3.2","index":25,"n_rows":24,"n_cols":5,"rows_kept":24,"cut":false,"hidden":false,"merged":[[0,0,0,1],[2,0,2,4],[23,0,23,4]]}
["Ministerio de Educación y Cultura\nDirección de Educación\n"]
[]
["Cuadro I-2.3.2\nPORCENTAJE DE PROMOCIÓN, NO PROMOCIÓN Y DESVINCULACIÓN DE 1º A 3º GRADO DE EDUCACIÓN MEDIA BÁSICA TÉCNICO PROFESIONAL PÚBLICA SEGÚN DEPARTAMENTO. AÑO 2013."]
["TIPO DE CURSO","% DE PROMOCIÓN","% DE NO PROMOCIÓN","% DE DESVINCULADOS","TOTAL"]
["Artigas",0.56200000000000006,0.189,0.25,{"$f":"B5+C5+D5","v":1.0010000000000001}]
["Canelones",0.64,0.156,0.20300000000000001,0.99900000000000011]
["Cerro Largo",0.68700000000000006,0.11600000000000001,0.19800000000000001,1.0010000000000001]
["Colonia",0.61599999999999999,0.17299999999999999,0.21099999999999999,0.99999999999999989]
["Durazno",0.71599999999999997,0.126,0.158,1]
["Flores",0.55800000000000005,0.19400000000000001,0.247,0.999]
["Florida",0.55400000000000005,0.20499999999999999,0.24099999999999999,1]
["Lavalleja",0.61799999999999999,0.20300000000000001,0.17899999999999999,1]
["Maldonado",0.66300000000000003,0.14499999999999999,0.192,1]
["Montevideo",0.56399999999999995,0.18099999999999999,0.255,0.99999999999999989]
["Paysandú",0.73699999999999999,0.13300000000000001,0.13,1]
["Rfo Negro",0.67500000000000004,0.16500000000000001,0.16,1]
["Rivera",0.629,0.13900000000000001,0.23100000000000001,0.999]
["Rocha",0.48,0.23300000000000001,0.28699999999999998,1]
["Salto",0.69899999999999995,0.12,0.18099999999999999,1]
["San Jose",0.61099999999999999,0.185,0.20399999999999999,1]
["Soriano",0.63500000000000001,0.189,0.17499999999999999,0.99900000000000011]
["Tacuarembó",0.65700000000000003,0.13400000000000001,0.20899999999999999,1]
["Treinta y Tres",0.66600000000000004,0.159,0.17499999999999999,1]
["Fuente: Departamento de Estadística del CETP"]

{"sheet":"I.2.3.3","index":26,"n_rows":13,"n_cols":5,"rows_kept":13,"cut":false,"hidden":false,"merged":[[0,0,0,1],[2,0,2,4],[12,0,12,4]]}
["Ministerio de Educación y Cultura\nDirección de Educación\n"]
[]
["Cuadro I-2.3.3\nPORCENTAJE DE PROMOCIÓN, NO PROMOCIÓN Y DESVINCULACIÓN DE 1º A 3º GRADO DE EDUCACIÓN MEDIA SUPERIOR TÉCNICO PROFESIONAL PÚBLICA SEGÚN TIPO DE CURSO. AÑO 2013."]
["TIPO DE CURSO","% DE PROMOCIÓN","% DE NO PROMOCIÓN","% DE DESVINCULADOS","TOTAL"]
["TOTAL",63.4,11.1,25.5,{"$f":"B5+C5+D5","v":100}]
["Curso Técnico",0.63300000000000001,7.9000000000000001E-2,0.28799999999999998,{"$f":"B6+C6+D6","v":1}]
["Formación Profesional Superior",0.56899999999999995,7.1999999999999995E-2,0.35899999999999999,{"$f":"B7+C7+D7","v":0.99999999999999989}]
["E.M.P. Especialización",0.443,0.55700000000000005,0,1]
["Educación Media Profesional",0.61899999999999999,8.1000000000000003E-2,0.3,1]
["Educación Media Tecnológica",0.64400000000000002,0.128,0.22700000000000001,0.999]
["Bachillerato Profesional",0.61499999999999999,0.11899999999999999,0.26500000000000001,0.999]
["Bachillerato Figari",0.63400000000000001,0.16900000000000001,0.19700000000000001,1]
["Fuente: Departamento de Estadística del CETP"]

{"sheet":"I.2.3.4","index":27,"n_rows":24,"n_cols":5,"rows_kept":24,"cut":false,"hidden":false,"merged":[[0,0,0,1],[2,0,2,4],[23,0,23,4]]}
["Ministerio de Educación y Cultura\nDirección de Educación\n"]
[]
["Cuadro I-2.3.4\nPORCENTAJE DE PROMOCIÓN, NO PROMOCIÓN Y DESVINCULACIÓN DE 1º A 3º GRADO DE EDUCACIÓN MEDIA SUPERIOR TÉCNICO PROFESIONAL PÚBLICA SEGÚN DEPARTAMENTO. AÑO 2013."]
["TIPO DE CURSO","% DE PROMOCIÓN","% DE NO PROMOCIÓN","% DE DESVINCULADOS","TOTAL"]
["Artigas",0.67900000000000005,0.109,0.21199999999999999,{"$f":"B5+C5+D5","v":1}]
["Canelones",0.63,8.5999999999999993E-2,0.28399999999999997,1]
["Cerro Largo",0.69,6.6000000000000003E-2,0.24299999999999999,0.999]
["Colonia",0.746,6.0999999999999999E-2,0.193,1]
["Durazno",0.59699999999999998,8.2000000000000003E-2,0.32200000000000001,1.0009999999999999]
["Flores",0.73199999999999998,0.1,0.16700000000000001,0.999]
["Florida",0.73199999999999998,0.05,0.218,1]
["Lavalleja",0.76900000000000002,4.4999999999999998E-2,0.185,0.99900000000000011]
["Maldonado",0.65400000000000003,8.2000000000000003E-2,0.26400000000000001,1]
["Montevideo",0.58199999999999996,0.14899999999999999,0.26800000000000002,{"$f":"B14+C14+D14","v":0.999}]
["Paysandú",0.73299999999999998,5.8999999999999997E-2,0.20899999999999999,1.0010000000000001]
["Rfo Negro",0.65100000000000002,0.114,0.23499999999999999,1]
["Rivera",0.69,7.3999999999999996E-2,0.23599999999999999,0.99999999999999989]
["Rocha",0.63200000000000001,6.3E-2,0.30499999999999999,1]
["Salto",0.66,0.10199999999999999,0.23799999999999999,1]
["San Jose",0.69599999999999995,7.4999999999999997E-2,0.22900000000000001,0.99999999999999989]
["Soriano",0.66500000000000004,0.10199999999999999,0.23400000000000001,1.0010000000000001]
["Tacuarembó",0.65900000000000003,9.9000000000000005E-2,0.24299999999999999,1.0009999999999999]
["Treinta y Tres",0.56599999999999995,0.108,0.32700000000000001,1.0009999999999999]
["Fuente: Departamento de Estadística del CETP"]

{"sheet":"I.2.4.1","index":28,"n_rows":22,"n_cols":4,"rows_kept":22,"cut":false,"hidden":false,"merged":[[2,0,2,3],[3,2,3,3],[21,0,21,3],[3,1,4,1],[3,0,4,0]]}
["Ministerio de Educación y Cultura\nDirección de Educación\n"]
[]
["Cuadro I-2.4.1.\nESTABLECIMIENTOS DE EDUCACIÓN TÉCNICO PROFESIONAL POR NIVEL EDUCATIVO IMPARTIDO EN EL ESTABLECIMIENTO SEGÚN GRANDES ÁREAS. AÑO 2013."]
[null,"TOTAL","GRANDES ÁREAS"]
[null,null,"Resto del País","Montevideo"]
["TOTAL",{"$f":"C6+D6","v":252},194,58]
["básica",38,29,9]
["basica y superior",13,13,0]
["superior",13,12,1]
["terciaria",59,43,16]
["jya",8,4,4]
["superior y terciaria",7,5,2]
["superior y jya ",13,8,5]
["basico superior y jya",33,24,9]
["superior terc y jya",12,4,8]
["basico superior y terciaria",3,1,2]
["basico superior  jya y terciaria",44,42,2]
["terciaria y jya",2,2,0]
["basica y jya",7,7,0]
[]
["Fuente: Departamento de Estadísticas  CETP-UTU "]
["Nota: Dentro de la cantidad de establecimentos declarados se encuentran 126 reparticiones denominadas\nsatélites en las cuales se  imparten cursos administrados por el CETP. Estos son establecimientos que no forman parte de los activos de ANEP. "]

{"sheet":"I.2.4.2","index":29,"n_rows":14,"n_cols":11,"rows_kept":14,"cut":false,"hidden":false,"merged":[[0,0,0,4],[3,0,6,1],[3,2,3,10],[12,0,12,10],[4,2,4,4],[8,0,8,1],[5,3,5,4],[10,0,10,1],[11,0,11,1],[4,8,4,10],[7,0,7,1],[9,0,9,1],[4,5,4,7],[5,6,5,7],[5,9,5,10],[13,0,15,10],[2,0,2,6]]}
["Ministerio de Educación y Cultura\nDirección de Educación\n"]
[]
["Cuadro  I.2.4.2\nALUMNOS MATRICULADOS EN EDUCACIÓN TÉCNICA POR GRANDES ÁREAS Y SEXO SEGÚN NIVEL Y TIPO DE CURSO. AÑO 2013."]
["NIVEL\nDEL CURSO",null,"GRANDES ÁREAS"]
[null,null,"TOTAL",null,null,"MONTEVIDEO",null,null,"RESTO DEL PAÍS"]
[null,null,null,"Sexo",null,null,"Sexo",null,null,"Sexo"]
[null,null,"Total","Femenino","Masculino","Total","Femenino","Masculino","Total","Femenino","Masculino"]
["TOTAL ",null,{"$f":"D8+E8","v":85212},{"$f":"SUM(D9:D12)","v":38612},{"$f":"SUM(E9:E12)","v":46600},{"$f":"G8+H8","v":31070},{"$f":"SUM(G9:G12)","v":14078},{"$f":"SUM(H9:H12)","v":16992},{"$f":"J8+K8","v":54142},{"$f":"SUM(J9:J12)","v":24534},{"$f":"SUM(K9:K12)","v":29608}]
["Educación Media Básica",null,{"$f":"+D9+E9","v":29074},{"$f":"+G9+J9","v":11608},17466,{"$f":"+G9+H9","v":5117},2065,3052,{"$f":"+J9+K9","v":23957},9543,14414]
["Educación Media Superior",null,{"$f":"+D10+E10","v":38995},17460,21535,{"$f":"+G10+H10","v":16673},6769,9904,{"$f":"+J10+K10","v":22322},10691,11631]
["Nivel  de Formación Profesional",null,{"$f":"+D11+E11","v":8632},4346,4286,{"$f":"+G11+H11","v":4034},1933,2101,{"$f":"+J11+K11","v":4598},2413,2185]
["Nivel Terciario",null,{"$f":"+D12+E12","v":8511},5198,3313,{"$f":"+G12+H12","v":5246},3311,1935,{"$f":"+J12+K12","v":3265},1887,1378]
["Fuente: Elaboración propia en base a información del Departamento de Estadísticas CETP - U.T.U"]
["Nota: La presente clasificación de niveles refiere a la adoptada por el CETP (UTU) y no a la presentada en otros apartados, que se organiza en base a los niveles del artículo 22 de la Ley General de Educación 18.437. El lector deberá tenerpresente estas condicionantes de la clasificación, ya que se producen diferencias en los valores que se observan en otros apartados y capítulos. "]

{"sheet":"I.2.4.3","index":30,"n_rows":16,"n_cols":7,"rows_kept":16,"cut":false,"hidden":false,"merged":[[0,0,0,5],[3,3,3,6],[15,0,15,6],[5,0,5,1],[7,0,7,1],[6,0,6,1],[13,0,13,1],[9,0,9,1],[8,0,8,1],[14,0,14,1],[12,0,12,1],[10,0,10,1],[11,0,11,1],[2,0,2,6],[3,0,4,1],[3,2,4,2]]}
["Ministerio de Educación y Cultura \nDirección de Educación Área de Investigación y Estadística"]
[]
["Cuadro I.2.4.3\nALUMNOS MATRICULADOS EN EDUCACIÓN MEDIA, TÉCNICA Y TERCIARIA POR NIVEL DEL CURSO SEGÚN SECTORES DE ESTUDIO. AÑO 2013."]
["ÁREAS\nDE ESTUDIO",null,"TOTAL","NIVEL DEL CURSO"]
[null,null,null,"Educación Media Básica","Educación Media Superior","Nivel de Formación Profesional","Nivel Terciario"]
["TOTAL ",null,{"$f":"SUM(D6:G6)","v":85212},{"$f":"SUM(D7:D15)","v":29074},{"$f":"SUM(E7:E15)","v":38995},{"$f":"SUM(F7:F15)","v":8632},{"$f":"SUM(G7:G15)","v":8511}]
["Agricultura y Pesca",null,{"$f":"SUM(D7:G7)","v":3421},285,2364,244,528]
["Artes y Artesanías",null,{"$f":"SUM(D8:G8)","v":1169},0,183,986,0]
["Comercio y Administración",null,15624,0,12504,1600,1520]
["Comunicación",null,972,0,0,0,972]
["Construcción",null,3051,205,2146,443,257]
["Industria",null,22322,4756,8916,3962,4688]
["Informática",null,7133,937,5930,0,266]
["Programas Generales",null,18858,18858,0,0,0]
["Servicios",null,12662,4033,6952,1397,280]
["Fuente:Departamento de Estadísticas CETP - U.T.U"]

{"sheet":"I.2.7.1","index":31,"n_rows":41,"n_cols":15,"rows_kept":41,"cut":false,"hidden":false,"merged":[[40,0,41,14],[38,0,38,8],[0,0,0,2],[2,0,2,14],[3,0,3,14],[4,1,4,14],[36,0,36,8],[37,0,37,8]]}
["Ministerio de Educación y Cultura\nDirección de Educación\n"]
[]
["Cuadro I-2.7.1"]
["EVOLUCIÓN DE LA MATRÍCULA DE LAS INSTITUCIONES UNIVERSITARIAS (2000 – 2013)"]
["INSTITUCIONES","AÑO LECTIVO"]
["UNIVERSITARIAS",2000,2001,2002,2003,2004,2005,2006,2007,2008,2009,2010,2011,2012,2013]
[]
["TOTAL  ",{"$f":"B10+B19","v":78634},79678,79761,79862,79650,85019,86802,131000,132925,133699,{"$f":"L10+L19","v":135288},{"$f":"M10+M19+M32","v":136946},155916,{"$f":"O10+O19+O32","v":156818}]
[]
["Total Universidades   ",{"$f":"B12+B14","v":78233},79292,79305,79396,79057,83621,85153,129122,130136,131409,132726,133910,153627,{"$f":"O12+O14","v":154541}]
[]
["UdelaR ",70156,70156,70156,70156,70156,70156,70156,112891,112891,112891,112891,{"$f":"112891","v":112891},130941,130941]
[]
["Universidades privadas  ",{"$f":"SUM(B15:B18)","v":8077},9136,9149,9240,8901,13465,14997,16231,17245,18518,19835,21019,22686,{"$f":"SUM(O15:O18)","v":23600}]
["Univ Católica del Uruguay  ",4057,4180,3591,3849,3286,5580,5911,6401,7126,7227,7996,{"$f":"6655+2244","v":8899},9478,9402]
["Univ ORT Uruguay  ",3445,3572,3900,3777,3827,5674,5863,6118,6442,7202,7199,{"$f":"6991+631","v":7622},7511,8208]
["Univ de la Empresa ","n/c",609,909,790,872,911,1611,1756,1739,2064,2465,{"$f":"1667+472","v":2139},3475,3743]
["Univ de Montevideo  ",575,775,749,824,916,1300,1612,1956,1938,2025,2175,{"$f":"1780+579","v":2359},2222,2247]
["Total Institutos Universitarios  ",{"$f":"SUM(B20:B31)","v":401},386,456,466,593,1398,1649,1878,2789,2290,2562,2930,2132,{"$f":"SUM(O20:O31)","v":2132}]
["IU Autónomo del Sur ",215,211,218,184,195,318,428,414,428,515,605,691,"n/c","n/c"]
["IU Asoc Cristiana de Jóvenes ","n/c",93,140,141,184,407,508,449,352,346,427,515,587,639]
["IU CLAEH ","n/c","n/c","n/c",39,91,283,412,483,483,740,651,{"$f":"354+352","v":706},532,607]
["IU Monseñor Mariano Soler ","n/c","n/c","n/c","n/c",59,65,50,83,54,50,42,61,61,59]
["IU Asoc Psico del Uruguay","n/c","n/c","n/c","n/c",35,25,31,29,34,38,40,48,42,45]
["IU Crandon *","n/c","n/c","n/c","n/c",29,60,59,72,21,89,78,{"$f":"48+9","v":57},48,41]
["IU San Francisco de Asis ","n/c","n/c","n/c","n/c","n/c",83,161,202,202,237,380,489,441,435]
["IU Maldonado – P del Este ",16,"n/c","n/c","n/c","n/c","n/c","n/c","n/c",1017,"n/c","n/c","n/c","n/c","n/c"]
["Fundación Politécnico Punta del Este","n/c","n/c","n/c","n/c","n/c","n/c","n/c","n/c","n/c","n/c","n/c","n/c",42,41]
["Instituto Universitario BIOS","n/c","n/c","n/c","n/c","n/c",157,"n/c",146,198,112,109,94,68,"n/c"]
["Instituto Florence Nightingale (INSADE)",170,48,48,53,"n/c","n/c","n/c","n/c","n/c","n/c","n/c","n/c","n/c","n/c"]
["IU CEDIIAP ","n/c",34,50,49,"s/d","s/d","s/d","s/d","s/d",163,230,{"$f":"227+42","v":269},311,265]
["Total Área Seguridad y Defensa","n/c","n/c","n/c","n/c","n/c","n/c","n/c","n/c","n/c","n/c","n/c",{"$f":"SUM(M33:M36)","v":106},{"$f":"SUM(N33:N36)","v":157},{"$f":"SUM(O33:O36)","v":145}]
["Escuela de Policía","n/c","n/c","n/c","n/c","n/c","n/c","n/c","n/c","n/c","n/c","n/c","s/d",77,52]
["Escuela Naval","n/c","n/c","n/c","n/c","n/c","n/c","n/c","n/c","n/c","n/c","n/c","s/d",25,"s/d"]
["CALEN","n/c","n/c","n/c","n/c","n/c","n/c","n/c","n/c","n/c","n/c","n/c",106,55,62]
["Escuela de Guerra Naval","n/c","n/c","n/c","n/c","n/c","n/c","n/c","n/c","n/c","n/c","n/c","n/c","n/c",31]
["Fuentes: Oficinas productoras de cada una de las instituciones"]
["Nota:   UdelaR incluye tecnicaturas y grado, no incluye matrícula de postgrados. La matrícula es la correspondiente al año 2012"]
["Las Universidades privadas e Institutos Universitarios incluyen grado y postgrado. "]
["El instituto CEDIIAP no reportó la información correspondiente al año 2000 y al período 2004-2008. "]
["El Instituto Universitario \"Instituto de Estudios para la Salud y el Desarrollo Forence Ninghtingale\" (INSADE), que registra actividad en los años 2000 a 2003 de la serie presentada, luego no reportó información, por lo cual fue retirado de la tabla. Sin embargo, la matricula correspondiente a dichos años sigue incluida en el item \"Total de Institutos Universitarios\"."]

{"sheet":"I.2.7.2 ","index":32,"n_rows":30,"n_cols":15,"rows_kept":30,"cut":false,"hidden":false,"merged":[[30,0,30,12],[0,0,0,1],[2,0,2,14],[3,0,3,14],[4,0,5,0],[4,1,4,12],[29,0,29,12]]}
["Ministerio de Educación y Cultura\nDirección de Educación \n"]
[]
["Cuadro I-2.7.2"]
["INGRESOS A INSTITUCIONES UNIVERSITARIAS POR AÑO LECTIVO SEGÚN ÁREA DE CONOCIMIENTO.  AÑOS 2000 A 2013."]
["ÁREA DE CONOCIMIENTO","AÑO LECTIVO"]
[null,2000,2001,2002,2003,2004,2005,2006,2007,2008,2009,2010,2011,2012,2013]
["TOTAL ",{"$f":"SUM(B8:B28)","v":18131},19265,20090,21169,21558,21964,22798,23014,23566,24981,26253,26283,26854,{"$f":"SUM(O8:O29)","v":32178}]
["Agricultura, silvicultura y pesca  ",210,225,176,252,283,398,362,414,436,638,806,864,608,724]
["Arquitectura y construcción  ",788,704,756,645,602,628,648,665,646,832,770,754,688,932]
["Artes  ",488,539,574,642,710,809,744,752,746,839,1219,997,895,1205]
["Ciencias de la vida  ",474,492,515,633,815,785,955,939,818,581,650,649,473,489]
["Ciencias físicas  ",505,374,545,540,653,624,771,653,687,760,636,667,711,877]
["Ciencias sociales y del comportamiento  ",2965,2466,3152,2933,3126,3353,2987,3057,4830,5692,5936,5399,3774,5044]
["Derecho  ",2378,2033,2047,2087,1828,2000,1837,1754,1850,1855,2031,2005,2911,3104]
["Docencia y ciencias de la educación  ",315,505,542,588,515,766,911,901,941,709,800,785,957,769]
["Enseñanza comercial y administración  ",2546,4252,3903,4132,3942,3828,4292,4885,3127,3253,4176,3661,5462,5657]
["Humanidades  ",568,663,709,803,899,967,1038,889,909,791,541,707,806,1100]
["Industria y producción  ",43,151,172,214,247,114,141,104,111,115,116,219,383,441]
["Informática  ",792,701,749,790,813,843,917,962,1186,1248,1319,1280,1128,1366]
["Ingeniería y profesiones afines  ",720,676,672,752,767,570,701,633,671,686,856,828,891,1494]
["Matemáticas y estadística  ",107,142,113,131,324,244,328,329,238,218,155,176,132,171]
["Medicina  ",3673,3817,3573,3960,4135,3633,3572,3562,3888,4823,4361,4656,4785,6307]
["Periodismo e información  ",945,838,1118,1174,972,1170,1219,1036,1038,1049,816,1218,1027,1026]
["Protección del medio ambiente  ","n/c","n/c","n/c","n/c","n/c","n/c","n/c","n/c","n/c","n/c","n/c",6,43,151]
["Servicios personales  ",8,0,0,14,8,0,318,328,331,272,411,327,491,128]
["Servicios de seguridad","n/c","n/c","n/c","n/c","n/c","n/c","n/c","n/c","n/c","n/c","n/c","s/d",102,639]
["Servicios sociales  ",311,367,457,498,508,724,573,626,594,87,146,82,0,19]
["Veterinaria  ",295,320,317,381,411,508,484,525,519,533,508,578,555,535]
["Otros","n/c","n/c","n/c","n/c","n/c","n/c","n/c","n/c","n/c","n/c",104,327,32,0]
["Fuente:Elaboración propia en base información de las oficinas productoras de las instituciones.\nNota:Las áreas corresponden a la clasificación CINE 1997 de UNESCO."]

{"sheet":"I.2.7.3","index":33,"n_rows":28,"n_cols":15,"rows_kept":28,"cut":false,"hidden":false,"merged":[[28,0,28,9],[0,0,0,3],[2,0,2,10],[3,0,4,0],[3,1,3,12],[27,0,27,9]]}
["Ministerio de Educación  y Cultura\nDirección de Educación\n"]
[]
["Cuadro I-2.7.3\nEGRESOS DE INSTITUCIONES UNIVERSITARIAS POR AÑO LECTIVO SEGÚN ÁREA DE CONOCIMIENTO. AÑOS 2000 A 2013."]
["INSTITUCIONES\nUNIVERSITARIAS","AÑO LECTIVO"]
[null,2000,2001,2002,2003,2004,2005,2006,2007,2008,2009,2010,2011,2012,2013]
["TOTAL ",{"$f":"SUM(B7:B27)","v":4646},4402,5902,5697,6177,5514,6151,6381,7018,7185,7223,{"$f":"SUM(M7:M27)","v":7808},9101,{"$f":"SUM(O7:O27)","v":9766}]
["Agricultura, silvicultura y pesca ",226,145,164,161,213,123,126,111,164,301,279,294,216,219]
["Arquitectura y construcción ",233,136,294,208,308,437,324,303,280,275,341,349,362,401]
["Artes ",40,33,39,60,46,42,104,120,181,184,211,162,184,177]
["Ciencias de la vida ",97,62,72,73,107,108,141,137,183,169,166,240,242,177]
["Ciencias físicas ",110,94,153,118,162,140,105,125,143,154,158,158,141,145]
["Ciencias sociales y del comportamiento ",381,534,739,671,655,634,689,641,923,720,746,930,1262,1043]
["Derecho ",500,613,686,676,816,781,838,777,886,806,786,910,1013,1041]
["Enseñanza comercial y administración ",914,865,1328,1509,1205,918,1032,1071,1135,1289,1280,1239,1999,1869]
["Formación de personal docente y ciencias de la educación ",66,61,81,120,113,136,291,372,399,275,235,246,241,397]
["Humanidades ",80,33,74,33,73,64,76,75,92,90,66,75,68,115]
["Industria y producción ",0,12,8,16,10,26,16,31,33,24,27,25,45,117]
["Informática ",285,234,257,194,237,277,235,215,242,260,250,277,288,381]
["Ingeniería y profesiones afines ",133,124,187,201,224,214,200,204,194,257,222,232,275,345]
["Matemáticas y estadística ",9,4,6,9,10,12,5,13,27,19,14,11,21,19]
["Medicina ",1323,1311,1476,1276,1578,1243,1537,1726,1532,1874,1962,1953,2027,2462]
["Periodismo e información ",120,78,208,249,289,174,191,213,234,242,201,241,280,260]
["Protección del medio ambiente","s/d","s/d","s/d","s/d","s/d","s/d","s/d","s/d","s/d","s/d","s/d",5,12,10]
["Servicios de Seguridad","n/c","n/c","n/c","n/c","n/c","n/c","n/c","n/c","n/c","n/c","n/c","s/d",41,81]
["Servicios personales ",0,0,0,16,7,19,96,145,194,67,51,181,125,210]
["Servicios sociales ",17,14,23,18,33,48,51,47,106,88,123,148,139,151]
["Veterinaria ",112,49,107,89,91,118,94,55,70,91,105,132,120,146]
["Fuente: Elaboración propia en base a información brindada por las oficinas productoras de las instituciones.\nNota: Las áreas corresponden a la clasificación CINE 1997 de UNESCO."]

{"sheet":"I.2.7.4","index":34,"n_rows":29,"n_cols":8,"rows_kept":29,"cut":false,"hidden":false,"merged":[[28,0,28,7],[2,0,3,7],[4,0,5,0],[4,1,4,7]]}
["Ministerio de Educación y Cultura Dirección de Educación \n"]
[]
["Cuadro I.2.7.4\nEGRESOS DE INSTITUCIONES UNIVERSITARIAS POR NIVEL ACADÉMICO SEGÚN ÁREA DE CONOCIMIENTO. AÑO 2013."]
[]
["INSTITUCIONES UNIVERSITARIAS","NIVEL ACADÉMICO"]
[null,"TOTAL","%","Carrera corta o tecnicatura","Carrera de grado, licenciatura","Postgrado de especialización","Maestría","Doctorado"]
["TOTAL ",{"$f":"SUM(D7:H7)","v":9766},{"$f":"SUM(C8:C28)","v":100.00000000000003},{"$f":"SUM(D8:D28)","v":779},7257,1193,491,46]
["Agricultura, silvicultura y pesca ",{"$f":"SUM(D8:H8)","v":219},{"$f":"(B8*100)/$B$7","v":2.2424738890026621},0,193,1,25,0]
["Arquitectura y construcción ",401,4.1060823264386643,3,375,23,0,0]
["Artes ",177,1.812410403440508,14,163,0,0,0]
["Ciencias de la vida ",177,1.812410403440508,12,103,0,45,17]
["Ciencias físicas ",145,1.4847429858693426,18,111,0,7,9]
["Ciencias sociales y del comportamiento ",1043,10.679909891460168,3,850,124,64,2]
["Derecho ",1041,10.65943067786197,82,933,10,16,0]
["Enseñanza comercial y administración ",1869,19.137825107515873,200,1270,240,159,0]
["Formación de personal docente y ciencias de la educación ",397,4.0651238992422689,20,90,227,53,7]
["Humanidades ",115,1.1775547818963752,40,63,0,12,0]
["Industria y producción ",117,1.1980339954945729,64,20,32,1,0]
["Informática ",381,3.9012901904566863,42,293,26,18,2]
["Ingeniería y profesiones afines ",345,3.5326643456891254,33,283,4,19,6]
["Matemáticas y estadística ",19,0.19455252918287938,0,14,0,4,1]
["Medicina ",2462,25.209911939381527,193,1790,420,57,2]
["Periodismo e información ",260,2.6622977677657178,15,242,3,0,0]
["Protección del medio ambiente",10,0.10239606799098915,3,1,0,6,0]
["Servicios de seguridad",{"$f":"SUM(D25:H25)","v":81},{"$f":"(B25*100)/$B$7","v":0.82940815072701213},0,21,60,0,0]
["Servicios personales ",210,2.150317427810772,37,173,0,0,0]
["Servicios sociales ",151,1.5461806266639362,0,128,23,0,0]
["Veterinaria ",146,1.4949825926684415,0,141,0,5,0]
["Fuente: Elaboración propia en base información de las oficinas productoras de las instituciones \nNota: Las áreas corresponden a la clasificación CINE 1997 de UNESCO."]

{"sheet":"I.2.7.5 ","index":35,"n_rows":31,"n_cols":8,"rows_kept":31,"cut":false,"hidden":false,"merged":[[28,0,28,7],[29,0,29,7],[30,0,30,10],[0,0,0,1],[2,0,2,6],[3,0,5,0],[3,1,3,7],[4,1,5,2],[4,3,5,3],[4,4,5,4],[4,5,5,5],[4,6,5,6],[4,7,5,7]]}
["Ministerio de Educación y Cultura \nDirección de Educación\n"]
[]
["Cuadro I-2.7.5\nINGRESOS A INSTITUCIONES UNIVERSITARIAS POR NIVEL ACADÉMICO SEGÚN ÁREA DE CONOCIMIENTO. AÑO 2013."]
["INSTITUCIONES UNIVERSITARIAS","NIVEL ACADÉMICO"]
[null,"TOTAL",null,"Carrera corta o tecnicatura","Carrera de grado, licenciatura","Postgrado de especialización","Maestría","Doctorado"]
[]
["TOTAL ",{"$f":"SUM(D7:H7)","v":30518},{"$f":"SUM(C8:C28)","v":100},3481,22301,2895,{"$f":"SUM(G8:G28)","v":1695},146]
["Agricultura, silvicultura y pesca ",724,{"$f":"(B8*100)/$B$7","v":2.3723704043515301},null,638,17,46,23]
["Arquitectura y construcción ",932,3.0539353823972739,73,810,19,19,11]
["Artes ",1205,3.9484894160823121,74,1131]
["Ciencias de la vida ",489,1.6023330493479258,0,383,null,74,32]
["Ciencias físicas ",794,2.6017432335015402,135,546,56,19,38]
["Ciencias sociales y del comportamiento ",3467,11.360508552329772,13,2646,357,430,21]
["Derecho ",3104,10.171046595451864,null,2934,10,156,4]
["Enseñanza comercial y administración ",5657,18.536601350022938,1360,3592,416,289,0]
["Formación de personal docente y ciencias de la educación ",769,2.5198243659479651,44,387,176,162,0]
["Humanidades ",1100,3.6044301723572971,322,591,null,187]
["Industria y producción ",441,1.445048823645062,154,252,35,0]
["Informática ",1366,4.4760469231273348,207,1087,27,42,3]
["Ingeniería y profesiones afines ",1494,4.8954715250016383,162,1228,42,54,8]
["Matemáticas y estadística ",171,0.56032505406645261,null,123,40,5,3]
["Medicina ",6307,20.666491906415885,563,4045,1579,118,2]
["Periodismo e información ",1026,3.3619503243987157,0,966,13,47]
["Servicios de seguridad",151,{"$f":"(B24*100)/$B$7","v":0.49478996002359266},30,104,1,15,1]
["Servicios personales ",128,0.41942460187430369,null,21,107]
["Servicios sociales ",639,2.0938462546693755,344,295]
["Protección del medio ambiente",19,6.2258339340716951E-2,null,0,0,19]
["Veterinaria ",535,1.7530637656465038,null,522,null,13]
["Fuente: Elaboración propia en base información de las oficinas productoras de las instituciones"]
["Nota: Las áreas corresponden a la clasificación CINE 1997 de UNESCO."]
["En el total de Ingreso no se tiene en cuenta a 1660 estudiantes que ingresaron a los CIOs de UdelaR. 83 refieren a Ciencias Físicas y 1577 y a Ciencias Sociales del Comportamiento"]

{"sheet":"I.2.7.6","index":36,"n_rows":15,"n_cols":4,"rows_kept":15,"cut":false,"hidden":false,"merged":[[0,0,0,3],[2,0,2,3],[12,0,12,3]]}
["Ministerio de Educación y Cultura\nDirección de Educación"]
[]
["Cuadro I-2.7.6\nINGRESOS, MATRÍCULA Y EGRESOS DE OFERTAS DE GRADO SEGÚN FORMA DE ADMINISTRACIÓN EN CANTIDADES ABSOLUTAS Y PORCENTAJES. AÑO 2013."]
["FORMA DE ADMINISTRACIÓN","INGRESOS","MATRÍCULA","EGRESOS"]
["TOTAL VALORES ABSOLUTOS",{"$f":"SUM(B6:B8)","v":27442},{"$f":"SUM(C6:C8)","v":151809},{"$f":"SUM(D6:D8)","v":8034}]
["Universidad de la República *",23636,130941,6269]
["Instituciones Universitarias Privadas ",3785,20816,1744]
["Área seguridad y defensa (oferta pública universitaria) **",21,52,21]
["TOTAL PORCENTAJES",1,1,1]
["Universidad de la República ",{"$f":"B6/B5*100%","v":0.86130748487719555},{"$f":"C6/C5*100%","v":0.86253779420192478},{"$f":"D6/D5*100%","v":0.78030868807567833}]
["Instituciones Universitarias Privadas ",{"$f":"B7/B5*100%","v":0.13792726477661979},{"$f":"C7/C5*100%","v":0.13711967011178519},0.21707742096091612]
["Área seguridad y defensa (oferta pública universitaria)",{"$f":"B8/B5*100%","v":7.652503461846804E-4},{"$f":"C8/C5*100%","v":3.4253568629000918E-4},2.6138909634055266E-3]
["Fuentes: Elaboración propia en base a información brindada por las oficinas productoras de las instituciones."]
["* La matrícula es la correspondiente al año 2012. Los datos de egresos son preliminares."]
["** No incluye la información de cursos de nivel Universitario pertenecientes a la Escuela Naval"]

{"sheet":"I.2.8.1","index":37,"n_rows":14,"n_cols":12,"rows_kept":14,"cut":false,"hidden":false,"merged":[[7,5,7,7],[0,0,0,5],[1,0,1,5],[2,0,2,5],[8,10,8,11],[8,9,9,9],[6,9,7,11],[4,0,4,11],[5,0,5,11],[6,0,9,0],[6,1,6,7],[7,1,9,1],[8,2,9,2],[8,3,8,4],[8,5,9,5],[8,6,8,7],[7,2,7,4]]}
["Ministerio de Educación y Cultura"]
["Dirección de Educación"]
[]
[]
["Cuadro I-2.8.1"]
["ALUMNOS MATRICULADOS EN EL PROGRAMA NACIONAL DE JÓVENES Y ADULTOS POR MODALIDAD, NIVEL Y SEXO SEGÚN GRANDES ÁREAS. AÑO 2013."]
["GRANDES ÁREAS","ALUMNOS MATRICULADOS\nEN EDUCACIÓN PRIMARIA",null,null,null,null,null,null,null,"ALUMNOS MATRICULADOS\nEN TALLERES"]
[null,"TOTAL Ed Primaria","PRIMER  TRAMO: NIVEL I",null,null,"PRIMER  TRAMO: NIVEL II"]
[null,null,"TOTAL\n","SEXO",null,"TOTAL\n","SEXO",null,null,"TOTAL \n","SEXO"]
[null,null,null,"Masculino","Femenino",null,"Masculino","Femenino",null,null,"Masculino","Femenino"]
["TOTAL ",{"$f":"C11+F11","v":3136},{"$f":"SUM(D11:E11)","v":1097},{"$f":"D12+D13","v":543},{"$f":"E12+E13","v":554},{"$f":"SUM(G11:H11)","v":2039},{"$f":"G12+G13","v":1075},{"$f":"H12+H13","v":964},null,{"$f":"SUM(K11:L11)","v":4065},{"$f":"K12+K13","v":1587},{"$f":"L12+L13","v":2478}]
["Montevideo ",{"$f":"C12+F12","v":1557},{"$f":"SUM(D12:E12)","v":538},276,262,{"$f":"SUM(G12:H12)","v":1019},564,455,null,{"$f":"SUM(K12:L12)","v":3248},1119,2129]
["Resto del País ",{"$f":"C13+F13","v":1579},{"$f":"SUM(D13:E13)","v":559},267,292,{"$f":"SUM(G13:H13)","v":1020},511,509,null,{"$f":"SUM(K13:L13)","v":817},468,349]
["Fuentes: ANEP -CODICEN - Programa de Eduacación de Jóvenes y Adultos "]

{"sheet":"I.2.8.2","index":38,"n_rows":14,"n_cols":4,"rows_kept":14,"cut":false,"hidden":false,"merged":[[0,0,0,3],[2,0,2,3],[5,0,5,3],[13,0,13,3],[6,1,6,3],[7,1,9,1],[7,2,8,3],[6,0,9,0]]}
["Ministerio de Educación y Cultura"]
["Dirección de Educación"]
[]
[]
["Cuadro I.2.8.2"]
["ALUMNOS QUE RINDIERON LA PRUEBA DE ACREDITACIÓN EN EL PROGRAMA NACIONAL DE JÓVENES Y ADULTOS POR SEXO SEGÚN GRANDES ÁREAS. AÑO 2013."]
["GRANDES ÁREAS","ALUMNOS PARTICIPANTES EN PRUEBA DE ACREDITACIÓN"]
[null,"TOTAL\nPRUEBAS DE ACREDITACIÓN","SEXO"]
[]
[null,null,"Masculino","Femenino"]
["TOTAL",{"$f":"SUM(C11:D11)","v":1151},{"$f":"C12+C13","v":591},{"$f":"D12+D13","v":560}]
["Montevideo",{"$f":"SUM(C12:D12)","v":263},134,129]
["Resto del País ",{"$f":"SUM(C13:D13)","v":888},457,431]
["Fuentes : ANEP-CODICEN - Programa de Educación de jóvnes y Adultos ."]

{"sheet":"I.2.9.1 ","index":39,"n_rows":42,"n_cols":6,"rows_kept":42,"cut":false,"hidden":false,"merged":[[38,0,38,5],[39,0,39,5],[0,0,0,3],[5,0,5,5],[6,0,7,0],[6,1,7,1],[6,2,6,3],[6,4,6,5]]}
["Ministerio de Educación y Cultura"]
["Dirección de Educación"]
[]
[]
["Cuadro I.2.9.1"]
["TOTAL DE INSTITUCIONES Y CURSOS DEL RELEVAMIENTO TÉCNICO-PROFESIONAL POR FORMA DE ADMINISTRACIÓN, GRANDES ÁREAS SEGÚN ÁREA DE CONOCIMIENTO. AÑO 2013"]
["AREA DE CONOCIMIENTO","TOTAL","FORMA DE ADMINISTRACIÓN",null,"ÁREA GEOGRÁFICA "]
[null,null,"PÚBLICO","PRIVADO","MONTEVIDEO","RESTO DEL PAÍS"]
["TOTAL INSTITUCIONES",{"$f":"C9+D9","v":227},15,212,141,86]
[]
["TOTAL CURSOS",{"$f":"C11+D11","v":2377},{"$f":"SUM(C12:C38)","v":189},{"$f":"SUM(D12:D38)","v":2188},{"$f":"SUM(E12:E38)","v":1557},{"$f":"SUM(F12:F38)","v":820}]
["Administración-Comercialización",{"$f":"C12+D12","v":301},1,300,230,71]
["Aeronáutica",{"$f":"C13+D13","v":18},9,9,3,15]
["Agraria",33,null,33,10,23]
["Animación Sociocultural",12,null,12,12]
["Artes-Artesanias",151,10,141,134,17]
["Capacitaciones Laborales",101,21,80,59,42]
["Comunicaciones",37,null,37,33,4]
["Construcción-Arquitectura",29,null,29,28,1]
["Deportes y Afines",24,null,24,20,4]
["Diseños",40,null,40,32,8]
["Electrotecnia y Electrónica",13,null,13,10,3]
["Gastronomía",85,3,82,72,13]
["Gráficos",3,null,3,3]
["Hoteleria y Turismo",27,null,27,22,5]
["Idiomas",737,13,724,385,352]
["Informática",263,1,262,117,146]
["Lúdica",2,null,2,2]
["Marítima",6,2,4,6]
["Mejoramiento de las condiciones de vida",11,null,11,9,2]
["Metal-Mecánica",15,null,15,12,3]
["Promoción Comunitaria",22,null,22,13,9]
["Química",3,3,null,1,2]
["Salud, Seguridad e Higiene",38,2,36,26,12]
["Servicios Personales-Estética",45,null,45,41,4]
["Tecnológica",10,null,10,9,1]
["Vestimenta",9,null,9,9]
["Otros",342,124,218,259,83]
[]
[]
["Fuente: Elaboración propia en base a la información del Primer Censo Nacional de Instituciones de Formación Técnico-Profesional."]
["Nota: Las áreas de conocimiento corresponden a la clasificación CINE 1997 de UNESCO."]

{"sheet":"I.2.9.2 ","index":40,"n_rows":39,"n_cols":4,"rows_kept":39,"cut":false,"hidden":false,"merged":[[0,0,0,3],[6,0,6,3],[7,0,8,0],[7,2,7,3]]}
["Ministerio de Educación y Cultura"]
["Dirección de Educación"]
[]
[]
[]
["Cuadro I.2.9.2"]
["ALUMNOS MATRICULADOS POR REGIÓN SEGÚN ÁREA DE CONOCIMIENTO. AÑO 2013."]
["ÁREA DE CONOCIMIENTO",null,"REGIÓN"]
[null,"TOTAL","Montevideo","Resto del país"]
["TOTAL",{"$f":"C10+D10","v":93228},{"$f":"SUM(C11:C37)","v":71322},{"$f":"SUM(D11:D37)","v":21906}]
["Administración-Comercialización",{"$f":"SUM(C11:D11)","v":10858},9570,1288]
["Aeronáutica",196,36,160]
["Agraria",975,524,451]
["Animación Sociocultural",290,290,0]
["Artes-Artesanias",4829,4089,740]
["Capacitaciones Laborales",3690,2645,1045]
["Comunicaciones",970,854,116]
["Construcción-Arquitectura",1270,1250,20]
["Deportes y Afines",1062,720,342]
["Diseños",2224,1917,307]
["Electrotecnia y Electrónica",379,360,19]
["Gastronomía",2196,1922,274]
["Gráficos",47,47,0]
["Hoteleria y Turismo",920,879,41]
["Idiomas",22915,15247,7668]
["Informática",{"$f":"SUM(C26:D26)","v":12839},9792,3047]
["Lúdica",{"$f":"SUM(C27:D27)","v":88},88,0]
["Marítima",187,187,0]
["Mejoramiento de las condiciones de vida",493,460,33]
["Metal-Mecánica",744,662,82]
["Promoción Comunitaria",{"$f":"SUM(C31:D31)","v":713},502,211]
["Química",{"$f":"SUM(C32:D32)","v":211},186,25]
["Salud, Seguridad e Higiene",3077,2594,483]
["Servicios Personales-Estética",1654,1599,55]
["Tecnológica",209,189,20]
["Vestimenta",131,131,0]
["Otros",20061,14582,5479]
["Fuente: Elaboración propia en base a la información del Primer Censo Nacional de Instituciones de Formación Técnico-Profesional."]
["Nota: Las áreas de conocimiento corresponden a la clasificación CINE 1997 de UNESCO."]

{"sheet":"I.2.9.3 ","index":41,"n_rows":37,"n_cols":16,"rows_kept":37,"cut":false,"hidden":false,"merged":[[36,0,36,15],[0,0,0,15],[1,0,1,1],[3,0,3,13],[3,14,3,15],[4,0,7,0],[4,3,4,6],[4,7,4,10],[5,1,5,3],[5,5,5,9],[5,10,5,14],[6,1,6,2],[6,4,6,6],[6,7,6,9],[6,10,6,12],[6,13,6,15]]}
["Ministerio de Educación y Cultura\nDirección de Educación"]
["Área de Investigación y Estadística"]
[]
["Cuadro I.2.9.3 ALUMNOS DEL RELEVAMIENTO DE INSTITUCIONES DE FORMACIÓN TÉCNICO-PROFESIONAL DESVINCULADOS, INGRESADOS Y EGRESADOS POR TIPO DE INSTITUCIÓN Y REGIÓN SEGÚN ÁREA DE CONOCIMIENTO. AÑO 2013"]
["ÁREA DE CONOCIMIENTO"]
[null,"TOTAL",null,null,null,"TIPO DE INSTITUCIÓN",null,null,null,null,"ÁREA GEOGRÁFICA"]
[null,null,null,null,"PRIVADO",null,null,"PÚBLICO",null,null,"MONTEVIDEO",null,null,"RESTO DEL PÁIS"]
[null,"Desvinculados","Ingresos","Egresos","Desvinculados","Ingresos","Egresos","Desvinculados","Ingresos","Egresos","Desvinculados","Ingresos","Egresos","Desvinculados","Ingresos","Egresos"]
["TOTAL",{"$f":"SUM(E9+H9)","v":10283},{"$f":"SUM(F9+I9)","v":78840},58947,{"$f":"SUM(E10:E36)","v":9979},{"$f":"SUM(F10:F36)","v":73614},{"$f":"SUM(G10:G36)","v":54892},{"$f":"SUM(H10:H36)","v":304},{"$f":"SUM(I10:I36)","v":5226},4055,8671,{"$f":"SUM(L10:L36)","v":60158},42258,1612,17814,16689]
["Administración-Comercialización",1336,9642,{"$f":"SUM(G10+J10)","v":7077},1327,9619,7063,9,23,14,1072,8341,6209,264,1301,868]
["Aeronáutica",20,216,{"$f":"SUM(G11+J11)","v":175},3,52,43,17,164,132,2,34,32,18,182,143]
["Agraria",133,899,541,133,899,541,0,0,0,89,448,133,44,451,408]
["Animación Sociocultural",22,281,99,22,281,99,null,null,null,22,281,99]
["Artes-Artesanias",888,3340,1771,888,3292,1771,0,48,0,789,3036,1192,99,304,579]
["Capacitaciones Laborales",401,3617,3261,391,3122,2782,10,495,479,275,2552,2350,126,1065,911]
["Comunicaciones",94,914,798,94,914,798,0,0,0,65,798,699,29,116,99]
["Construcción-Arquitectura",133,1270,589,133,1270,589,0,0,0,133,1250,589,0,20,0]
["Deportes y Afines",241,1019,650,241,1019,650,0,0,0,125,745,349,116,274,301]
["Diseños",403,1880,1289,403,1880,1289,0,0,0,348,1602,1089,55,278,200]
["Electrotecnia y Electrónica",81,366,272,81,366,272,0,0,0,77,347,257,4,19,15]
["Gastronomía",433,1989,1106,433,1967,1106,0,22,0,407,1715,949,26,274,157]
["Gráficos",10,47,38,10,47,38,0,0,0,10,47,38,0,0,0]
["Hoteleria y Turismo",73,877,756,73,877,756,0,0,0,72,819,722,1,58,34]
["Idiomas",2796,18115,16752,2728,17746,16451,68,369,301,2512,13151,11400,284,4964,5352]
["Informática",1249,10097,7069,1249,10069,7041,0,28,28,879,7393,4912,370,2704,2157]
["Lúdica",7,18,10,7,18,10,0,0,0,7,18,10,0,0,0]
["Marítima",12,184,159,0,158,148,12,26,11,12,184,159,0,0,0]
["Metal-Mecánica",227,738,464,227,738,464,0,0,0,221,662,440,6,76,24]
["Mejoramiento de las condiciones de vida",145,827,348,145,827,348,0,0,0,136,794,324,9,33,24]
["Promoción Comunitaria",68,650,385,68,650,385,0,0,0,48,500,266,20,150,119]
["Química",0,{"$f":"SUM(F31+I31)","v":211},161,0,0,0,0,211,161,0,186,136,0,25,25]
["Salud; Seguridad e Higiene",{"$f":"SUM(E32+H32)","v":267},2646,{"$f":"SUM(G32+J32)","v":1914},267,2356,1893,0,290,21,207,2239,1674,60,407,240]
["Servicios Personales-Estética",{"$f":"SUM(E33+H33)","v":293},1710,{"$f":"SUM(G33+J33)","v":1348},293,1710,1348,0,0,0,291,1655,1295,2,55,53]
["Tecnológica",{"$f":"SUM(E34+H34)","v":25},133,{"$f":"SUM(G34+J34)","v":87},25,133,87,0,0,0,20,113,72,5,20,15]
["Vestimenta",{"$f":"SUM(E35+H35)","v":42},117,{"$f":"SUM(G35+J35)","v":67},42,117,67,0,0,0,42,117,67,0,0,0]
["Otros",{"$f":"SUM(E36+H36)","v":884},17037,{"$f":"SUM(G36+J36)","v":11761},696,13487,8853,188,3550,2908,810,11131,6796,74,5038,4965]
["Fuente: Elaboración propia en base a la información del Relevamiento de Instituciones de Formación Técnico-Profesional. Realizado por el Área de Investigación y Estadística."]

{"sheet":"I.2.9.4 ","index":42,"n_rows":40,"n_cols":7,"rows_kept":40,"cut":false,"hidden":false,"merged":[[7,6,8,6],[37,0,37,3],[0,0,0,3],[7,1,8,1],[7,2,8,2],[7,3,8,3],[7,4,8,4],[7,5,8,5]]}
["Ministerio de Educación y Cultura"]
["Dirección de Educación"]
[]
[]
[]
["Cuadro I.2.9.4"]
["CANTIDAD DE CURSOS POR TRAMOS DE DURACIÓN EN HORAS SEGÚN ÁREA DE CONOCIMIENTO. AÑO 2013."]
["ÁREA DE","TOTAL","0 a 40","41 a 140","141 a 320","321 a 440","441 y más "]
["CONOCIMIENTO"]
["TOTAL",{"$f":"SUM(C10:G10)","v":2377},{"$f":"SUM(C11:C37)","v":719},{"$f":"SUM(D11:D37)","v":1025},{"$f":"SUM(E11:E37)","v":429},{"$f":"SUM(F11:F37)","v":91},{"$f":"SUM(G11:G37)","v":113}]
["Administración - Comercialización",301,115,103,42,30,11]
["Aeronáutica",18,1,4,3,0,10]
["Agraria",33,5,12,11,2,3]
["Animación Sociocultural",12,1,3,4,4,0]
["Artes - Artesanías",151,51,64,26,0,10]
["Capacitaciones Laborales",101,17,49,21,7,7]
["Comunicaciones",37,24,8,2,0,3]
["Construcción - Arquitectura",29,9,16,2,0,2]
["Deportes y Afines",24,14,1,0,0,9]
["Diseños",40,11,15,8,2,4]
["Electrotecnia y Electrónica",13,1,10,2,0,0]
["Gastronomía",85,25,26,15,9,10]
["Gráficos",3,2,1,0,0,0]
["Hotelería y Turismo",27,7,6,5,2,7]
["Idiomas",737,135,418,177,3,4]
["Informática",263,85,154,16,0,8]
["Lúdica",2,2,0,0,0,0]
["Marítima",6,5,1,0,0,0]
["Mejoramiento de las condiciones de vida",11,1,7,3,0,0]
["Metal - Mecánica",15,0,8,6,1,0]
["Promoción Comunitaria",22,8,5,8,1,0]
["Química",3,0,2,0,0,1]
["Salud, Seguridad e Higiene",38,24,4,3,5,2]
["Servicios Personales - Estética",45,20,16,7,1,1]
["Tecnológica",10,4,1,5,0,0]
["Vestimenta",9,0,5,2,1,1]
["Otros",342,152,86,61,23,20]
[]
["Fuente: Elaboración propia en base a la información del Primer Censo Nacional de Instituciones de Formación Técnico-Profesional."]
["Nota: Las áreas de conocimiento corresponden a la clasificación CINE 1997 de UNESCO."]

{"sheet":"I.2.9.5","index":43,"n_rows":23,"n_cols":6,"rows_kept":23,"cut":false,"hidden":false,"merged":[[6,0,6,5],[7,2,7,3],[7,4,7,5],[7,0,8,0],[0,0,0,3],[7,1,8,1],[5,0,5,5]]}
["Ministerio de Educación y Cultura"]
["Dirección de Educación"]
[]
[]
[]
["Cuadro I-2.9.5"]
["ALUMNOS MATRICULADOS EN EL CETP (UTU) POR SEXO Y GRANDES ÁREAS SEGÚN TIPO DE CURSOS DE NIVEL DE FORMACIÓN PROFESIONAL. Año 2013"]
["CURSOS DE NIVEL DE FORMACIÓN PROFESIONAL","TOTAL","SEXO",null,"GRANDES ÁREAS"]
[null,null,"Masculino","Femenino","Montevideo","Resto del País"]
["TOTAL ",{"$f":"SUM(B12:B22)","v":8632},{"$f":"SUM(C12:C22)","v":4286},{"$f":"SUM(D12:D22)","v":4346},{"$f":"SUM(E12:E22)","v":4034},{"$f":"SUM(F12:F22)","v":4598}]
[]
["Acreditación de saberes",{"$f":"C12+D12","v":27},26,1,27,0]
["Capacitación Profesional",{"$f":"C13+D13","v":4506},2274,2232,1446,3060]
["Capacitación Profesional (Conv.)",148,82,66,86,62]
["Capacitación Profundización Prof.",338,180,158,121,217]
["Capacitación Técnica",47,36,11,47,0]
["Curso Básico",638,304,334,512,126]
["Curso Básico Especialización",461,186,275,331,130]
["Form.Prof. en Artes y Artesanías",504,190,314,489,15]
["Formación Profesional Acelerada",4,2,2,4,0]
["Formación Profesional Básica",1765,840,925,777,988]
["Formación Profesional Especializada",194,166,28,194,0]
["Fuente: D.E. - CETP  (U.T.U) ."]

{"sheet":"I.2.9.6","index":44,"n_rows":9,"n_cols":7,"rows_kept":9,"cut":false,"hidden":false,"merged":[[0,0,0,3],[8,0,8,6],[3,2,3,3],[3,5,3,6],[3,0,4,0],[3,1,4,1],[2,0,2,2]]}
["Ministerio de Educación y Cultura\nDirección de Educación\n"]
[]
["Cuadro I.2.9.6\nALUMNOS INGRESADOS Y MATRICULADOS EN CECAP POR SEXO SEGÚN GRANDES ÁREAS. AÑO 2013"]
["NIVEL EDUCATIVO MÁXIMO\nALCANZADO","TOTAL","INGRESADOS",null,null,"MATRICULADOS"]
[null,null,"Masculino","Femenino","TOTAL","Masculino","Femenino"]
["TOTAL ",{"$f":"B7+B8","v":1426},777,649,2965,1628,1337]
["Montevideo",306,145,161,737,370,367]
["Resto del país",1120,632,488,2228,1258,970]
["Fuente: Área de Educación No Formal de la Dirección de Educación - MEC"]

{"sheet":"I.2.9.7","index":45,"n_rows":10,"n_cols":5,"rows_kept":10,"cut":false,"hidden":false,"merged":[[0,0,0,4],[4,0,5,1],[10,0,10,1],[6,0,6,1],[8,0,8,1],[7,0,7,1],[9,0,9,7],[4,5,4,6],[3,0,3,4],[2,0,2,4],[4,2,5,2],[4,3,4,4]]}
["Ministerio de Educación y Cultura \nDirección de Educación\n"]
[]
["Cuadro I-2.9.7"]
["ALUMNOS MATRICULADOS DEL COCAP SEGÚN TIPO DE CURSO Y ÁREA DE FORMACIÓN. AÑO 2013"]
["TIPO DE CURSO ",null,"TOTAL","SEXO"]
[null,null,null,"Masculino","Femenino"]
["TOTAL ",null,{"$f":"C8+C9","v":940},{"$f":"D8+D9","v":897},{"$f":"E8+E9","v":43}]
["Cursos Abiertos ",null,{"$f":"D8+E8","v":833},823,10]
["Cursos Cerrados ",null,{"$f":"D9+E9","v":107},74,33]
["Fuente: COCAP"]

{"sheet":"I.2.9.8","index":46,"n_rows":11,"n_cols":5,"rows_kept":11,"cut":false,"hidden":false,"merged":[[8,0,8,1],[9,0,9,4],[10,0,10,4],[0,0,0,4],[3,0,3,4],[4,0,4,1],[5,0,5,1],[6,0,6,1],[7,0,7,1]]}
["Ministerio de Educación y Cultura\nDirección de Educación\n"]
[]
[]
["Cuadro I-2.9.8\nFUNCIONARIOS PARTICIPANTES EN LOS CURSOS DE LA ENAP DR. AQUILES LANZA, CANTIDAD DE CURSOS Y HORAS TIPO DE CURSO. AÑO 2013."]
["GRANDES ÁREAS",null,"FUNCIONARIOS PARTICIPANTES","CANTIDAD DE CURSOS","HORAS"]
["TOTAL ",null,{"$f":"SUM(C7:C9)","v":7605},{"$f":"SUM(D7:D9)","v":266},{"$f":"SUM(E7:E9)","v":7454}]
["Programas de Formación: Programa de Dirección Media, Diploma en Gestión Humana y Programa de Desarrollo Administrativo ",null,200,8,1778]
["Cursos y Seminarios ",null,4025,161,3542]
["Cursos e-learning",null,3380,97,2134]
["Fuentes: Oficina Nacional del Servicio Civil - Escuela Nacional de Administración Pública \"Dr. Aquiles Lanza\""]
["Nota: Por no contar con información, no se incluye la \"Maestría en Políticas y Gestión Pública\"."]

{"sheet":"I.2.9.9","index":47,"n_rows":10,"n_cols":8,"rows_kept":10,"cut":false,"hidden":false,"merged":[[3,6,3,7],[4,3,4,4],[4,6,4,7],[5,0,5,1],[7,0,7,1],[4,2,5,2],[4,5,5,5],[0,0,0,2],[2,0,2,5],[8,0,8,1],[11,0,11,1],[3,0,4,1],[3,3,3,4]]}
["Ministerio de Educación y Cultura\nDirección de Educación\n"]
[]
["Cuadro I-2.9.9\nALUMNOS INGRESADOS Y MATRICULADOS EN CARRERAS NO TERCIARIAS EN UNIVERSIDADES E INSTITUTOS UNIVERSITARIOS. AÑO 2013."]
["UNIVERSIDADES E INSTITUTOS UNIVERSITARIOS",null,null,"INGRESADOS",null,null,"MATRICULADOS"]
[null,null,"TOTAL","SEXO",null,"TOTAL","SEXO"]
[null,null,null,"Masculino","Femenino",null,"Masculino","Femenino"]
["TOTAL ",null,{"$f":"C8+C9","v":1401},867,534,5039,3340,1699]
["Universidad ORT Uruguay ",null,{"$f":"D8+E8","v":966},656,310,{"$f":"G8+H8","v":4168},2893,1275]
["Universidad de la Empresa ",null,{"$f":"D9+E9","v":435},211,224,{"$f":"G9+H9","v":871},447,424]
["Fuente: Oficinas productoras."]

{"sheet":"I-3.1.1","index":48,"n_rows":15,"n_cols":7,"rows_kept":15,"cut":false,"hidden":false,"merged":[[0,0,0,2],[14,0,14,6],[10,0,10,1],[11,0,11,1],[12,0,12,1],[6,0,6,1],[7,0,7,1],[8,0,8,1],[9,0,9,1],[2,0,2,6],[3,0,3,6],[4,0,5,1],[4,2,4,4],[4,5,5,5]]}
["Ministerio de Educación y Cultura\nDirección de Educación\n"]
[]
["Cuadro I-3.1.1"]
["ESCUELAS, MAESTROS Y ALUMNOS ATENDIDOS POR EL PROGRAMA MAESTROS COMUNITARIOS SEGÚN AÑO LECTIVO. AÑO 2013."]
["AÑO LECTIVO",null,"Escuelas",null,null,"Maestros comunitarios","Alumnos"]
[null,null,"Total","Montevideo","Resto del país",null,"atendidos"]
[2005,null,{"$f":"+D7+E7","v":255},97,158,437,9292]
[2006,null,{"$f":"+D8+E8","v":252},95,157,433,14884]
[2007,null,334,101,233,553,18163]
[2008,null,334,100,234,533,16802]
[2009,null,337,101,236,553,16166]
[2010,null,337,101,236,553,16749]
[2011,null,342,104,238,554,15680]
[2012,null,327,101,226,539,15608]
["Fuente: CEIP-MIDES"]

{"sheet":"I-3.1.2","index":49,"n_rows":14,"n_cols":4,"rows_kept":14,"cut":false,"hidden":false,"merged":[[0,0,0,3],[5,0,5,1],[3,0,3,3],[4,0,4,1],[9,0,9,1],[8,0,8,1],[10,0,10,1],[6,0,6,1],[7,0,7,1],[12,0,12,4],[13,0,13,4]]}
["Ministerio de Educación y Cultura\nDirección de Educación\n"]
[]
["Cuadro I-3.1.2"]
["MAESTROS Y ESCUELAS DEL PROGRAMA MAESTROS COMUNITARIOS SEGÚN REQUERIMIENTO (2013)"]
["AÑO LECTIVO",null,"Maestros comunitarios","Escuelas"]
["Total ",null,{"$f":"SUM(C7:C10)","v":539},{"$f":"SUM(D7:D10)","v":322}]
["Requerimiento 1 ",null,265,142]
["Requerimiento 2 ",null,202,117]
["Requerimiento 3 ",null,70,62]
["Requerimiento 4",null,2,1]
[]
[]
["Fuente: DINEM"]
["Nota:  Todo el país (Año 2013)."]

{"sheet":"I-3.1.3","index":50,"n_rows":12,"n_cols":6,"rows_kept":12,"cut":false,"hidden":false,"merged":[[11,1,11,5],[15,0,15,3],[16,0,16,1],[5,0,5,5],[6,0,6,5],[7,0,7,2],[8,0,8,2],[9,0,9,2],[10,0,10,2]]}
["Ministerio de Educación y Cultura"]
["Dirección de Educación"]
[]
[]
[]
["Cuadro I-3.1.3"]
["ESCUELAS, PROFESORES Y ALUMNOS ATENDIDOS POR EL PROGRAMA DE EDUCACIÓN FÍSICA ESCOLAR SEGÚN GRANDES ÁREAS 2013"]
["AÑO LECTIVO",null,null,"Escuelas","Profesores","Alumnos atendidos"]
["Todo el país  ",null,null,2354,1097,306542]
["Montevideo  ",null,null,288,304,"sd"]
["Resto del país  ",null,null,2066,793,"sd"]
[" Fuente:","CEIP"]

{"sheet":"I-3.1.4","index":51,"n_rows":31,"n_cols":10,"rows_kept":31,"cut":false,"hidden":false,"merged":[[29,1,29,10],[30,1,30,9],[0,0,0,9],[1,0,1,9],[2,0,2,9],[3,0,5,0],[3,1,5,1],[3,2,3,3],[3,4,3,5],[3,7,4,9],[4,2,4,3],[4,4,4,5]]}
["Ministerio de Educación y Cultura\nDirección de Educación\n"]
["Cuadro I-3.1.4"]
["BECAS DE APOYO ECONÓMICO EN EDUCACIÓN MEDIA BÁSICA Y SUPERIOR OTORGADAS POR EL MEC, COMPROMISO EDUCATIVO Y BECAS OTORGADAS POR PUE EN 2013, SEGÚN SEXO Y GRANDES ÁREAS. AÑO 2013"]
["DEPARTAMENTO","TOTAL ","MEC",null,"COMPROMISO\nEDUCATIVO",null,null,"PROGRAMA URUGUAY ESTUDIA"]
[null,null,"Nivel",null,"SEXO"]
[null,null,"EMB","EMS","Hombres","Mujeres",null,"CEIP","CES","UTU"]
["TOTAL ",{"$f":"+B9+B11+H7+I7+J7","v":13288},{"$f":"+C9+C11","v":2998},{"$f":"+D9+D11","v":721},{"$f":"+E9+E11","v":1720},{"$f":"+F9+F11","v":3580},null,899,370,3000]
[]
["Montevideo",{"$f":"+C9+D9+E9+F9","v":2233},1050,195,317,671]
[]
["Resto del país ",{"$f":"+C11+D11+E11+F11","v":6786},{"$f":"SUM(C12:C29)","v":1948},{"$f":"SUM(D12:D29)","v":526},{"$f":"SUM(E12:E29)","v":1403},{"$f":"SUM(F12:F29)","v":2909}]
["Artigas",{"$f":"+C12+D12","v":225},169,56,174,353]
["Canelones",442,350,92,225,666]
["Cerro Largo",168,124,44]
["Colonia",87,62,25,28,72]
["Durazno",94,70,24]
["Flores",31,23,8]
["Florida",92,70,22,5,18]
["Lavalleja",70,53,17]
["Maldonado",89,71,18,34,87]
["Paysandú",121,110,11,281,516]
["Rio Negro",86,68,18,13,11]
["Rivera",209,190,19,273,542]
["Rocha",109,84,25]
["Salto",217,167,50,126,180]
["San José",98,75,23,20,62]
["Soriano",107,80,27,24,42]
["Tacuarembó",125,94,31,182,301]
["Treinta y Tres",104,88,16,18,59]
["Nota:","El total de becas otorgadas surge de sumar el Programa Uruguay Estudia, que se encuentra agrupado por Consejo desconcentrado de ANEP (CEIP, CES y CETP), con el Total por Sexo de las Becas MEC y Compromiso Educativo."]
["Fuente:","Área de Becas de la Dirección de Educación del Ministerio de Educación y Cultura."]

{"sheet":"I-3.1.5  ","index":52,"n_rows":31,"n_cols":10,"rows_kept":31,"cut":false,"hidden":false,"merged":[[8,0,8,1],[9,0,9,1],[22,0,22,1],[23,0,23,1],[12,0,12,1],[10,0,10,1],[11,0,11,1],[3,0,3,3],[4,0,4,9],[5,0,5,9],[6,0,7,1],[6,2,7,2],[6,3,7,3],[6,4,7,4],[6,9,7,9],[6,5,7,5],[6,6,7,6],[6,7,6,8],[24,0,24,1],[13,0,13,1],[14,0,14,1],[15,0,15,1],[16,0,16,1],[17,0,17,1],[18,0,18,1],[19,0,19,1],[20,0,20,1],[21,0,21,1],[30,0,30,9],[25,0,25,1],[26,0,26,1],[27,0,27,1],[28,0,28,1],[29,0,29,1]]}
["Ministerio de Educación y Cultura"]
["Dirección de Educación"]
[]
[]
["Cuadro I-3.1.5"]
["BECAS DE APOYO ECONÓMICO EN EDUCACIÓN TERCIARIA SEGÚN INSTITUCIONES QUE LAS OTORGA POR GRANDES ÁREAS. AÑO 2013."]
["DEPARTAMENTO",null,"TOTAL","FONDO DE SOLIDARIDAD","ANII","BIENESTAR ESTUDIANTIL","CARLOS QUIJANO","JULIO CASTRO",null,"Programa Uruguay Estudia"]
[null,null,null,null,null,null,null,"IFD","IINN"]
["Total ",null,{"$f":"+D9+E9+F9+G9+H9+I9+J9","v":8707},{"$f":"+D12+D11","v":6890},165,{"$f":"+F11+F12","v":470},10,{"$f":"SUM(H13:H30)","v":698},101,373]
[]
["Montevideo ",null,{"$f":"+D11+E11+F11+G11+J11+I11","v":1723},990,165,84,10,"N/C",101,373]
["Resto del País ",null,{"$f":"+D12+F12+H12","v":6984},{"$f":"SUM(D13:D30)","v":5900},"S/D",{"$f":"SUM(F13:F30)","v":386},"N/C",{"$f":"SUM(H13:H30)","v":698},"N/C","N/C"]
["Artigas ",null,401,320,null,22,null,59]
["Canelones ",null,1195,1052,null,39,null,104]
["Cerro Largo ",null,366,258,null,25,null,83]
["Colonia ",null,473,434,null,16,null,23]
["Durazno ",null,226,199,null,13,null,14]
["Flores ",null,127,117,null,5,null,5]
["Florida ",null,306,277,null,10,null,19]
["Lavalleja ",null,224,178,null,7,null,39]
["Maldonado ",null,192,166,null,14,null,12]
["Paysandú ",null,560,475,null,30,null,55]
["Rio Negro ",null,262,224,null,14,null,24]
["Rivera ",null,464,360,null,33,null,71]
["Rocha ",null,229,200,null,24,null,5]
["Salto ",null,681,555,null,46,null,80]
["San José ",null,292,254,null,14,null,24]
["Soriano ",null,393,328,null,30,null,35]
["Tacuarembó ",null,428,368,null,35,null,25]
["Treinta y Tres ",null,165,135,null,9,null,21]
["Fuente: Elaboración propia en base a datos otorgados por las Instituciones."]

{"sheet":"I-3.1.6","index":53,"n_rows":13,"n_cols":13,"rows_kept":13,"cut":false,"hidden":false,"merged":[[4,9,5,9],[4,11,5,11],[11,0,11,11],[0,0,0,11],[2,0,2,11],[3,0,3,11],[4,0,5,0],[4,1,5,1],[4,2,5,2],[4,3,4,4],[4,5,5,5],[4,6,5,6],[4,7,5,7]]}
["Ministerio de Educación y Cultura\nDirección de Educación\n"]
[]
["Cuadro I-3.1.6"]
["BECAS DEL PROGRAMA URUGUAY ESTUDIA POR MODALIDAD SEGÚN AÑO LECTIVO."]
["AÑO","TOTAL","EP","EMB",null,"EMS","Cursos\nPUE-COCAP","Magisterio y\nProfesorado",null,"Tutorias culminación EMS",null,"Cantidad de grupos\nCES Tutoreado"]
[null,null,null,"CES","CETP (UTU)"]
[2009,{"$f":"SUM(C7:H7)","v":549},"s/d","s/d",80,330,"n/c",139,null,314,null,"n/c"]
[2010,2228,937,"s/d",963,328,"n/c","s/d",null,154,null,20," "]
[2011,2791,1026,"s/d",1406,359,"n/c","s/d",null,248,null,21," "]
[2012,4033,1000,{"$f":"1654-E10","v":654},1000,750,29,600,null,124,null,43]
[2013,{"$f":"SUM(C11:H11)","v":4993},899,{"$f":"3370-E11","v":370},3000,288,63,373,null,261,null,"s/d"," "]
["Nota: EMS incluye 27 becas de transportes (modalidad nueva: no se aplicó en el período 2009-2012).\nLa modalidad Cursos PUE - COCAP inicia en 2012.\nTodo el país, año 2013."]
["Fuente: PUE."]

{"sheet":"I.3.1.7 ","index":54,"n_rows":33,"n_cols":5,"rows_kept":33,"cut":false,"hidden":false,"merged":[[27,0,27,1],[24,0,24,1],[25,0,25,1],[30,0,30,1],[28,0,28,1],[29,0,29,1],[23,0,23,1],[20,0,20,1],[21,0,21,1],[26,0,26,1],[15,0,15,1],[18,0,18,1],[19,0,19,1],[16,0,16,1],[17,0,17,1],[22,0,22,1],[14,0,14,1],[0,0,0,2],[4,0,4,4],[5,0,5,4],[6,0,7,1],[6,2,7,2],[12,0,12,1],[13,0,13,1],[6,3,6,4],[10,0,10,1],[11,0,11,1],[8,0,8,1],[9,0,9,1]]}
["Ministerio de Educación y Cultura\nDirección de Educación\n"]
[]
[]
[]
["Cuadro I-3.1.7"]
["BECAS OTORGADAS POR LA FUNDACIÓN CHAMANGÁ. AÑO 2013."]
["GRANDES ÁREAS / DEPTO.",null,"TOTAL","SEXO"]
[null,null,null,"Hombres","Mujeres"]
["Total",null,{"$f":"C11+C12","v":32},10,22]
[]
["Montevideo ",null,4,"S/D","S/D"]
["Resto del interior ",null,{"$f":"SUM(C14:C31)","v":28},"S/D","S/D"]
[]
["Artigas ",null,4,"S/D","S/D"]
["Canelones ",null,4,"S/D","S/D"]
["Cerro Largo ",null,2,"S/D","S/D"]
["Colonia ",null,3,"S/D","S/D"]
["Durazno ",null,1,"S/D","S/D"]
["Flores ",null,0,"S/D","S/D"]
["Florida ",null,0,"S/D","S/D"]
["Lavalleja ",null,0,"S/D","S/D"]
["Maldonado ",null,0,"S/D","S/D"]
["Paysandú ",null,3,"S/D","S/D"]
["Rio Negro ",null,3,"S/D","S/D"]
["Rivera ",null,1,"S/D","S/D"]
["Rocha ",null,0,"S/D","S/D"]
["Salto ",null,2,"S/D","S/D"]
["San José ",null,2,"S/D","S/D"]
["Soriano ",null,2,"S/D","S/D"]
["Tacuarembó  ",null,1,"S/D","S/D"]
["Treinta y Tres ",null,0,"S/D","S/D"]
[" Fuente: Fundación Chamangá."]
["Nota: No se cuenta con desagregación de sexo por departamento."]

{"sheet":"I-3.1.8 ","index":55,"n_rows":32,"n_cols":4,"rows_kept":32,"cut":false,"hidden":false,"merged":[[20,0,20,1],[21,0,21,1],[22,0,22,1],[29,0,29,1],[23,0,23,1],[24,0,24,1],[25,0,25,1],[26,0,26,1],[27,0,27,1],[28,0,28,1],[15,0,15,1],[16,0,16,1],[17,0,17,1],[18,0,18,1],[19,0,19,1],[10,0,10,1],[11,0,11,1],[12,0,12,1],[13,0,13,1],[14,0,14,1],[5,0,5,3],[6,0,6,3],[7,0,7,1],[8,0,8,1],[9,0,9,1]]}
["Ministerio de Educación y Cultura"]
["Dirección de Educación"]
[]
[]
[]
["Cuadro I-3.1.8"]
["CANTIDAD DE CENTROS MEC Y TOTAL DE ALFABETIZADOS DIGITALES SEGÚN GRANDES ÁREAS Y DEPARTAMENTO – AÑO 2013"]
["GRANDES ÁREAS / DEPTO.",null,"ALFABETIZADOS","CENTROS MEC"]
["Total",null,{"$f":"C11+C12","v":9395},{"$f":"D11+D12","v":123}]
[]
["Montevideo ",null,500,1]
["Resto del interior ",null,{"$f":"SUM(C13:C30)","v":8895},{"$f":"SUM(D13:D30)","v":122}]
["Artigas ",null,400,9]
["Canelones ",null,911,11]
["Cerro Largo ",null,750,6]
["Colonia ",null,490,8]
["Durazno ",null,440,7]
["Flores ",null,220,6]
["Florida ",null,530,10]
["Lavalleja ",null,535,4]
["Maldonado ",null,302,6]
["Paysandú ",null,874,10]
["Rio Negro ",null,198,6]
["Rivera ",null,415,5]
["Rocha ",null,500,9]
["Salto ",null,620,5]
["San José ",null,780,8]
["Soriano ",null,300,4]
["Tacuarembó  ",null,215,2]
["Treinta y Tres ",null,415,6]
["Fuente : Centros Mec. "]
["Nota: Todo el país, año 2013,"]

{"sheet":"I-3.1.9 ","index":56,"n_rows":33,"n_cols":5,"rows_kept":33,"cut":false,"hidden":false,"merged":[[8,0,8,1],[9,0,9,1],[10,0,10,1],[11,0,11,1],[30,2,30,3],[19,0,19,1],[20,0,20,1],[21,0,21,1],[22,0,22,1],[16,0,16,1],[29,0,29,1],[30,0,30,1],[26,0,26,1],[27,0,27,1],[24,2,24,3],[25,2,25,3],[26,2,26,3],[27,2,27,3],[28,2,28,3],[29,2,29,3],[21,2,21,3],[22,2,22,3],[23,2,23,3],[5,32,5,34],[5,35,5,37],[5,38,5,40],[5,41,5,43],[5,14,5,16],[5,17,5,19],[5,20,5,22],[28,0,28,1],[17,0,17,1],[18,0,18,1],[10,2,10,3],[11,2,11,3],[12,2,12,3],[13,2,13,3],[14,2,14,3],[15,2,15,3],[16,2,16,3],[7,2,7,3],[8,2,8,3],[9,2,9,3],[23,0,23,1],[24,0,24,1],[25,0,25,1],[17,2,17,3],[18,2,18,3],[19,2,19,3],[20,2,20,3],[14,0,14,1],[5,0,5,4],[6,0,6,4],[15,0,15,1],[7,0,7,1],[5,77,5,79],[5,80,5,82],[5,83,5,85],[5,86,5,88],[5,59,5,61],[5,62,5,64],[5,65,5,67],[5,68,5,70],[5,71,5,73],[12,0,12,1],[13,0,13,1],[5,104,5,106],[5,107,5,109],[5,110,5,112],[5,113,5,115],[5,116,5,118],[5,89,5,91],[5,92,5,94],[5,95,5,97],[5,98,5,100],[5,101,5,103],[5,74,5,76],[5,44,5,46],[5,47,5,49],[5,50,5,52],[5,53,5,55],[5,23,5,25],[5,26,5,28],[5,8,5,10],[5,11,5,13],[5,56,5,58],[5,29,5,31],[5,134,5,136],[5,137,5,139],[5,140,5,142],[5,143,5,145],[5,146,5,148],[5,119,5,121],[5,122,5,124],[5,125,5,127],[5,128,5,130],[5,131,5,133],[5,164,5,166],[5,167,5,169],[5,170,5,172],[5,173,5,175],[5,176,5,178],[5,149,5,151],[5,152,5,154],[5,155,5,157],[5,158,5,160],[5,161,5,163],[5,194,5,196],[5,197,5,199],[5,200,5,202],[5,203,5,205],[5,206,5,208],[5,179,5,181],[5,182,5,184],[5,185,5,187],[5,188,5,190],[5,191,5,193],[5,224,5,226],[5,227,5,229],[5,230,5,232],[5,233,5,235],[5,236,5,238],[5,209,5,211],[5,212,5,214],[5,215,5,217],[5,218,5,220],[5,221,5,223],[5,254,5,256],[5,257,5,259],[5,260,5,262],[5,263,5,265],[5,266,5,268],[5,239,5,241],[5,242,5,244],[5,245,5,247],[5,248,5,250],[5,251,5,253],[5,284,5,286],[5,287,5,289],[5,290,5,292],[5,293,5,295],[5,296,5,298],[5,269,5,271],[5,272,5,274],[5,275,5,277],[5,278,5,280],[5,281,5,283],[5,314,5,316],[5,317,5,319],[5,320,5,322],[5,323,5,325],[5,326,5,328],[5,299,5,301],[5,302,5,304],[5,305,5,307],[5,308,5,310],[5,311,5,313],[5,344,5,346],[5,347,5,349],[5,350,5,352],[5,353,5,355],[5,356,5,358],[5,329,5,331],[5,332,5,334],[5,335,5,337],[5,338,5,340],[5,341,5,343],[5,374,5,376],[5,377,5,379],[5,380,5,382],[5,383,5,385],[5,386,5,388],[5,359,5,361],[5,362,5,364],[5,365,5,367],[5,368,5,370],[5,371,5,373],[5,404,5,406],[5,407,5,409],[5,410,5,412],[5,413,5,415],[5,416,5,418],[5,389,5,391],[5,392,5,394],[5,395,5,397],[5,398,5,400],[5,401,5,403],[5,434,5,436],[5,437,5,439],[5,440,5,442],[5,443,5,445],[5,446,5,448],[5,419,5,421],[5,422,5,424],[5,425,5,427],[5,428,5,430],[5,431,5,433],[5,464,5,466],[5,467,5,469],[5,470,5,472],[5,473,5,475],[5,476,5,478],[5,449,5,451],[5,452,5,454],[5,455,5,457],[5,458,5,460],[5,461,5,463],[5,494,5,496],[5,497,5,499],[5,500,5,502],[5,503,5,505],[5,506,5,508],[5,479,5,481],[5,482,5,484],[5,485,5,487],[5,488,5,490],[5,491,5,493],[5,524,5,526],[5,527,5,529],[5,530,5,532],[5,533,5,535],[5,536,5,538],[5,509,5,511],[5,512,5,514],[5,515,5,517],[5,518,5,520],[5,521,5,523],[5,554,5,556],[5,557,5,559],[5,560,5,562],[5,563,5,565],[5,566,5,568],[5,539,5,541],[5,542,5,544],[5,545,5,547],[5,548,5,550],[5,551,5,553],[5,584,5,586],[5,587,5,589],[5,590,5,592],[5,593,5,595],[5,596,5,598],[5,569,5,571],[5,572,5,574],[5,575,5,577],[5,578,5,580],[5,581,5,583],[5,614,5,616],[5,617,5,619],[5,620,5,622],[5,623,5,625],[5,626,5,628],[5,599,5,601],[5,602,5,604],[5,605,5,607],[5,608,5,610],[5,611,5,613],[5,644,5,646],[5,647,5,649],[5,650,5,652],[5,653,5,655],[5,656,5,658],[5,629,5,631],[5,632,5,634],[5,635,5,637],[5,638,5,640],[5,641,5,643],[5,674,5,676],[5,677,5,679],[5,680,5,682],[5,683,5,685],[5,686,5,688],[5,659,5,661],[5,662,5,664],[5,665,5,667],[5,668,5,670],[5,671,5,673],[5,704,5,706],[5,707,5,709],[5,710,5,712],[5,713,5,715],[5,716,5,718],[5,689,5,691],[5,692,5,694],[5,695,5,697],[5,698,5,700],[5,701,5,703],[5,734,5,736],[5,737,5,739],[5,740,5,742],[5,743,5,745],[5,746,5,748],[5,719,5,721],[5,722,5,724],[5,725,5,727],[5,728,5,730],[5,731,5,733],[5,764,5,766],[5,767,5,769],[5,770,5,772],[5,773,5,775],[5,776,5,778],[5,749,5,751],[5,752,5,754],[5,755,5,757],[5,758,5,760],[5,761,5,763],[5,794,5,796],[5,797,5,799],[5,800,5,802],[5,803,5,805],[5,806,5,808],[5,779,5,781],[5,782,5,784],[5,785,5,787],[5,788,5,790],[5,791,5,793],[5,824,5,826],[5,827,5,829],[5,830,5,832],[5,833,5,835],[5,836,5,838],[5,809,5,811],[5,812,5,814],[5,815,5,817],[5,818,5,820],[5,821,5,823],[5,854,5,856],[5,857,5,859],[5,860,5,862],[5,863,5,865],[5,866,5,868],[5,839,5,841],[5,842,5,844],[5,845,5,847],[5,848,5,850],[5,851,5,853],[5,884,5,886],[5,887,5,889],[5,890,5,892],[5,893,5,895],[5,896,5,898],[5,869,5,871],[5,872,5,874],[5,875,5,877],[5,878,5,880],[5,881,5,883],[5,914,5,916],[5,917,5,919],[5,920,5,922],[5,923,5,925],[5,926,5,928],[5,899,5,901],[5,902,5,904],[5,905,5,907],[5,908,5,910],[5,911,5,913],[5,944,5,946],[5,947,5,949],[5,950,5,952],[5,953,5,955],[5,956,5,958],[5,929,5,931],[5,932,5,934],[5,935,5,937],[5,938,5,940],[5,941,5,943],[5,974,5,976],[5,977,5,979],[5,980,5,982],[5,983,5,985],[5,986,5,988],[5,959,5,961],[5,962,5,964],[5,965,5,967],[5,968,5,970],[5,971,5,973],[5,1004,5,1006],[5,1007,5,1009],[5,1010,5,1012],[5,1013,5,1015],[5,1016,5,1018],[5,989,5,991],[5,992,5,994],[5,995,5,997],[5,998,5,1000],[5,1001,5,1003],[5,1034,5,1036],[5,1037,5,1039],[5,1040,5,1042],[5,1043,5,1045],[5,1046,5,1048],[5,1019,5,1021],[5,1022,5,1024],[5,1025,5,1027],[5,1028,5,1030],[5,1031,5,1033],[5,1064,5,1066],[5,1067,5,1069],[5,1070,5,1072],[5,1073,5,1075],[5,1076,5,1078],[5,1049,5,1051],[5,1052,5,1054],[5,1055,5,1057],[5,1058,5,1060],[5,1061,5,1063],[5,1094,5,1096],[5,1097,5,1099],[5,1100,5,1102],[5,1103,5,1105],[5,1106,5,1108],[5,1079,5,1081],[5,1082,5,1084],[5,1085,5,1087],[5,1088,5,1090],[5,1091,5,1093],[5,1124,5,1126],[5,1127,5,1129],[5,1130,5,1132],[5,1133,5,1135],[5,1136,5,1138],[5,1109,5,1111],[5,1112,5,1114],[5,1115,5,1117],[5,1118,5,1120],[5,1121,5,1123],[5,1154,5,1156],[5,1157,5,1159],[5,1160,5,1162],[5,1163,5,1165],[5,1166,5,1168],[5,1139,5,1141],[5,1142,5,1144],[5,1145,5,1147],[5,1148,5,1150],[5,1151,5,1153],[5,1184,5,1186],[5,1187,5,1189],[5,1190,5,1192],[5,1193,5,1195],[5,1196,5,1198],[5,1169,5,1171],[5,1172,5,1174],[5,1175,5,1177],[5,1178,5,1180],[5,1181,5,1183],[5,1214,5,1216],[5,1217,5,1219],[5,1220,5,1222],[5,1223,5,1225],[5,1226,5,1228],[5,1199,5,1201],[5,1202,5,1204],[5,1205,5,1207],[5,1208,5,1210],[5,1211,5,1213],[5,1244,5,1246],[5,1247,5,1249],[5,1250,5,1252],[5,1253,5,1255],[5,1256,5,1258],[5,1229,5,1231],[5,1232,5,1234],[5,1235,5,1237],[5,1238,5,1240],[5,1241,5,1243],[5,1274,5,1276],[5,1277,5,1279],[5,1280,5,1282],[5,1283,5,1285],[5,1286,5,1288],[5,1259,5,1261],[5,1262,5,1264],[5,1265,5,1267],[5,1268,5,1270],[5,1271,5,1273],[5,1304,5,1306],[5,1307,5,1309],[5,1310,5,1312],[5,1313,5,1315],[5,1316,5,1318],[5,1289,5,1291],[5,1292,5,1294],[5,1295,5,1297],[5,1298,5,1300],[5,1301,5,1303],[5,1334,5,1336],[5,1337,5,1339],[5,1340,5,1342],[5,1343,5,1345],[5,1346,5,1348],[5,1319,5,1321],[5,1322,5,1324],[5,1325,5,1327],[5,1328,5,1330],[5,1331,5,1333],[5,1364,5,1366],[5,1367,5,1369],[5,1370,5,1372],[5,1373,5,1375],[5,1376,5,1378],[5,1349,5,1351],[5,1352,5,1354],[5,1355,5,1357],[5,1358,5,1360],[5,1361,5,1363],[5,1394,5,1396],[5,1397,5,1399],[5,1400,5,1402],[5,1403,5,1405],[5,1406,5,1408],[5,1379,5,1381],[5,1382,5,1384],[5,1385,5,1387],[5,1388,5,1390],[5,1391,5,1393],[5,1424,5,1426],[5,1427,5,1429],[5,1430,5,1432],[5,1433,5,1435],[5,1436,5,1438],[5,1409,5,1411],[5,1412,5,1414],[5,1415,5,1417],[5,1418,5,1420],[5,1421,5,1423],[5,1454,5,1456],[5,1457,5,1459],[5,1460,5,1462],[5,1463,5,1465],[5,1466,5,1468],[5,1439,5,1441],[5,1442,5,1444],[5,1445,5,1447],[5,1448,5,1450],[5,1451,5,1453],[5,1484,5,1486],[5,1487,5,1489],[5,1490,5,1492],[5,1493,5,1495],[5,1496,5,1498],[5,1469,5,1471],[5,1472,5,1474],[5,1475,5,1477],[5,1478,5,1480],[5,1481,5,1483],[5,1514,5,1516],[5,1517,5,1519],[5,1520,5,1522],[5,1523,5,1525],[5,1526,5,1528],[5,1499,5,1501],[5,1502,5,1504],[5,1505,5,1507],[5,1508,5,1510],[5,1511,5,1513],[5,1544,5,1546],[5,1547,5,1549],[5,1550,5,1552],[5,1553,5,1555],[5,1556,5,1558],[5,1529,5,1531],[5,1532,5,1534],[5,1535,5,1537],[5,1538,5,1540],[5,1541,5,1543],[5,1574,5,1576],[5,1577,5,1579],[5,1580,5,1582],[5,1583,5,1585],[5,1586,5,1588],[5,1559,5,1561],[5,1562,5,1564],[5,1565,5,1567],[5,1568,5,1570],[5,1571,5,1573],[5,1604,5,1606],[5,1607,5,1609],[5,1610,5,1612],[5,1613,5,1615],[5,1616,5,1618],[5,1589,5,1591],[5,1592,5,1594],[5,1595,5,1597],[5,1598,5,1600],[5,1601,5,1603],[5,1634,5,1636],[5,1637,5,1639],[5,1640,5,1642],[5,1643,5,1645],[5,1646,5,1648],[5,1619,5,1621],[5,1622,5,1624],[5,1625,5,1627],[5,1628,5,1630],[5,1631,5,1633],[5,1664,5,1666],[5,1667,5,1669],[5,1670,5,1672],[5,1673,5,1675],[5,1676,5,1678],[5,1649,5,1651],[5,1652,5,1654],[5,1655,5,1657],[5,1658,5,1660],[5,1661,5,1663],[5,1694,5,1696],[5,1697,5,1699],[5,1700,5,1702],[5,1703,5,1705],[5,1706,5,1708],[5,1679,5,1681],[5,1682,5,1684],[5,1685,5,1687],[5,1688,5,1690],[5,1691,5,1693],[5,1724,5,1726],[5,1727,5,1729],[5,1730,5,1732],[5,1733,5,1735],[5,1736,5,1738],[5,1709,5,1711],[5,1712,5,1714],[5,1715,5,1717],[5,1718,5,1720],[5,1721,5,1723],[5,1754,5,1756],[5,1757,5,1759],[5,1760,5,1762],[5,1763,5,1765],[5,1766,5,1768],[5,1739,5,1741],[5,1742,5,1744],[5,1745,5,1747],[5,1748,5,1750],[5,1751,5,1753],[5,1784,5,1786],[5,1787,5,1789],[5,1790,5,1792],[5,1793,5,1795],[5,1796,5,1798],[5,1769,5,1771],[5,1772,5,1774],[5,1775,5,1777],[5,1778,5,1780],[5,1781,5,1783],[5,1814,5,1816],[5,1817,5,1819],[5,1820,5,1822],[5,1823,5,1825],[5,1826,5,1828],[5,1799,5,1801],[5,1802,5,1804],[5,1805,5,1807],[5,1808,5,1810],[5,1811,5,1813],[5,1844,5,1846],[5,1847,5,1849],[5,1850,5,1852],[5,1853,5,1855],[5,1856,5,1858],[5,1829,5,1831],[5,1832,5,1834],[5,1835,5,1837],[5,1838,5,1840],[5,1841,5,1843],[5,1874,5,1876],[5,1877,5,1879],[5,1880,5,1882],[5,1883,5,1885],[5,1886,5,1888],[5,1859,5,1861],[5,1862,5,1864],[5,1865,5,1867],[5,1868,5,1870],[5,1871,5,1873],[5,1904,5,1906],[5,1907,5,1909],[5,1910,5,1912],[5,1913,5,1915],[5,1916,5,1918],[5,1889,5,1891],[5,1892,5,1894],[5,1895,5,1897],[5,1898,5,1900],[5,1901,5,1903],[5,1934,5,1936],[5,1937,5,1939],[5,1940,5,1942],[5,1943,5,1945],[5,1946,5,1948],[5,1919,5,1921],[5,1922,5,1924],[5,1925,5,1927],[5,1928,5,1930],[5,1931,5,1933],[5,1964,5,1966],[5,1967,5,1969],[5,1970,5,1972],[5,1973,5,1975],[5,1976,5,1978],[5,1949,5,1951],[5,1952,5,1954],[5,1955,5,1957],[5,1958,5,1960],[5,1961,5,1963],[5,1994,5,1996],[5,1997,5,1999],[5,2000,5,2002],[5,2003,5,2005],[5,2006,5,2008],[5,1979,5,1981],[5,1982,5,1984],[5,1985,5,1987],[5,1988,5,1990],[5,1991,5,1993],[5,2024,5,2026],[5,2027,5,2029],[5,2030,5,2032],[5,2033,5,2035],[5,2036,5,2038],[5,2009,5,2011],[5,2012,5,2014],[5,2015,5,2017],[5,2018,5,2020],[5,2021,5,2023],[5,2054,5,2056],[5,2057,5,2059],[5,2060,5,2062],[5,2063,5,2065],[5,2066,5,2068],[5,2039,5,2041],[5,2042,5,2044],[5,2045,5,2047],[5,2048,5,2050],[5,2051,5,2053],[5,2084,5,2086],[5,2087,5,2089],[5,2090,5,2092],[5,2093,5,2095],[5,2096,5,2098],[5,2069,5,2071],[5,2072,5,2074],[5,2075,5,2077],[5,2078,5,2080],[5,2081,5,2083],[5,2114,5,2116],[5,2117,5,2119],[5,2120,5,2122],[5,2123,5,2125],[5,2126,5,2128],[5,2099,5,2101],[5,2102,5,2104],[5,2105,5,2107],[5,2108,5,2110],[5,2111,5,2113],[5,2144,5,2146],[5,2147,5,2149],[5,2150,5,2152],[5,2153,5,2155],[5,2156,5,2158],[5,2129,5,2131],[5,2132,5,2134],[5,2135,5,2137],[5,2138,5,2140],[5,2141,5,2143],[5,2174,5,2176],[5,2177,5,2179],[5,2180,5,2182],[5,2183,5,2185],[5,2186,5,2188],[5,2159,5,2161],[5,2162,5,2164],[5,2165,5,2167],[5,2168,5,2170],[5,2171,5,2173],[5,2204,5,2206],[5,2207,5,2209],[5,2210,5,2212],[5,2213,5,2215],[5,2216,5,2218],[5,2189,5,2191],[5,2192,5,2194],[5,2195,5,2197],[5,2198,5,2200],[5,2201,5,2203],[5,2234,5,2236],[5,2237,5,2239],[5,2240,5,2242],[5,2243,5,2245],[5,2246,5,2248],[5,2219,5,2221],[5,2222,5,2224],[5,2225,5,2227],[5,2228,5,2230],[5,2231,5,2233],[5,2264,5,2266],[5,2267,5,2269],[5,2270,5,2272],[5,2273,5,2275],[5,2276,5,2278],[5,2249,5,2251],[5,2252,5,2254],[5,2255,5,2257],[5,2258,5,2260],[5,2261,5,2263],[5,2294,5,2296],[5,2297,5,2299],[5,2300,5,2302],[5,2303,5,2305],[5,2306,5,2308],[5,2279,5,2281],[5,2282,5,2284],[5,2285,5,2287],[5,2288,5,2290],[5,2291,5,2293],[5,2324,5,2326],[5,2327,5,2329],[5,2330,5,2332],[5,2333,5,2335],[5,2336,5,2338],[5,2309,5,2311],[5,2312,5,2314],[5,2315,5,2317],[5,2318,5,2320],[5,2321,5,2323],[5,2354,5,2356],[5,2357,5,2359],[5,2360,5,2362],[5,2363,5,2365],[5,2366,5,2368],[5,2339,5,2341],[5,2342,5,2344],[5,2345,5,2347],[5,2348,5,2350],[5,2351,5,2353],[5,2384,5,2386],[5,2387,5,2389],[5,2390,5,2392],[5,2393,5,2395],[5,2396,5,2398],[5,2369,5,2371],[5,2372,5,2374],[5,2375,5,2377],[5,2378,5,2380],[5,2381,5,2383],[5,2414,5,2416],[5,2417,5,2419],[5,2420,5,2422],[5,2423,5,2425],[5,2426,5,2428],[5,2399,5,2401],[5,2402,5,2404],[5,2405,5,2407],[5,2408,5,2410],[5,2411,5,2413],[5,2444,5,2446],[5,2447,5,2449],[5,2450,5,2452],[5,2453,5,2455],[5,2456,5,2458],[5,2429,5,2431],[5,2432,5,2434],[5,2435,5,2437],[5,2438,5,2440],[5,2441,5,2443],[5,2474,5,2476],[5,2477,5,2479],[5,2480,5,2482],[5,2483,5,2485],[5,2486,5,2488],[5,2459,5,2461],[5,2462,5,2464],[5,2465,5,2467],[5,2468,5,2470],[5,2471,5,2473],[5,2504,5,2506],[5,2507,5,2509],[5,2510,5,2512],[5,2513,5,2515],[5,2516,5,2518],[5,2489,5,2491],[5,2492,5,2494],[5,2495,5,2497],[5,2498,5,2500],[5,2501,5,2503],[5,2534,5,2536],[5,2537,5,2539],[5,2540,5,2542],[5,2543,5,2545],[5,2546,5,2548],[5,2519,5,2521],[5,2522,5,2524],[5,2525,5,2527],[5,2528,5,2530],[5,2531,5,2533],[5,2564,5,2566],[5,2567,5,2569],[5,2570,5,2572],[5,2573,5,2575],[5,2576,5,2578],[5,2549,5,2551],[5,2552,5,2554],[5,2555,5,2557],[5,2558,5,2560],[5,2561,5,2563],[5,2594,5,2596],[5,2597,5,2599],[5,2600,5,2602],[5,2603,5,2605],[5,2606,5,2608],[5,2579,5,2581],[5,2582,5,2584],[5,2585,5,2587],[5,2588,5,2590],[5,2591,5,2593],[5,2624,5,2626],[5,2627,5,2629],[5,2630,5,2632],[5,2633,5,2635],[5,2636,5,2638],[5,2609,5,2611],[5,2612,5,2614],[5,2615,5,2617],[5,2618,5,2620],[5,2621,5,2623],[5,2654,5,2656],[5,2657,5,2659],[5,2660,5,2662],[5,2663,5,2665],[5,2666,5,2668],[5,2639,5,2641],[5,2642,5,2644],[5,2645,5,2647],[5,2648,5,2650],[5,2651,5,2653],[5,2684,5,2686],[5,2687,5,2689],[5,2690,5,2692],[5,2693,5,2695],[5,2696,5,2698],[5,2669,5,2671],[5,2672,5,2674],[5,2675,5,2677],[5,2678,5,2680],[5,2681,5,2683],[5,2714,5,2716],[5,2717,5,2719],[5,2720,5,2722],[5,2723,5,2725],[5,2726,5,2728],[5,2699,5,2701],[5,2702,5,2704],[5,2705,5,2707],[5,2708,5,2710],[5,2711,5,2713],[5,2744,5,2746],[5,2747,5,2749],[5,2750,5,2752],[5,2753,5,2755],[5,2756,5,2758],[5,2729,5,2731],[5,2732,5,2734],[5,2735,5,2737],[5,2738,5,2740],[5,2741,5,2743],[5,2774,5,2776],[5,2777,5,2779],[5,2780,5,2782],[5,2783,5,2785],[5,2786,5,2788],[5,2759,5,2761],[5,2762,5,2764],[5,2765,5,2767],[5,2768,5,2770],[5,2771,5,2773],[5,2804,5,2806],[5,2807,5,2809],[5,2810,5,2812],[5,2813,5,2815],[5,2816,5,2818],[5,2789,5,2791],[5,2792,5,2794],[5,2795,5,2797],[5,2798,5,2800],[5,2801,5,2803],[5,2834,5,2836],[5,2837,5,2839],[5,2840,5,2842],[5,2843,5,2845],[5,2846,5,2848],[5,2819,5,2821],[5,2822,5,2824],[5,2825,5,2827],[5,2828,5,2830],[5,2831,5,2833],[5,2864,5,2866],[5,2867,5,2869],[5,2870,5,2872]],"merged_total":5508,"flags":["merged_cut"]}
["Ministerio de Educación y Cultura"]
["Dirección de Educación"]
[]
[]
[]
["Cuadro I-3.1.9"]
["BECARIOS DEL PROGRAMA YO ESTUDIO Y TRABAJO SEGÚN GRANDES ÁREAS Y DEPARTAMENTO. AÑO 2013."]
["GRANDES ÁREAS / DEPTO.",null," BECARIOS ",null,"%"]
["Total",null,{"$f":"+C11+C12","v":693},null,{"$f":"+E11+E12","v":100}]
[]
["Montevideo ",null,342,null,49]
["Resto del interior ",null,{"$f":"SUM(C14:D31)","v":351},null,51]
[]
["Artigas ",null,16,null,2]
["Canelones ",null,71,null,10]
["Cerro Largo ",null,14,null,2.0202020202020203]
["Colonia ",null,29,null,4.1847041847041844]
["Durazno ",null,17,null,2.4531024531024532]
["Flores ",null,7,null,2]
["Florida ",null,11,null,1.5873015873015872]
["Lavalleja ",null,18,null,2.5974025974025974]
["Maldonado ",null,24,null,3.4632034632034632]
["Paysandú ",null,32,null,4.6176046176046173]
["Rio Negro ",null,11,null,1.5873015873015872]
["Rivera ",null,13,null,1.875901875901876]
["Rocha ",null,15,null,2.1645021645021645]
["Salto ",null,13,null,1.875901875901876]
["San José ",null,18,null,2.5974025974025974]
["Soriano ",null,9,null,1.2987012987012987]
["Tacuarembó  ",null,19,null,2.7417027417027415]
["Treinta y Tres ",null,14,null,2.0202020202020203]
["Fuente: MTSS. "]
["Nota: Todo el país, año 2013"]

{"sheet":"I-3.1.10","index":57,"n_rows":20,"n_cols":6,"rows_kept":20,"cut":false,"hidden":false,"merged":[[3,0,3,4],[19,1,19,5],[14,0,14,1],[15,0,15,1],[16,0,16,1],[17,0,17,1],[18,1,18,5],[8,3,8,5],[13,0,13,1],[6,0,7,1],[6,2,7,2],[6,3,6,5],[8,0,8,1],[9,0,9,1],[11,0,11,1],[12,0,12,1]]}
["Ministerio de Educación y Cultura"]
["Dirección de Educación"]
[]
["Cuadro I-3.1.10"]
["BECARIOS DEL PROGRAMA JÓVENES EN RED POR SEXO SEGÚN DEPARTAMENTO."]
["AÑO 2013."]
["DEPARTAMENTO",null,"Total","SEXO"]
[null,null,null,"Hombres","Mujeres","% Mujeres"]
[]
["Total ",null,2352,1089,1263,53.7]
[]
["Artigas ",null,199,66,133,66.8]
["Canelones ",null,902,433,469,52]
["Cerro Largo ",null,174,76,98,56.3]
["Montevideo ",null,1021,481,540,52.9]
["San José ",null,52,32,20,38.5]
["Desconocido ",null,4,1,3,75]
[]
["Nota:","Todo el país, año 2013."]
["Fuente:","MIDES."]

{"sheet":"I-.3.1.11 ","index":58,"n_rows":15,"n_cols":6,"rows_kept":15,"cut":false,"hidden":false,"merged":[[13,0,13,1],[12,0,12,1],[5,0,5,5],[6,0,6,1],[7,0,7,1],[8,0,8,1],[9,0,9,1],[10,0,10,1],[11,0,11,1]]}
["Ministerio de Educación y Cultura"]
["Dirección de Educación"]
[]
[]
["Cuadro I-3.1.11"]
["CENTROS Y BENEFICIARIOS CON EQUIPO DE CEIBAL POR TIPO DE USUARIO SEGÚN AÑO LECTIVO - 2013"]
["AÑO",null,"Cantidad de centros con equipos","TOTAL ","ALUMNOS ","DOCENTES"]
[2007,null," - ",5266,4964,302]
[2008,null," - ",179505,164711,14794]
[2009,null,1779,350004,327736,22268]
[2010,null,1882,417445,393521,23924]
[2011,null,2127,503609,476065,27544]
[2012,null,2392,566552,527312,39240]
[2013,null,2546,{"$f":"+E14+F14","v":607459},559836,47623]
["Fuente : Plan Ceibal "]

{"sheet":"I-3.3.1","index":59,"n_rows":28,"n_cols":11,"rows_kept":28,"cut":false,"hidden":false,"merged":[[30,0,30,5],[29,0,29,5],[28,0,28,5],[27,0,27,9],[25,0,25,4],[5,0,5,6],[6,0,6,6],[7,0,8,0],[7,1,7,10],[24,0,24,5]]}
["Ministerio de Educación y Cultura"]
["Dirección de Educación"]
[]
[]
[]
["Cuadro I-3.3.1"]
["GASTO EN MILLONES DE PESOS CONSTANTES DE 2006 POR AÑO LECTIVO SEGÚN ÁMBITO DEL GASTO (2004 - 2013)."]
["ÁMBITO DEL GASTO","AÑO LECTIVO"]
[null,2004,2005,2006,2007,2008,2009,2010,2011,2012,2013]
["TOTAL ",13806,14406,15866,18386,22388,25023,25608.201631370044,28090.376114455728,30264.698265275634,31654.826300719797]
["Inst. básicas del sist. educación formal ",12883,13314,14345,16157,19010,22020,22218.742914241426,24360.780876643297,25721.206230385174,26938.710546634138]
["ANEP ",10337,10702,11455,12881,15223,17662,17771.812404214783,19422.883933100606,20568.57045720032,21656.535370758334]
["UDELAR ",2546,2612,2890,3276,3787,4358,4446.9305100266438,4937.8969435426907,5152.6357731848548,5276.2588677656768]
["UTEC",0,0,0,0,0,0,0,0,0,6]
["Administración Central e Inciso 21 ",656,733,1079,1152,1327,1294,1523.0821154119599,1734.1173783754887,2456.3561976304286,2516.0147071149763]
["Educación policial y militar ",391,436,482,569,608,628,694.24126367036013,708.74089587940853,946.58245128606279,980.27563406480704]
["Otros Administración Central1  ",69,91,185,159,257,164,263.16409612463804,390.15565443085165,890.92456230266941,905.9814870776288]
["Partidas del inciso 21 con destino a educación2  ",196,206,412,424,462,502,565.67675561696171,635.2208280652286,618.84918404169639,629.7575859725406]
["Educación no formal inicial (CAIF) y CENFORES  ",141,191,240,281,473,540,535.62586508544496,666.66659918596088,833.04430909303676,935.84130430118387]
["Ciencia y Tecnología ",126,168,202,299,291,206,229.97380050800547,278.1368348016295,318.29736605620974,316.05409019642968]
["MEC3 ",109,125,147,240,161,79,84.644022929806567,73.695798686653944,93.59018017422828,85.20568847810668]
["PEDECIBA, Instituto Pasteur, ANII4  ",17,43,55,59,129,127,145.3297775781989,204.44103611497556,224.70718588198145,230.848401718323]
["Plan Ceibal ",0,0,0,497,1203,801,908.95567893742884,843.90740107828003,729.08308487215425,743.08828739046248]
["Incentivo a la demanda educativa en secundaria ",0,0,0,0,84,162,191.82125718577964,206.76702437107159,206.71107723863122,205.11736508260682]
[]
["Fuentes: Elaborado en base a datos del MEF."]
["Notas: "]
["1. Se incluyen gastos en Dirección de Educación del MEC, ISEF, capacitación laboral, Centro de Diseño Industrial, escuelas de formación artística y otros componentes considerados en MIDES-DINEM (2006), \"Identificación y análisis del Gasto Público Social en Uruguay 2002-2005\" Además, se incluye el subsidio al boleto estudiantil que realiza el MTOP.\n2. Incluye subsidios a escuelas para niños con capacidades especiales, rentas afectadas al Fondo de Solidaridad y al Fondo de Reconversión Laboral.\n3. Se considera la Dirección Nacional de Ciencia y Tecnología (DINACYT) y el Clemente Estable La baja de recursos se explica por la finalización del Programa de Desarrollo Tecnológico (PDT) y el traspaso de algunos programas a la ANII.\n4. Del presupuesto de la ANII se toma en cuenta sólo el componente 2, de Fortalecimiento y orientación de la investigación.\n"]

{"sheet":"I-4.4.1","index":60,"n_rows":14,"n_cols":9,"rows_kept":14,"cut":false,"hidden":false,"merged":[[11,0,11,2],[12,0,12,2],[13,1,13,6],[4,0,4,6],[5,0,5,6],[6,0,7,2],[8,0,8,1],[9,0,9,1],[10,0,10,1]]}
["Ministerio de Educación y Cultura"]
["Dirección de Educación"]
[]
[]
["Cuadro I-4.4.1"]
["INDICADORES Y VALORES 2008 a 2013 PARA LA META NACIONAL 3 (ODM)."]
["Asistencia (%) al sistema educativo del grupo 3 a 5 por edad simple:",null,null,2008,2009,2010,2011,2012,2013]
[]
[null,null,"3 años ",53.8,58.5,61.3,60.4,63.8,60.4]
[null,null,"4 años ",83,86.6,86.1,86.1,89.1,90.2]
[null,null,"5 años ",96.9,97.3,97.3,96.3,97.7,98.6]
["Tasa neta de asistencia a Educ. Media Básica (12 a 14 años) ",null,null,69.2,73.099999999999994,73.400000000000006,75.900000000000006,73.8,75.599999999999994]
["Tasa neta de asistencia e Educ. Media Superior (15 a 17 años) ",null,null,53.2,47.6,43.2,50.5,51.4,49.7]
["Fuente:","Procesamiento propio con base en la Encuesta Continua de Hogares 2008 a 2013"]

{"sheet":"I-5.4.1 ","index":61,"n_rows":62,"n_cols":4,"rows_kept":62,"cut":false,"hidden":false,"merged":[[9,0,9,2],[4,0,4,3],[5,0,5,2],[6,0,6,2],[7,0,7,2],[8,0,8,2],[32,0,32,2],[21,0,21,2],[10,0,10,2],[11,0,11,3],[12,0,12,2],[13,0,13,2],[14,0,14,2],[15,0,15,2],[16,0,16,2],[17,0,17,2],[18,0,18,2],[19,0,19,2],[20,0,20,2],[27,0,27,2],[28,0,28,2],[29,0,29,2],[30,0,30,2],[31,0,31,2],[22,0,22,2],[23,0,23,2],[24,0,24,2],[25,0,25,3],[26,0,26,2],[44,0,44,3],[45,0,45,2],[46,0,46,2],[38,0,38,3],[33,0,33,2],[62,0,62,3],[61,0,61,3],[60,0,60,2],[49,0,49,2],[59,0,59,2],[50,0,50,2],[51,0,51,3],[52,0,52,2],[53,0,53,2],[54,0,54,2],[55,0,55,2],[0,0,0,2],[3,0,3,3],[56,0,56,2],[57,0,57,2],[58,0,58,3],[47,0,47,2],[48,0,48,2],[43,0,43,2],[34,0,34,2],[39,0,39,2],[40,0,40,2],[41,0,41,2],[42,0,42,2],[35,0,35,2],[36,0,36,2],[37,0,37,2]]}
["Ministerio de Educación y Cultura\nDirección de Educación\n"]
[]
["Cuadro I-5.4.1"]
["PRINCIPALES ESTADÍSTICOS."]
["INICIAL"]
["Cantidad de Establecimientos de Educación Inicial y Primera Infancia (Supervisados por CEIP, públicos y privados) ",null,null,249]
["Cantidad de Centros CAIF (Supervisados por el INAU)",null,null,336]
["Cantidad de Centros de Educación Infantil Privados (Supervisados por el MEC)",null,null,454]
["Cantidad de alumnos en Educación Inicial y Primera Infancia (Supervisados por CEIP públicos y privados)",null,null,109602]
["Cantidad de alumnos en Centros CAIF (Supervisados por el INAU)",null,null,45620]
["Cantidad de alumnos en Centros de Educación Infantil Privados (Supervisados por el MEC)",null,null,21255]
["EDUCACIÓN PRIMARIA"]
["Cantidad de establecimientos",null,null,2421]
["Cantidad de alumnos",null,null,319238]
["Porcentaje de alumnos de educación pública",null,null,83.4]
["Porcentaje de alumnos de Montevideo en educación pública",null,null,71.3]
["Porcentaje de alumnos del Resto del País en educación pública",null,null,90.1]
["Porcentaje de alumnos de educación pública que se encuentran en Área Urbana",null,null,93.8]
["Razón Público/Privado en Educación Primaria",null,null,5]
["Porcentaje de alumnos que no aprobaron en 1ero",null,null,13.7]
["Porcentaje de alumnos que no aprobaron de 1ero a 6to",null,null,5.6]
["Porcentaje de alumnos que no aprobaron de 1ero a 6to en escuelas rurales",null,null,4.0999999999999996]
["Porcentaje de alumnos que no aprobaron de 1ero a 6to en escuelas urbanas",null,null,5.7]
["Porcentaje de personas de 14 a 15 que culminaron primaria",null,null,96.7]
["Porcentaje de personas de 15 a 20 que no culminaron educación media básica, no estudian, no trabajan y no buscan trabajo",null,null,9.4]
["EDUCACIÓN MEDIA"]
["Cantidad de establecimientos dependientes del CES",null,null,471]
["Cantidad de establecimientos dependientes del CETP (UTU)",null,null,235]
["Porcentaje de establecimientos dependientes del CES en Montevideo",null,null,37.4]
["Porcentaje de establecimientos dependientes del CETP (UTU) en Montevideo",null,null,21.7]
["Cantidad de alumnos en Educación Media Básica",null,null,181444]
["Cantidad de alumnos en Educación Media Superior",null,null,153682]
["Razón Público/Privado en Educación Media Básica",null,null,5]
["Razón Público/Privado en Educación Media Superior",null,null,5.8]
["Porcentaje de no aprobación de 1º a 3º año diurno público en Educación Media Básica General",null,null,28.6]
["Porcentaje de desvinculación de 1º a 3º año diurno público en Educación Media Básica General",null,null,3.5]
["Porcentaje de personas de 17 a 18 años que culminaron ciclo básico",null,null,64.400000000000006]
["Porcentaje de personas de 21 a 22 años que culminaron segundo ciclo ",null,null,36.799999999999997]
["EDUCACIÓN TERCIARIA"]
["Cantidad de matriculados en cursos de grado en universidades e institutos universitarios",null,null,151081]
["Cantidad de matriculados en ofertas terciarias de Formación en Educación",null,null,22754]
["Cantidad de matriculados en ofertas terciarias del Ministerio del Interior y del Ministerio de Defensa Nacional",null,null,572]
["Cantidad de ingresos en cursos de grado en universidades e institutos universitarios",null,null,23275]
["Cantidad de egresos en cursos de grado en universidades e institutos universitarios",null,null,7826]
["LOGRO EDUCATIVO Y ASISTENCIA"]
["Porcentaje personas de 25 años o más con primaria completa o menos como nivel máximo alcanzado ",null,null,37.700000000000003]
["Porcentaje personas de 25 a 29 años con primaria completa o menos como nivel máximo alcanzado",null,null,16.2]
["Tasa de analfabetismo (Uruguay)",null,null,1.6]
["Tasa de analfabetismo (MERCOSUR)",null,null,7.7]
["Tasa de analfabetismo (UNASUR)",null,null,8.1999999999999993]
["Porcentaje de jóvenes de 15 a 20 años que no asiste a ningún establecimiento, no trabaja y no busca trabajo",null,null,13]
["CONTEXTO DE LA EDUCACIÓN"]
["Cantidad de alumnos atendidos por el Programa Maestros Comunitarios",null,null,15608]
["Cantidad de alumnos atendidos por los CECAP’s",null,null,2135]
["Alumnos atendidos por el Programa de Educación Física Escolar",null,null,306532]
["Razón alumnos/docente en el Programa Maestros Comunitarios",null,null,29]
["Razón alumnos/educadores en los CECAP’s",null,null,8]
["Razón alumnos/docente en el Programa de Educación Física Escolar",null,null,309.89999999999998]
["GASTO"]
["Gasto público en educación como porcentaje de gasto del Gobierno Central",null,null,20.5]
["Gasto público en educación como % del PBI (Uruguay)",null,null,4.5999999999999996]
["Notas: La categoría Centros de Educación Infantil Privados incluye el Proyecto Nuestros Niños de la Intendencia de Montevideo.\nLa categoría CAIF incluye Centros Diurnos.\nPara Educación Primaria, en todos los casos se consideró educación común.\nPara Educación Media, la relación matriculados en educación pública, matriculados en educación privada, se realiza sin incorporar en el sector público la matrícula del CETP (UTU), por no contar con información sobre la matrícula técnico-vocacional en educación media del sector privado."]

{"sheet":"G I-1.2.1","index":62,"n_rows":30,"n_cols":1,"rows_kept":30,"cut":false,"hidden":false,"merged":[[0,0,0,3],[29,0,29,5]]}
["Ministerio de Educación y Cultura\nDirección de Educación"]
[]
["Gráfico I-1.2.1"]
[]
[]
[]
[]
[]
[]
[]
[]
[]
[]
[]
[]
[]
[]
[]
[]
[]
[]
[]
[]
[]
[]
[]
[]
[]
[]
["Fuente: Censos de Población 1963, 1975, 1985 y 1996, ENHA 2006 y ECH de 2007 a 2013 del INE."]

{"sheet":"G I-1.2.2.","index":63,"n_rows":32,"n_cols":1,"rows_kept":32,"cut":false,"hidden":false,"merged":[[0,0,0,3]]}
["Ministerio de Educación y Cultura\nDirección de Educación"]
[]
[]
["Gráfico I-1.2.2"]
[]
[]
[]
[]
[]
[]
[]
[]
[]
[]
[]
[]
[]
[]
[]
[]
[]
[]
[]
[]
[]
[]
[]
[]
[]
[]
[]
["Fuente: Elaboración propia en base a ECH 2013."]

{"sheet":"G I-1.2.3","index":64,"n_rows":31,"n_cols":1,"rows_kept":31,"cut":false,"hidden":false,"merged":[[0,0,0,3]]}
["Ministerio de Educación y Cultura\nDirección de Educación"]
[]
[]
[]
["Gráficos I-1.2.3 "]
[]
[]
[]
[]
[]
[]
[]
[]
[]
[]
[]
[]
[]
[]
[]
[]
[]
[]
[]
[]
[]
[]
[]
[]
[]
["Fuente: Elaboración propia en base a la ECH 2013."]

{"sheet":"G I-1.2.4 ","index":65,"n_rows":31,"n_cols":1,"rows_kept":31,"cut":false,"hidden":false,"merged":[[0,0,0,3]]}
["Ministerio de Educación y Cultura\nDirección de Educación"]
[]
[]
[]
["Gráficos I-1.2.4 "]
[]
[]
[]
[]
[]
[]
[]
[]
[]
[]
[]
[]
[]
[]
[]
[]
[]
[]
[]
[]
[]
[]
[]
[]
[]
["Fuente: Elaboración propia en base a la ECH 2013."]

{"sheet":"G I-1.2.5","index":66,"n_rows":30,"n_cols":1,"rows_kept":30,"cut":false,"hidden":false,"merged":[[0,0,0,3],[29,0,29,6]]}
["Ministerio de Educación y Cultura\nDirección de Educación"]
[]
[]
[]
["Gráfico I-1.2.5"]
[]
[]
[]
[]
[]
[]
[]
[]
[]
[]
[]
[]
[]
[]
[]
[]
[]
[]
[]
[]
[]
[]
[]
[]
["Fuente: Elaboración propia en base a la ECH 2013."]

{"sheet":"G I-1.2.6","index":67,"n_rows":30,"n_cols":1,"rows_kept":30,"cut":false,"hidden":false,"merged":[[0,0,0,3],[29,0,29,4]]}
["Ministerio de Educación y Cultura\nDirección de Educación"]
[]
["Gráfico I-1.2.6"]
[]
[]
[]
[]
[]
[]
[]
[]
[]
[]
[]
[]
[]
[]
[]
[]
[]
[]
[]
[]
[]
[]
[]
[]
[]
[]
["Fuente: Elaboración propia en base a la ECH 2013."]

{"sheet":"G I-1.2.7","index":68,"n_rows":30,"n_cols":1,"rows_kept":30,"cut":false,"hidden":false,"merged":[[0,0,0,3],[29,0,29,4]]}
["Ministerio de Educación y Cultura\nDirección de Educación"]
[]
["Gráfico I-1.2.7"]
[]
[]
[]
[]
[]
[]
[]
[]
[]
[]
[]
[]
[]
[]
[]
[]
[]
[]
[]
[]
[]
[]
[]
[]
[]
[]
["Fuente: Elaboración propia en base a la ECH 2013."]

{"sheet":"G I-1.2.8","index":69,"n_rows":36,"n_cols":1,"rows_kept":36,"cut":false,"hidden":false,"merged":[[0,0,0,3],[35,0,35,5],[4,0,4,8]]}
["Ministerio de Educación y Cultura\nDirección de Educación"]
[]
[]
[]
["Gráfico I-1.2.8"]
[]
[]
[]
[]
[]
[]
[]
[]
[]
[]
[]
[]
[]
[]
[]
[]
[]
[]
[]
[]
[]
[]
[]
[]
[]
[]
[]
[]
[]
[]
["Fuentes: Departamentos de Estadística u oficinas productoras de información del CEIP, CES, CETP, UdelaR, DFPD, INAU, y restantes instituciones públicas y privadas de educación terciaria."]

{"sheet":"G I-1.2.9","index":70,"n_rows":37,"n_cols":10,"rows_kept":37,"cut":false,"hidden":false,"merged":[[0,0,0,3],[32,1,32,7]]}
["Ministerio de Educación y Cultura\nDirección de Educación"]
[]
[]
[]
["Gráfico I-1.2.9"]
[]
[]
[]
[]
[]
[]
[]
[]
[]
[]
[]
[]
[]
[]
[]
[]
[]
[]
[]
[]
[]
[]
[]
[null,null,null,null,null,null,null,null,null,"          "]
[null,null,null,null,null,null,null,null,null,"          "]
[null,null,null,null,null,null,null,null,null,"          "]
[null,null,null,null,null,null,null,null,null,"          "]
[null,null,null,null,null,null,null,null,null,"          "]
["Fuentes: Departamentos de Estadística y oficinas productoras de información del CEIP, CES, CETP (UTU), UdelaR e instituciones privadas de educación terciaria."]
[]
["Nota: No se cuenta con información sobre la cantidad de hombres y mujeres en Formación Docente, sólo existe esta información para Seguridad y Defensa"]
["y Otras Terciarias No Universitarias, por ello constituyen un volumen de matrícula difícil de visualizar en el gráfico"]

{"sheet":"G I-1.2.10","index":71,"n_rows":36,"n_cols":1,"rows_kept":36,"cut":false,"hidden":false,"merged":[[0,0,0,3]]}
["Ministerio de Educación y Cultura\nDirección de Educación"]
[]
[]
[]
["Gráfico I-1.2.8"]
["Gráfico I-1.2.10"]
[]
[]
[]
[]
[]
[]
[]
[]
[]
[]
[]
[]
[]
[]
[]
[]
[]
[]
[]
[]
[]
[]
[]
[]
[]
[]
[]
[]
["Fuentes: Departamentos de Estadística u oficinas productoras de información del CEIP, CES, CETP (UTU), UdelaR, CFE e instituciones privadas de educación"]
["terciaria."]

{"sheet":"G I-1.2.11 ","index":72,"n_rows":34,"n_cols":1,"rows_kept":34,"cut":false,"hidden":false,"merged":[[0,0,0,3],[25,0,32,7]]}
["Ministerio de Educación y Cultura\nDirección de Educación"]
[]
["Gráfico I-1.2.11"]
[]
[]
[]
[]
[]
[]
[]
[]
[]
[]
[]
[]
[]
[]
[]
[]
[]
[]
[]
[]
[]
[]
["Fuentes: Departamentos de Estadística u oficinas productoras de información del CEIP, CES, CETP (UTU), UdelaR, CFE e instituciones privadas de educación."]
[]
[]
[]
[]
[]
[]
[]
["Nota: Incluye Terciaria no Universitaria"]

{"sheet":"G I-1.2.12","index":73,"n_rows":29,"n_cols":1,"rows_kept":29,"cut":false,"hidden":false,"merged":[[0,0,0,3],[40,0,40,6],[41,0,41,6],[37,0,37,6],[38,0,38,6],[39,0,39,6]]}
["Ministerio de Educación y Cultura\nDirección de Educación"]
[]
["Gráfico I-1.2.12"]
[]
[]
[]
[]
[]
[]
[]
[]
[]
[]
[]
[]
[]
[]
[]
[]
[]
[]
[]
[]
[]
[]
[]
[]
[]
["Fuente : Elaboración propia en base a ECH 2013."]

{"sheet":"G I-1.2.13","index":74,"n_rows":31,"n_cols":1,"rows_kept":31,"cut":false,"hidden":false,"merged":[[36,0,36,5],[37,0,37,5],[38,0,38,5],[0,0,0,3]]}
["Ministerio de Educación y Cultura\nDirección de Educación"]
[]
[]
[]
["Gráfico I-1.2.13"]
[]
[]
[]
[]
[]
[]
[]
[]
[]
[]
[]
[]
[]
[]
[]
[]
[]
[]
[]
[]
[]
[]
[]
[]
[]
["Fuente : Elaboración propia en base a la ECH 2013"]

{"sheet":"G I-1.2.14","index":75,"n_rows":29,"n_cols":1,"rows_kept":29,"cut":false,"hidden":false,"merged":[[0,0,0,3]]}
["Ministerio de Educación y Cultura\nDirección de Educación"]
[]
[]
[]
["Gráfico I-1.2.14"]
[]
[]
[]
[]
[]
[]
[]
[]
[]
[]
[]
[]
[]
[]
[]
[]
[]
[]
[]
[]
[]
[]
[]
["Fuente: Elaboración propia en base a la ECH  2013"]

{"sheet":"G I-1.2.15","index":76,"n_rows":33,"n_cols":1,"rows_kept":33,"cut":false,"hidden":false,"merged":[[0,0,0,3],[32,0,32,2]]}
["Ministerio de Educación y Cultura\nDirección de Educación"]
[]
[]
[]
["Gráfico I-1.2.15"]
[]
[]
[]
[]
[]
[]
[]
[]
[]
[]
[]
[]
[]
[]
[]
[]
[]
[]
[]
[]
[]
[]
["Fuente: Elaboración propia en base a ECH 2013."]
[]
[]
[]
[]
["Fuente: ENHA 2006 y ECH 2007 a 2013 del INE "]

{"sheet":"G I-1.2.16","index":77,"n_rows":34,"n_cols":1,"rows_kept":34,"cut":false,"hidden":false,"merged":[[0,0,0,3],[33,0,33,2]]}
["Ministerio de Educación y Cultura\nDirección de Educación"]
[]
[]
[]
["Gráfico I-1.2.16"]
[]
[]
[]
[]
[]
[]
[]
[]
[]
[]
[]
[]
[]
[]
[]
[]
[]
[]
[]
[]
[]
[]
["Fuente: Elaboración propia en base a ECH 2013."]
[]
[]
[]
[]
[]
["Fuente: ENHA 2006 y ECH 2007 a 2013 del INE "]

{"sheet":"G I-1.2.17","index":78,"n_rows":28,"n_cols":1,"rows_kept":28,"cut":false,"hidden":false,"merged":[[0,0,0,3]]}
["Ministerio de Educación y Cultura\nDirección de Educación"]
[]
[]
[]
["Gráfico I-1.2.17"]
[]
[]
[]
[]
[]
[]
[]
[]
[]
[]
[]
[]
[]
[]
[]
[]
[]
[]
[]
[]
[]
[]
["Fuente: Elaboración propia en base a ECH 2013."]

{"sheet":"G I-1.2.18","index":79,"n_rows":35,"n_cols":1,"rows_kept":35,"cut":false,"hidden":false,"merged":[[0,0,0,3]]}
["Ministerio de Educación y Cultura\nDirección de Educación"]
[]
[]
[]
["Gráfico I-1.2.18"]
[]
[]
[]
[]
[]
[]
[]
[]
[]
[]
[]
[]
[]
[]
[]
[]
[]
[]
[]
[]
[]
[]
[]
[]
[]
[]
[]
[]
[]
["Fuente : Elaboración propia en base a la ECH  2013."]

{"sheet":"G I-1.2.19","index":80,"n_rows":33,"n_cols":1,"rows_kept":33,"cut":false,"hidden":false,"merged":[[0,0,0,3]]}
["Ministerio de Educación y Cultura\nDirección de Educación"]
[]
[]
[]
["Gráfico I-1.2.19"]
[]
[]
[]
[]
[]
[]
[]
[]
[]
[]
[]
[]
[]
[]
[]
[]
[]
[]
[]
[]
[]
[]
[]
[]
[]
[]
[]
["Fuente : Elaboración propia en base a la ECH  2013."]

{"sheet":"G I-1.2.20","index":81,"n_rows":26,"n_cols":1,"rows_kept":26,"cut":false,"hidden":false,"merged":[[0,0,0,3]]}
["Ministerio de Educación y Cultura\nDirección de Educación"]
[]
[]
[]
["Gráfico I-1.2.20"]
[]
[]
[]
[]
[]
[]
[]
[]
[]
[]
[]
[]
[]
[]
[]
[]
[]
[]
[]
[]
["Fuente: Elaboración propia en base a la ECH  2013"]

{"sheet":"G I-1.2.21","index":82,"n_rows":26,"n_cols":1,"rows_kept":26,"cut":false,"hidden":false,"merged":[[0,0,0,3]]}
["Ministerio de Educación y Cultura\nDirección de Educación"]
[]
[]
[]
["Gráfico I-1.2.21"]
[]
[]
[]
[]
[]
[]
[]
[]
[]
[]
[]
[]
[]
[]
[]
[]
[]
[]
[]
[]
["Fuente: Elaboración propia en base a la ECH  2013"]

{"sheet":"G I-1.2.22","index":83,"n_rows":30,"n_cols":1,"rows_kept":30,"cut":false,"hidden":false,"merged":[[0,0,0,3]]}
["Ministerio de Educación y Cultura\nDirección de Educación"]
[]
[]
[]
["Gráfico I-1.2.22"]
[]
[]
[]
[]
[]
[]
[]
[]
[]
[]
[]
[]
[]
[]
[]
[]
[]
[]
[]
[]
[]
[]
[]
[]
["Fuente: Elaboración propia en base a la ECH 2013."]

{"sheet":"G I-1.2.23","index":84,"n_rows":28,"n_cols":1,"rows_kept":28,"cut":false,"hidden":false,"merged":[[0,0,0,3],[4,0,4,4]]}
["Ministerio de Educación y Cultura\nDirección de Educación"]
[]
[]
[]
["Gráfico I-1.2.23"]
[]
[]
[]
[]
[]
[]
[]
[]
[]
[]
[]
[]
[]
[]
[]
[]
[]
[]
[]
[]
[]
[]
["Fuente: Elaboración propia en base a la ECH 2013."]

{"sheet":"G I-1.2.24","index":85,"n_rows":27,"n_cols":1,"rows_kept":27,"cut":false,"hidden":false,"merged":[[0,0,0,3]]}
["Ministerio de Educación y Cultura\nDirección de Educación"]
[]
["Gráfico I-1.2.24"]
[]
[]
[]
[]
[]
[]
[]
[]
[]
[]
[]
[]
[]
[]
[]
[]
[]
[]
[]
[]
[]
[]
[]
["Fuente: Elaboración propia en base a la ECH 2013."]

{"sheet":"G I-1.2.25","index":86,"n_rows":21,"n_cols":1,"rows_kept":21,"cut":false,"hidden":false,"merged":[[0,0,0,3]]}
["Ministerio de Educación y Cultura\nDirección de Educación"]
[]
["Gráfico I-1.2.25"]
[]
[]
[]
[]
[]
[]
[]
[]
[]
[]
[]
[]
[]
[]
[]
[]
[]
["Fuente: Elaboración propia en base a la ECH 2013."]

{"sheet":"G I-2.1.1","index":87,"n_rows":29,"n_cols":1,"rows_kept":29,"cut":false,"hidden":false,"merged":[[0,0,0,3],[27,0,27,5],[34,0,34,6],[35,0,35,6],[28,0,28,5]]}
["Ministerio de Educación y Cultura\nDirección de Educación"]
[]
[]
[]
["Gráfico I-2.1.1"]
[]
[]
[]
[]
[]
[]
[]
[]
[]
[]
[]
[]
[]
[]
[]
[]
[]
[]
[]
[]
[]
[]
[]
["Fuente: Elaboración propia en base en datos del Departamento de Estadística del CEIP, Sistema de Información para la Infancia de INAU y Área de Primera Infancia del MEC."]

{"sheet":"G I-2.1.2","index":88,"n_rows":35,"n_cols":1,"rows_kept":35,"cut":false,"hidden":false,"merged":[[27,0,27,5],[0,0,0,3],[34,0,34,6],[35,0,35,6]]}
["Ministerio de Educación y Cultura\nDirección de Educación"]
[]
[]
[]
["Gráfico I-2.1.2"]
[]
[]
[]
[]
[]
[]
[]
[]
[]
[]
[]
[]
[]
[]
[]
[]
[]
[]
[]
[]
[]
[]
[]
[]
[]
[]
[]
[]
[]
["Fuente: Elaboración propia en base a datos del Departamento de Estadística del CEIP, Sistema de Información para la Infancia de INAU y Área de Primera Infancia del MEC."]

{"sheet":"G I-2.1.3","index":89,"n_rows":29,"n_cols":1,"rows_kept":29,"cut":false,"hidden":false,"merged":[[0,0,0,3],[28,0,28,6],[29,0,29,6]]}
["Ministerio de Educación y Cultura\nDirección de Educación"]
[]
[]
[]
["Gráfico I-2.1.3"]
[]
[]
[]
[]
[]
[]
[]
[]
[]
[]
[]
[]
[]
[]
[]
[]
[]
[]
[]
[]
[]
[]
[]
["Fuente: Elaboración propia en base a datos del Departamento de Estadística del CEIP, Sistema de Información para la Infancia de INAU y Área de Primera Infancia del MEC."]

{"sheet":"G I-2.1.4","index":90,"n_rows":29,"n_cols":1,"rows_kept":29,"cut":false,"hidden":false,"merged":[[0,0,0,3]]}
["Ministerio de Educación y Cultura\nDirección de Educación"]
[]
[]
["Gráfico I-2.1.4"]
[]
[]
[]
[]
[]
[]
[]
[]
[]
[]
[]
[]
[]
[]
[]
[]
[]
[]
[]
[]
[]
[]
[]
[]
["Fuente: Elaboración propia en base a información del Departamento de Estadística del CEIP."]

{"sheet":"G I-2.1.5","index":91,"n_rows":29,"n_cols":7,"rows_kept":29,"cut":false,"hidden":false,"merged":[[0,0,0,3]]}
["Ministerio de Educación y Cultura\nDirección de Educación"]
[]
["Gráfico I-2.1.5"]
[]
[]
[]
[]
[]
[]
[]
[]
[]
[]
[]
[]
[null,null,null,null,null,null," "]
[]
[]
[]
[]
[]
[]
[]
[]
[]
[]
[]
[]
["Fuente: Elaboración propia en base a información del Departamento de Estadística del CEIP."]

{"sheet":"G I-2.2.0","index":92,"n_rows":25,"n_cols":1,"rows_kept":25,"cut":false,"hidden":false,"merged":[[0,0,0,3]]}
["Ministerio de Educación y Cultura\nDirección de Educación"]
[]
["Gráfico I-2.2.0"]
[]
[]
[]
[]
[]
[]
[]
[]
[]
[]
[]
[]
[]
[]
[]
[]
[]
[]
[]
[]
["Fuente: Elaboración propia en base a información del Departamento de Estadística del CEIP para el período 2000 a 2013 y A 140 años de La Educación del"]
["Pueblo: Aportes para la reflexión sobre la educación en Uruguay. Tomo I Educación Pre primaria, Primaria y Media, para el período 1885 a 1999."]

{"sheet":"G I-2.2.1","index":93,"n_rows":41,"n_cols":2,"rows_kept":41,"cut":false,"hidden":false,"merged":[[0,0,0,3],[39,1,39,9],[40,1,40,9],[2,0,2,9],[0,4,0,7],[0,8,0,9]]}
["Ministerio de Educación y Cultura\nDirección de Educación"]
[]
["Gráfico I-2.2.1"]
[]
[]
[]
[]
[]
[]
[]
[]
[]
[]
[]
[]
[]
[]
[]
[]
[]
[]
[]
[]
[]
[]
[]
[]
[]
[]
[]
[]
[]
[]
[]
[]
[]
[]
[]
[]
["Fuente:","Elaboración propia en base a datos del Departamento de Estadística del CEIP."]
["Nota:","Educación primaria común incluye la matrícula de educación en Jardines de Infantes con Ciclo Inicial (JICI)."]

{"sheet":"G I-2.2.2","index":94,"n_rows":29,"n_cols":1,"rows_kept":29,"cut":false,"hidden":false,"merged":[[0,0,0,3],[28,0,28,4]]}
["Ministerio de Educación y Cultura\nDirección de Educación"]
[]
[]
[]
[]
["Gráfico I-2.2.2"]
[]
[]
[]
[]
[]
[]
[]
[]
[]
[]
[]
[]
[]
[]
[]
[]
[]
[]
[]
[]
[]
[]
["Fuente: Elaboración propia en base a datos proporcionados por el Departamento de Estadística del CEIP."]

{"sheet":"G I-2.2.3","index":95,"n_rows":30,"n_cols":1,"rows_kept":30,"cut":false,"hidden":false,"merged":[[29,0,29,1],[0,0,0,2]]}
["Ministerio de Educación y Cultura\nDirección de Educación"]
[]
[]
[]
["Gráfico I-2.2.3"]
[]
[]
[]
[]
[]
[]
[]
[]
[]
[]
[]
[]
[]
[]
[]
[]
[]
[]
[]
[]
[]
[]
[]
[]
["Fuente: Monitor Educativo de Enseñanza Primaria ANEP."]

{"sheet":"G I-2.2.4","index":96,"n_rows":34,"n_cols":1,"rows_kept":34,"cut":false,"hidden":false,"merged":[[0,0,0,3]]}
["Ministerio de Educación y Cultura\nDirección de Educación"]
[]
[]
[]
["Gráfico I-2.2.4"]
[]
[]
[]
[]
[]
[]
[]
[]
[]
[]
[]
[]
[]
[]
[]
[]
[]
[]
[]
[]
[]
[]
[]
[]
[]
[]
[]
[]
["Fuente: Monitor Educativo de Enseñanza Primaria. ANEP"]

{"sheet":"G I-2.3.1","index":97,"n_rows":35,"n_cols":1,"rows_kept":35,"cut":false,"hidden":false,"merged":[[0,0,0,3],[32,0,32,6],[33,0,33,6]]}
["Ministerio de Educación y Cultura\nDirección de Educación"]
[]
[]
[]
["Gráfico I-2.3.1"]
[]
[]
[]
[]
[]
[]
[]
[]
[]
[]
[]
[]
[]
[]
[]
[]
[]
[]
[]
[]
[]
[]
[]
[]
[]
[]
[]
["Fuente: Departamentos de Estadísticas del CEIP, CES y CETP."]
["Nota: Incluye Ciclo Básico Rural, Media General y Media Técnico-profesional."]
["Nota: incluye matrícula por forma de administración pública y privada"]

{"sheet":"G I-2.3.2","index":98,"n_rows":32,"n_cols":1,"rows_kept":32,"cut":false,"hidden":false,"merged":[[0,0,0,3]]}
["Ministerio de Educación y Cultura\nDirección de Educación"]
[]
[]
[]
["Gráfico I-2.3.2"]
[]
[]
[]
[]
[]
[]
[]
[]
[]
[]
[]
[]
[]
[]
[]
[]
[]
[]
[]
[]
[]
[]
[]
[]
["Fuente: Departamentos de Estadísticas del CEIP, CES y CETP"]
["Nota: Incluye Ciclo Básico Rural, Media General y Media Técnica."]
["Nota: incluye matrícula por forma de administración pública y privada"]

{"sheet":"G I-2.3.3","index":99,"n_rows":34,"n_cols":1,"rows_kept":34,"cut":false,"hidden":false,"merged":[[0,0,0,3]]}
["Ministerio de Educación y Cultura\nDirección de Educación"]
[]
[]
[]
["Gráfico I-2.3.3"]
[]
[]
[]
[]
[]
[]
[]
[]
[]
[]
[]
[]
[]
[]
[]
[]
[]
[]
[]
[]
[]
[]
[]
[]
[]
[]
[]
["Fuente: Departamentos de Estadísticas del CEIP, CES y CETP"]
["Nota: incluye matrícula por forma de administración pública y privada"]

{"sheet":"G I-2.3.4","index":100,"n_rows":28,"n_cols":1,"rows_kept":28,"cut":false,"hidden":false,"merged":[[27,0,28,5],[0,0,0,3]]}
["Ministerio de Educación y Cultura\nDirección de Educación"]
[]
[]
[]
["Gráfico I-2.3.4"]
[]
[]
[]
[]
[]
[]
[]
[]
[]
[]
[]
[]
[]
[]
[]
[]
[]
[]
[]
[]
[]
[]
["Fuente: Departamentos de Estadísticas del CEIP, CES y CETP."]

{"sheet":"G I-2.3.5","index":101,"n_rows":29,"n_cols":1,"rows_kept":29,"cut":false,"hidden":false,"merged":[[0,0,0,3],[27,0,27,4],[28,0,28,4]]}
["Ministerio de Educación y Cultura\nDirección de Educación"]
[]
[]
[]
["Gráfico I-2.3.5"]
[]
[]
[]
[]
[]
[]
[]
[]
[]
[]
[]
[]
[]
[]
[]
[]
[]
[]
[]
[]
[]
[]
["Fuente: Departamentos de Estadística del CEIP, CES y del CETP."]
["Nota: Media Básica General incluye Ciclo Básico Rural y por forma de administración pública y privada"]

{"sheet":"G I-2.3.6","index":102,"n_rows":38,"n_cols":1,"rows_kept":38,"cut":false,"hidden":false,"merged":[[0,0,0,3],[37,0,37,6],[34,0,34,6]]}
["Ministerio de Educación y Cultura\nDirección de Educación"]
[]
[]
[]
["Gráfico I-2.3.6"]
[]
[]
[]
[]
[]
[]
[]
[]
[]
[]
[]
[]
[]
[]
[]
[]
[]
[]
[]
[]
[]
[]
[]
[]
[]
[]
[]
[]
[]
[]
[]
[]
["Fuente:Departamento de Estadística del CES."]

{"sheet":"GI-2.3.7","index":103,"n_rows":30,"n_cols":1,"rows_kept":30,"cut":false,"hidden":false,"merged":[[29,0,29,5],[30,0,30,5],[0,0,0,3]]}
["Ministerio de Educación y Cultura\nDirección de Educación"]
[]
[]
[]
["Gráfico I-2.3.7"]
[]
[]
[]
[]
[]
[]
[]
[]
[]
[]
[]
[]
[]
[]
[]
[]
[]
[]
[]
[]
[]
[]
[]
[]
["Fuente: Departamento de Estadística del CES."]

{"sheet":"GI-2.3.8","index":104,"n_rows":29,"n_cols":1,"rows_kept":29,"cut":false,"hidden":false,"merged":[[0,0,0,3]]}
["Ministerio de Educación y Cultura\nDirección de Educación"]
[]
[]
[]
["Gráfico I-2.3.8"]
[]
[]
[]
[]
[]
[]
[]
[]
[]
[]
[]
[]
[]
[]
[]
[]
[]
[]
[]
[]
[]
[]
[]
["Fuente: Departamento de Estadística del CES."]

{"sheet":"GI-2.3.9","index":105,"n_rows":30,"n_cols":1,"rows_kept":30,"cut":false,"hidden":false,"merged":[[0,0,0,3]]}
["Ministerio de Educación y Cultura\nDirección de Educación"]
[]
[]
[]
["Gráfico I-2.3.9"]
[]
[]
[]
[]
[]
[]
[]
[]
[]
[]
[]
[]
[]
[]
[]
[]
[]
[]
[]
[]
[]
[]
[]
[]
["Fuente: Departamento de Estadística del CES."]

{"sheet":"G I-2.3.10","index":106,"n_rows":36,"n_cols":1,"rows_kept":36,"cut":false,"hidden":false,"merged":[[0,0,0,3]]}
["Ministerio de Educación y Cultura\nDirección de Educación"]
[]
[]
[]
["Gráfico I-2.3.10"]
[]
[]
[]
[]
[]
[]
[]
[]
[]
[]
[]
[]
[]
[]
[]
[]
[]
[]
[]
[]
[]
[]
[]
[]
[]
[]
[]
[]
[]
["Fuente: Departamentos de Estadística del CES y del CETP."]
["Nota: Educación General incluye forma de administración pública y privada"]

{"sheet":"G I-2.3.11","index":107,"n_rows":45,"n_cols":1,"rows_kept":45,"cut":false,"hidden":false,"merged":[[39,0,39,5],[0,0,0,3]]}
["Ministerio de Educación y Cultura\nDirección de Educación"]
[]
["Gráfico I-2.3.11"]
[]
[]
[]
[]
[]
[]
[]
[]
[]
[]
[]
[]
[]
[]
[]
[]
[]
[]
[]
[]
[]
[]
[]
[]
[]
[]
[]
[]
[]
[]
[]
[]
[]
[]
[]
[]
[]
[]
[]
[]
[]
["Fuente: Departamento de Estadística del CES."]

{"sheet":"GI-2.3.12","index":108,"n_rows":30,"n_cols":1,"rows_kept":30,"cut":false,"hidden":false,"merged":[[0,0,0,3],[0,9,0,12]]}
["Ministerio de Educación y Cultura\nDirección de Educación"]
[]
[]
[]
["Gráfico I-2.3.12"]
[]
[]
[]
[]
[]
[]
[]
[]
[]
[]
[]
[]
[]
[]
[]
[]
[]
[]
[]
[]
[]
[]
[]
[]
["Fuente:Elaboración propia en base a información del Departamento de Estadística del CETP."]

{"sheet":"GI-2.3.13","index":109,"n_rows":28,"n_cols":1,"rows_kept":28,"cut":false,"hidden":false,"merged":[[0,0,0,3]]}
["Ministerio de Educación y Cultura\nDirección de Educación"]
[]
[]
[]
["Gráfico I-2.3.13"]
[]
[]
[]
[]
[]
[]
[]
[]
[]
[]
[]
[]
[]
[]
[]
[]
[]
[]
[]
[]
[]
[]
["Fuente:Elaboración propia en base a información del Departamento de Estadística del CES."]

{"sheet":"GI-2.3.14","index":110,"n_rows":37,"n_cols":1,"rows_kept":37,"cut":false,"hidden":false,"merged":[[0,0,0,3],[34,0,34,5],[35,0,35,5],[36,0,36,5]]}
["Ministerio de Educación y Cultura\nDirección de Educación"]
[]
[]
[]
["Gráfico I-2.3.14"]
[]
[]
[]
[]
[]
[]
[]
[]
[]
[]
[]
[]
[]
[]
[]
[]
[]
[]
[]
[]
[]
[]
[]
[]
[]
[]
[]
["Fuente: Elaboración propia en base a información del Monitor Educativo del CES."]
["Nota:"]
["Por No Promoción se entiende: Alumnos con más de tres materias pendientes de aprobación."]
["Por Reinscripto se entiende: Alumnos no promovidos en el año lectivo que registraron inscripción en el CES, CETP o Liceos Habilitados al año siguiente."]
["Por No reinscripto se entiende: Alumnos no promovidos en el año lectivo que no registraron inscripción en el CES, CETP o Liceos Habilitados al año siguiente."]

{"sheet":"GI-2.3.15","index":111,"n_rows":36,"n_cols":1,"rows_kept":36,"cut":false,"hidden":false,"merged":[[0,0,0,3],[4,0,4,5],[34,0,34,5],[33,0,33,5],[35,0,35,5]]}
["Ministerio de Educación y Cultura\nDirección de Educación"]
[]
[]
[]
["Gráfico I-2.3.15"]
[]
[]
[]
[]
[]
[]
[]
[]
[]
[]
[]
[]
[]
[]
[]
[]
[]
[]
[]
[]
[]
[]
[]
[]
[]
[]
["Fuente: Elaboración propia en base a información del Monitor Educativo del CES."]
["Nota:"]
["Por No Promoción se entiende: Alumnos con más de tres materias pendientes de aprobación."]
["Por Reinscripto se entiende: Alumnos no promovidos en el año lectivo que registraron inscripción en el CES, CETP o Liceos Habilitados al año siguiente."]
["Por No reinscripto se entiende: Alumnos no promovidos en el año lectivo que no registraron inscripción en el CES, CETP o Liceos Habilitados al año siguiente."]

{"sheet":"GI-2.3.16","index":112,"n_rows":35,"n_cols":1,"rows_kept":35,"cut":false,"hidden":false,"merged":[[0,0,0,3]]}
["Ministerio de Educación y Cultura\nDirección de Educación"]
[]
[]
[]
["Gráfico I-2.3.16"]
[]
[]
[]
[]
[]
[]
[]
[]
[]
[]
[]
[]
[]
[]
[]
[]
[]
[]
[]
[]
[]
[]
[]
[]
[]
[]
[]
[]
[]
["Fuente: Elaboración propia en base a información del Monitor Educativo del CES."]

{"sheet":"GI-2.3.17","index":113,"n_rows":31,"n_cols":1,"rows_kept":31,"cut":false,"hidden":false,"merged":[[0,0,0,3]]}
["Ministerio de Educación y Cultura\nDirección de Educación"]
[]
[]
[]
["Gráfico I-2.3.17"]
[]
[]
[]
[]
[]
[]
[]
[]
[]
[]
[]
[]
[]
[]
[]
[]
[]
[]
[]
[]
[]
[]
[]
[]
[]
["Fuente: Elaboración propia en base a información del Monitor Educativo del CES."]

{"sheet":"G I-2.4.1.","index":114,"n_rows":42,"n_cols":1,"rows_kept":42,"cut":false,"hidden":false,"merged":[[0,0,0,3]]}
["Ministerio de Educación y Cultura\nDirección de Educación"]
[]
[]
[]
["Gráfico I-2.4.1"]
[]
[]
[]
[]
[]
[]
[]
[]
[]
[]
[]
[]
[]
[]
[]
[]
[]
[]
[]
[]
[]
[]
[]
[]
[]
[]
[]
[]
[]
[]
[]
[]
[]
[]
[]
[]
["Fuente: Elaboración propia en base a información del Departamento de Estadística del CETP. "]

{"sheet":"G I-.2.5.1","index":115,"n_rows":32,"n_cols":2,"rows_kept":32,"cut":false,"hidden":false,"merged":[[0,0,0,3],[26,1,27,6],[28,1,28,10],[30,1,32,10]]}
["Ministerio de Educación y Cultura\nDirección de Educación"]
[]
[]
[]
["Gráfico I-2.5.1"]
[]
[]
[]
[]
[]
[]
[]
[]
[]
[]
[]
[]
[]
[]
[]
[]
[]
[]
[]
[]
[]
[]
[]
[]
[]
[null,"Elaboración propia en base a información del Departamento de Estadística del CETP"]
["Fuente:"]

{"sheet":"G I-.2.5.2","index":116,"n_rows":35,"n_cols":2,"rows_kept":35,"cut":false,"hidden":false,"merged":[[30,1,33,6],[0,0,0,3],[37,1,39,9],[34,1,36,6]]}
["Ministerio de Educación y Cultura\nDirección de Educación"]
[]
[]
[]
["Gráfico I-2.5.2"]
[]
[]
[]
[]
[]
[]
[]
[]
[]
[]
[]
[]
[]
[]
[]
[]
[]
[]
[]
[]
[]
[]
[]
[]
[]
[null,"Elaboración propia en base a información del Departamento de Estadística del CETP"]
[]
[]
["Fuente:"]
["Notas:","No incluye las ofertas del Consejo de Formación en Educación (CFE) de ANEP ni Seguridad y Defensa, que se presentan aparte más adelante."]

{"sheet":"G I-2.5.3","index":117,"n_rows":30,"n_cols":2,"rows_kept":30,"cut":false,"hidden":false,"merged":[[0,0,0,3],[29,1,29,5]]}
["Ministerio de Educación y Cultura\nDirección de Educación"]
[]
[]
[]
["Gráfico I-2.5.3"]
[]
[]
[]
[]
[]
[]
[]
[]
[]
[]
[]
[]
[]
[]
[]
[]
[]
[]
[]
[]
[]
[]
[]
[]
["Fuente:","Elaboración propia en base a información proporcionada por las oficinas productoras de estadísticas de cada una de las instituciones."]

{"sheet":"G-.2.5.4","index":118,"n_rows":34,"n_cols":2,"rows_kept":34,"cut":false,"hidden":false,"merged":[[0,0,0,3],[33,1,33,5]]}
["Ministerio de Educación y Cultura\nDirección de Educación"]
[]
[]
[]
["Gráfico I-2.5.4"]
[]
[]
[]
[]
[]
[]
[]
[]
[]
[]
[]
[]
[]
[]
[]
[]
[]
[]
[]
[]
[]
[]
[]
[]
[]
[]
[]
[]
["Fuente:","Elaboración propia en base a información proporcionada por las oficinas productoras de estadísticas de cada una de las instituciones."]

{"sheet":"G I-2.5.5","index":119,"n_rows":29,"n_cols":1,"rows_kept":29,"cut":false,"hidden":false,"merged":[[0,0,0,3],[27,0,27,7],[28,0,28,7]]}
["Ministerio de Educación y Cultura\nDirección de Educación"]
[]
[]
[]
["Gráfico I-2.5.5"]
[]
[]
[]
[]
[]
[]
[]
[]
[]
[]
[]
[]
[]
[]
[]
[]
[]
[]
[]
[]
[]
[]
["Fuente: Elaboración propia en base a información proporcionada por las oficinas productoras de estadísticas de cada una de las instituciones."]
["Notas: La Escuela Militar de Aeronáutica no proporcionó datos de egreso para 2013 y se consignó el último valor disponible (año 2012)."]

{"sheet":"GI-.2.6.1","index":120,"n_rows":36,"n_cols":1,"rows_kept":36,"cut":false,"hidden":false,"merged":[[35,0,35,3]]}
["Ministerio de Educación y Cultura Dirección de Educación"]
[]
[]
[]
["Gráfico I-2.6.1"]
[]
[]
[]
[]
[]
[]
[]
[]
[]
[]
[]
[]
[]
[]
[]
[]
[]
[]
[]
[]
[]
[]
[]
[]
[]
[]
[]
[]
[]
[]
["Fuente: Consejo de Formación en Educación de ANEP"]

{"sheet":"GI-.2.6.2.","index":121,"n_rows":33,"n_cols":1,"rows_kept":33,"cut":false,"hidden":false,"merged":[[0,0,0,3]]}
["Ministerio de Educación y Cultura\nDirección de Educación"]
[]
[]
[]
["Gráfico I-2.6.2."]
["Gráfico I-2.5.3."]
[]
[]
[]
[]
[]
[]
[]
[]
[]
[]
[]
[]
[]
[]
[]
[]
[]
[]
[]
[]
[]
[]
[]
[]
[]
[]
["Fuente: Consejo de Formación en Educación de ANEP"]

{"sheet":"GI-.2.6.3.","index":122,"n_rows":36,"n_cols":1,"rows_kept":36,"cut":false,"hidden":false,"merged":[[0,0,0,3]]}
["Ministerio de Educación y Cultura\nDirección de Educación"]
[]
[]
[]
["Gráfico I-2.6.3"]
[]
[]
[]
[]
[]
[]
[]
[]
[]
[]
[]
[]
[]
[]
[]
[]
[]
[]
[]
[]
[]
[]
[]
[]
[]
[]
[]
[]
[]
[]
["Fuente: Consejo de Formación en Educación de ANEP"]

{"sheet":"G I-2.7.1.","index":123,"n_rows":29,"n_cols":2,"rows_kept":29,"cut":false,"hidden":false,"merged":[[0,0,0,3],[28,1,28,7]]}
["Ministerio de Educación y Cultura\nDirección de Educación"]
[]
[]
[]
["Gráfico I-2.7.1"]
[]
[]
[]
[]
[]
[]
[]
[]
[]
[]
[]
[]
[]
[]
[]
[]
[]
[]
[]
[]
[]
[]
[]
["Fuente:","Elaboración propia en base a información proporcionada por las oficinas productoras de estadísticas de cada una de las instituciones."]

{"sheet":"G I-2.7.2","index":124,"n_rows":37,"n_cols":1,"rows_kept":37,"cut":false,"hidden":false,"merged":[[0,0,0,3],[35,0,35,6],[36,0,36,6]]}
["Ministerio de Educación y Cultura\nDirección de Educación"]
[]
[]
[]
[]
["Gráfico I-2.7.2"]
[]
[]
[]
[]
[]
[]
[]
[]
[]
[]
[]
[]
[]
[]
[]
[]
[]
[]
[]
[]
[]
[]
[]
[]
[]
[]
[]
[]
[]
["Fuente: Elaboración propia en base a información proporcionada por la UdelaR y las oficinas productoras de estadísticas educativas de los Institutos Universitarios y de las Universidades Privadas."]
["Nota: Los ingresos a cursos de grado para UdelaR correspondientes al período 2000-2011 son extraídos de Estadísticas Básicas 2011-Dirección General de Planeamiento – UdelaR."]

{"sheet":"G I-2.7.3","index":125,"n_rows":36,"n_cols":1,"rows_kept":36,"cut":false,"hidden":false,"merged":[[0,0,0,3],[35,0,35,7],[37,1,37,6]]}
["Ministerio de Educación y Cultura\nDirección de Educación"]
[]
[]
[]
[]
["Gráfico I-2.7.3"]
[]
[]
[]
[]
[]
[]
[]
[]
[]
[]
[]
[]
[]
[]
[]
[]
[]
[]
[]
[]
[]
[]
[]
[]
[]
[]
[]
[]
[]
["Fuente: Elaboración propia en base a información proporcionada por la UdelaR y las oficinas productoras de estadísticas educativas de los Institutos Universitarios y de las Universidades Privadas."]

{"sheet":"G I-2.7.4","index":126,"n_rows":43,"n_cols":2,"rows_kept":43,"cut":false,"hidden":false,"merged":[[0,0,0,3],[41,1,41,7],[42,0,42,7]]}
["Ministerio de Educación y Cultura\nDirección de Educación"]
[]
[]
[]
["Gráfico I-2.7.4"]
[]
[]
[]
[]
[]
[]
[]
[]
[]
[]
[]
[]
[]
[]
[]
[]
[]
[]
[]
[]
[]
[]
[]
[]
[]
[]
[]
[]
[]
[]
[]
[]
[]
[]
[]
[]
["Fuente:","Elaboración propia en base a información proporcionada por UdelaR."]
["Nota: Los ingresos y egresos a cursos de grado para UdelaR correspondientes al período 2000 -2009 son extraidos de Estadisticas Básicas 2010 - Dirección General de Planeamiento - UdelaR "]

{"sheet":"G I-2.7.5","index":127,"n_rows":40,"n_cols":2,"rows_kept":40,"cut":false,"hidden":false,"merged":[[36,1,37,8],[0,0,0,3]]}
["Ministerio de Educación y Cultura\nDirección de Educación"]
[]
[]
[]
["Gráfico I-2.7.5"]
[]
[]
[]
[]
[]
[]
[]
[]
[]
[]
[]
[]
[]
[]
[]
[]
[]
[]
[]
[]
[]
[]
[]
[]
[]
[]
[]
[]
[]
[]
[]
["Fuente:","Elaboración propia en base a información proporcionada por la UdelaR y las oficinas productoras de estadísticas educativas de los Institutos Universitarios y de las Universidades Privadas."]
[]
[]
["Nota: El dato de egreso de UdelaR es preliminar."]

{"sheet":"G I-2.7.6","index":128,"n_rows":43,"n_cols":1,"rows_kept":43,"cut":false,"hidden":false,"merged":[[36,1,36,11],[0,0,0,3]]}
["Ministerio de Educación y Cultura\nDirección de Educación"]
[]
[]
[]
["Gráfico I-2.7.6"]
[]
[]
[]
[]
[]
[]
[]
[]
[]
[]
[]
[]
[]
[]
[]
[]
[]
[]
[]
[]
[]
[]
[]
[]
[]
[]
[]
[]
[]
[]
[]
[]
[]
[]
[]
[]
[]
["Fuente: Elaboración propia en base a información reportada por las oficinas productoras de estadísticas  de las instituciones."]

{"sheet":"G I-2.7.7","index":129,"n_rows":30,"n_cols":1,"rows_kept":30,"cut":false,"hidden":false,"merged":[[27,1,27,2],[0,0,0,3]]}
["Ministerio de Educación y Cultura\nDirección de Educación"]
[]
[]
[]
["Gráfico I-2.7.7"]
[]
[]
[]
[]
[]
[]
[]
[]
[]
[]
[]
[]
[]
[]
[]
[]
[]
[]
[]
[]
[]
[]
[]
[]
["Fuente: Elaboración propia en base a información reportada por las oficinas productoras de estadísticas  de las instituciones."]

{"sheet":"G I-2.7.8","index":130,"n_rows":31,"n_cols":1,"rows_kept":31,"cut":false,"hidden":false,"merged":[[0,0,0,3]]}
["Ministerio de Educación y Cultura\nDirección de Educación"]
[]
[]
[]
["Gráfico I-2.7.8"]
[]
[]
[]
[]
[]
[]
[]
[]
[]
[]
[]
[]
[]
[]
[]
[]
[]
[]
[]
[]
[]
[]
[]
[]
[]
["Fuente: Elaboración propia en base a información proporcionada por las oficinas productoras de estadísticas educativas de los Institutos Universitarios y de las Universidades Privadas."]

{"sheet":"G I-3.1.1","index":131,"n_rows":36,"n_cols":1,"rows_kept":36,"cut":false,"hidden":false,"merged":[[0,0,0,3]]}
["Ministerio de Educación y Cultura\nDirección de Educación"]
[]
[]
[]
["Gráfico I-3.1.1"]
[]
[]
[]
[]
[]
[]
[]
[]
[]
[]
[]
[]
[]
[]
[]
[]
[]
[]
[]
[]
[]
[]
[]
[]
[]
[]
[]
[]
[]
["Fuente: Área de Becas de la Dirección de Educación del Ministerio de Educación y Cultura y Fondo de Solidaridad."]
["Nota: El programa Uruguay Estudia incluye 600 becas otorgadas en Magisterio y Profesorado"]

{"sheet":"G I-3.1.2","index":132,"n_rows":35,"n_cols":1,"rows_kept":35,"cut":false,"hidden":false,"merged":[[0,0,0,3],[34,0,34,4]]}
["Ministerio de Educación y Cultura\nDirección de Educación"]
[]
[]
["Gráfico I-3.1.2"]
[]
[]
[]
[]
[]
[]
[]
[]
[]
[]
[]
[]
[]
[]
[]
[]
[]
[]
[]
[]
[]
[]
[]
[]
[]
[]
[]
[]
[]
[]
["Fuente: Procesamiento propio con base en la ECH 2012 del INE."]

{"sheet":"G.I-3.1.3","index":133,"n_rows":55,"n_cols":1,"rows_kept":55,"cut":false,"hidden":false,"merged":[[0,0,0,3],[34,0,34,4],[35,0,35,4]]}
["Ministerio de Educación y Cultura\nDirección de Educación"]
[]
[]
[]
["Gráfico I-3.1.3"]
[]
[]
[]
[]
[]
[]
[]
[]
[]
[]
[]
[]
[]
[]
[]
[]
[]
[]
[]
[]
[]
[]
[]
[]
[]
[]
[]
[]
[]
["Fuente: Procesamiento propio con base en información proprocionada por Plan Ceibal."]
["Nota: Todo el país año 2013"]
[]
[]
[]
[]
[]
[]
[]
[]
[]
[]
[]
[]
[]
[]
[]
[]
[]
["Fuente : Procesamiento propio con base en información proporcionda por plan Ceibal "]
["Nota: Todo el país , año 2013 "]

{"sheet":"G I-3.1.4","index":134,"n_rows":31,"n_cols":1,"rows_kept":31,"cut":false,"hidden":false,"merged":[[0,0,0,3],[30,0,30,4],[29,0,29,4]]}
["Ministerio de Educación y Cultura\nDirección de Educación"]
[]
[]
["Gráfico I-3.1.4"]
[]
[]
[]
[]
[]
[]
[]
[]
[]
[]
[]
[]
[]
[]
[]
[]
[]
[]
[]
[]
[]
[]
[]
[]
[]
["Nota: En la medida en que no todas las personas tienen hijos en edad escolar, el porcentaje de “Con CEIBAL en el Hogar” no puede alcanzar el valor 100%."]
["Fuente: Procesamiento propio con base en la ECH 2013 del INE."]

{"sheet":"G I-3.1.5","index":135,"n_rows":30,"n_cols":1,"rows_kept":30,"cut":false,"hidden":false,"merged":[[0,0,0,3],[29,0,29,4]]}
["Ministerio de Educación y Cultura\nDirección de Educación"]
[]
[]
["Gráfico I-3.1.5"]
[]
[]
[]
[]
[]
[]
[]
[]
[]
[]
[]
[]
[]
[]
[]
[]
[]
[]
[]
[]
[]
[]
[]
[]
[]
["Fuente: Procesamiento propio con base en las ECH del 2009 al 2013 del INE."]

{"sheet":"G I-3.1.6","index":136,"n_rows":30,"n_cols":1,"rows_kept":30,"cut":false,"hidden":false,"merged":[[0,0,0,3],[29,0,29,4]]}
["Ministerio de Educación y Cultura\nDirección de Educación"]
[]
[]
["Gráfico I-3.1.6"]
[]
[]
[]
[]
[]
[]
[]
[]
[]
[]
[]
[]
[]
[]
[]
[]
[]
[]
[]
[]
[]
[]
[]
[]
[]
["Fuente: Procesamiento propio con base en las ECH del 2009 al 2013 del INE."]

{"sheet":"G I-3.2.1","index":137,"n_rows":32,"n_cols":1,"rows_kept":32,"cut":false,"hidden":false,"merged":[[29,0,30,3],[0,0,0,3]]}
["Ministerio de Educación y Cultura\nDirección de Educación"]
[]
[]
[]
["Gráfico I-3.2.1"]
[]
[]
[]
[]
[]
[]
[]
[]
[]
[]
[]
[]
[]
[]
[]
[]
[]
[]
[]
[]
[]
[]
[]
[]
[]
[]
["Fuente: Banco Central del Uruguay (2005 – 2013)."]

{"sheet":"G I-3.2.2","index":138,"n_rows":34,"n_cols":1,"rows_kept":34,"cut":false,"hidden":false,"merged":[[0,0,0,3]]}
["Ministerio de Educación y Cultura\nDirección de Educación"]
[]
[]
[]
["Gráfico I-3.2.2"]
[]
[]
[]
[]
[]
[]
[]
[]
[]
[]
[]
[]
[]
[]
[]
[]
[]
[]
[]
[]
[]
[]
[]
[]
[]
[]
[]
["Fuente: Incidencia de la pobreza e indigencia, INE."]
["Nota: Los valores medios anuales fueron estimados por el Método del Ingreso de 2006 sobre los datos de las personas."]

{"sheet":"G I-3.3.1","index":139,"n_rows":31,"n_cols":1,"rows_kept":31,"cut":false,"hidden":false,"merged":[[0,0,0,3]]}
["Ministerio de Educación y Cultura\nDirección de Educación"]
[]
[]
[]
["Gráfico I-3.3.1"]
[]
[]
[]
[]
[]
[]
[]
[]
[]
[]
[]
[]
[]
[]
[]
[]
[]
[]
[]
[]
[]
[]
[]
[]
[]
["Fuente: Elaborado en base a datos del MEF, CGN."]

{"sheet":"G I-3.3.2","index":140,"n_rows":31,"n_cols":1,"rows_kept":31,"cut":false,"hidden":false,"merged":[[0,0,0,3]]}
["Ministerio de Educación y Cultura\nDirección de Educación"]
[]
[]
[]
["Gráfico I-3.3.2"]
[]
[]
[]
[]
[]
[]
[]
[]
[]
[]
[]
[]
[]
[]
[]
[]
[]
[]
[]
[]
[]
[]
[]
[]
[]
["Fuente: Elaborado en base a datos del MEF, CGN."]

{"sheet":"G I-3.3.3","index":141,"n_rows":40,"n_cols":1,"rows_kept":40,"cut":false,"hidden":false,"merged":[[0,0,0,3],[33,0,33,5],[34,0,34,5]]}
["Ministerio de Educación y Cultura\nDirección de Educación"]
[]
[]
[]
["Gráfico I-3.3.3"]
[]
[]
[]
[]
[]
[]
[]
[]
[]
[]
[]
[]
[]
[]
[]
[]
[]
[]
[]
[]
[]
[]
[]
[]
[]
[]
[]
[]
[]
[]
[]
[]
[]
[]
["Fuente: Elaborado en base a datos del MEF, CGN."]

{"sheet":"G I-3.3.4","index":142,"n_rows":35,"n_cols":1,"rows_kept":35,"cut":false,"hidden":false,"merged":[[33,0,33,5],[34,0,34,5],[0,0,0,3]]}
["Ministerio de Educación y Cultura\nDirección de Educación"]
[]
[]
[]
["Gráfico I-3.3.4"]
[]
[]
[]
[]
[]
[]
[]
[]
[]
[]
[]
[]
[]
[]
[]
[]
[]
[]
[]
[]
[]
[]
[]
[]
[]
[]
[]
[]
["Fuente: Gerencia General de Programación y Presupuesto, Unidad de Programación y Control Presupuestal del CODICEN."]
["Nota: Datos al 1º de enero de cada año a valores constantes del 1º de enero de 2010. La información corresponde al salario nominal más la partida de alimentación.\n Serie 2000 a 2013."]

{"sheet":"G I-4.1.1 ","index":143,"n_rows":37,"n_cols":7,"rows_kept":37,"cut":false,"hidden":false,"merged":[[0,0,0,3],[34,0,34,6],[35,0,35,6],[36,0,36,6],[31,0,31,6],[32,0,32,6],[33,0,33,6]]}
["Ministerio de Educación y Cultura\nDirección de Educación"]
[]
[]
[]
["Gráfico I-4.1.1"]
[]
[]
[]
[]
[]
[]
[]
[]
[]
[]
[]
[]
[]
[]
[]
[]
[]
[]
[]
[]
[]
[]
[]
[]
[]
[]
[]
["Fuente: Indicadores Educativos del  Mercosur 2000-2011 y Unidades Productoras de Estadísticas Oficiales de los Países. Para Paraguay año 2013, DGEEC, Encuesta Permanente de Hogares 2013."]
["Notas: "]
["La Tasa de Analfabetismo se mide con base en personas con 15 y más años de edad, con excepción de Argentina, en que refiere a personas con 10 y más años de edad. En el caso de Paraguay, se considera analfabeta a la población que declara tener dos y menos años de estudio hasta 2012, dato 2013 se basa en la variable sabe leer y escribir.","La Tasa de Analfabetismo se mide con base en personas con 15 y más años de edad, con excepción de Argentina, en que refiere a personas con 10 y más años de edad. En el caso de Paraguay, se considera analfabeta a la población que declara tener dos y menos años de estudio hasta 2012, dato 2013 se basa en la variable sabe leer y escribir.","La Tasa de Analfabetismo se mide con base en personas con 15 y más años de edad, con excepción de Argentina, en que refiere a personas con 10 y más años de edad. En el caso de Paraguay, se considera analfabeta a la población que declara tener dos y menos años de estudio hasta 2012, dato 2013 se basa en la variable sabe leer y escribir.","La Tasa de Analfabetismo se mide con base en personas con 15 y más años de edad, con excepción de Argentina, en que refiere a personas con 10 y más años de edad. En el caso de Paraguay, se considera analfabeta a la población que declara tener dos y menos años de estudio hasta 2012, dato 2013 se basa en la variable sabe leer y escribir.","La Tasa de Analfabetismo se mide con base en personas con 15 y más años de edad, con excepción de Argentina, en que refiere a personas con 10 y más años de edad. En el caso de Paraguay, se considera analfabeta a la población que declara tener dos y menos años de estudio hasta 2012, dato 2013 se basa en la variable sabe leer y escribir.","La Tasa de Analfabetismo se mide con base en personas con 15 y más años de edad, con excepción de Argentina, en que refiere a personas con 10 y más años de edad. En el caso de Paraguay, se considera analfabeta a la población que declara tener dos y menos años de estudio hasta 2012, dato 2013 se basa en la variable sabe leer y escribir.","La Tasa de Analfabetismo se mide con base en personas con 15 y más años de edad, con excepción de Argentina, en que refiere a personas con 10 y más años de edad. En el caso de Paraguay, se considera analfabeta a la población que declara tener dos y menos años de estudio hasta 2012, dato 2013 se basa en la variable sabe leer y escribir."]
["Último dato disponible para Brasil se corresponde a 2012, para Chile el último dato es 2011, para estos países se replica el último dato disponible para los años siguientes.","Último dato disponible para Brasil se corresponde a 2012, para Chile el último dato es 2011, para estos países se replica el último dato disponible para los años siguientes.","Último dato disponible para Brasil se corresponde a 2012, para Chile el último dato es 2011, para estos países se replica el último dato disponible para los años siguientes.","Último dato disponible para Brasil se corresponde a 2012, para Chile el último dato es 2011, para estos países se replica el último dato disponible para los años siguientes.","Último dato disponible para Brasil se corresponde a 2012, para Chile el último dato es 2011, para estos países se replica el último dato disponible para los años siguientes.","Último dato disponible para Brasil se corresponde a 2012, para Chile el último dato es 2011, para estos países se replica el último dato disponible para los años siguientes.","Último dato disponible para Brasil se corresponde a 2012, para Chile el último dato es 2011, para estos países se replica el último dato disponible para los años siguientes."]
["Se corrigió el dato 2011 y 2012 para Brasil y Argentina en base a lo reportado por las oficinas nacionales productoras de estadísticas oficiales de cada país.","Se corrigió el dato 2011 y 2012 para Brasil y Argentina en base a lo reportado por las oficinas nacionales productoras de estadísticas oficiales de cada país.","Se corrigió el dato 2011 y 2012 para Brasil y Argentina en base a lo reportado por las oficinas nacionales productoras de estadísticas oficiales de cada país.","Se corrigió el dato 2011 y 2012 para Brasil y Argentina en base a lo reportado por las oficinas nacionales productoras de estadísticas oficiales de cada país.","Se corrigió el dato 2011 y 2012 para Brasil y Argentina en base a lo reportado por las oficinas nacionales productoras de estadísticas oficiales de cada país.","Se corrigió el dato 2011 y 2012 para Brasil y Argentina en base a lo reportado por las oficinas nacionales productoras de estadísticas oficiales de cada país.","Se corrigió el dato 2011 y 2012 para Brasil y Argentina en base a lo reportado por las oficinas nacionales productoras de estadísticas oficiales de cada país."]

{"sheet":"G I-4.1.2","index":144,"n_rows":29,"n_cols":2,"rows_kept":29,"cut":false,"hidden":false,"merged":[[0,0,0,3],[28,1,28,7],[27,1,27,7]]}
["Ministerio de Educación y Cultura\nDirección de Educación"]
[]
[]
[]
["Gráfico I-4.1.2"]
[]
[]
[]
[]
[]
[]
[]
[]
[]
[]
[]
[]
[]
[]
[]
[]
[]
[]
[]
[]
[]
[]
["Fuente:","Instituto de Estadística de la Organización de las Naciones Unidas para la Educación, la Ciencia y la Cultura (UNESCO) y, para Uruguay, Área de Investigación y Estadística de la Dirección de Educación del MEC."]
["Nota:","Los porcentajes por región son promedios ponderados, teniendo en cuenta el tamaño poblacional relativo de los países. Los cálculos se realizaron con el último dato disponible de UNESCO (año 2000 en adelante). Para Uruguay es el dato 2013."]

{"sheet":"G I_4.1.3","index":145,"n_rows":30,"n_cols":2,"rows_kept":30,"cut":false,"hidden":false,"merged":[[0,0,0,3],[28,1,28,7],[29,1,29,7]]}
["Ministerio de Educación y Cultura\nDirección de Educación"]
[]
[]
[]
["Gráfico I-4.1.3"]
[]
[]
[]
[]
[]
[]
[]
[]
[]
[]
[]
[]
[]
[]
[]
[]
[]
[]
[]
[]
[]
[]
[]
["Fuente:","Instituto de Estadística de la Organización de las Naciones Unidas para la Educación, la Ciencia y la Cultura (UNESCO) y, para Uruguay, Área de Investigación y Estadística de la Dirección de Educación del MEC."]
["Nota:","Los porcentajes por región son promedios ponderados, teniendo en cuenta el tamaño poblacional relativo de los países. Los cálculos se realizaron con el último dato disponible de UNESCO (año 2000 en adelante). Para Uruguay es el dato 2013."]

{"sheet":"G I 4.2.1","index":146,"n_rows":32,"n_cols":1,"rows_kept":32,"cut":false,"hidden":false,"merged":[[0,0,0,3]]}
["Ministerio de Educación y Cultura\nDirección de Educación"]
[]
[]
[]
["Gráfico I-4.2.1"]
[]
[]
[]
[]
[]
[]
[]
[]
[]
[]
[]
[]
[]
[]
[]
[]
[]
[]
[]
[]
[]
[]
[]
[]
[]
[]
["Fuente: Indicadores Educativos del Mercosur 2000 – 2011."]

{"sheet":"G I 4.2.2","index":147,"n_rows":33,"n_cols":1,"rows_kept":33,"cut":false,"hidden":false,"merged":[[0,0,0,3]]}
["Ministerio de Educación y Cultura\nDirección de Educación"]
[]
[]
[]
["Gráfico I-4.2.2"]
[]
[]
[]
[]
[]
[]
[]
[]
[]
[]
[]
[]
[]
[]
[]
[]
[]
[]
[]
[]
[]
[]
[]
[]
[]
[]
[]
["Fuente: Indicadores Educativos del Mercosur 2000 – 2011."]

{"sheet":"G I-4.2.3","index":148,"n_rows":33,"n_cols":1,"rows_kept":33,"cut":false,"hidden":false,"merged":[[0,0,0,3]]}
["Ministerio de Educación y Cultura\nDirección de Educación"]
[]
[]
[]
["Gráfico I-4.2.3"]
[]
[]
[]
[]
[]
[]
[]
[]
[]
[]
[]
[]
[]
[]
[]
[]
[]
[]
[]
[]
[]
[]
[]
[]
[]
[]
[]
["Fuente: Indicadores Educativos del Mercosur 2000 – 2011."]

{"sheet":"G I-4.3.1","index":149,"n_rows":32,"n_cols":2,"rows_kept":32,"cut":false,"hidden":false,"merged":[[26,0,26,5],[28,1,30,10],[0,0,0,3],[31,1,31,7]]}
["Ministerio de Educación y Cultura\nDirección de Educación"]
[]
[]
[]
["Gráfico I-4.3.1"]
[]
[]
[]
[]
[]
[]
[]
[]
[]
[]
[]
[]
[]
[]
[]
[]
[]
[]
[]
[]
[]
[]
[]
[null,"Instituto de Estadística de la Organización de las Naciones Unidas para la Educación, la Ciencia y la Cultura (UNESCO) y, para Uruguay, Área de Investigación y Estadística de la Dirección de Educación del MEC, en base a datos del MEF, CGN."]
["Fuente:"]
[]
["Nota:","Los cálculos se realizaron con el último dato disponible de UNESCO (año 2000 en adelante). Para Uruguay es el dato 2013."]

{"sheet":"G I-4.3.2","index":150,"n_rows":31,"n_cols":2,"rows_kept":31,"cut":false,"hidden":false,"merged":[[0,0,0,3],[29,1,29,9],[30,1,30,9],[30,10,30,12],[31,0,31,5]]}
["Ministerio de Educación y Cultura\nDirección de Educación"]
[]
[]
[]
["Gráfico I-4.3.2"]
[]
[]
[]
[]
[]
[]
[]
[]
[]
[]
[]
[]
[]
[]
[]
[]
[]
[]
[]
[]
[]
[]
[]
[]
["Fuente:","Banco Mundial: Crecimiento del PBI (% anual) y PBI (US$ a precios constantes de 2005) http://datos.bancomundial.org/"]
["Nota:","Los valores presentados del PBI son US$ a precios constantes de 2005. Para el calculo del PBI del MERCOSUR, sólo se sumaron los PBI de los países involucrados en la comparación: Argentina, Brasil, Chile, Paraguay y Uruguay."]

{"sheet":"G I-4.3.3","index":151,"n_rows":31,"n_cols":2,"rows_kept":31,"cut":false,"hidden":false,"merged":[[31,0,31,5],[0,0,0,3],[29,1,29,9],[30,1,30,9],[30,10,30,12]]}
["Ministerio de Educación y Cultura\nDirección de Educación"]
[]
[]
[]
["Gráfico I-4.3.3"]
[]
[]
[]
[]
[]
[]
[]
[]
[]
[]
[]
[]
[]
[]
[]
[]
[]
[]
[]
[]
[]
[]
[]
[]
["Fuente:","Instituto de Estadística de la Organización de las Naciones Unidas para la Educación, la Ciencia y la Cultura (UNESCO) y, para Uruguay, Área de Investigación y Estadística de la Dirección de Educación del MEC, en base a datos del MEF, CGN."]
["Nota:","Los porcentajes por región, son promedios ponderados. Los cálculos se realizaron con base al último dato disponible en la fuente (año 2000 en adelante). Para Uruguay es el dato 2013."]

{"sheet":"G I-4.4.1","index":152,"n_rows":30,"n_cols":1,"rows_kept":30,"cut":false,"hidden":false,"merged":[[0,0,0,3]]}
["Ministerio de Educación y Cultura\nDirección de Educación"]
[]
[]
[]
["Gráfico I-4.4.1"]
[]
[]
[]
[]
[]
[]
[]
[]
[]
[]
[]
[]
[]
[]
[]
[]
[]
[]
[]
[]
[]
["Fuentes: Elaboración propia con base a las ECH del INE  y datos indicadores Miradas 2014."]
["Notas:"]
["El dato Iberoamérica se corresponde al promedio simple de la información de los países. "]
["Se optó por presentar 2010 y 2012 dado que son los años para los cuales reporta la mayor cantidad de países."]

{"sheet":"G I-4.4.2","index":153,"n_rows":34,"n_cols":1,"rows_kept":34,"cut":false,"hidden":false,"merged":[[0,0,0,3]]}
["Ministerio de Educación y Cultura\nDirección de Educación"]
[]
[]
[]
["Gráfico I-4.4.2"]
[]
[]
[]
[]
[]
[]
[]
[]
[]
[]
[]
[]
[]
[]
[]
[]
[]
[]
[]
[]
[]
[]
["Fuentes: Elaboración propia con base a las ECH del INE  y datos indicadores Miradas 2014."]
["Notas:"]
["Para niños de 4 a 5 años, se presenta una Tasa neta ajustada: incluye a niños de 5 años que ya se encuentran cursando Primaria (CINE 1)."]
["En 2009 y 2010 cambió el criterio de consulta de la ECH para las edades de 0 a 3 años por lo que no se incluye el dato para estos años puesto que no es comparable con el resto de la serie."]
["En 2007 y 2008 la ECH no releva el dato de asistencia para las edades de 0 a 2 años"]
["El dato Iberoamérica se corresponde al promedio simple de la información de los países. "]
["Se optó por presentar 2012 dado que es el años para el cual reporta la mayor cantidad de países."]

{"sheet":"G I-4.4.3","index":154,"n_rows":34,"n_cols":1,"rows_kept":34,"cut":false,"hidden":false,"merged":[[0,0,0,3],[31,0,31,7]]}
["Ministerio de Educación y Cultura\nDirección de Educación"]
[]
[]
[]
["Gráfico I-4.4.3"]
[]
[]
[]
[]
[]
[]
[]
[]
[]
[]
[]
[]
[]
[]
[]
[]
[]
[]
[]
[]
[]
["Fuentes: Elaboración propia con base a las ECH del INE  y datos indicadores Miradas 2014."]
["Notas:"]
["El horario establecido como general en primaria pública es de 20hs semanales.(no incluye educación especial)"]
["Las Escuelas de Tiempo Completo, Tiempo Extendido y la Escuela Rural Común superan las 20hs semanales."]
["El dato Iberoamérica se corresponde al promedio simple de la información de los países. No se incluyó el dato de Cuba."]
["Este indicador fue calculado para cada país de Iberoamércia como la relación entre los niños que asisten al horario establecido oficialmente como general y los que asisten a un horario superior al general. Esto implica que las cargas horarias en uno y otro caso varían según los países."]
["Se presenta solamente dato Iberoamérica 2013 por ser el único año en que figura información para los países."]
["Fuentes: Elaboración propia con base a las ECH del INE  y datos indicadores Miradas 2014."]

{"sheet":"G I-4.4.4","index":155,"n_rows":31,"n_cols":1,"rows_kept":31,"cut":false,"hidden":false,"merged":[[0,0,0,3]]}
["Ministerio de Educación y Cultura\nDirección de Educación"]
[]
[]
[]
["Gráfico I-4.4.4"]
[]
[]
[]
[]
[]
[]
[]
[]
[]
[]
[]
[]
[]
[]
[]
[]
[]
[]
[]
["Fuentes: Elaboración propia con base a las ECH del INE  y datos indicadores Miradas 2014."]
["Notas:"]
["Edad considerada para Uruguay 4 a 14 años."]
["Familias 1er quintil con AFAM, refiere al porcentaje de familias con niños de 4 a 14 años pertenecientes al primer quintil de ingresos que perciben Asignación Familiar."]
["Familias 1er quintil refiere al porcentaje de familias con niños de entre 4 y 14 años que pertenecen al primer quintil de ingresos para Uruguay."]
["Se presenta solamente dato Iberoamérica 2013 por ser el único año en que figura información para los países."]
["El dato Iberoamérica se corresponde al promedio simple de la información de los países referente al porcentaje de familias con dificultades económicas y menores en edad de asistir a educación básica que reciben apoyo económico."]

{"sheet":"G I-5.1.1","index":156,"n_rows":26,"n_cols":1,"rows_kept":26,"cut":false,"hidden":false,"merged":[[0,0,0,3]]}
["Ministerio de Educación y Cultura\nDirección de Educación"]
[]
[]
[]
["Gráfico I-5.1.1"]
[]
[]
[]
[]
[]
[]
[]
[]
[]
[]
[]
[]
[]
[]
[]
[]
[]
[]
[]
[]
["Fuente: Elaboración propia en base en la ENHA 2006 y en las ECH 2007 a 2013"]

{"sheet":"G I-5.1.2","index":157,"n_rows":25,"n_cols":1,"rows_kept":25,"cut":false,"hidden":false,"merged":[[0,0,0,3]]}
["Ministerio de Educación y Cultura\nDirección de Educación"]
[]
[]
[]
["Gráfico I-5.1.2"]
[]
[]
[]
[]
[]
[]
[]
[]
[]
[]
[]
[]
[]
[]
[]
[]
[]
[]
[]
["Fuente: Elaboración propia en base en la ENHA 2006 y en las ECH 2007 a 2013"]

{"sheet":"G I-5.1.3","index":158,"n_rows":27,"n_cols":1,"rows_kept":27,"cut":false,"hidden":false,"merged":[[0,0,0,3]]}
["Ministerio de Educación y Cultura\nDirección de Educación"]
[]
[]
[]
["Gráfico I-5.1.3"]
[]
[]
[]
[]
[]
[]
[]
[]
[]
[]
[]
[]
[]
[]
[]
[]
[]
[]
[]
[]
[]
["Fuente: Elaboración propia en base en la ENHA 2006 y en las ECH 2007 a 2013"]

{"sheet":"G I-5.2.1","index":159,"n_rows":27,"n_cols":2,"rows_kept":27,"cut":false,"hidden":false,"merged":[[0,0,0,3]]}
["Ministerio de Educación y Cultura\nDirección de Educación"]
[]
[]
[]
["Gráfico I-5.2.1"]
[]
[]
[]
[]
[]
[]
[]
[]
[]
[]
[]
[]
[]
[]
[]
[]
[]
[]
[]
[]
["Fuente:","Gasto de ANEP y Distribución por Desconcentrados del Anuario Estadístico 2013 de ANEP  y procesamiento propio de la matrícula, con base en los datos proporcionados por las oficinas productoras de estadísticas de los Desconcentrados de ANEP."]
["Notas:","El valor de gasto por estudiante para ANEP incluye el gasto del Co.Di.Cen."]

{"sheet":"G I-5.3.1","index":160,"n_rows":28,"n_cols":2,"rows_kept":28,"cut":false,"hidden":false,"merged":[[0,0,0,3],[27,1,27,4]]}
["Ministerio de Educación y Cultura\nDirección de Educación"]
[]
[]
[]
["Gráfico I-5.3.1"]
[]
[]
[]
[]
[]
[]
[]
[]
[]
[]
[]
[]
[]
[]
[]
[]
[]
[]
[]
[]
[]
["Fuente: ","Elaboración propia con base a las ECH del INE."]
["Notas:","Este indicador es el resultado del cociente entre la TBA de la población potencialmente discriminada y la TBA de la población potencialmente no discriminada. Las poblaciones afrodescendiente y primer quintil."]

{"sheet":"G I-5.3.2","index":161,"n_rows":27,"n_cols":2,"rows_kept":27,"cut":false,"hidden":false,"merged":[[0,0,0,3],[26,1,26,5]]}
["Ministerio de Educación y Cultura\nDirección de Educación"]
[]
[]
[]
["Gráfico I-5.3.2"]
[]
[]
[]
[]
[]
[]
[]
[]
[]
[]
[]
[]
[]
[]
[]
[]
[]
[]
[]
[]
["Fuente:"," Elaboración propia con base a las ECH del INE."]
["Notas:","Este indicador es el resultado del cociente entre la TBA de la población potencialmente discriminada y la TBA de la población potencialmente no discriminada. Las poblaciones afrodescendiente y primer quintil de ingresos no son excluyentes entre sí. Se entiende por población potencialmente no vulnerada en sus derechos a todas aquellas personas que no son afrodescendientes ni pertenecientes al primer quintil de ingresos ni la combinación de ambas características."]

{"sheet":"G I-5.3.3","index":162,"n_rows":27,"n_cols":2,"rows_kept":27,"cut":false,"hidden":false,"merged":[[0,0,0,3],[26,1,26,5]]}
["Ministerio de Educación y Cultura\nDirección de Educación"]
[]
[]
[]
["Gráfico I-5.3.3"]
[]
[]
[]
[]
[]
[]
[]
[]
[]
[]
[]
[]
[]
[]
[]
[]
[]
[]
[]
[]
["Fuente: ","Elaboración propia con base a las ECH del INE."]
["Notas:","Este indicador es el resultado del cociente entre la TBA de la población potencialmente discriminada y la TBA de la población potencialmente no discriminada. Las poblaciones afrodescendiente y primer quintil de ingresos no son excluyentes entre sí. Se entiende por población potencialmente no vulnerada en sus derechos a todas aquellas personas que no son afrodescendientes ni pertenecientes al primer quintil de ingresos ni la combinación de estas características. Edad considerada como referencia 18 a 24 años."]

{"sheet":"PRIMERA INFANCIA E INICIAL","index":163,"n_rows":0,"n_cols":0,"rows_kept":0,"cut":false,"hidden":false,"merged":[[36,0,36,4],[38,0,38,4],[23,0,23,4],[25,0,25,4],[27,0,27,4],[29,0,29,4],[31,0,31,4],[34,0,34,4],[21,0,21,4],[12,0,12,4],[14,0,14,4],[16,0,16,4],[17,0,17,4],[19,0,19,4]]}

{"sheet":"CONTROL","index":164,"n_rows":10,"n_cols":4,"rows_kept":10,"cut":false,"hidden":true,"merged":[]}
[null,"PRIMER CUADRO","SEGUNDO CUADRO"]
["MATRÍCULA","II-1.2.1","II-1.2.2",{"$f":"IF('II-1.2.2'!C11:S11, \"OK\", \"INCONSISTENCIA\")","v":"OK"}]
["MATRÍCULA","II-1.2.1","II-1.2.3",{"$f":"IF('II-1.2.3'!B11='II-1.2.1'!N11, \"OK\", \"INCONSISTENCIA\")","v":"OK"}]
["MATRÍCULA","II-1.2.1","II-1.2.5",{"$f":"IF('II-1.2.5'!C10='II-1.2.1'!E11, \"OK\", \"INCONSISTENCIA\")","v":"OK"}]
["MATRÍCULA","II-1.2.1","II-1.2.6",{"$f":"IF('II-1.2.1'!E11='II-1.2.6'!B8,\"OK\",\"INCONSISTENCIA\")","v":"OK"}]
["MATRÍCULA","II-1.2.4","II-1.2.5",{"$f":"IF('II-1.2.4'!J12, \"OK\", \"INCONSISTENCIA\")","v":"INCONSISTENCIA"}]
["MATRÍCULA","II-1.2.4","II-1.2.6",{"$f":"IF('II-1.2.5'!C10='II-1.2.4'!B14, \"OK\", \"INCONSISTENCIA\")","v":"INCONSISTENCIA"}]
["MATRÍCULA","II-1.2.5","II-1.2.6",{"$f":"IF(#REF!=#REF!,\"OK\",\"INCONSISTENCIA\")","v":{"$error":"#REF!"}}]
["MATRÍCULA","II-1.2.5","II-1.2.7",{"$f":"IF(#REF! = 'II-1.2.7'!B10, \"OK\", \"INCONSISTENCIA\")","v":{"$error":"#REF!"}}]
["PERSONAL","II-1.3.3","II-1.3.4",{"$f":"IF('II-1.3.3'!B11 =#REF!, \"OK\", \"INCONSISTENCIA\")","v":{"$error":"#REF!"}}]

{"sheet":" II-1.1.1","index":165,"n_rows":34,"n_cols":8,"rows_kept":34,"cut":false,"hidden":false,"merged":[[7,6,9,6],[7,7,9,7],[0,5,1,7],[4,0,4,7],[5,0,9,0],[5,1,9,1],[5,2,5,7],[6,2,6,5],[7,2,9,2],[7,3,9,3],[7,4,9,4],[7,5,9,5]]}
["CONSEJO DE EDUCACIÓN INICIAL Y PRIMARIA",null,null,null,null,"ESTABLECIMIENTOS"]
[]
["Cuadro Nº II-1.1.1",null,null,null,null,null,null,"VOLVER"]
[]
["CANTIDAD DE ESTABLECIMIENTOS DE EDUCACIÓN EN LA PRIMERA INFANCIA E INICIAL DEL CEIP POR FORMA DE ADMINISTRACIÓN Y MODALIDAD SEGÚN DEPARTAMENTO. AÑO 2013."]
["DEPARTAMENTO","TOTAL","FORMA DE ADMINISTRACIÓN"]
[null,null,"PÚBLICA",null,null,null,null,"PRIVADA"]
[null,null,"Total Público","Jardines de Infantes","JICI","CEPI*","Jardines de Tiempo Completo","Jardines de Infantes"]
[]
[]
["TOTAL",{"$f":"+B12+B13","v":244},{"$f":"+C12+C13","v":190},{"$f":"SUM(D12:D13)","v":130},{"$f":"SUM(E12:E13)","v":12},{"$f":"SUM(F12:F13)","v":1},{"$f":"SUM(G12:G13)","v":47},{"$f":"SUM(H12:H13)","v":54}]
["MONTEVIDEO",{"$f":"+C12+H12","v":95},{"$f":"+D12+E12+F12+G12","v":63},43,4,1,15,32]
["RESTO DEL PAÍS",{"$f":"+C13+H13","v":149},{"$f":"+D13+E13+F13+G13","v":127},{"$f":"SUM(D15:D32)","v":87},{"$f":"SUM(E15:E32)","v":8},{"$f":"SUM(F15:F32)","v":0},{"$f":"SUM(G15:G32)","v":32},{"$f":"SUM(H15:H32)","v":22}]
[]
["Artigas",{"$f":"+C15+H15","v":3},{"$f":"+D15+E15+F15+G15","v":3},3,0,0,0,0]
["Canelones",39,{"$f":"+D16+E16+F16+G16","v":33},28,1,0,4,6]
["Cerro Largo",8,7,4,1,0,2,1]
["Colonia",6,6,5,1,0,0,0]
["Durazno",5,5,3,1,0,1,0]
["Flores",2,2,1,0,0,1,0]
["Florida",5,4,2,0,0,2,1]
["Lavalleja",7,7,5,0,0,2,0]
["Maldonado",10,7,7,0,0,0,3]
["Paysandú",5,4,1,1,0,2,1]
["Río Negro",6,6,3,0,0,3,0]
["Rivera",7,7,2,1,0,4,0]
["Rocha",7,7,5,0,0,2,0]
["Salto",9,4,3,0,0,1,5]
["San José",7,6,4,1,0,1,1]
["Soriano",6,5,4,0,0,1,1]
["Tacuarembó",{"$f":"+C31+H31","v":11},{"$f":"+D31+E31+F31+G31","v":9},6,0,0,3,2]
["Treinta y Tres",{"$f":"+C32+H32","v":6},{"$f":"+D32+E32+F32+G32","v":5},1,1,0,3,1]
["Fuente: Procesamiento propio en base a datos proporcionados por el D.E.E. — C.E.I.P."]
["Nota: * Centro Educativo de Primera Infancia.  Refiere a Guarderias en Anuarios Anteriores. "]

{"sheet":"II-1.1.2","index":166,"n_rows":35,"n_cols":5,"rows_kept":35,"cut":false,"hidden":false,"merged":[[0,4,1,5],[1,0,1,2],[5,0,5,4],[6,0,9,0],[6,2,6,4],[7,1,9,1],[7,2,9,2],[7,3,9,3],[7,4,9,4]]}
["MINISTERIO DE EDUCACIÓN Y CULTURA",null,null,null,"Establecimientos"]
["Dirección de Educación – Área de Educación en la Primera Infancia"]
[]
["Cuadro Nº  II-1.1.2"]
[]
["CANTIDAD DE ESTABLECIMIENTOS DE PRIMERA INFANCIA E INICIAL DEL MEC E INAU POR FORMA DE ADMINISTRACIÓN SEGÚN DEPARTAMENTO. AÑO 2013."]
["DEPARTAMENTO"]
[null,"TOTAL","CAIF","DIURNOS-INAU","PRIVADOS"]
[]
[]
["TOTAL",{"$f":"C11+D11+E11","v":822},{"$f":"C12+C13","v":345},{"$f":"D12+D13","v":37},{"$f":"E12+E13","v":440}]
["MONTEVIDEO",340,76,9,255]
["RESTO DEL PAÍS",{"$f":"C13+D13+E13","v":482},{"$f":"SUM(C15:C32)","v":269},{"$f":"SUM(D15:D32)","v":28},{"$f":"SUM(E15:E32)","v":185}]
[]
["Artigas",{"$f":"C15+D15+E15","v":20},15,2,3]
["Canelones",119,50,2,67]
["Cerro Largo",23,19,1,3]
["Colonia",35,13,2,20]
["Durazno",18,15,2,1]
["Flores",9,5,1,3]
["Florida",24,10,2,12]
["Lavalleja",13,5,1,7]
["Maldonado",28,10,2,16]
["Paysandú",34,23,2,9]
["Río Negro",16,12,1,3]
["Rivera",22,14,1,7]
["Rocha",17,11,1,5]
["Salto",31,21,1,9]
["San José",21,10,2,9]
["Soriano",21,12,2,7]
["Tacuarembó",19,13,2,4]
["Treinta y Tres",12,11,1,0]
["Fuente: Procesamiento propio en base a datos proporcionados por:"]
["        Registro Nacional de Centros Educativos en la Primera Infancia. MEC"]
["        Para CAIF Y CENTROS DIURNOS: SIPI de INAU."]

{"sheet":"II-1.2.1","index":167,"n_rows":36,"n_cols":18,"rows_kept":36,"cut":false,"hidden":false,"merged":[[0,14,1,17],[4,0,4,17],[5,0,8,0],[5,1,5,17],[6,1,7,3],[6,4,6,12],[6,13,6,17],[7,4,9,4],[7,5,7,6],[7,7,7,8],[8,1,9,1],[8,2,8,3],[8,5,8,6],[8,7,8,8],[8,9,8,10],[8,11,8,12],[8,14,8,15],[8,16,8,17],[7,9,7,10],[7,11,7,12],[7,13,9,13],[7,14,7,15],[7,16,7,17]]}
["CONSEJO DE EDUCACIÓN INICIAL Y PRIMARIA",null,null,null,null,null,null,null,null,null,null,null,null,null,"ALUMNOS MATRICULADOS"]
[]
["Cuadro Nº II-1.2.1"]
[]
["ALUMNOS MATRICULADOS EN EDUCACIÓN EN LA PRIMERA INFANCIA E INICIAL POR FORMA DE ADMINISTRACIÓN, MODALIDAD Y SEXO SEGÚN DEPARTAMENTO. AÑO 2013."]
["DEPARTAMENTO","FORMA DE ADMINISTRACIÓN"]
[null,"TOTAL",null,null,"PÚBLICA",null,null,null,null,null,null,null,null,"PRIVADA"]
[null,null,null,null,"Total Público","Inicial en Escuelas*",null,"Jardines de Infantes",null,"JICI**",null,"CEPI***",null,"Total Privada","Jardines de Infantes",null,"Inicial en Colegios"]
[null,"TOTAL","SEXO",null,null,"SEXO",null,"SEXO",null,"SEXO",null,"SEXO",null,null,"SEXO",null,"SEXO"]
[null,null,"M","F",null,"M","F","M","F","M","F","M","F",null,"M","F","M","F"]
["TOTAL",{"$f":"+B12+B13","v":109793.99999999999},{"$f":"+C12+C13","v":55994},{"$f":"+D12+D13","v":53799.999999999993},{"$f":"+E12+E13","v":80200},{"$f":"F12+F13","v":23607},{"$f":"G12+G13","v":22637.999999999996},{"$f":"+H12+H13","v":15923},{"$f":"I12+I13","v":15428},{"$f":"J12+J13","v":1266},{"$f":"K12+K13","v":1190},{"$f":"+L12+L13","v":73},{"$f":"M12+M13","v":75},{"$f":"+N12+N13","v":29593.999999999993},{"$f":"+O12+O13","v":2633},{"$f":"+P12+P13","v":2522},{"$f":"+Q12+Q13","v":12491.999999999996},{"$f":"+R12+R13","v":11946.999999999996}]
["MONTEVIDEO",{"$f":"+C12+D12","v":41873.999999999985},{"$f":"+F12+H12+J12+L12+O12+Q12","v":21468.999999999996},{"$f":"+G12+I12+K12+M12+P12+R12","v":20404.999999999993},{"$f":"+F12+G12+H12+I12+J12+K12+L12+M12","v":24140.999999999996},5897,5611.9999999999955,5789,5586,562,547,73,75,{"$f":"+O12+P12+Q12+R12","v":17732.999999999993},1734,1604,7413.9999999999973,6980.9999999999973]
["RESTO DEL PAÍS",{"$f":"SUM(B15:B32)","v":67920},34525,33395,56059,17710,17026,{"$f":"SUM(H15:H32)","v":10134},9842,704,643,0,0,11861,{"$f":"SUM(O15:O32)","v":899},918,5078,4966]
[]
["Artigas",{"$f":"+C15+D15","v":2625},{"$f":"+F15+H15+J15+L15+O15+Q15","v":1364.9999999999998},1260,{"$f":"+F15+G15+H15+I15+J15+K15+L15+M15","v":2478},962.99999999999977,894,326,295,0,0,0,0,{"$f":"+O15+P15+Q15+R15","v":147},0,0,76,71]
["Canelones",16753,8595.9999999999982,8157,12977.999999999998,3503.9999999999977,3339.0000000000005,3058,2911,86,80,0,0,3774.9999999999995,262,273,1685.9999999999995,1554]
["Cerro Largo",2929.0000000000005,1448,1481.0000000000005,2580.0000000000005,772,781.00000000000034,407,415,104,101,0,0,349,54,53,111,131]
["Colonia",4209.0000000000009,2162.0000000000009,2046.9999999999998,{"$f":"+F18+G18+H18+I18+J18+K18+L18+M18","v":3520.0000000000005},1289.0000000000007,1205.9999999999998,431,443,85,66,0,0,689,0,0,357,332]
["Durazno",1829.9999999999995,923.99999999999989,905.99999999999977,1604.9999999999995,495.99999999999989,501.99999999999977,279,259,35,34,0,0,225,0,0,114,111]
["Flores",798,386,412,648,194,223.00000000000003,119,112,0,0,0,0,150,0,0,73,77]
["Florida",2019.9999999999998,1010.9999999999997,1009.0000000000001,1848.9999999999998,622.99999999999966,613.00000000000011,309,304,0,0,0,0,171,35,43,44,49]
["Lavalleja",1925,953,972.00000000000011,1556,367,361.00000000000011,409,419,0,0,0,0,369,0,0,177,192]
["Maldonado",6180,3124,3056,3964,1288,1221,716,739,0,0,0,0,2216,124,90,996,1006]
["Paysandú",3791.0000000000009,1935.0000000000005,1856.0000000000002,3313.0000000000009,1298.0000000000005,1205.0000000000002,307,305,93,105,0,0,478,54,63,183,178.00000000000003]
["Río Negro",2218,1157,1061,1892,482.00000000000011,451,505,454,0,0,0,0,326,0,0,170,156]
["Rivera",3841,1946.0000000000002,1894.9999999999995,3450,1150.0000000000002,1091.9999999999995,519,517,97,75,0,0,391,0,0,180,211]
["Rocha",2443,1210,1233,2193,575,608,499,511,0,0,0,0,250,0,0,136,114]
["Salto",4997,2550,2447,4045,1519.0000000000002,1425,540,561,0,0,0,0,952,186,179,305,282]
["San José",3616.0000000000005,1839.0000000000002,1777.0000000000002,3165.0000000000005,1034.0000000000002,1030.0000000000002,510,442,79,70,0,0,451,49,52,167,183]
["Soriano",2849,1431,1418,2581,941,911,366,363,0,0,0,0,268,27,38,97,106]
["Tacuarembó",3372,1703,1669,2810,847,809.00000000000011,586,568,0,0,0,0,562,64,79,205.99999999999997,213]
["Treinta y Tres",1524,785,738.99999999999989,{"$f":"+F32+G32+H32+I32+J32+K32+L32+M32","v":1431.9999999999998},367.99999999999994,354.99999999999989,248,224,125,112,0,0,92,44,48,0,0]
["Fuente: Procesamiento propio en base a datos proporcionados por el D.E.E. — C.E.I.P."]
["* Refiere a Clases Jardineras en Anuarios Anteriores. "]
["** Jardines de Infantes con Ciclo Inicial."]
["*** Centro Educativo de Primera Infancia.  Refiere a Guarderías en Anuarios Anteriores. "]

{"sheet":"II-1.2.2","index":168,"n_rows":37,"n_cols":19,"rows_kept":37,"cut":false,"hidden":false,"merged":[[8,2,8,3],[8,5,8,8],[8,10,8,13],[8,15,8,18],[0,10,1,17],[4,0,4,18],[5,0,8,0],[5,1,5,18],[6,1,6,18],[7,1,9,1],[7,2,7,3],[7,5,7,8],[7,10,7,13],[7,15,7,18]]}
["CONSEJO DE EDUCACIÓN INICIAL Y PRIMARIA",null,null,null,null,null,null,null,null,null,"ALUMNOS MATRICULADOS"]
[]
["Cuadro Nº II-1.2.2"]
[null,null,null,null,null,null,null,null,null,null,null,null,null,"VOLVER"]
["ALUMNOS MATRICULADOS EN EDUCACIÓN PÚBLICA EN LA PRIMERA INFANCIA E INICIAL DEL CEIP POR  MODALIDAD Y EDAD SEGÚN DEPARTAMENTO. AÑO 2013."]
["DEPARTAMENTO"]
[null,"PÚBLICA"]
[null,"Total Público","Inicial en Escuelas*",null,null,"Jardines de Infantes**",null,null,null,null,"JICI***",null,null,null,null,"CEPI****"]
[null,null,"AÑOS",null,null,"AÑOS",null,null,null,null,"AÑOS",null,null,null,null,"AÑOS"]
[null,null,4,5,null,"<= 2 ",3,4,5,null,"<= 2 ",3,4,5,null,"<= 2 ",3,4,5]
["TOTAL",{"$f":"+B12+B13","v":80200},{"$f":"C12+C13","v":21358.999999999993},{"$f":"D12+D13","v":24886},null,{"$f":"+F12+F13","v":57},{"$f":"G12+G13","v":7062},{"$f":"H12+H13","v":12749},{"$f":"I12+I13","v":11483},null,{"$f":"K12+K13","v":0},{"$f":"L12+L13","v":613},{"$f":"M12+M13","v":940},{"$f":"N12+N13","v":903},null,{"$f":"+P12+P13","v":45},{"$f":"+Q12+Q13","v":54},{"$f":"+R12+R13","v":49},{"$f":"+S12+S13","v":0}]
["MONTEVIDEO",{"$f":"SUM(C12:S12)","v":24140.999999999996},5141.9999999999955,6367,null,57,2117,4706,4495,null,0,330,407,372,null,45,54,49,0]
["RESTO DEL PAÍS",{"$f":"SUM(B15:B32)","v":56059},{"$f":"SUM(C15:C32)","v":16216.999999999998},{"$f":"SUM(D15:D32)","v":18519},null,{"$f":"SUM(F15:F32)","v":0},{"$f":"SUM(G15:G32)","v":4945},8043,6988,null,0,283,{"$f":"SUM(M15:M32)","v":533},{"$f":"SUM(N15:N32)","v":531},null,0,0,0,0]
[]
["Artigas",{"$f":"SUM(C15:S15)","v":2477.9999999999995},905.99999999999977,950.99999999999977,null,0,132,248,241,null,0,0,0,0,null,0,0,0,0]
["Canelones",{"$f":"SUM(C16:S16)","v":12978},3169.9999999999995,3673.0000000000005,null,0,1190,2402,2377,null,0,39,65,62,null,0,0,0,0]
["Cerro Largo",2580,736.00000000000011,816.99999999999989,null,0,124,372,326,null,0,64,70,71,null,0,0,0,0]
["Colonia",3520,1196,1299.0000000000002,null,0,313,308,253,null,0,26,71,54,null,0,0,0,0]
["Durazno",1605,458.99999999999994,539,null,0,134,242,162,null,0,20,29,20,null,0,0,0,0]
["Flores",647.99999999999989,171.99999999999994,244.99999999999997,null,0,69,99,63,null,0,0,0,0,null,0,0,0,0]
["Florida",1848.9999999999995,534.99999999999989,700.99999999999955,null,0,158,281,174,null,0,0,0,0,null,0,0,0,0]
["Lavalleja",1556.0000000000002,333,395.00000000000023,null,0,258,295,275,null,0,0,0,0,null,0,0,0,0]
["Maldonado",3963.9999999999991,1166.9999999999998,1341.9999999999995,null,0,313,588,554,null,0,0,0,0,null,0,0,0,0]
["Paysandú",3312.9999999999995,1192,1310.9999999999995,null,0,159,219,234,null,0,24,90,84,null,0,0,0,0]
["Río Negro",1892,454,478.99999999999994,null,0,229,391,339,null,0,0,0,0,null,0,0,0,0]
["Rivera",3450,1070.0000000000002,1171.9999999999998,null,0,332,416,288,null,0,33,70,69,null,0,0,0,0]
["Rocha",2193,512,671,null,0,255,472,283,null,0,0,0,0,null,0,0,0,0]
["Salto",4045.0000000000005,1409.0000000000002,1535.0000000000002,null,0,330,436,335,null,0,0,0,0,null,0,0,0,0]
["San José",3165,973,1091,null,0,256,346,350,null,0,22,52,75,null,0,0,0,0]
["Soriano",2581,829,1023.0000000000001,null,0,235,273,221,null,0,0,0,0,null,0,0,0,0]
["Tacuarembó",2810,738,918,null,0,376,442,336,null,0,0,0,0,null,0,0,0,0]
["Treinta y Tres",1432,365.99999999999989,357,null,0,82,213,177,null,0,55,86,96,null,0,0,0,0]
["Fuente: Procesamiento propio en base a datos proporcionados por el D.E.E. — C.E.I.P."]
["* Refiere a Clases Jardineras en Anuarios Anteriores. "]
["** Jardines de Infantes incluye Jardines de Infantes comunes y Tiempo Completo. "]
["*** Jardines de Infantes con Ciclo Inicial."]
["**** Centro Educativo de Primera Infancia.  Refiere a Guarderías en Anuarios Anteriores. "]

{"sheet":"II-1.2.3","index":169,"n_rows":33,"n_cols":15,"rows_kept":33,"cut":false,"hidden":false,"merged":[[0,12,1,14],[4,0,4,14],[5,0,9,0],[5,3,5,14],[6,3,6,8],[6,10,6,14],[7,1,9,1],[7,3,7,8],[7,10,7,14],[8,2,9,2],[8,14,9,14],[8,3,9,3],[8,4,9,4],[8,5,9,5],[8,6,9,6],[8,7,9,7],[8,13,9,13],[8,8,9,8],[8,9,9,9],[8,10,9,10],[8,11,9,11],[8,12,9,12]]}
["CONSEJO DE EDUCACIÓN INICIAL Y PRIMARIA",null,null,null,null,null,null,null,null,null,null,null,"ALUMNOS MATRICULADOS"]
[]
["Cuadro Nº II-1.2.3"]
[]
["ALUMNOS MATRICULADOS EN EDUCACIÓN EN LA PRIMERA INFANCIA E INICIAL PRIVADA POR MODALIDAD Y NIVEL SEGÚN DEPARTAMENTO. AÑO 2013."]
["DEPARTAMENTO",null,null,"MODALIDAD"]
[null,null,null,"JARDINES PRIVADOS",null,null,null,null,null,null,"INICIAL EN COLEGIOS"]
[null,"TOTAL",null,"NIVEL",null,null,null,null,null,null,"NIVEL"]
[null,null,"Total","Nursery","2 años","3 años","4 años","5 años","6 años","Total","Nursery","2 años","3 años","4 años","5 años"]
[]
["TOTAL",{"$f":"+B12+B13","v":29594},{"$f":"+C12+C13","v":5155},{"$f":"SUM(D12:D13)","v":815},1278,1262,1089,687,24,{"$f":"+J12+J13","v":24439},{"$f":"SUM(K12:K13)","v":1372.0000000000007},{"$f":"SUM(L12:L13)","v":3411.9999999999991},{"$f":"SUM(M12:M13)","v":4944},{"$f":"SUM(N12:N13)","v":6986.0000000000009},{"$f":"SUM(O12:O13)","v":7725.0000000000009}]
["MONTEVIDEO",{"$f":"+C12+J12","v":17733},{"$f":"SUM(D12:I12)","v":3338},609,799,794,699,413,24,{"$f":"SUM(K12:O12)","v":14395},859.00000000000068,1804.9999999999991,2740.0000000000005,4197.0000000000009,4794.0000000000009]
["RESTO DEL PAÍS",{"$f":"SUM(B15:B32)","v":11861},{"$f":"SUM(C15:C32)","v":1817},206,479,468,390,274,0,10044,513,1607,2203.9999999999995,2789,2931]
[]
["Artigas",{"$f":"+C15+J15","v":147},{"$f":"SUM(D15:I15)","v":0},0,0,0,0,0,0,{"$f":"+K15+L15+M15+N15+O15","v":147},15,28,33,36,35]
["Canelones",3775,535,34,117,123,147,114,0,3240,129.99999999999997,416.00000000000011,696.99999999999977,973.00000000000011,1023.9999999999998]
["Cerro Largo",349,107,22,43,22,20,0,0,242,0,35,44,87,76]
["Colonia",689,0,0,0,0,0,0,0,689,114,116.99999999999999,164,161,133]
["Durazno",225,0,0,0,0,0,0,0,225,12,12,61,71,69]
["Flores",150,0,0,0,0,0,0,0,150,8,41,32,29,40]
["Florida",171,78,32,23,11,12,0,0,93,0,13,23,28,29]
["Lavalleja",369,0,0,0,0,0,0,0,369,26,79,75,87,102]
["Maldonado",2216,214,7,43,61,55,48,0,2002,58,333,456.99999999999989,569,585]
["Paysandú",478.00000000000006,117,16,29,23,23,26,0,361.00000000000006,4.0000000000000009,21.000000000000007,34,116,186.00000000000006]
["Río Negro",326,0,0,0,0,0,0,0,326,11.000000000000002,63,70,100,82]
["Rivera",391,0,0,0,0,0,0,0,391,18.999999999999996,79,104,94,95]
["Rocha",250,0,0,0,0,0,0,0,250,20,51,73,60,46]
["Salto",952,365,50,95,129,74,17,0,587,47.000000000000007,108.00000000000001,114.99999999999999,151,166]
["San José",451,101,13,27,22,15,24,0,350,13.999999999999998,77,92,86,81]
["Soriano",268,65,15,25,20,5,0,0,203,0,40,50,49,64]
["Tacuarembó",562,143,17,46,36,21,23,0,419,34.999999999999993,94,80,92,118]
["Treinta y Tres",92,92,0,31,21,18,22,0,0,0,0,0,0,0]
["Fuente: Procesamiento propio en base a datos proporcionados por el D.E.E. — C.E.I.P."]

{"sheet":"II-1.2.4","index":170,"n_rows":41,"n_cols":9,"rows_kept":41,"cut":false,"hidden":false,"merged":[[38,0,38,7],[0,8,2,9],[7,0,7,7],[8,0,12,0],[8,4,8,7],[9,1,10,3],[9,4,10,5],[9,6,10,7],[11,1,12,1],[11,2,11,3],[11,4,11,7]]}
["MINISTERIO DE EDUCACIÓN Y CULTURA",null,null,null,null,null,null,null,"Alumnos Matriculados "]
[]
["Dirección de Educación – Área de Educación en la Primera Infancia"]
["INAU-CAIF"]
[]
["Cuadro Nº II-1.2.4"]
[]
["ALUMNOS MATRICULADOS EN EDUCACIÓN EN LA PRIMERA INFANCIA E INICIAL  POR FORMA DE ADMINISTRACIÓN Y SEXO SEGÚN DEPARTAMENTO. AÑO 2013."]
["  DEPARTAMENTO",null,null,null,"FORMA DE ADMINISTRACIÓN"]
[null,"TOTAL",null,null,"CAIF Y CENTROS DIURNOS",null,"Centros Privados"]
[]
[null,"TOTAL","SEXO",null,"SEXO"]
[null,null,"M","F","M","F","M","F"]
["TOTAL",{"$f":"+B15+B16","v":67939},{"$f":"E14+G14","v":34694},33245,{"$f":"E15+E16","v":23893},{"$f":"F15+F16","v":23012},{"$f":"G15+G16","v":10801},{"$f":"H15+H16","v":10232.999999999998}]
["MONTEVIDEO",{"$f":"+C15+D15","v":23778},12261,11516.999999999998,5651,5363,6610.0000000000009,6153.9999999999982]
["RESTO DEL PAÍS",{"$f":"+C16+D16","v":44161},22433,21728,{"$f":"SUM(E17:E35)","v":18242},{"$f":"SUM(F17:F35)","v":17649},{"$f":"SUM(G17:G35)","v":4191},{"$f":"SUM(H17:H35)","v":4079}]
[]
["Artigas",{"$f":"+C18+D18","v":2225},{"$f":"E18+G18","v":1138},{"$f":"F18+H18","v":1087},1072,994,66,93]
["Canelones",9318,{"$f":"E19+G19","v":4746},4572,3350,3197,1396,1375]
["Cerro Largo",2728,1434,1294,1370,1244,64,50]
["Colonia",2429,1220,1209,882,857,338,352]
["Durazno",2108,1067,1041,1040,1021,27,20]
["Flores",788,400,388,352,321,48,67]
["Florida",1847,955,892,657,616,298,276]
["Lavalleja",978,483,495,366,377,117,118]
["Maldonado",2328,1183,1145,688,672,495,473]
["Paysandú",3641,1814,1827,1554,1574,260,253]
["Río Negro",1485,741,744,688,674,53,70]
["Rivera",2669,1343,1326,1113,1135,230,191]
["Rocha",1622,821,801,768,736,53,65]
["Salto",3377,1716,1661,1413,1392,303,269]
["San José",1839,932,907,702,683,230,224]
["Soriano",1701,870,831,717,706,153,125]
["Tacuarembó",1957,980,977,920,919,60,58]
["Treinta y Tres",1121,590,531,590,531,0,0]
["Fuente: Procesamiento propio en base a datos proporcionados por:"]
["        Registro Nacional de Centros de Educación Infantil Privados. MEC"]
["        Para CAIF Y CENTROS DIURNOS: SIPI de INAU."]
["Nota: Los centros pertenecientes al Proyecto  Nuestros Niños de la IMM, se encuentran incluidos en la matrícula de Centros Privados, en tanto los mismos son supervisados por el MEC.  "]
["CAIF y Centros Diurnos incluyen para este año la matrícula de Experiencia Oportuna. "]
["(0 a 1 año) que en el anuario 2012 solo se incluía en el cuadro II"]

{"sheet":"II-1.2.5","index":171,"n_rows":23,"n_cols":7,"rows_kept":23,"cut":false,"hidden":false,"merged":[[0,6,1,7],[0,8,1,9],[1,0,1,5],[4,0,4,6],[5,2,5,6],[25,0,25,6],[26,0,26,6],[6,6,7,6],[10,2,12,2],[10,3,11,3],[22,0,22,7],[23,0,23,7],[24,0,24,6],[6,0,7,0],[6,1,7,1],[6,2,7,2],[6,3,7,3],[6,5,7,5],[21,0,21,8],[6,4,7,4],[10,1,12,1]]}
["MINISTERIO DE EDUCACIÓN Y CULTURA",null,null,null,null,null,"ALUMNOS MATRICULADOS"]
["Dirección de Educación – Área de Educación en la Primera Infancia"]
[]
["Cuadro Nº II-1.2.5"]
["ALUMNOS MATRICULADOS EN EDUCACIÓN EN LA PRIMERA INFANCIA E INICIAL  POR FORMA DE ADMINISTRACIÓN SEGÚN EDAD. AÑO 2013."]
[null,null,"FORMA DE ADMINISTRACIÓN"]
["EDAD",null,"CEIP- PÚBLICOS","CEIP-PRIVADOS (Habilitados y Autorizados) ","CAIF","DIURNOS","PRIVADOS MEC"]
[]
[]
["TOTAL",{"$f":"C10+D10+E10+F10+G10","v":177733},{"$f":"C11+C14+C15+C16+C17","v":80200},{"$f":"SUM(D11:D17)","v":29594},{"$f":"SUM(E11:E17)","v":45150},1755,21034]
["0 a 11 meses",48530,102,2187.0000000000009,6001,118,744]
["1 año",null,null,null,11927,409,3589.0000000000005]
["2 años",null,null,4689.9999999999991,12106,541,6116]
["3 años",32418,7729,6206,11837,518,6128]
["4 años",49458.999999999993,35096.999999999993,8075.0000000000009,3279,169,2839.0000000000009]
["5 años",46938,37272,8412,0,0,1253.9999999999995]
["6 años",388,0,24,0,0,364]
["Fuente: Procesamiento propio en base a datos proporcionados por:"]
["        Registro Nacional de Centros de Educación Infantil Privados. MEC"]
["        Para CAIF Y CENTROS DIURNOS: SIPI de INAU."]
["Programa Nuestros Niños: IMM. Se encuentran incluidos dentro de la matricula privada. "]
["Nota: En los Centros de Educación Infantil Privados MEC se incluyen 364 niñas y niños que tienen más de 5 años."]
["Para CAIF las edades de 0 y 1 año corresponden a la modalidad Experiencia Oportuna."]

{"sheet":"II-1.2.6","index":172,"n_rows":33,"n_cols":4,"rows_kept":33,"cut":false,"hidden":false,"merged":[[0,3,1,4],[4,0,4,3],[5,0,6,0],[5,1,6,1],[5,2,5,3]]}
["CONSEJO DE EDUCACIÓN INICIAL Y PRIMARIA",null,null,"ALUMNOS MATRICULADOS"]
[]
["Cuadro Nº II-1.2.6"]
[]
["ALUMNOS MATRICULADOS EN EDUCACIÓN EN LA PRIMERA INFANCIA E INICIAL PÚBLICA DEL CEIP POR ÁREA DEMOGRÁFICA SEGÚN DEPARTAMENTO. AÑO 2013."]
["DEPARTAMENTO","TOTAL","ÁREA DEMOGRÁFICA"]
[null,null,"URBANA","RURAL"]
["TOTAL ",{"$f":"SUM(C8+D8)","v":80200},{"$f":"SUM(C9:C10)","v":76119},{"$f":"SUM(D9:D10)","v":4081}]
["MONTEVIDEO",{"$f":"+C9+D9","v":24141},24141,0]
["RESTO DEL PAÍS",{"$f":"+C10+D10","v":56059},{"$f":"SUM(C12:C29)","v":51978},{"$f":"SUM(D12:D29)","v":4081}]
[]
["Artigas",2478,2300,178.00000000000003]
["Canelones",12978,12373,605]
["Cerro Largo",2580,2367,212.99999999999994]
["Colonia",3520,3209,311.00000000000011]
["Durazno",1605.0000000000002,1490.0000000000002,115]
["Flores",648,610,38]
["Florida",1849.0000000000002,1635.0000000000002,214]
["Lavalleja",1556,1433,123]
["Maldonado",3964,3762,201.99999999999994]
["Paysandú",3313,3062,251]
["Río Negro",1892,1756,135.99999999999997]
["Rivera",3450,3181,269.00000000000006]
["Rocha",2193.0000000000005,2089.0000000000005,104.00000000000001]
["Salto",4045,3676,368.99999999999994]
["San José",3165,2816,349.00000000000011]
["Soriano",2581,2375,206.00000000000009]
["Tacuarembó",2810.0000000000005,2525.0000000000005,285.00000000000006]
["Treinta y Tres",1432,1319,112.99999999999999]
["Fuente: Procesamiento propio en base a datos proporcionados "]
["        por el D.E.E. — C.E.I.P."]
["Nota: En los años 2012 y 2013 el presente cuadro considera la matrícula total de Educación en la Primera Infancia e Inicial Pública. "]
["Años anteriores solo consideraban la matrícula de Educación Inicial en Escuelas. "]

{"sheet":"II-1.2.7","index":173,"n_rows":34,"n_cols":10,"rows_kept":34,"cut":false,"hidden":false,"merged":[[36,0,36,7],[0,9,1,10],[7,2,8,2],[7,1,8,1],[6,2,6,7],[7,3,8,3],[7,4,8,4],[7,5,8,5],[7,6,8,6],[7,7,8,7],[6,0,8,0],[10,9,11,11],[5,0,5,7],[33,0,33,7]]}
["MINISTERIO DE EDUCACIÓN Y CULTURA",null,null,null,null,null,null,null,null,"ALUMNOS MATRICULADOS"]
["Dirección de Educación – Área de Educación en la Primera Infancia"]
[]
["Cuadro Nº II-1.2.7"]
[]
["ALUMNOS MATRICULADOS EN EDUCACIÓN EN LA PRIMERA INFANCIA E INICIAL  EN CENTROS PRIVADOS HABILITADOS POR EL MEC POR EDAD SEGÚN DEPARTAMENTO. AÑO 2013."]
["DEPARTAMENTO",null,"E D A D"]
[null,"TOTAL","0 a 11 meses","1 año","2 años","3 años","4 años","5 años"]
[]
["TOTAL",{"$f":"+B11+B12","v":21034},744,3588.9999999999991,6116.0000000000018,6127.9999999999991,2839,1618]
["MONTEVIDEO",{"$f":"+C11+D11+E11+F11+G11+H11","v":12764},605,2172.9999999999991,3693.0000000000014,3665.9999999999991,1765,862]
["RESTO DEL PAÍS",{"$f":"SUM(B14:B31)","v":8270},139,1416,2423,2462,1074,756]
[]
["Artigas",{"$f":"+C14+D14+E14+F14+G14+H14","v":159},4,24,47,51,23,10]
["Canelones",2771,66,427,764,841,417,256]
["Cerro Largo",114,0,27.999999999999996,28,33,19,6]
["Colonia",690,10,142,246,248,31,13.000000000000002]
["Durazno",47,0,22,10,8,6,1]
["Flores",115,6,27,35,19,16,12]
["Florida",574,9.0000000000000018,124.99999999999999,154,165,84,37]
["Lavalleja",235,5,35,79,84,29,3]
["Maldonado",968,5,107.99999999999999,231,237,167,220]
["Paysandú",513,19,111,133,138,76,36]
["Río Negro",123,0,34,46,29,12,2]
["Rivera",421,2,77,136,113,58,35]
["Rocha",118,0,24,39,36,8,11]
["Salto",572,6,94,161,178,42,91]
["San José",454,7,82,165,154,29,17]
["Soriano",278,0,33,114,92,38,1]
["Tacuarembó",118,0,23,35,36,19,5]
["Treinta y Tres",0,0,0,0,0,0,0]
["Fuente: Procesamiento propio en base a datos proporcionados por:"]
["        Registro Nacional de Centros de Educación Infantil Privados. MEC"]
["Nota: En la categoria de 5 años se incluyen 364 niñas y niños que tienen más de 5 años."]

{"sheet":"II-1.3.1 ","index":174,"n_rows":33,"n_cols":4,"rows_kept":33,"cut":false,"hidden":false,"merged":[[0,3,1,4],[4,0,4,1],[5,0,6,0],[5,1,6,1],[30,0,30,4]]}
["CONSEJO DE EDUCACIÓN INICIAL Y PRIMARIA",null,null,"PERSONAL DOCENTE"]
[]
["Cuadro Nº II-1.3.1"]
[]
["PERSONAL DOCENTE DE EDUCACIÓN EN LA PRIMERA INFANCIA E INICIAL  PÚBLICA DEL CEIP SEGÚN DEPARTAMENTO. AÑO 2013."]
["DEPARTAMENTO","DOCENTES"]
[]
["TOTAL",{"$f":"SUM(B9:B10)","v":2715}]
["MONTEVIDEO",951]
["RESTO DEL PAÍS",{"$f":"SUM(B12:B29)","v":1764}]
[]
["Artigas",82]
["Canelones",411]
["Cerro Largo",82]
["Colonia",97]
["Durazno",47]
["Flores",24]
["Florida",71]
["Lavalleja",56]
["Maldonado",147]
["Paysandú",93]
["Río Negro",63]
["Rivera",102]
["Rocha",69]
["Salto",118]
["San José",91]
["Soriano",77]
["Tacuarembó",80]
["Treinta y Tres",54]
["Fuente: D.E.E. - C.E.I.P"]
["Nota: Personal docente solo considera maestro/a de clase. "]
["        "]
["        "]

{"sheet":"II-1.3.2 ","index":175,"n_rows":35,"n_cols":5,"rows_kept":35,"cut":false,"hidden":false,"merged":[[32,0,32,4],[0,4,1,5],[4,0,4,3],[5,0,8,0],[5,2,6,3],[7,1,8,1],[7,2,8,2],[7,3,8,3],[7,4,8,4]]}
["CONSEJO DE EDUCACIÓN INICIAL Y PRIMARIA",null,null,null,"PERSONAL DOCENTE"]
[]
["Cuadro Nº II-1.3.2."]
[]
["PERSONAL DOCENTE DE EDUCACIÓN EN LA PRIMERA INFANCIA E INICIAL PRIVADA SEGÚN DEPARTAMENTO. AÑO 2013."]
["DEPARTAMENTO",null,"DOCENTES"]
[]
[null,"TOTAL","Colegios Habilitados","Colegios Autorizados","Jardines de Infantes Autorizados"]
[]
["TOTAL",{"$f":"SUM(B11:B12)","v":1047},{"$f":"SUM(C11:C12)","v":681},{"$f":"SUM(D11:D12)","v":16},{"$f":"SUM(E11:E12)","v":350}]
["MONTEVIDEO",{"$f":"+C11+D11+E11","v":675},407,11,257]
["RESTO DEL PAÍS",{"$f":"+C12+D12+E12","v":372},{"$f":"SUM(C14:C31)","v":274},{"$f":"SUM(D14:D31)","v":5},{"$f":"SUM(E14:E31)","v":93}]
[]
["Artigas",{"$f":"+C14+D14","v":2},2,0,0]
["Canelones",91,86,5,36]
["Cerro Largo",4,4,0,5]
["Colonia",16,16,0,0]
["Durazno",4,4,0,0]
["Flores",5,5,0,0]
["Florida",1,1,0,5]
["Lavalleja",13,13,0,0]
["Maldonado",56,56,0,12]
["Paysandú",9,9,0,8]
["Río Negro",8,8,0,0]
["Rivera",14,14,0,0]
["Rocha",9,9,0,0]
["Salto",8,8,0,13]
["San José",10,10,0,3]
["Soriano",10,10,0,2]
["Tacuarembó",16,16,0,9]
["Treinta y Tres",3,3,0,0]
["Fuente: D.E.E. — C.E.P.","C.E.I.P"]
["Nota: Personal docente solo considera maestro/a de clase. "]
["        "]
["        "]

{"sheet":"II-1.3.3","index":176,"n_rows":105,"n_cols":12,"rows_kept":105,"cut":false,"hidden":false,"merged":[[13,0,17,0],[18,0,22,0],[0,11,1,14],[4,0,4,13],[6,0,7,1],[6,2,6,8],[8,0,12,0],[23,0,27,0],[28,0,32,0],[33,0,37,0],[38,0,42,0],[43,0,47,0],[48,0,52,0],[53,0,57,0],[58,0,62,0],[63,0,67,0],[68,0,72,0],[98,0,102,0],[104,0,104,7],[73,0,77,0],[78,0,82,0],[83,0,87,0],[88,0,92,0],[93,0,97,0]]}
["MINISTERIO DE EDUCACIÓN Y CULTURA",null,null,null,null,null,null,null,null,null,null,"PERSONAL DOCENTE"]
[]
["Cuadro Nº II-1.3.3"]
[]
["CANTIDAD DE PERSONAL DOCENTE Y NO DOCENTE EN CENTROS PRIVADOS SUPERVISADOS POR EL MEC, EN EDUCACIÓN EN LA PRIMERA INFANCIA E INICIAL SEGÚN NIVEL EDUCATIVO ALCANZADO Y DEPARTAMENTO. AÑO 2013."]
[]
[null,null,"Nivel educativo"]
[null,null,"Primaria","Ciclo Básico Liceo o UTU","Bachillerato Secundario CES o UTU","Terciario no Universitario","Terciaria Universitaria","S/D","Total"]
["Total","Director responsable técnico",0,0,1,391,61,12,465]
[null,"Personal no pedagógico",31,73,43,8,181,14,350]
[null,"Personal pedagógico",47,529,967,757,530,212,3042]
[null,"S/D",10,25,33,23,7,132,230]
[null,"Total",88,627,1044,1179,779,370,4087]
["ARTIGAS","Director responsable técnico",0,0,0,3,0,0,3]
[null,"Personal no pedagógico",0,0,0,0,0,0,0]
[null,"Personal pedagógico",1,4,8,9,0,0,22]
[null,"S/D",0,0,0,0,0,0,0]
[null,"Total",1,4,8,12,0,0,25]
["CANELONES","Director responsable técnico",0,0,1,51,14,3,69]
[null,"Personal no pedagógico",1,5,6,2,23,0,37]
[null,"Personal pedagógico",12,105,127,100,59,6,409]
[null,"S/D",0,2,1,1,2,1,7]
[null,"Total",13,112,135,154,98,10,522]
["CERRO LARGO","Director responsable técnico",0,0,0,3,1,0,4]
[null,"Personal no pedagógico",0,0,1,0,2,0,3]
[null,"Personal pedagógico",0,7,3,4,1,0,15]
[null,"S/D",0,0,0,0,0,0,0]
[null,"Total",0,7,4,7,4,0,22]
["COLONIA","Director responsable técnico",0,0,0,17,3,0,20]
[null,"Personal no pedagógico",0,4,0,0,3,0,7]
[null,"Personal pedagógico",7,25,27,17,6,1,83]
[null,"S/D",0,0,1,0,0,1,2]
[null,"Total",7,29,28,34,12,2,112]
["DURAZNO","Director responsable técnico",0,0,0,1,0,0,1]
[null,"Personal no pedagógico",1,0,0,0,0,0,1]
[null,"Personal pedagógico",0,1,4,2,0,0,7]
[null,"S/D",0,0,0,0,0,0,0]
[null,"Total",1,1,4,3,0,0,9]
["FLORES","Director responsable técnico",0,0,0,3,0,0,3]
[null,"Personal no pedagógico",1,0,1,0,1,0,3]
[null,"Personal pedagógico",0,4,4,4,6,0,18]
[null,"S/D",0,0,0,0,0,0,0]
[null,"Total",1,4,5,7,7,0,24]
["FLORIDA","Director responsable técnico",0,0,0,12,0,0,12]
[null,"Personal no pedagógico",2,0,1,0,3,0,6]
[null,"Personal pedagógico",3,10,29,11,19,0,72]
[null,"S/D",0,0,0,1,0,0,1]
[null,"Total",5,10,30,24,22,0,91]
["LAVALLEJA","Director responsable técnico",0,0,0,6,0,1,7]
[null,"Personal no pedagógico",1,0,0,0,1,0,2]
[null,"Personal pedagógico",4,8,12,9,5,0,38]
[null,"S/D",0,0,0,0,0,0,0]
[null,"Total",5,8,12,15,6,1,47]
["MALDONADO","Director responsable técnico",0,0,0,15,1,0,16]
[null,"Personal no pedagógico",2,3,1,1,11,0,18]
[null,"Personal pedagógico",1,16,64,41,11,4,137]
[null,"S/D",0,0,5,0,0,2,7]
[null,"Total",3,19,70,57,23,6,178]
["MONTEVIDEO","Director responsable técnico",0,0,0,232,39,6,277]
[null,"Personal no pedagógico",16,53,28,4,128,12,241]
[null,"Personal pedagógico",17,285,565,485,369,186,1907]
[null,"S/D",10,22,22,21,5,123,203]
[null,"Total",43,360,615,742,541,327,2628]
["PAYSANDU","Director responsable técnico",0,0,0,9,0,0,9]
[null,"Personal no pedagógico",1,0,1,0,4,0,6]
[null,"Personal pedagógico",0,10,43,15,12,3,83]
[null,"S/D",0,0,0,0,0,0,0]
[null,"Total",1,10,44,24,16,3,98]
["RIO NEGRO","Director responsable técnico",0,0,0,3,0,0,3]
[null,"Personal no pedagógico",0,0,0,0,0,2,2]
[null,"Personal pedagógico",0,1,2,1,2,6,12]
[null,"S/D",0,0,0,0,0,0,0]
[null,"Total",0,1,2,4,2,8,17]
["RIVERA","Director responsable técnico",0,0,0,5,2,0,7]
[null,"Personal no pedagógico",2,5,0,1,0,0,8]
[null,"Personal pedagógico",0,20,21,19,9,0,69]
[null,"S/D",0,0,0,0,0,0,0]
[null,"Total",2,25,21,25,11,0,84]
["ROCHA","Director responsable técnico",0,0,0,3,1,1,5]
[null,"Personal no pedagógico",0,0,0,0,0,0,0]
[null,"Personal pedagógico",1,5,3,3,6,1,19]
[null,"S/D",0,0,0,0,0,0,0]
[null,"Total",1,5,3,6,7,2,24]
["SALTO","Director responsable técnico",0,0,0,9,0,0,9]
[null,"Personal no pedagógico",4,3,4,0,3,0,14]
[null,"Personal pedagógico",0,9,12,12,12,1,46]
[null,"S/D",0,0,0,0,0,0,0]
[null,"Total",4,12,16,21,15,1,69]
["SAN JOSE","Director responsable técnico",0,0,0,8,0,1,9]
[null,"Personal no pedagógico",0,0,0,0,0,0,0]
[null,"Personal pedagógico",0,10,20,8,2,1,41]
[null,"S/D",0,0,3,0,0,5,8]
[null,"Total",0,10,23,16,2,7,58]
["SORIANO","Director responsable técnico",0,0,0,7,0,0,7]
[null,"Personal no pedagógico",0,0,0,0,2,0,2]
[null,"Personal pedagógico",1,6,19,13,4,0,43]
[null,"S/D",0,0,0,0,0,0,0]
[null,"Total",1,6,19,20,6,0,52]
["TACUAREMBO","Director responsable técnico",0,0,0,4,0,0,4]
[null,"Personal no pedagógico",0,0,0,0,0,0,0]
[null,"Personal pedagógico",0,3,4,4,7,3,21]
[null,"S/D",0,1,1,0,0,0,2]
[null,"Total",0,4,5,8,7,3,27]
[]
["Fuente: Procesamiento propio en base a datos proporcionados por:   Registro Nacional de Centros de Educación Infantil Privados. MEC"]

{"sheet":" PRIMARIA","index":177,"n_rows":0,"n_cols":0,"rows_kept":0,"cut":false,"hidden":false,"merged":[[34,0,34,4],[36,0,36,4],[22,0,22,4],[24,0,24,4],[26,0,26,4],[28,0,28,4],[30,0,30,4],[32,0,32,4],[20,0,20,4],[10,0,10,4],[12,0,12,4],[14,0,14,4],[16,0,16,4],[18,0,18,4]]}

{"sheet":"CONTROL ","index":178,"n_rows":23,"n_cols":11,"rows_kept":23,"cut":false,"hidden":true,"merged":[[0,0,0,5],[0,6,0,9]]}
["DENTRO DE PRIMARIA",null,null,null,null,null,"EN SINOPSIS"]
[null,"PRIMER CUADRO","SEGUNDO CUADRO","TERCER CUADRO",null,"Aclaración. ","PRIMER CUADRO","SEGUNDO CUADRO","TERCER CUADRO"]
["ESTABLEC.","II-2.1.1"," II-2.1.2 ",null,{"$f":"IF(SUM(#REF!+#REF!+#REF!+#REF!+#REF! +#REF! =#REF!),\"OK\",\"INCONSISTENCIA\")","v":{"$error":"#REF!"}}]
["ESTABLEC.","II-2.1.1","II-2.1.4",null,{"$f":"IF(#REF!=#REF!,\"OK\",\"INCONSISTENCIA\")","v":{"$error":"#REF!"}}]
["ESTABLEC.","II-2.1.1","II-2.1.4",null,{"$f":"IF(#REF!=#REF!,\"OK\",\"INCONSISTENCIA\")","v":{"$error":"#REF!"}},{"$f":"IF(E5=\"INCONSISTENCIA\",\"Número de establecimiento de especial\",\"\")","v":{"$error":"#REF!"}}]
["MATRÍCULA","II-2.2.1","II-2.2.2",null,{"$f":"IF(#REF!=#REF!,\"OK\",\"INCONSISTENCIA\")","v":{"$error":"#REF!"}},{"$f":"IF(E6=\"INCONSISTENCIA\",\"Matrícula de Primaria Pública\",\"\")","v":{"$error":"#REF!"}},null,null,null,{"$f":"IF((#REF!+#REF!)=#REF!,\"OK\",\"INCONSISTENCIA\")","v":{"$error":"#REF!"}},{"$f":"IF(J6=\"INCONSISTENCIA\",\"Matrícula de Primaria Pública\",\"\")","v":{"$error":"#REF!"}}]
["MATRÍCULA","II-2.2.2","II-2.2.3",null,{"$f":"IF(#REF!=SUM(#REF!-#REF!),\"OK\",\"INCONSISTENCIA\")","v":{"$error":"#REF!"}},null,null,null,null,{"$f":"IF((#REF!+#REF!)=#REF!,\"OK\",\"INCONSISTENCIA\")","v":{"$error":"#REF!"}}]
["MATRÍCULA","II-2.2.2","II-2.2.8",null,{"$f":"IF(#REF!=#REF!,\"OK\",\"INCONSISTENCIA\")","v":{"$error":"#REF!"}}]
["MATRÍCULA","II-2.2.1","II-2.2.6",null,{"$f":"IF(#REF!=#REF!,\"OK\",\"INCONSISTENCIA\")","v":{"$error":"#REF!"}}]
["MATRÍCULA","II-2.2.2","II-2.2.8",null,{"$f":"IF(#REF!=#REF!,\"OK\",\"INCONSISTENCIA\")","v":{"$error":"#REF!"}}]
["MATRÍCULA","II-2.2.1","II-2.2.8",null,{"$f":"IF(#REF!=#REF!,\"OK\",\"INCONSISTENCIA\")","v":{"$error":"#REF!"}}]
["MATRÍCULA","II-2.2.2","II-2.2.9",null,{"$f":"IF(#REF!=#REF!,\"OK\",\"INCONSISTENCIA\")","v":{"$error":"#REF!"}}]
["MATRÍCULA","II-2.2.1","II-2.2.10",null,{"$f":"IF(#REF!=#REF!,\"OK\",\"INCONSISTENCIA\")","v":{"$error":"#REF!"}}]
["MATRÍCULA","II-2.2.2","II-2.2.11",null,{"$f":"IF(#REF!=#REF!,\"OK\",\"INCONSISTENCIA\")","v":{"$error":"#REF!"}}]
["MATRÍCULA","II-2.2.1","II-2.2.11",null,{"$f":"IF(#REF!=#REF!,\"OK\",\"INCONSISTENCIA\")","v":{"$error":"#REF!"}}]
["MATRÍCULA","II-2.2.12","II-2.2.13",null,{"$f":"IF(#REF!=#REF!,\"OK\",\"INCONSISTENCIA\")","v":{"$error":"#REF!"}}]
["MATRÍCULA","II-2.2.10","II-2.2.12",null,{"$f":"IF(#REF!=#REF!,\"OK\",\"INCONSISTENCIA\")","v":{"$error":"#REF!"}}]
["MATRÍCULA","II-2.2.12","II-2.2.13",null,{"$f":"IF(#REF!=#REF!,\"OK\",\"INCONSISTENCIA\")","v":{"$error":"#REF!"}}]
["MATRÍCULA","II-2.2.13","II-2.2.14",null,{"$f":"IF(#REF!=#REF!,\"OK\",\"INCONSISTENCIA\")","v":{"$error":"#REF!"}}]
["MATRÍCULA","II-2.2.13","II-2.2.14",null,{"$f":"IF(#REF!=#REF!,\"OK\",\"INCONSISTENCIA\")","v":{"$error":"#REF!"}}]
["MATRÍCULA","II-2.2.1","II-2.2.15",null,{"$f":"IF(#REF!=#REF!+#REF!,\"OK\",\"INCONSISTENCIA\")","v":{"$error":"#REF!"}}]
["MATRÍCULA","II-2.2.16","II-2.2.17",null,{"$f":"IF(#REF!=#REF!,\"OK\",\"INCONSISTENCIA\")","v":{"$error":"#REF!"}}]
["MATRÍCULA","II-2.2.1","II-2.2.18",null,{"$f":"IF(#REF!=#REF!,\"OK\",\"INCONSISTENCIA\")","v":{"$error":"#REF!"}}]

{"sheet":"II-2.1.1","index":179,"n_rows":32,"n_cols":6,"rows_kept":32,"cut":false,"hidden":false,"merged":[[7,4,8,4],[7,5,8,5],[30,0,30,7],[0,4,1,6],[3,0,3,5],[4,0,8,0],[4,2,4,5],[5,1,8,1],[5,2,5,5],[6,2,6,3],[6,4,6,5],[7,2,8,2],[7,3,8,3]]}
["CONSEJO DE EDUCACIÓN PRIMARIA",null,null,null,"ESTABLECIMIENTOS"]
[]
["Cuadro Nº II-2.1.1"]
["ESTABLECIMIENTOS DE EDUCACIÓN PRIMARIA POR FORMA DE ADMINISTRACIÓN Y TIPO DE EDUCACIÓN SEGÚN DEPARTAMENTO. AÑO 2013."]
["DEPARTAMENTO",null,"FORMA DE ADMINISTRACIÓN"]
[null,"TOTAL","TIPO DE EDUCACIÓN"]
[null,null,"PÚBLICA",null,"PRIVADA"]
[null,null,"Común","Especial","Común","Especial"]
[]
["TOTAL",{"$f":"+C10+D10+E10+F10","v":2544},{"$f":"SUM(C11:C12)","v":2051},{"$f":"SUM(D11:D12)","v":80},{"$f":"SUM(E11,E12)","v":345},{"$f":"SUM(F11:F12)","v":68}]
["MONTEVIDEO",{"$f":"+C11+D11+E11+F11","v":491},249,26,173,43]
["RESTO DEL PAÍS.",2053,{"$f":"SUM(C13:C30)","v":1802},{"$f":"SUM(D13:D30)","v":54},{"$f":"SUM(E13:E30)","v":172},{"$f":"SUM(F13:F30)","v":25}]
["Artigas",83,77,2,2,2]
["Canelones",307,233,10,60,4]
["Cerro Largo.",126,117,3,6,0]
["Colonia",140,126,4,9,1]
["Durazno",85,79,2,4,0]
["Flores.",40,36,1,3,0]
["Florida",104,98,2,3,1]
["Lavalleja",100,91,2,7,0]
["Maldonado",110,77,4,26,3]
["Paysandú.",121,105,2,9,5]
["Río Negro.",71,61,2,7,1]
["Rivera",135,123,4,8,0]
["Rocha.",79,71,3,4,1]
["Salto",115,101,3,7,4]
["San José",115,105,4,6,0]
["Soriano",108,99,3,3,3]
["Tacuarembó.",142,134,2,6,0]
["Treinta y Tres.",72,69,1,2,0]
["Fuente: Procesamiento propio en base a datos proporcionados por el D.E.E. — C.E.I.P."]
["Nota: Pública no incluye JICI"]

{"sheet":" II-2.1.2","index":180,"n_rows":33,"n_cols":12,"rows_kept":33,"cut":false,"hidden":false,"merged":[[0,10,1,11],[4,0,4,11],[5,0,9,0],[5,1,9,1],[5,2,5,11],[6,3,6,8],[6,10,6,11],[7,2,9,2],[7,3,7,8],[7,9,9,9],[7,10,7,11],[8,3,9,3],[8,4,9,4],[8,5,9,5],[8,6,9,6],[8,7,9,7],[8,8,9,8],[8,10,9,10],[8,11,9,11]]}
["CONSEJO DE EDUCACIÓN PRIMARIA",null,null,null,null,null,null,null,null,null,"ESTABLECIMIENTOS"]
[]
["Cuadro Nº II-2.1.2"]
[]
["ESTABLECIMIENTOS DE EDUCACIÓN PRIMARIA PÚBLICA COMÚN POR ÁREA DEMOGRÁFICA Y CATEGORÍA SEGÚN DEPARTAMENTO AÑO 2013."]
["DEPARTAMENTO","TOTAL","ÁREA DEMOGRÁFICA"]
[null,null,null,"URBANA",null,null,null,null,null,null,"RURAL"]
[null,null,"Total Urbana","CATEGORÍA",null,null,null,null,null,"Total Rural","CATEGORÍA"]
[null,null,null,"Común","De Práctica","Tiempo Completo","Aprender","Tiempo Extendido","JICI",null,"Común","Internado Rural"]
[]
["TOTAL",{"$f":"+C11+J11","v":2063},{"$f":"+D11+E11+F11+G11+H11+I11","v":952},{"$f":"SUM(D12:D13)","v":329},{"$f":"SUM(E12:E13)","v":129},188,265,29,12,{"$f":"SUM(J12:J13)","v":1111},1105,6]
["MONTEVIDEO",{"$f":"+C12+J12","v":253},{"$f":"+D12+E12+F12+G12+H12+I12","v":253},93,22,43,87,4,4,0,0,0]
["RESTO DEL PAÍS",1810,{"$f":"+D13+E13+F13+G13+H13+I13","v":699},{"$f":"SUM(D14:D31)","v":236},107,145,178,25,8,1111,1105,6]
["Artigas",77,30,5,6,8,10,1,0,{"$f":"+K14+L14","v":47},46,1]
["Canelones",234,138,41,19,25,47,5,1,{"$f":"+K15+L15","v":96},96,0]
["Cerro Largo",118,30,4,7,7,9,2,1,88,88,0]
["Colonia",127,44,22,7,6,7,1,1,83,83,0]
["Durazno",80,25,8,5,5,6,0,1,55,55,0]
["Flores",36,10,3,2,4,0,1,0,26,25,1]
["Florida",98,31,13,5,6,2,5,0,67,67,0]
["Lavalleja",91,25,11,3,7,3,1,0,66,66,0]
["Maldonado",77,41,19,5,11,5,1,0,36,35,1]
["Paysandú",106,49,17,7,9,15,0,1,57,55,2]
["Río Negro",61,22,11,4,5,2,0,0,39,38,1]
["Rivera",124,42,10,6,8,17,0,1,82,82,0]
["Rocha",71,32,12,4,9,7,0,0,39,39,0]
["Salto",101,40,6,7,12,13,2,0,61,61,0]
["San José",106,38,19,5,5,5,3,1,68,68,0]
["Soriano",99,36,15,4,7,10,0,0,63,63,0]
["Tacuarembó",134,43,12,5,6,17,3,0,91,91,0]
["Treinta y Tres",70,23,8,6,5,3,0,1,47,47,0]
["Fuente: Procesamiento propio en base a datos proporcionados por el DEE — CEIP",null,null,null,null,"D.E.E.-C.E.I.P."]
["Nota: Este año se incorpora la categoría Tiempo Extendido"]

{"sheet":"II-2.1.3","index":181,"n_rows":35,"n_cols":5,"rows_kept":35,"cut":false,"hidden":false,"merged":[[30,0,30,4],[0,3,1,4],[4,0,4,4],[5,0,7,0],[5,1,7,1],[5,2,5,4],[6,2,7,2],[6,3,7,3],[6,4,7,4]]}
["CONSEJO DE EDUCACIÓN PRIMARIA",null,null,"Establecimientos"]
[]
["Cuadro Nº II-2.1.3"]
[]
["ESTABLECIMIENTOS DE EDUCACIÓN PRIMARIA PÚBLICA ESPECIAL POR TIPO DE DISCAPACIDAD SEGÚN DEPARTAMENTO AÑO 2013."]
["DEPARTAMENTO","TOTAL","DISCAPACIDAD"]
[null,null,"Intelectual","Auditiva","Visual"]
[]
["TOTAL",{"$f":"+B10+B11","v":80},{"$f":"SUM(C10:C11)","v":74},{"$f":"SUM(D10:D11)","v":4},{"$f":"SUM(E10:E11)","v":2}]
["MONTEVIDEO",{"$f":"+C10+D10+E10","v":26},23,1,2]
["RESTO DEL PAÍS",{"$f":"SUM(B12:B29)","v":54},{"$f":"SUM(C12:C29)","v":51},{"$f":"SUM(D12:D29)","v":3},{"$f":"SUM(E12:E29)","v":0}]
["Artigas",{"$f":"+C12+D12+E12","v":2},2,0,0]
["Canelones",10,10,0,0]
["Cerro Largo",3,3,0,0]
["Colonia",4,4,0,0]
["Durazno",2,2,0,0]
["Flores",1,1,0,0]
["Florida",2,2,0,0]
["Lavalleja",2,2,0,0]
["Maldonado",4,3,1,0]
["Paysandú",2,2,0,0]
["Río Negro",2,2,0,0]
["Rivera",4,3,1,0]
["Rocha",3,3,0,0]
["Salto",3,2,1,0]
["San José",4,4,0,0]
["Soriano",3,3,0,0]
["Tacuarembó",2,2,0,0]
["Treinta y Tres",1,1,0,0]
["Fuente: DEE — CEIP",null,0]
["Nota: Los establecimientos que atienden discapacidades intelectuales, además de atender niños con disfunciones clásicamente tipificadas como “Intelectuales”, atienden a los niños con discapacidades de orden motriz o de carácter, lo que implica que la matrícula correspondiente los agrupa."]
["        "]
["        "]
["       "]
["        "]

{"sheet":"II-2.1.4","index":182,"n_rows":31,"n_cols":6,"rows_kept":31,"cut":false,"hidden":false,"merged":[[0,4,1,5],[4,0,4,5],[5,0,8,0],[5,1,8,1],[5,3,5,5],[6,2,8,2],[6,3,6,4],[6,5,8,5],[6,8,6,15],[7,3,8,3],[7,4,8,4],[7,8,7,15],[11,8,12,9],[11,10,12,10],[11,11,11,13]]}
["CONSEJO DE EDUCACIÓN PRIMARIA",null,null,null,"ESTABLECIMIENTOS"]
[]
["Cuadro Nº II-2.1.4"]
[]
["ESTABLECIMIENTOS DE EDUCACIÓN PRIMARIA PRIVADA POR TIPO DE EDUCACIÓN SEGÚN DEPARTAMENTO. AÑO 2013."]
["DEPARTAMENTO","TOTAL",null,"TIPO DE EDUCACIÓN"]
[null,null,"Total","EDUCACIÓN COMÚN",null,"EDUCACIÓN ESPECIAL"]
[null,null,null,"Habilitados","Autorizados"]
[]
["TOTAL DEL PAÍS",{"$f":"+C10+F10","v":413},{"$f":"+D10+E10","v":345},{"$f":"SUM(D11:D12)","v":328},{"$f":"SUM(E11:E12)","v":17},{"$f":"SUM(F11:F12)","v":68}]
["MONTEVIDEO",{"$f":"+C11+F11","v":216},{"$f":"+D11+E11","v":173},163,10,43]
["RESTO DEL PAÍS",197,172,{"$f":"SUM(D13:D30)","v":165},{"$f":"SUM(E13:E30)","v":7},{"$f":"SUM(F13:F30)","v":25}]
["Artigas",4,2,2,0,2]
["Canelones",64,60,56,4,4]
["Cerro Largo",6,6,6,0,0]
["Colonia",10,9,9,0,1]
["Durazno",4,4,4,0,0]
["Flores",3,3,3,0,0]
["Florida",4,3,3,0,1]
["Lavalleja",7,7,7,0,0]
["Maldonado",29,26,26,0,3]
["Paysandú",14,9,9,0,5]
["Río Negro",8,7,5,2,1]
["Rivera",8,8,8,0,0]
["Rocha",5,4,4,0,1]
["Salto",11,7,7,0,4]
["San José",6,6,5,1,0]
["Soriano",6,3,3,0,3]
["Tacuarembó",6,6,6,0,0]
["Treinta y Tres",2,2,2,0,0]
["Fuente: Procesamiento propio en base a datos proporcionados por el D.E.E. — C.E.I.P."]

{"sheet":"II-2.2.1","index":183,"n_rows":31,"n_cols":10,"rows_kept":31,"cut":false,"hidden":false,"merged":[[6,7,7,7],[6,8,6,9],[30,0,30,9],[0,7,1,9],[3,0,3,9],[4,0,7,0],[4,1,7,1],[4,2,4,9],[5,2,6,3],[5,4,5,6],[5,7,5,9],[6,4,7,4],[6,5,6,6]]}
["CONSEJO DE EDUCACIÓN PRIMARIA",null,null,null,null,null,null,"ALUMNOS MATRICULADOS"]
[]
["Cuadro Nº II-2.2.1"]
["ALUMNOS MATRICULADOS EN EDUCACIÓN PRIMARIA COMÚN POR FORMA DE ADMINISTRACIÓN Y SEXO SEGÚN DEPARTAMENTO AÑO 2013"]
["DEPARTAMENTO","TOTAL","FORMA DE ADMINISTRACIÓN"]
[null,null,"TOTAL",null,"PÚBLICA",null,null,"PRIVADA"]
[null,null,null,null,"TOTAL","SEXO",null,"TOTAL","SEXO"]
[null,null,"M","F",null,"M","F",null,"M","F"]
["TOTAL",{"$f":"E9+H9","v":314048},{"$f":"+F9+I9","v":161751},{"$f":"+G9+J9","v":152297},{"$f":"+F9+G9","v":260476},{"$f":"SUM(F10:F11)","v":134611},{"$f":"SUM(G10:G11)","v":125865},{"$f":"+I9+J9","v":53572},{"$f":"SUM(I10:I11)","v":27140},{"$f":"SUM(J10:J11)","v":26432}]
["MONTEVIDEO",{"$f":"E10+H10","v":113031},{"$f":"+F10+I10","v":58106},54925,{"$f":"+F10+G10","v":80120},41433,38687,{"$f":"+I10+J10","v":32911},16673,16238]
["RESTO DEL PAÍS",201017,103645,97372,{"$f":"SUM(E12:E29)","v":180356},{"$f":"SUM(F12:F29)","v":93178},{"$f":"SUM(G12:G29)","v":87178},{"$f":"+I11+J11","v":20661},{"$f":"SUM(I12:I29)","v":10467},{"$f":"SUM(J12:J29)","v":10194}]
["Artigas",8124.9999999999982,4266.9999999999991,3857.9999999999986,{"$f":"+F12+G12","v":7984.9999999999982},4197.9999999999991,3786.9999999999986,{"$f":"+I12+J12","v":140},69,71]
["Canelones",50964,26263.999999999996,24700.000000000004,{"$f":"+F13+G13","v":43484},22443.999999999996,21040.000000000004,7480,3820,3660]
["Cerro Largo",9163.0000000000018,4664,4499.0000000000018,8541.0000000000018,4361,4180.0000000000018,622,303,319]
["Colonia",11284.000000000005,5771.0000000000045,5513.0000000000009,10554.000000000005,5407.0000000000045,5147.0000000000009,730,364,366]
["Durazno",5929,3027.0000000000005,2901.9999999999995,5264,2713.0000000000005,2550.9999999999995,665,314,351]
["Flores",2428,1180,1248.0000000000002,2133,1029,1104.0000000000002,295,151,144]
["Florida",6419.0000000000018,3336.0000000000009,3083.0000000000014,6137.0000000000018,3191.0000000000009,2946.0000000000014,282,145,137]
["Lavalleja",5459.0000000000018,2857.0000000000009,2602.0000000000005,4814.0000000000018,2527.0000000000009,2287.0000000000005,645,330,315]
["Maldonado",17449.000000000004,8896.0000000000018,8553,13325.000000000004,6795.0000000000018,6530.0000000000009,4124,2101,2023]
["Paysandú",12493.000000000004,6517,5976.0000000000027,11317.000000000004,5898,5419.0000000000027,1176,619,557]
["Río Negro",6058.0000000000018,3100.0000000000005,2958.0000000000009,5552.0000000000018,2836.0000000000005,2716.0000000000009,506,264,242]
["Rivera",11192.000000000002,5901.0000000000009,5291.0000000000009,10536.000000000002,5543.0000000000009,4993.0000000000009,656,358,298]
["Rocha",6870.9999999999991,3582.9999999999995,3287.9999999999995,6503.9999999999991,3407.9999999999995,3095.9999999999995,367,175,192]
["Salto",14007,7273,6734,12906,6735,6171,1101,538,563]
["San José",10316.000000000004,5298.0000000000018,5018.0000000000009,9716.0000000000036,5032.0000000000018,4684.0000000000009,600,266,334]
["Soriano",8574.0000000000018,4380.0000000000009,4194,8137.0000000000018,4162.0000000000009,3975.0000000000005,437,218,219]
["Tacuarembó",9532,4886.0000000000009,4646,8901,4570.0000000000009,4331,631,316,315]
["Treinta y Tres",4754,2445,2309.0000000000005,4550,2329,2221.0000000000005,204,116,88]
["Fuente: Procesamiento propio en base a datos proporcionados por el DEE — CEIP."]
["Nota: Pública no incluye JICI."]

{"sheet":"II-2.2.2","index":184,"n_rows":32,"n_cols":12,"rows_kept":32,"cut":false,"hidden":false,"merged":[[0,7,1,9],[4,0,4,11],[5,0,9,0],[5,1,9,1],[5,2,8,3],[5,4,5,11],[6,4,7,6],[6,7,6,11],[7,7,9,7],[7,8,7,9],[34,0,34,9],[7,10,7,11],[8,4,9,4],[8,5,8,6],[8,8,8,9],[8,10,8,11],[9,141,9,142],[9,143,9,144],[9,145,9,146],[9,147,9,148],[32,0,32,9],[9,139,9,140]]}
["CONSEJO DE EDUCACIÓN PRIMARIA",null,null,null,null,null,null,"ALUMNOS MATRICULADOS"]
[]
["Cuadro Nº II-2.2.2"]
[]
["ALUMNOS MATRICULADOS EN EDUCACIÓN PRIMARIA PÚBLICA POR TIPO DE EDUCACIÓN Y SEXO SEGÚN DEPARTAMENTO. AÑO 2013."]
["DEPARTAMENTO","TOTAL","TOTAL SEXO",null,"TIPO DE EDUCACIÓN "]
[null,null,null,null,"COMÚN ",null,null,"ESPECIAL "]
[null,null,null,null,null,null,null,"Total","ESCUELAS\nESPECIALES",null,"CLASES ESPECIALES EN ESCUELAS COMUNES"]
[null,null,null,null,"Total","SEXO",null,null,"SEXO",null,"SEXO"]
[null,null,"M","F",null,"M","F",null,"M","F","M","F"]
["TOTAL",{"$f":"+C11+D11","v":267289},{"$f":"+F11+I11+K11","v":138802},{"$f":"+G11+J11+L11","v":128487},{"$f":"+F11+G11","v":260476},{"$f":"SUM(F12:F13)","v":134611},{"$f":"SUM(G12:G13)","v":125865},{"$f":"+I11+J11+K11+L11","v":6813},{"$f":"SUM(I12:I13)","v":4101},{"$f":"SUM(J12:J13)","v":2561},{"$f":"SUM(K12:K13)","v":90},{"$f":"SUM(L12:L13)","v":61}]
["MONTEVIDEO",{"$f":"+C12+D12","v":82686},{"$f":"+F12+I12+K12","v":42992},39694,{"$f":"+F12+G12","v":80120},41433,38687,{"$f":"+I12+J12+K12+L12","v":2566},1559,1007,0,0]
["RESTO DEL PAÍS",184603,95810,88793,{"$f":"+F13+G13","v":180356},{"$f":"SUM(F14:F31)","v":93178},87178,4247,2542,1554,90,61]
["Artigas",8155.9999999999982,4306.9999999999991,3848.9999999999986,{"$f":"+F14+G14","v":7984.9999999999982},4197.9999999999991,3786.9999999999986,171,104,57,5,5]
["Canelones",44238,22931.999999999996,21306.000000000004,43484,22443.999999999996,21040.000000000004,754,459,259,29,7]
["Cerro Largo",8775.0000000000018,4503,4272.0000000000018,8541.0000000000018,4361,4180.0000000000018,234,136,88,6,4]
["Colonia",10799.000000000005,5570.0000000000045,5229.0000000000009,10554.000000000005,5407.0000000000045,5147.0000000000009,245,156,78,7,4]
["Durazno",5450,2825.0000000000005,2624.9999999999995,5264,2713.0000000000005,2550.9999999999995,186,107,66,5,8]
["Flores",2187,1064,1123.0000000000002,2133,1029,1104.0000000000002,54,35,18,0,1]
["Florida",6300.0000000000018,3295.0000000000009,3005.0000000000014,6137.0000000000018,3191.0000000000009,2946.0000000000014,163,101,55,3,4]
["Lavalleja",4969.0000000000018,2628.0000000000009,2341.0000000000005,4814.0000000000018,2527.0000000000009,2287.0000000000005,155,98,52,3,2]
["Maldonado",13610.000000000004,6958.0000000000018,6652.0000000000009,13325.000000000004,6795.0000000000018,6530.0000000000009,285,163,122,0,0]
["Paysandú",11549.000000000004,6033,5516.0000000000027,11317.000000000004,5898,5419.0000000000027,232,123,89,12,8]
["Río Negro",5729.0000000000018,2940.0000000000005,2789.0000000000009,5552.0000000000018,2836.0000000000005,2716.0000000000009,177,103,70,1,3]
["Rivera",10743.000000000002,5670.0000000000009,5073.0000000000009,10536.000000000002,5543.0000000000009,4993.0000000000009,207,127,80,0,0]
["Rocha",6756.9999999999991,3563.9999999999995,3192.9999999999995,6503.9999999999991,3407.9999999999995,3095.9999999999995,253,156,97,0,0]
["Salto",13273,6963,6310,12906,6735,6171,367,226,134,2,5]
["San José",9991.0000000000036,5204.0000000000018,4787.0000000000009,9716.0000000000036,5032.0000000000018,4684.0000000000009,275,167,103,5,0]
["Soriano",8339.0000000000018,4286.0000000000009,4053.0000000000005,8137.0000000000018,4162.0000000000009,3975.0000000000005,202,121,78,3,0]
["Tacuarembó",9084,4681.0000000000009,4403,8901,4570.0000000000009,4331,183,103,64,8,8]
["Treinta y Tres",4654,2387,2267.0000000000005,4550,2329,2221.0000000000005,104,57,44,1,2]
["Fuente: Procesamiento propio en base a datos proporcionados por el D.E.E. — C.E.I.P."]

{"sheet":"II-2.2.3","index":185,"n_rows":32,"n_cols":14,"rows_kept":32,"cut":false,"hidden":false,"merged":[[0,9,1,11],[4,0,4,11],[5,0,9,0],[5,1,9,1],[5,2,5,11],[6,2,6,8],[6,10,6,11],[7,2,9,2],[7,3,7,8],[7,9,9,9],[7,10,7,11],[8,3,9,3],[8,4,9,4],[8,5,9,5],[8,6,9,6],[8,7,9,7],[8,8,9,8],[8,10,9,10],[8,11,9,11]]}
["CONSEJO DE EDUCACIÓN PRIMARIA",null,null,null,null,null,null,null,null,"ALUMNOS MATRICULADOS"]
[]
["Cuadro Nº II-2.2.3"]
[]
["ALUMNOS MATRICULADOS EN EDUCACIÓN PRIMARIA PÚBLICA COMÚN POR ÁREA DEMOGRÁFICA Y CATEGORÍA SEGÚN DEPARTAMENTO AÑO 2013.",null,null,null,null,null,null,null,null,null,null,null,null,"VOLVER"]
["DEPARTAMENTO","TOTAL","ÁREA DEMOGRÁFICA"]
[null,null,"URBANA",null,null,null,null,null,null,null,"RURAL"]
[null,null,"Total Urbana","CATEGORÍA",null,null,null,null,null,"Total Rural","CATEGORÍA"]
[null,null,null,"Común","De Práctica","Tiempo Completo","Aprender","Tiempo Extendido","JICI",null,"Común","Internado Rural"]
[]
["TOTAL",{"$f":"+C11+J11","v":261188},{"$f":"+D11+E11+F11+G11+H11+I11","v":245840},{"$f":"SUM(D12:D13)","v":90187},41157,32957,77268,3559,712,{"$f":"+K11+L11","v":15348},{"$f":"SUM(K12:K13)","v":15215},{"$f":"SUM(L12:L13)","v":133}]
["MONTEVIDEO",{"$f":"+C12+J12","v":80447},{"$f":"+D12+E12+F12+G12+H12+I12","v":80447},31313,6359,9704,31830,914,327,{"$f":"+K12+L12","v":0},0,0]
["RESTO DEL PAÍS",{"$f":"+C13+J13","v":180741},{"$f":"+D13+E13+F13+G13+H13+I13","v":165393},{"$f":"SUM(D14:D31)","v":58874},34798,23253,45438,2645,385,15348,{"$f":"SUM(K14:K31)","v":15215},{"$f":"SUM(L14:L31)","v":133}]
["Artigas",{"$f":"+C14+J14","v":7985},{"$f":"+D14+E14+F14+G14+H14+I14","v":7262},1608,1909,1308,2329,108,0,723,679,44]
["Canelones",43530,{"$f":"+D15+E15+F15+G15+H15+I15","v":41058},13858,6526,4534,15773,321,46,2472,2472,0]
["Cerro Largo",8588,7674,1489,2444,952,2466,276,47,914,914,0]
["Colonia",10599,9502,5581,2151,1118,536,71,45,1097,1097,0]
["Durazno",5304,4858,1307,1587,716,1208,0,40,446,446,0]
["Flores",2133,1903,763,554,472,0,114,0,230,207,23]
["Florida",6137,5335,2153,1540,664,505,473,0,802,802,0]
["Lavalleja",4814,4376,1816,957,905,552,146,0,438,438,0]
["Maldonado",13325,12663,6614,2217,1427,2135,270,0,662,647,15]
["Paysandú",11333,10358,3239,2145,1597,3361,0,16,975,935,40]
["Río Negro",5552,4985,2763,1235,755,232,0,0,567,556,11]
["Rivera",10583,9578,2573,1681,1413,3864,0,47,1005,1005,0]
["Rocha",6504,6212,2836,1090,1117,1169,0,0,292,292,0]
["Salto",12906,11543,1890,2855,2533,4027,238,0,1363,1363,0]
["San José",9804,8688,4094,1299,1116,1771,320,88,1116,1116,0]
["Soriano",8137,7428,2671,1626,1050,2081,0,0,709,709,0]
["Tacuarembó",8901,7739,2083,1322,893,3133,308,0,1162,1162,0]
["Treinta y Tres",4606,4231,1536,1660,683,296,0,56,375,375,0]
["Fuente: Procesamiento propio en base a datos proporcionados por el D.E.E .— C.E.I.P."]

{"sheet":"II-2.2.4","index":186,"n_rows":33,"n_cols":6,"rows_kept":33,"cut":false,"hidden":false,"merged":[[32,0,32,5],[0,4,1,5],[4,0,4,5],[5,0,7,1],[5,2,7,2],[5,3,5,5],[6,3,7,3],[6,4,7,4],[6,5,7,5]]}
["CONSEJO DE EDUCACIÓN PRIMARIA",null,null,null,"Alumnos matriculados"]
[]
["Cuadro Nº II-2.2.4"]
[]
["ALUMNOS MATRICULADOS EN EDUCACIÓN PRIMARIA PÚBLICA ESPECIAL POR TIPO DE DISCAPACIDAD SEGÚN DEPARTAMENTO. AÑO 2013."]
["DEPARTAMENTO",null,"TOTAL","DISCAPACIDAD"]
[null,null,null,"Intelectual","Auditiva","Visual"]
[]
["TOTAL",null,{"$f":"+C11+C12","v":6813},{"$f":"SUM(D11:D12)","v":6425},{"$f":"SUM(E11:E12)","v":281},{"$f":"SUM(F11:F12)","v":107}]
[]
["MONTEVIDEO",null,{"$f":"+D11+E11+F11","v":2566},2399,84,83]
["RESTO DEL PAÍS",null,{"$f":"SUM(C13:C30)","v":4247},{"$f":"SUM(D13:D30)","v":4026},{"$f":"SUM(E13:E30)","v":197},{"$f":"SUM(F13:F30)","v":24}]
["Artigas",null,{"$f":"+D13+E13+F13","v":171},161,10,0]
["Canelones",null,754,730,24,0]
["Cerro Largo",null,234,224,10,0]
["Colonia",null,245,234,11,0]
["Durazno",null,186,173,10,3]
["Flores",null,54,53,1,0]
["Florida",null,163,156,7,0]
["Lavalleja",null,155,150,5,0]
["Maldonado",null,285,264,21,0]
["Paysandú",null,232,212,14,6]
["Río Negro",null,177,173,4,0]
["Rivera",null,207,183,24,0]
["Rocha",null,253,253,0,0]
["Salto",null,367,323,37,7]
["San José",null,275,270,5,0]
["Soriano",null,202,199,3,0]
["Tacuarembó",null,183,167,8,8]
["Treinta y Tres",null,104,101,3,0]
["Fuente: D.E.E. — C.E.P."]
["Nota:  Incluyen Escuelas Especiales y Clases Especiales en Escuelas Comunes."]
["Para el Interior del país las clases orientadas a discapacitados visuales y    fonoaudiología se realizan en  Escuelas Comunes,  excepto en Maldonado, Rivera y Salto donde funcionan Escuelas de Fonoaudiología."]

{"sheet":"II-2.2.5","index":187,"n_rows":32,"n_cols":44,"rows_kept":32,"cut":false,"hidden":false,"merged":[[0,13,1,17],[4,0,4,15],[5,0,9,0],[5,1,9,1],[5,2,9,2],[5,3,9,3],[5,4,5,43],[6,4,6,5],[6,6,6,7],[6,8,6,9],[6,42,6,43],[7,4,7,43],[6,22,6,23],[6,24,6,25],[6,26,6,27],[6,28,6,29],[6,30,6,31],[6,32,6,33],[6,10,6,11],[6,12,6,13],[6,14,6,15],[6,16,6,17],[6,18,6,19],[6,20,6,21],[8,9,9,9],[6,34,6,35],[6,36,6,37],[6,38,6,39],[6,40,6,41],[8,21,9,21],[8,10,9,10],[8,11,9,11],[8,12,9,12],[8,13,9,13],[8,14,9,14],[8,15,9,15],[8,16,9,16],[8,17,9,17],[8,18,9,18],[8,19,9,19],[8,4,9,4],[8,5,9,5],[8,6,9,6],[8,7,9,7],[8,8,9,8],[8,20,9,20],[8,33,9,33],[8,22,9,22],[8,23,9,23],[8,24,9,24],[8,25,9,25],[8,26,9,26],[8,27,9,27],[8,28,9,28],[8,29,9,29],[8,30,9,30],[8,31,9,31],[8,32,9,32],[8,40,9,40],[8,41,9,41],[8,42,9,42],[8,43,9,43],[8,34,9,34],[8,35,9,35],[8,36,9,36],[8,37,9,37],[8,38,9,38],[8,39,9,39]]}
["CONSEJO DE EDUCACIÓN PRIMARIA",null,null,null,null,null,null,null,null,null,null,null,null,"ALUMNOS MATRICULADOS"]
[]
["Cuadro Nº II-2.2.5"]
[]
["ALUMNOS MATRICULADOS EN EDUCACIÓN ESPECIAL PÚBLICA POR EDADES SIMPLES Y SEXO SEGÚN DEPARTAMENTO AÑO 2013"]
["DEPARTAMENTO","TOTAL GENERAL","TOTAL MASCULINO","TOTAL FEMENINO","EDAD"]
[null,null,null,null,"Menos de 3 años",null,"3 años",null,"4 años",null,"5 años",null,"6 años",null,"7 años",null,"8 años",null,"9 años",null,"10 años",null,"11 años",null,"12 años",null,"13 años",null,"14 años",null,"15 años",null,"16 años",null,"17 años",null,"18 años",null,"19 años",null,"20 años",null,"21 años"]
[null,null,null,null,"SEXO"]
[null,null,null,null,"M","F","M","F","M","F","M","F","M","F","M","F","M","F","M","F","M","F","M","F","M","F","M","F","M","F","M","F","M","F","M","F","M","F","M","F","M","F","M","F"]
[]
["TOTAL",{"$f":"C11+D11","v":6813},{"$f":"E11+G11+I11+K11+M11+O11+Q11+S11+U11+W11+Y11+AA11+AC11+AE11+AG11+AI11+AK11+AM11+AO11+AQ11","v":4191},{"$f":"F11+H11+J11+L11+N11+P11+R11+T11+V11+X11+Z11+AB11+AD11+AF11+AH11+AJ11+AL11+AN11+AP11+AR11","v":2622},{"$f":"SUM(E12:E13)","v":7},0,7,3,27,17,61,39,129,85,224,131,{"$f":"SUM(Q12:Q13)","v":352},230,394,248,471,265,466,276,478,279,477,290,399,248,257,162,140,117,87,78,47,31,31,23,23,26,114,74]
["MONTEVIDEO",{"$f":"C12+D12","v":2566},{"$f":"E12+G12+I12+K12+M12+O12+Q12+S12+U12+W12+Y12+AA12+AC12+AE12+AG12+AI12+AK12+AM12+AO12+AQ12","v":1559},1007,4,0,3,0,7,11,24,14,46,28,58,37,128,75,125,87,163,102,159,78,167,107,164,105,160,97,102,70,61,55,53,45,27,13,19,15,17,22,72,46]
["RESTO DEL PAÍS",4247,2632,1615,{"$f":"SUM(E14:E31)","v":3},0,4,3,20,6,37,25,83,57,166,94,224,155,269,161,308,163,307,198,311,172,313,185,239,151,155,92,79,62,34,33,20,18,12,8,6,4,42,28]
["Artigas",171,109,62,0,0,0,0,0,0,2,2,8,0,2,5,13,8,14,5,15,2,9,11,15,7,10,10,14,7,3,2,1,1,2,2,1,0,0,0,0,0,0,0]
["Canelones",754,488,266,0,0,0,1,8,0,8,3,21,6,35,18,56,23,54,32,48,31,57,30,49,20,50,28,42,27,30,17,16,12,5,8,4,6,2,2,1,1,2,1]
["Cerro Largo",234,142,92,0,0,0,0,0,0,3,3,2,2,6,4,10,6,15,4,19,9,14,13,16,12,10,8,15,12,11,6,7,2,4,4,1,1,4,1,1,0,4,5]
["Colonia",245,163,82,0,0,0,1,0,0,1,2,1,5,10,2,9,5,14,6,15,8,11,5,17,8,32,9,21,10,12,7,5,5,9,1,2,1,1,3,2,1,1,3]
["Durazno",186,112,74,0,0,0,0,1,0,1,1,1,2,5,5,9,3,9,5,6,11,14,3,14,14,17,6,9,4,13,7,7,3,2,4,3,5,0,0,1,1,0,0]
["Flores",54,35,19,0,0,0,0,0,0,0,0,0,0,4,3,3,2,4,3,2,1,4,1,3,2,6,2,5,1,3,2,0,1,1,1,0,0,0,0,0,0,0,0]
["Florida",163,104,59,0,0,0,0,0,0,1,1,1,0,3,0,9,10,14,8,11,5,15,9,14,6,17,8,6,5,2,4,8,1,0,0,0,1,1,0,0,0,2,1]
["Lavalleja",155,101,54,0,0,0,0,0,1,1,1,5,0,7,3,10,4,4,6,7,4,7,4,7,2,6,6,17,8,15,4,5,6,2,1,2,2,2,0,1,1,3,1]
["Maldonado",285,163,122,2,0,0,0,1,0,4,2,4,5,15,7,9,21,21,14,19,11,23,16,19,12,23,14,13,9,6,2,3,7,0,0,0,1,0,1,0,0,1,0]
["Paysandú",232,135,97,0,0,0,0,1,0,0,2,5,4,19,9,15,11,13,11,23,13,12,10,14,13,16,14,12,3,1,3,2,0,0,3,0,0,1,0,0,0,1,1]
["Río Negro",177,104,73,0,0,0,0,0,0,2,0,9,2,6,4,14,3,5,10,12,6,11,8,16,5,10,8,9,9,9,10,1,7,0,1,0,0,0,0,0,0,0,0]
["Rivera",207,127,80,0,0,2,1,0,0,0,0,1,6,6,3,8,9,11,9,23,8,18,15,21,10,17,9,9,7,7,2,3,1,1,0,0,0,0,0,0,0,0,0]
["Rocha",253,156,97,0,0,0,0,2,1,4,2,4,7,13,8,11,16,31,17,18,10,17,10,17,7,13,1,7,1,3,9,10,7,1,1,4,0,0,0,0,0,1,0]
["Salto",367,228,139,1,0,2,0,3,3,5,4,9,8,12,7,15,9,23,11,21,12,26,16,35,14,38,28,21,16,14,8,1,3,2,0,0,0,0,0,0,0,0,0]
["San José",275,172,103,0,0,0,0,0,0,0,0,2,1,3,6,12,5,16,5,21,11,25,17,22,13,13,13,13,12,15,2,2,1,1,1,0,0,0,0,0,0,27,16]
["Soriano",202,124,78,0,0,0,0,1,0,0,2,6,3,11,4,9,6,8,7,19,13,17,13,17,11,19,5,11,10,5,3,1,0,0,1,0,0,0,0,0,0,0,0]
["Tacuarembó",183,111,72,0,0,0,0,3,0,5,0,3,5,6,5,7,5,8,2,25,8,13,13,9,13,10,9,11,5,6,4,4,1,1,2,0,0,0,0,0,0,0,0]
["Treinta y Tres",104,58,46,0,0,0,0,0,1,0,0,1,1,3,1,5,9,5,6,4,0,14,4,6,3,6,7,4,5,0,0,3,4,3,3,3,1,1,1,0,0,0,0]
["Fuente: Procesamiento propio en base a datos proporcionados por el DEE — CEIP"]

{"sheet":"II-2.2.6","index":188,"n_rows":126,"n_cols":46,"rows_kept":126,"cut":false,"hidden":false,"merged":[[0,4,1,5],[4,0,4,5],[5,0,8,0],[5,1,5,5],[6,1,8,1],[6,2,6,4],[6,5,8,5],[7,2,8,2],[7,3,8,3],[7,4,8,4]]}
["CONSEJO DE EDUCACIÓN PRIMARIA",null,null,null,"ALUMNOS MATRICULADOS"]
[]
["Cuadro Nº II-2.2.6"]
[]
["ALUMNOS MATRICULADOS EN EDUCACIÓN PRIMARIA PRIVADA POR TIPO DE EDUCACIÓN SEGÚN DEPARTAMENTO AÑO 2013"]
["DEPARTAMENTO","TIPO DE EDUCACIÓN"]
[null,"TOTAL","EDUCACIÓN COMÚN",null,null,"EDUCACIÓN ESPECIAL"]
[null,null,"Total","Habilitados","Autorizados"]
[]
["TOTAL DEL PAÍS",{"$f":"SUM(B11:B12)","v":56711.999999999985},{"$f":"+D10+E10","v":53571.999999999985},{"$f":"D11+D12","v":50993.999999999985},{"$f":"E11+E12","v":2578},{"$f":"F11+F12","v":3140.0000000000005}]
["MONTEVIDEO",{"$f":"+C11+F11","v":34921.999999999985},{"$f":"+D11+E11","v":32910.999999999985},30795.999999999989,2115,2011.0000000000005,null,null,null,null,null,null,null,null,null,null,null,null,null,null,null,null,null,null,null,null,null,null,null,null,null,null,null,null,null,null,null,null,null,null,null,null,null,null,null,"MONTEVIDEO"]
["RESTO DEL PAÍS",{"$f":"+C12+F12","v":21790},{"$f":"+D12+E12","v":20661},{"$f":"SUM(D13:D30)","v":20198},{"$f":"SUM(E13:E30)","v":463},{"$f":"SUM(F13:F30)","v":1129},null,null,null,null,null,null,null,null,null,null,null,null,null,null,null,null,null,null,null,null,null,null,null,null,null,null,null,null,null,null,null,null,null,null,null,null,null,null,null,"RESTO DEL PAÍS"]
["Artigas",{"$f":"+C13+F13","v":299},{"$f":"+D13+E13","v":140},140,0,159,null,null,null,null,null,null,null,null,null,null,null,null,null,null,null,null,null,null,null,null,null,null,null,null,null,null,null,null,null,null,null,null,null,null,null,null,null,null,null,"Artigas"]
["Canelones",7535.9999999999982,{"$f":"+D14+E14","v":7479.9999999999982},7061.9999999999982,418,56,null,null,null,null,null,null,null,null,null,null,null,null,null,null,null,null,null,null,null,null,null,null,null,null,null,null,null,null,null,null,null,null,null,null,null,null,null,null,null,"Canelones"]
["Cerro Largo",622,622,622,0,0,null,null,null,null,null,null,null,null,null,null,null,null,null,null,null,null,null,null,null,null,null,null,null,null,null,null,null,null,null,null,null,null,null,null,null,null,null,null,null,"Cerro Largo"]
["Colonia",730,730,730,0,0,null,null,null,null,null,null,null,null,null,null,null,null,null,null,null,null,null,null,null,null,null,null,null,null,null,null,null,null,null,null,null,null,null,null,null,null,null,null,null,"Colonia"]
["Durazno",665,665,665,0,0,null,null,null,null,null,null,null,null,null,null,null,null,null,null,null,null,null,null,null,null,null,null,null,null,null,null,null,null,null,null,null,null,null,null,null,null,null,null,null,"Durazno"]
["Flores",295,295,295,0,0,null,null,null,null,null,null,null,null,null,null,null,null,null,null,null,null,null,null,null,null,null,null,null,null,null,null,null,null,null,null,null,null,null,null,null,null,null,null,null,"Flores"]
["Florida",349,282,282,0,67,null,null,null,null,null,null,null,null,null,null,null,null,null,null,null,null,null,null,null,null,null,null,null,null,null,null,null,null,null,null,null,null,null,null,null,null,null,null,null,"Florida"]
["Lavalleja",645.00000000000011,645.00000000000011,645.00000000000011,0,0,null,null,null,null,null,null,null,null,null,null,null,null,null,null,null,null,null,null,null,null,null,null,null,null,null,null,null,null,null,null,null,null,null,null,null,null,null,null,null,"Lavalleja"]
["Maldonado",4244.0000000000009,4124.0000000000009,4124.0000000000009,0,120,null,null,null,null,null,null,null,null,null,null,null,null,null,null,null,null,null,null,null,null,null,null,null,null,null,null,null,null,null,null,null,null,null,null,null,null,null,null,null,"Maldonado"]
["Paysandú",1312,1176,1176,0,136,null,null,null,null,null,null,null,null,null,null,null,null,null,null,null,null,null,null,null,null,null,null,null,null,null,null,null,null,null,null,null,null,null,null,null,null,null,null,null,"Paysandú"]
["Río Negro",657,506,481,25,151,null,null,null,null,null,null,null,null,null,null,null,null,null,null,null,null,null,null,null,null,null,null,null,null,null,null,null,null,null,null,null,null,null,null,null,null,null,null,null,"Río Negro"]
["Rivera",656,656,656,0,0,null,null,null,null,null,null,null,null,null,null,null,null,null,null,null,null,null,null,null,null,null,null,null,null,null,null,null,null,null,null,null,null,null,null,null,null,null,null,null,"Rivera"]
["Rocha",454,367,367,0,87,null,null,null,null,null,null,null,null,null,null,null,null,null,null,null,null,null,null,null,null,null,null,null,null,null,null,null,null,null,null,null,null,null,null,null,null,null,null,null,"Rocha"]
["Salto",1174,1101,1101,0,73,null,null,null,null,null,null,null,null,null,null,null,null,null,null,null,null,null,null,null,null,null,null,null,null,null,null,null,null,null,null,null,null,null,null,null,null,null,null,null,"Salto"]
["San José",600,600,580,20,0,null,null,null,null,null,null,null,null,null,null,null,null,null,null,null,null,null,null,null,null,null,null,null,null,null,null,null,null,null,null,null,null,null,null,null,null,null,null,null,"San José"]
["Soriano",717,437,437,0,280,null,null,null,null,null,null,null,null,null,null,null,null,null,null,null,null,null,null,null,null,null,null,null,null,null,null,null,null,null,null,null,null,null,null,null,null,null,null,null,"Soriano"]
["Tacuarembó",631,631,631,0,0,null,null,null,null,null,null,null,null,null,null,null,null,null,null,null,null,null,null,null,null,null,null,null,null,null,null,null,null,null,null,null,null,null,null,null,null,null,null,null,"Tacuarembó"]
["Treinta y Tres",204,204,204,0,0,null,null,null,null,null,null,null,null,null,null,null,null,null,null,null,null,null,null,null,null,null,null,null,null,null,null,null,null,null,null,null,null,null,null,null,null,null,null,null,"Treinta y Tres"]
["Fuente: Procesamiento propio en base a datos proporcionados por el D.E.E. — C.E.I.P."]
["Nota: Especial incluye la matrícula de clases especiales en escuelas comunes, "]
["      Instrucción Temprana, Educación Inicial, Preparatorio y Talleres"]
[]
[]
[]
[]
[]
[]
[]
[]
[]
[]
[]
[]
[]
[]
[]
[]
[]
[]
[]
[]
[]
[]
[]
[]
[]
[]
[]
[]
[]
[]
[]
[]
[]
[]
[]
[]
[]
[]
[]
[]
[]
[]
[]
[]
[]
[]
[]
[]
[]
[]
[]
[]
[]
[]
[]
[]
[]
[]
[]
[]
[]
[]
[]
[]
[]
[]
[]
[]
[]
[]
[]
[]
[]
["30025 "," 2163",2209]
[19484,397,1758]
[92,0,162]
[6669,344,0]
[615,0,0]
[724,0,0]
[634,0,0]
[361,0,7]
[296,0,62]
[615,0,0]
[3879,0,141]
[1175,0,276]
[428,33,149]
[673,0,7]
[413,0,87]
[1089,0,208]
[556,20,0]
[435,0,659]
[643,0,0]
[187,0,0]

{"sheet":"II-2.2.7","index":189,"n_rows":32,"n_cols":44,"rows_kept":32,"cut":false,"hidden":false,"merged":[[0,13,1,20],[4,0,4,15],[5,0,9,0],[5,1,9,1],[5,2,9,2],[5,3,9,3],[5,4,5,43],[6,4,6,5],[6,6,6,7],[6,8,6,9],[6,42,6,43],[7,4,7,43],[6,22,6,23],[6,24,6,25],[6,26,6,27],[6,28,6,29],[6,30,6,31],[6,32,6,33],[6,10,6,11],[6,12,6,13],[6,14,6,15],[6,16,6,17],[6,18,6,19],[6,20,6,21],[8,9,9,9],[6,34,6,35],[6,36,6,37],[6,38,6,39],[6,40,6,41],[8,21,9,21],[8,10,9,10],[8,11,9,11],[8,12,9,12],[8,13,9,13],[8,14,9,14],[8,15,9,15],[8,16,9,16],[8,17,9,17],[8,18,9,18],[8,19,9,19],[8,4,9,4],[8,5,9,5],[8,6,9,6],[8,7,9,7],[8,8,9,8],[8,20,9,20],[8,33,9,33],[8,22,9,22],[8,23,9,23],[8,24,9,24],[8,25,9,25],[8,26,9,26],[8,27,9,27],[8,28,9,28],[8,29,9,29],[8,30,9,30],[8,31,9,31],[8,32,9,32],[8,40,9,40],[8,41,9,41],[8,42,9,42],[8,43,9,43],[8,34,9,34],[8,35,9,35],[8,36,9,36],[8,37,9,37],[8,38,9,38],[8,39,9,39]]}
["CONSEJO DE EDUCACIÓN PRIMARIA",null,null,null,null,null,null,null,null,null,null,null,null,"ALUMNOS MATRICULADOS"]
[]
["Cuadro Nº II-2.2.7"]
[]
["ALUMNOS MATRICULADOS EN EDUCACIÓN ESPECIAL PRIVADA POR EDADES SIMPLES Y SEXO SEGÚN DEPARTAMENTO AÑO 2013"]
["DEPARTAMENTO","TOTAL GENERAL","TOTAL MASCULINO","TOTAL FEMENINO","EDAD"]
[null,null,null,null,"Menos de 3 años",null,"3 años",null,"4 años",null,"5 años",null,"6 años",null,"7 años",null,"8 años",null,"9 años",null,"10 años",null,"11 años",null,"12 años",null,"13 años",null,"14 años",null,"15 años",null,"16 años",null,"17 años",null,"18 años",null,"19 años",null,"20 años",null,"21 años"]
[null,null,null,null,"SEXO"]
[null,null,null,null,"M","F","M","F","M","F","M","F","M","F","M","F","M","F","M","F","M","F","M","F","M","F","M","F","M","F","M","F","M","F","M","F","M","F","M","F","M","F","M","F"]
[]
["TOTAL",{"$f":"C11+D11","v":3140},{"$f":"E11+G11+I11+K11+M11+O11+Q11+S11+U11+W11+Y11+AA11+AC11+AE11+AG11+AI11+AK11+AM11+AO11+AQ11","v":1682},1458,{"$f":"SUM(E12:E13)","v":34},16,18,13,29.000000000000004,15.000000000000004,53,33,43,26.999999999999993,51,39,73,50,77,63,82,47.999999999999993,90,61.999999999999993,77,57.999999999999993,66,57.999999999999993,69,48,87,62.999999999999993,63.000000000000007,53,55.999999999999993,61.999999999999993,69,41,44,54.000000000000007,28,71.000000000000014,573,584]
["MONTEVIDEO",{"$f":"C12+D12","v":2011},1058,953,6,7.0000000000000009,11,4.0000000000000009,16.000000000000004,11.000000000000004,30.999999999999996,21,29.000000000000004,15.999999999999995,30,22.999999999999996,48.000000000000007,30.999999999999996,53.000000000000007,42,54,34.999999999999993,59.999999999999993,43.999999999999993,56.000000000000007,42.999999999999993,37,34.999999999999993,47.999999999999993,31.000000000000004,47.000000000000007,36.999999999999993,38.000000000000007,35,34.999999999999993,39.999999999999993,45,27.999999999999996,26,36.000000000000007,17,62.000000000000014,371,372.00000000000006]
["RESTO DEL PAÍS",{"$f":"C13+D13","v":1129},624,505,{"$f":"SUM(E14:E31)","v":28},{"$f":"SUM(F14:F31)","v":9},7,9,13,4,22,12,14,11,21,16,25,19,24,21,28,13,30,18,21,15,29,23,21,17,40,26,25,18,21,22,24,13,18,18,11,9,202,212]
["Artigas",{"$f":"C14+D14","v":159},89,70,2,0,0,2,4,2,0,0,0,0,0,0,0,0,3,0,1,2,1,3,0,1,8,5,8,1,12,11,8,1,4,3,5,4,5,1,0,3,28,31]
["Canelones",56,33,23,6,2,0,1,0,0,1,2,0,0,0,0,0,0,0,0,0,0,0,0,0,0,0,0,0,0,1,0,2,1,3,3,5,2,1,2,3,1,11,9]
["Cerro Largo",0,0,0,0,0,0,0,0,0,0,0,0,0,0,0,0,0,0,0,0,0,0,0,0,0,0,0,0,0,0,0,0,0,0,0,0,0,0,0,0,0,0,0]
["Colonia",0,0,0,0,0,0,0,0,0,0,0,0,0,0,0,0,0,0,0,0,0,0,0,0,0,0,0,0,0,0,0,0,0,0,0,0,0,0,0,0,0,0,0]
["Durazno",0,0,0,0,0,0,0,0,0,0,0,0,0,0,0,0,0,0,0,0,0,0,0,0,0,0,0,0,0,0,0,0,0,0,0,0,0,0,0,0,0,0,0]
["Flores",0,0,0,0,0,0,0,0,0,0,0,0,0,0,0,0,0,0,0,0,0,0,0,0,0,0,0,0,0,0,0,0,0,0,0,0,0,0,0,0,0,0,0]
["Florida",67,32,35,4,0,0,2,3,0,4,3,0,2,3,2,3,2,1,4,0,1,1,2,0,1,1,3,1,1,1,1,0,0,0,1,2,0,0,0,0,2,8,8]
["Lavalleja",0,0,0,0,0,0,0,0,0,0,0,0,0,0,0,0,0,0,0,0,0,0,0,0,0,0,0,0,0,0,0,0,0,0,0,0,0,0,0,0,0,0,0]
["Maldonado",120,66,54,1,0,0,0,0,1,0,0,1,2,1,2,2,2,3,4,4,0,7,2,5,4,2,3,3,3,9,3,3,7,6,4,4,1,3,3,4,3,8,10]
["Paysandú",136,70,66,2,2,1,0,0,0,0,0,1,0,1,0,1,2,0,0,0,0,0,0,0,0,2,1,0,1,2,1,3,2,1,4,0,3,0,2,1,0,55,48]
["Río Negro",151,90,61,5,1,2,2,2,1,11,4,8,4,12,7,8,9,9,9,9,6,7,6,9,3,5,3,1,4,2,2,0,0,0,0,0,0,0,0,0,0,0,0]
["Rivera",0,0,0,0,0,0,0,0,0,0,0,0,0,0,0,0,0,0,0,0,0,0,0,0,0,0,0,0,0,0,0,0,0,0,0,0,0,0,0,0,0,0,0]
["Rocha",87,50,37,0,0,0,0,0,0,0,1,2,2,0,0,0,0,0,0,1,0,7,2,1,0,2,4,0,1,2,3,1,2,1,0,3,0,1,1,0,0,29,21]
["Salto",73,{"$f":"E27+G27+I27+K27+M27+O27+Q27+S27+U27+W27+Y27+AA27+AC27+AE27+AG27+AI27+AK27+AM27+AO27+AQ27","v":41},32,0,0,1,0,4,0,2,2,0,0,1,3,4,3,5,0,2,2,2,1,2,0,2,3,3,3,1,1,3,1,1,2,1,0,3,4,2,0,2,7]
["San José",0,0,0,0,0,0,0,0,0,0,0,0,0,0,0,0,0,0,0,0,0,0,0,0,0,0,0,0,0,0,0,0,0,0,0,0,0,0,0,0,0,0,0]
["Soriano",280,153,127,8,4,3,2,0,0,4,0,2,1,3,2,7,1,3,4,11,2,5,2,4,6,7,1,5,3,10,4,5,4,5,5,4,3,5,5,1,0,61,78]
["Tacuarembó",0,0,0,0,0,0,0,0,0,0,0,0,0,0,0,0,0,0,0,0,0,0,0,0,0,0,0,0,0,0,0,0,0,0,0,0,0,0,0,0,0,0,0]
["Treinta y Tres",0,0,0,0,0,0,0,0,0,0,0,0,0,0,0,0,0,0,0,0,0,0,0,0,0,0,0,0,0,0,0,0,0,0,0,0,0,0,0,0,0,0,0]
["Fuente: Procesamiento propio en base a datos proporcionados por el DEE — CEIP"]

{"sheet":"II-2.2.8","index":190,"n_rows":22,"n_cols":15,"rows_kept":22,"cut":false,"hidden":false,"merged":[[6,11,7,12],[6,13,7,14],[8,3,8,14],[0,12,1,14],[2,0,3,1],[4,0,4,14],[5,0,9,0],[5,3,5,14],[6,1,8,2],[6,3,7,4],[6,5,7,6],[6,7,7,8],[6,9,7,10]]}
["CONSEJO DE EDUCACIÓN PRIMARIA",null,null,null,null,null,null,null,null,null,null,null,"ALUMNOS MATRICULADOS"]
[]
["Cuadro Nº II-2.2.8"]
[]
["ALUMNOS MATRICULADOS EN EDUCACIÓN PRIMARIA COMÚN POR GRADO Y FORMA DE ADMINISTRACIÓN SEGÚN EDAD AÑO 2013"]
["EDAD",null,null,"GRADO"]
[null,"TOTAL",null,"Primero",null,"Segundo",null,"Tercero",null,"Cuarto",null,"Quinto",null,"Sexto"]
[]
[null,null,null,"FORMA DE ADMINISTRACIÓN"]
[null,"Pública","Privada","Pública","Privada","Pública","Privada","Pública","Privada","Pública","Privada","Pública","Privada","Pública","Privada"]
["TOTAL",{"$f":"SUM(B12:B20)","v":260476.00000000003},{"$f":"SUM(C12:C20)","v":53572},{"$f":"SUM(D12:D20)","v":44285.000000000007},{"$f":"SUM(E12:E20)","v":9557.9999999999964},{"$f":" SUM(F12:F20)","v":41303},{"$f":"SUM(G12:G20)","v":9172.0000000000036},{"$f":"SUM(H12:H20)","v":43130.000000000073},9139.0000000000018,{"$f":"SUM(J12:J20)","v":43283},8985,{"$f":"SUM(L12:L20)","v":44201.999999999971},8438,{"$f":"SUM(N12:N20)","v":44272.999999999978},8280]
["6  años",{"$f":"+D12+F12+H12+J12+L12+N12","v":36509.000000000015},{"$f":"+E12","v":8388.9999999999964},36509.000000000015,8388.9999999999964,0,0,0,0,0,0,0,0,0,0]
["7  años",37723.999999999985,{"$f":"+E13+G13","v":8883.0000000000036},7111.99999999999,1113,30611.999999999993,7770.0000000000036,0,0,0,0,0,0,0,0]
["8  años",40292.000000000073,{"$f":"+E14+G14+I14","v":8968.0000000000018},596.00000000000045,46.999999999999986,8872.0000000000091,1299,30824.000000000065,7622.0000000000018,0,0,0,0,0,0]
["9  años",41056,{"$f":"+E15+G15+I15+K15","v":8945},54.000000000000142,5.9999999999999964,1626.9999999999986,95.999999999999957,9605.0000000000091,1377.0000000000007,29769.999999999989,7466,0,0,0,0]
["10 años",42360.999999999964,{"$f":"+E16+G16+I16+K16+M16","v":8593},9.0000000000000249,0.99999999999999922,164.00000000000009,5.9999999999999956,2304.9999999999968,117.99999999999994,10282.000000000004,1366.9999999999993,29600.999999999964,7101.0000000000009,0,0]
["11 años",42155,{"$f":"+E17+G17+I17+K17+M17+O17","v":7912},1.0000000000000058,1.9999999999999989,23,0,345.00000000000034,12.999999999999996,2685.0000000000045,119.00000000000003,10621.000000000011,1223,28479.999999999985,6555]
["12 años",15120.999999999989,{"$f":"+E18+G18+I18+K18+M18+O18","v":1712},4.0000000000000142,0,3.0000000000000124,0.99999999999999989,44.000000000000007,3.9999999999999987,469.99999999999966,26.000000000000007,3282.9999999999973,95.000000000000043,11316.999999999993,1586]
["13 años",4437.0000000000027,{"$f":"+E19+G19+I19+K19+M19+O19","v":133.00000000000011},0,0,1.0000000000000031,0,5.9999999999999964,1.9999999999999991,70.000000000000043,2,613.00000000000011,12.000000000000004,3747.0000000000027,117.00000000000011]
["14 años y más",821.0000000000008,{"$f":"+E20+G20+I20+K20+M20+O20","v":37},0,0,1.0000000000000031,0,1.0000000000000036,2.9999999999999991,6.0000000000000071,4.9999999999999982,84.000000000000085,6.9999999999999973,729.00000000000068,22.000000000000007]
["Fuente: Procesamiento propio en base a datos proporcionados por el D.E.E .— C.E.I.P."]
["Nota:   Primaria Pública no incluye la matrícula correspondiente a JICI "]

{"sheet":"II-2.2.9","index":191,"n_rows":20,"n_cols":16,"rows_kept":20,"cut":false,"hidden":false,"merged":[[5,14,5,15],[6,4,6,15],[0,12,1,15],[3,0,3,15],[4,0,7,0],[4,4,4,15],[5,2,6,3],[5,4,5,5],[5,6,5,7],[5,8,5,9],[5,10,5,11],[5,12,5,13]]}
["CONSEJO DE EDUCACIÓN PRIMARIA",null,null,null,null,null,null,null,null,null,null,null,"ALUMNOS MATRICULADOS"]
[]
["Cuadro Nº II-2.2.9"]
["ALUMNOS MATRICULADOS EN EDUCACIÓN PRIMARIA COMÚN PÚBLICA POR GRADO Y SEXO SEGÚN EDAD. AÑO 2013."]
["EDAD",null,null,null,"GRADO"]
[null,null,"TOTAL SEXO",null,"Primero",null,"Segundo",null,"Tercero",null,"Cuarto",null,"Quinto",null,"Sexto"]
[null,null,null,null,"SEXO"]
[null,"TOTAL","M","F","M","F","M","F","M","F","M","F","M","F","M","F"]
["TOTAL",{"$f":"+C9+D9","v":260476.00000000003},{"$f":"SUM(E9+G9+I9+K9+M9+O9)","v":134610.99999999997},{"$f":"+F9+H9+J9+L9+N9+P9","v":125865.00000000006},{"$f":"SUM(E10:E18)","v":23107.000000000007},21178,21362.999999999982,19940.000000000022,22370.000000000011,20760.000000000058,22240.000000000018,21042.999999999982,{"$f":"SUM(M10:M18)","v":22686.999999999971},{"$f":"SUM(N10:N18)","v":21515},22843.999999999993,21428.999999999993]
["6  años",{"$f":"+C10+D10","v":36509.000000000015},{"$f":"SUM(E10+G10+I10+K10+M10+O10)","v":18581.000000000018},{"$f":"+F10+H10+J10+L10+N10+P10","v":17927.999999999996},18581.000000000018,17927.999999999996,0,0,0,0,0,0,0,0,0,0]
["7  años",{"$f":"+C11+D11","v":37723.999999999985},{"$f":"SUM(E11+G11+I11+K11+M11+O11)","v":19208.999999999967},{"$f":"+F11+H11+J11+L11+N11+P11","v":18515.000000000015},4108.9999999999882,3003.0000000000018,15099.99999999998,15512.000000000013,0,0,0,0,0,0,0,0]
["8  años",40292.000000000073,20741,19551.000000000073,373.00000000000017,223.00000000000028,5162.0000000000018,3710.0000000000073,15205.999999999998,15618.000000000065,0,0,0,0,0,0]
["9  años",{"$f":"+C13+D13","v":41056},{"$f":"SUM(E13+G13+I13+M13+K13+O13)","v":20916.000000000018},{"$f":"+F13+H13+J13+N13+L13+P13","v":20139.999999999978},37.000000000000099,17.000000000000039,986.99999999999977,639.99999999999886,5497.0000000000127,4107.9999999999964,14395.000000000005,15374.999999999984,0,0,0,0]
["10 años",42360.999999999971,{"$f":"SUM(E14+G14+I14+M14+K14+O14)","v":21601.999999999978},{"$f":"+F14+H14+J14+N14+L14+P14","v":20758.999999999989},5.0000000000000089,4.0000000000000151,99.999999999999901,64.000000000000185,1400.9999999999991,903.99999999999773,5823.0000000000073,4458.9999999999973,14272.999999999971,15327.999999999993,0,0]
["11 años",42155,21633.999999999993,{"$f":"+F15+H15+J15+N15+L15+P15","v":20521.000000000007},0,1.0000000000000058,11.000000000000018,11.99999999999998,236.00000000000031,109.00000000000006,1660.0000000000032,1025.0000000000011,5906.0000000000009,4715.00000000001,13820.999999999991,14658.999999999996]
["12 años",15120.999999999989,8622.9999999999964,6497.9999999999927,2.0000000000000062,2.000000000000008,2.000000000000008,1.0000000000000044,26.999999999999947,17.00000000000006,310.99999999999955,159.00000000000011,2036,1246.9999999999975,6244.9999999999973,5071.9999999999945]
["13 años",4437.0000000000027,2779.0000000000018,1658.0000000000009,0,0,1.0000000000000031,0,2.9999999999999973,2.9999999999999991,48.000000000000036,22.000000000000007,412.9999999999996,200.00000000000048,2314.0000000000023,1433.0000000000005]
["14 años y más",821.0000000000008,526.00000000000114,294.99999999999966,0,0,0,1.0000000000000031,0,1.0000000000000036,3.000000000000004,3.0000000000000027,59.000000000000043,25.00000000000005,464.00000000000108,264.9999999999996]
["Fuente: Procesamiento propio en base a datos proporcionados por el D.E.E. — C.E.I.P."]
["Nota:   Primaria Pública no incluye la matrícula correspondiente a JICI "]

{"sheet":"II-2.2.10","index":192,"n_rows":19,"n_cols":16,"rows_kept":19,"cut":false,"hidden":false,"merged":[[5,12,5,13],[5,14,5,15],[6,4,6,15],[0,12,1,15],[2,0,2,2],[3,0,3,15],[4,0,7,0],[4,4,4,15],[5,1,6,3],[5,4,5,5],[5,6,5,7],[5,8,5,9],[5,10,5,11]]}
["CONSEJO DE EDUCACIÓN PRIMARIA",null,null,null,null,null,null,null,null,null,null,null,"ALUMNOS MATRICULADOS"]
[]
["Cuadro Nº II-2.2.10"]
["ALUMNOS MATRICULADOS EN EDUCACIÓN PRIMARIA COMÚN PRIVADA POR GRADO Y SEXO SEGÚN EDAD AÑO 2013"]
["EDAD",null,null,null,"GRADO"]
[null,"TOTAL SEXO",null,null,"Primero",null,"Segundo",null,"Tercero",null,"Cuarto",null,"Quinto",null,"Sexto"]
[null,null,null,null,"SEXO"]
[null,"TOTAL","M","F","M","F","M","F","M","F","M","F","M","F","M","F"]
["TOTAL",{"$f":"C9+D9","v":53572},{"$f":"SUM(C10:C18)","v":27140},{"$f":"SUM(D10:D18)","v":26432},4915.9999999999982,4641.9999999999973,4656.0000000000018,4516.0000000000009,4571,4568.0000000000018,4552,4432.9999999999991,4229.9999999999991,4208.0000000000018,4215.0000000000018,4064.9999999999977]
["6  años",{"$f":"C10+D10","v":8388.9999999999964},{"$f":"E10+G10+I10+K10+M10+O10","v":4294.9999999999982},{"$f":"F10+H10+J10+L10+N10+P10","v":4093.9999999999977},4294.9999999999982,4093.9999999999977,0,0,0,0,0,0,0,0,0,0]
["7  años",8883.0000000000036,{"$f":"E11+G11+I11+K11+M11+O11","v":4502.0000000000018},4381.0000000000009,590.00000000000034,522.99999999999977,3912.0000000000018,3858.0000000000014,0,0,0,0,0,0,0,0]
["8  años",8968.0000000000018,4468,4500.0000000000018,25.999999999999993,20.999999999999993,682.00000000000011,616.99999999999977,3759.9999999999995,3862.0000000000018,0,0,0,0,0,0]
["9  años",8945,4523.0000000000009,4422,1.9999999999999984,3.9999999999999982,61.999999999999964,33.999999999999993,729.00000000000034,648.00000000000034,3730.0000000000005,3735.9999999999995,0,0,0,0]
["10 años",8593,4301.9999999999991,4291.0000000000009,0.99999999999999922,0,0,5.9999999999999956,69.999999999999957,47.999999999999993,730.99999999999977,635.99999999999955,3499.9999999999995,3601.0000000000014,0,0]
["11 años",7912,4039.0000000000009,3872.9999999999986,1.9999999999999989,0,0,0,7.9999999999999964,5.0000000000000009,73,46.000000000000036,659.99999999999966,563.00000000000045,3296.0000000000014,3258.9999999999982]
["12 años",1712,906.00000000000057,805.99999999999943,0,0,0,0.99999999999999989,1.9999999999999998,1.9999999999999989,15,11.000000000000009,59.000000000000028,36.000000000000014,830.00000000000057,755.99999999999943]
["13 años",133.00000000000011,81.000000000000085,52.000000000000036,0,0,0,0,0.99999999999999922,0.99999999999999989,0,2,7.0000000000000044,4.9999999999999991,73.000000000000085,44.000000000000036]
["14 años y más",37,24.000000000000007,12.999999999999995,0,0,0,0,0.99999999999999922,1.9999999999999998,2.9999999999999987,1.9999999999999998,3.9999999999999987,2.9999999999999987,16.000000000000011,5.9999999999999964]
["Fuente: Procesamiento propio en base a datos proporcionados por el D.E.E. — C.E.I.P."]

{"sheet":"II-2.2.11","index":193,"n_rows":33,"n_cols":15,"rows_kept":33,"cut":false,"hidden":false,"merged":[[0,12,1,14],[4,0,4,14],[5,0,9,0],[5,1,5,14],[6,1,7,2],[6,3,6,4],[6,5,6,6],[6,7,6,8],[6,9,6,10],[6,11,6,12],[8,14,9,14],[6,13,6,14],[7,3,7,14],[8,1,9,1],[8,2,9,2],[8,3,9,3],[8,4,9,4],[8,5,9,5],[8,6,9,6],[8,7,9,7],[8,8,9,8],[8,9,9,9],[8,10,9,10],[8,11,9,11],[8,12,9,12],[8,13,9,13]]}
["CONSEJO DE EDUCACIÓN PRIMARIA",null,null,null,null,null,null,null,null,null,null,null,"ALUMNOS MATRICULADOS"]
[]
["Cuadro Nº II-2.2.11"]
[]
["ALUMNOS MATRICULADOS EN EDUCACIÓN PRIMARIA COMÚN POR GRADO Y FORMA DE ADMINISTRACIÓN SEGÚN DEPARTAMENTO AÑO 2013"]
["DEPARTAMENTO","GRADO"]
[null,"TOTAL",null,"Primero",null,"Segundo",null,"Tercero",null,"Cuarto",null,"Quinto",null,"Sexto"]
[null,null,null,"FORMA DE ADMINISTRACIÓN"]
[null,"Pública","Privada","Pública","Privada","Pública","Privada","Pública","Privada","Pública","Privada","Pública","Privada","Pública","Privada"]
[]
["TOTAL",{"$f":"SUM(B12:B13)","v":260476},53572,44285,9558,41302.999999999993,9171.9999999999964,43130,9139.0000000000018,43283,8985,44202,8438,44273,8280.0000000000018]
["MONTEVIDEO",{"$f":"+D12+F12+H12+J12+L12+N12","v":80120},{"$f":"+E12+G12+I12+K12+M12+O12","v":32911},14646,5907,12967.999999999996,5639.9999999999973,13066,5607.0000000000018,13164.999999999998,5516,13220.000000000002,5196,13055,5045.0000000000018]
["RESTO DEL PAÍS",{"$f":"SUM(B14:B31)","v":180356},{"$f":"SUM(C14:C31)","v":20661},29639,3651,28334.999999999996,3531.9999999999995,30064,3532,30118,3469,30981.999999999996,3242,31218,3234.9999999999995]
["Artigas",{"$f":"+D14+F14+H14+J14+L14+N14","v":7985},{"$f":"+E14+G14+I14+K14+M14+O14","v":140},1193.0000000000002,30,1228.9999999999998,28,1296.9999999999995,30,1342.9999999999995,26,1389.9999999999998,13,1533.0000000000011,13]
["Canelones",{"$f":"+D15+F15+H15+J15+L15+N15","v":43484},{"$f":"+E15+G15+I15+K15+M15+O15","v":7480},7457.0000000000018,1346.0000000000002,6931.9999999999973,1327.9999999999998,7128,1243.9999999999998,7322.9999999999991,1259.0000000000002,7369.9999999999964,1144.0000000000002,7273.9999999999991,1158.9999999999998]
["Cerro Largo",{"$f":"+D16+F16+H16+J16+L16+N16","v":8541},622,1361.0000000000002,132,1353.9999999999993,94,1466.0000000000007,118,1474.9999999999993,95,1430.9999999999998,81,1454,102]
["Colonia",{"$f":"+D17+F17+H17+J17+L17+N17","v":10554.000000000002},730,1730.0000000000005,125,1746.0000000000007,137,1772.0000000000007,119,1808,113,1748.9999999999995,121,1749,115]
["Durazno",5263.9999999999991,665,751.99999999999977,128,748,110,906.99999999999955,120,886.00000000000023,111,994.99999999999966,101,975.99999999999989,95]
["Flores",2133,295,312.00000000000006,39,307,55,375.00000000000006,45,377.00000000000011,55,401.00000000000006,46,361,55]
["Florida",6137,282,1033.0000000000002,41,960.00000000000057,42,1050,53,981.00000000000034,42,1055.9999999999998,60,1056.9999999999993,44]
["Lavalleja",4814,645,834,104.99999999999999,771,109.00000000000001,778.00000000000011,110,798.00000000000045,105.99999999999999,815.00000000000023,114,817.99999999999955,101]
["Maldonado",13325,4124,2189.9999999999995,686,2081.0000000000005,687.99999999999989,2175.9999999999995,727,2208,666,2363.0000000000005,677,2307,679.99999999999989]
["Paysandú",11317,1176,1877.0000000000005,199.00000000000003,1809.0000000000002,178.00000000000003,1881.9999999999993,209,1875.0000000000009,207,1918.9999999999995,180,1955.0000000000002,203]
["Río Negro",5552.0000000000009,506,996.00000000000045,100,876.99999999999989,78.000000000000014,916.99999999999989,96.999999999999986,909,91.000000000000014,896.00000000000011,72,957.00000000000023,68]
["Rivera",10536.000000000002,656,1685.0000000000002,116,1632.0000000000002,119.00000000000001,1762,112,1778.0000000000009,113,1839.0000000000002,100,1840.0000000000005,96]
["Rocha",6504,367,1071,63,990.99999999999977,50,1092.0000000000002,70,1084,76,1099,61,1166.9999999999998,47]
["Salto",12906,1101,2240.0000000000009,180,2100.9999999999995,205,2150.0000000000005,184,2003,174,2207,186,2204.9999999999995,172]
["San José",9716,600,1585.0000000000002,114.99999999999999,1532.0000000000002,107,1607,94,1695.0000000000002,102,1665.0000000000002,98,1632,84]
["Soriano",8137,437,1328.0000000000002,82,1283,70,1396,72,1336,83,1364.0000000000005,60,1429.9999999999998,70]
["Tacuarembó",8901.0000000000018,631,1297.0000000000002,129,1303.0000000000007,101,1527.0000000000002,98,1484.0000000000007,118,1602.9999999999995,91,1686.9999999999998,94]
["Treinta y Tres",4549.9999999999991,204,697.99999999999966,35,679,33,782,30,754.99999999999955,32,820,37,816,37]
["Fuente: Procesamiento propio en base a datos proporcionados por el DEE — CEIP"]
["Nota:   Primaria Pública no incluye la matrícula correspondiente a JICI "]

{"sheet":"II-2.2.12","index":194,"n_rows":20,"n_cols":7,"rows_kept":20,"cut":false,"hidden":false,"merged":[[19,0,19,6],[0,5,1,6],[4,0,4,6],[5,0,9,0],[5,1,5,6],[6,1,6,3],[6,4,6,6],[7,1,9,1],[7,2,7,3],[7,4,9,4],[7,5,7,6],[8,2,9,2],[8,3,9,3],[8,5,9,5],[8,6,9,6]]}
["CONSEJO DE EDUCACIÓN PRIMARIA",null,null,null,null,"RENDIMIENTO ESCOLAR"]
[]
["Cuadro Nº II-2.2.12"]
[]
["RENDIMIENTO ESCOLAR EN EDUCACIÓN PRIMARIA COMÚN PÚBLICA POR ÁREA DEMOGRÁFICA SEGÚN GRADO AÑO 2013"]
["GRADO","RENDIMIENTO ESCOLAR"]
[null,"PROMOVIDOS",null,null,"NO PROMOVIDOS"]
[null,"TOTAL","ÁREA DEMOGRÁFICA",null,"TOTAL","ÁREA DEMOGRÁFICA"]
[null,null,"Urbana","Rural",null,"Urbana","Rural"]
[]
["TOTAL",{"$f":"+C11+D11","v":246377.00000000009},{"$f":"SUM(C12:C17)","v":231574.00000000009},{"$f":"SUM(D12:D17)","v":14802.999999999998},{"$f":"+F11+G11","v":14099},{"$f":"SUM(F12:F17)","v":13554},{"$f":"SUM(G12:G17)","v":545.00000000000034}]
["Primero",{"$f":"+C12+D12","v":38352.999999999993},36134.999999999993,2217.9999999999991,{"$f":"+F12+G12","v":5932.0000000000009},5711.0000000000009,221.00000000000006]
["Segundo",38345.000000000102,36075.000000000102,2269.9999999999973,2957.9999999999977,2835.9999999999977,122.00000000000014]
["Tercero",41150.999999999985,38618.999999999985,2532.0000000000005,1979.0000000000005,1905.0000000000005,74.000000000000099]
["Cuarto",41794.999999999964,39265.999999999964,2529.0000000000014,1488.0000000000007,1437.0000000000007,51.000000000000028]
["Quinto",43095.000000000022,40453.000000000022,2641.9999999999968,1107.0000000000011,1069.0000000000011,38.000000000000043]
["Sexto",43638.000000000022,41026.000000000022,2612.0000000000032,635,596,38.999999999999979]
[]
["Fuente: Procesamiento propio en base a datos proporcionados por el D.E.E .— C.E.I.P."]
["Notas:\n- No incluye datos correspondientes a JICI\n- No se presenta información para la Educación Primaria Privada porque no existen establecimientos privados en el área demográfica rural"]

{"sheet":"II-2.2.13","index":195,"n_rows":34,"n_cols":7,"rows_kept":34,"cut":false,"hidden":false,"merged":[[33,0,33,6],[0,5,1,6],[4,0,4,6],[5,0,9,0],[5,1,5,6],[6,1,6,3],[6,5,6,6],[7,1,9,1],[7,2,7,3],[7,4,9,4],[7,5,7,6],[8,2,9,2],[8,3,9,3],[8,5,9,5],[8,6,9,6],[32,0,32,6]]}
["CONSEJO DE EDUCACIÓN PRIMARIA",null,null,null,null,"RENDIMIENTO ESCOLAR"]
[]
["Cuadro Nº II-2.2.13"]
[]
["RENDIMIENTO ESCOLAR EN EDUCACIÓN PRIMARIA COMÚN PÚBLICA POR  ÁREA DEMOGRÁFICA SEGÚN DEPARTAMENTO AÑO 2013"]
["DEPARTAMENTO","RENDIMIENTO ESCOLAR"]
[null,"PROMOVIDOS",null,null,null,"NO PROMOVIDOS"]
[null,"TOTAL","ÁREA DEMOGRÁFICA",null,"TOTAL","ÁREA DEMOGRÁFICA"]
[null,null,"Urbana","Rural",null,"Urbana","Rural"]
[]
["TOTAL",{"$f":"+C11+D11","v":246376.99999999994},{"$f":"SUM(C12:C13)","v":231573.99999999994},{"$f":"SUM(D12:D13)","v":14803},{"$f":"+F11+G11","v":14099.000000000002},{"$f":"SUM(F12:F13)","v":13554.000000000002},{"$f":"SUM(G12:G13)","v":545}]
["MONTEVIDEO",{"$f":"+C12+D12","v":73500.999999999956},73500.999999999956,0,{"$f":"+F12+G12","v":6619.0000000000018},6619.0000000000018,0]
["RESTO DEL PAÍS",{"$f":"+C13+D13","v":172876},{"$f":"SUM(C14:C31)","v":158073},{"$f":"SUM(D14:D31)","v":14803},{"$f":"+F13+G13","v":7480},{"$f":"SUM(F14:F31)","v":6935},{"$f":"SUM(G14:G31)","v":545}]
["Artigas",{"$f":"+C14+D14","v":7745},7045,700.00000000000011,{"$f":"+F14+G14","v":240},217,23.000000000000004]
["Canelones",40724.999999999993,38371.999999999993,2353,2759,2640,119.00000000000003]
["Cerro Largo",8130,7258,871.99999999999977,411.00000000000006,369.00000000000006,41.999999999999986]
["Colonia",10265.000000000004,9194.0000000000036,1071.0000000000005,289,263,26.000000000000011]
["Durazno",5163.9999999999991,4730.9999999999991,432.99999999999994,100,87,12.999999999999996]
["Flores",2114,1886,228.00000000000003,19,17,2.0000000000000004]
["Florida",5899.0000000000009,5119.0000000000009,780.00000000000034,238,216,22.000000000000011]
["Lavalleja",4715,4287,428.00000000000011,98.999999999999986,88.999999999999986,10.000000000000002]
["Maldonado",12859.000000000002,12222.000000000002,636.99999999999977,466.00000000000011,441.00000000000011,24.999999999999993]
["Paysandú",10783.999999999998,9838.9999999999982,944.99999999999977,533,503,30.000000000000004]
["Río Negro",5349,4806,543,203,179,24]
["Rivera",10271.999999999996,9291.9999999999964,980.00000000000011,264,239,25.000000000000004]
["Rocha",6349.0000000000009,6065.0000000000009,284,154.99999999999997,146.99999999999997,8]
["Salto",12250.999999999993,10966.999999999993,1284.0000000000002,655,576,79]
["San José",9244.9999999999982,8167.9999999999982,1076.9999999999995,471,432,38.999999999999993]
["Soriano",7831.0000000000009,7147.0000000000009,683.99999999999989,306,281,24.999999999999993]
["Tacuarembó",8717,7577.9999999999991,1139.0000000000002,184.00000000000003,161.00000000000003,23]
["Treinta y Tres",4462,4097,365.00000000000023,88,78,10.000000000000002]
["Fuente: Procesamiento propio en base a datos proporcionados por el D.E.E .— C.E.I.P."]
["Nota:  No incluye datos correspondientes a JICI"]
["Nota: No se presenta información para la Educación Primaria Privada porque no existen establecimientos privados en el área demográfica rural"]

{"sheet":"II-2.2.14","index":196,"n_rows":32,"n_cols":7,"rows_kept":32,"cut":false,"hidden":false,"merged":[[31,0,31,6],[0,5,1,6],[4,0,4,6],[5,0,8,0],[5,1,5,6],[6,1,6,3],[6,4,6,6],[7,2,7,3],[7,5,7,6]]}
["CONSEJO DE EDUCACIÓN PRIMARIA",null,null,null,null,"RENDIMIENTOS ESCOLAR"]
[]
["Cuadro Nº II-2.2.14"]
[]
["RENDIMIENTO ESCOLAR EN EDUCACIÓN PRIMARIA COMÚN PÚBLICA POR SEXO SEGÚN DEPARTAMENTO. AÑO 2013."]
["DEPARTAMENTO","RENDIMIENTO ESCOLAR"]
[null,"PROMOVIDOS",null,null,"NO PROMOVIDOS"]
[null,"TOTAL","SEXO",null,"TOTAL","SEXO"]
[null,null,"M","F",null,"M","F"]
["TOTAL",{"$f":"+C10+D10","v":246377},{"$f":"SUM(C11:C12)","v":125956},{"$f":"SUM(D11:D12)","v":120421},{"$f":"+F10+G10","v":14099},{"$f":"SUM(F11:F12)","v":8655},{"$f":"SUM(G11:G12)","v":5444}]
["MONTEVIDEO",{"$f":"+C11+D11","v":73501.000000000015},37475.000000000007,36026.000000000007,{"$f":"+F11+G11","v":6619.0000000000009},3958.0000000000009,2661]
["RESTO DEL PAÍS",172876,{"$f":"SUM(C13:C30)","v":88481},{"$f":"SUM(D13:D30)","v":84395},7479.9999999999991,{"$f":"SUM(F13:F30)","v":4696.9999999999991},{"$f":"SUM(G13:G30)","v":2783}]
["Artigas",7744.9999999999973,4034.9999999999982,3709.9999999999991,240,163,76.999999999999986]
["Canelones",40725,20764.000000000004,19960.999999999996,2758.9999999999991,1679.9999999999991,1078.9999999999998]
["Cerro Largo",8130.0000000000018,4101.0000000000009,4029.0000000000005,411.00000000000011,260.00000000000011,151.00000000000003]
["Colonia",10265.000000000002,5226,5039.0000000000018,289.00000000000011,181.00000000000003,108.00000000000006]
["Durazno",5164.0000000000018,2655.0000000000009,2509.0000000000005,100,57.999999999999993,42.000000000000007]
["Flores",2114,1016.0000000000001,1097.9999999999998,19.000000000000004,13.000000000000002,6.0000000000000018]
["Florida",5899,3042.0000000000009,2856.9999999999995,238.00000000000011,149.00000000000011,88.999999999999986]
["Lavalleja",4715,2468.0000000000009,2246.9999999999995,99.000000000000028,59.000000000000036,40]
["Maldonado",12859,6497.9999999999982,6361.0000000000018,466,297,168.99999999999997]
["Paysandú",10784,5559.9999999999982,5224.0000000000018,532.99999999999989,337.99999999999994,194.99999999999997]
["Río Negro",5349,2702,2647.0000000000005,203,134,68.999999999999986]
["Rivera",10272,5379,4893.0000000000009,264.00000000000011,164.00000000000011,100.00000000000003]
["Rocha",6349.0000000000009,3301.0000000000009,3048,155,106.99999999999999,48.000000000000007]
["Salto",12251,6312.9999999999991,5938.0000000000018,655,422,233.00000000000003]
["San José",9245,4727.0000000000009,4518,471,304.99999999999994,166.00000000000003]
["Soriano",7831,3970.9999999999995,3860,306.00000000000006,190.99999999999997,115.0000000000001]
["Tacuarembó",8717,4455.0000000000018,4261.9999999999991,184,115,69.000000000000014]
["Treinta y Tres",4462,2268.0000000000005,2194,87.999999999999986,60.999999999999986,26.999999999999996]
["Fuente: Procesamiento propio en base a datos proporcionados por el D.E.E. — C.E.I.P."]
["Nota: No incluye datos correspondientes a JICI ."]

{"sheet":"II-2.2.15","index":197,"n_rows":31,"n_cols":7,"rows_kept":31,"cut":false,"hidden":false,"merged":[[0,5,1,6],[4,0,4,6],[5,0,8,0],[5,1,5,6],[6,1,6,3],[6,4,6,6],[7,1,8,1],[7,2,7,3],[7,4,8,4],[7,5,7,6]]}
["CONSEJO DE EDUCACIÓN PRIMARIA",null,null,null,null,"RENDIMIENTO ESCOLAR"]
[]
["Cuadro Nº II-2.2.15"]
[]
["RENDIMIENTO ESCOLAR EN EDUCACIÓN PRIMARIA COMÚN PRIVADA POR SEXO SEGÚN DEPARTAMENTO AÑO 2013"]
["DEPARTAMENTO","RENDIMIENTO ESCOLAR"]
[null,"PROMOVIDOS",null,null,"NO PROMOVIDOS"]
[null,"TOTAL","SEXO",null,"TOTAL","SEXO"]
[null,null,"M","F",null,"M","F"]
["TOTAL",{"$f":"+C10+D10","v":52924},{"$f":"SUM(C11:C12)","v":26741},{"$f":"SUM(D11:D12)","v":26183},{"$f":"+F10+G10","v":648.00000000000011},{"$f":"SUM(F11:F12)","v":399.00000000000011},{"$f":"SUM(G11:G12)","v":248.99999999999997}]
["MONTEVIDEO",{"$f":"+C11+D11","v":32472},16413,16059.000000000002,{"$f":"+F11+G11","v":439.00000000000011},260.00000000000011,178.99999999999997]
["RESTO DEL PAÍS",20452,{"$f":"SUM(C13:C30)","v":10328},{"$f":"SUM(D13:D30)","v":10124},209,{"$f":"SUM(F13:F30)","v":139},{"$f":"SUM(G13:G30)","v":70}]
["Artigas",138,67,71,2,2,0]
["Canelones",7376.0000000000009,3754,3622.0000000000009,103.99999999999999,65.999999999999986,38]
["Cerro Largo",614,295,319,8,8,0]
["Colonia",722,360,362,8,4.0000000000000009,4]
["Durazno",660,310,350,5,4,1]
["Flores",294,150,144,1,1,0]
["Florida",282,145,137,0,0,0]
["Lavalleja",639,327,312,6,3,3]
["Maldonado",4091.9999999999995,2084,2007.9999999999995,31.999999999999993,16.999999999999996,14.999999999999998]
["Paysandú",1171,616,555,5,3.0000000000000004,2]
["Río Negro",502,260,242,4.0000000000000009,4.0000000000000009,0]
["Rivera",650,353,297.00000000000006,6,5,1]
["Rocha",366,174,192,1,1,0]
["Salto",1091,529,562,10,9,1.0000000000000002]
["San José",591,260,331,9,6,3]
["Soriano",434,216,218,3,2,1]
["Tacuarembó",627,312,315,4,4,0]
["Treinta y Tres",203,116,87,1,0,1]
["Fuente: Procesamiento propio en base a datos proporcionados por el D.E.E. — C.E.I.P."]

{"sheet":"II-2.2.16","index":198,"n_rows":34,"n_cols":5,"rows_kept":34,"cut":false,"hidden":false,"merged":[[31,0,31,3],[0,4,1,5],[4,0,4,3],[5,0,8,0],[5,2,6,3],[6,1,8,1],[7,2,8,2],[7,3,8,3]]}
["CONSEJO DE EDUCACIÓN PRIMARIA",null,null,null,"RENDIMIENTO ESCOLAR"]
[]
["Cuadro Nº II-2.2.16"]
[]
["RENDIMIENTO ESCOLAR DE EDUCACIÓN PRIMARIA COMÚN PÚBLICA POR ÁREA DEMOGRÁFICA SEGÚN DEPARTAMENTO AÑO 2013"]
["DEPARTAMENTO",null,"ÁREA DEMOGRÁFICA"]
[null,"TOTAL"]
[null,null,"Urbana","Rural"]
[]
["TOTAL",{"$f":"+C10+D10","v":43637.999999999993},{"$f":"SUM(C11:C12)","v":41025.999999999993},{"$f":"SUM(D11:D12)","v":2612.0000000000005}]
["MONTEVIDEO",{"$f":"C11+D11","v":12816.999999999998},12816.999999999998,0]
["RESTO DEL PAÍS",{"$f":"+C12+D12","v":30820.999999999996},{"$f":"SUM(C13:C30)","v":28208.999999999996},{"$f":"SUM(D13:D30)","v":2612.0000000000005}]
["Artigas",{"$f":"+C13+D13","v":1515},1376,138.99999999999997]
["Canelones",7145.9999999999955,6740.9999999999955,405.00000000000023]
["Cerro Largo",1429,1266,163.00000000000009]
["Colonia",1737.0000000000002,1575.0000000000002,162]
["Durazno",971.00000000000011,892.00000000000011,79.000000000000014]
["Flores",361,319,42]
["Florida",1038.9999999999998,928.99999999999977,110.00000000000001]
["Lavalleja",816,739,77]
["Maldonado",2291.0000000000005,2173.0000000000005,118]
["Paysandú",1931.0000000000005,1773.0000000000005,158]
["Río Negro",947,848,99]
["Rivera",1823.9999999999998,1660.9999999999998,163]
["Rocha",1162,1114,47.999999999999993]
["Salto",2144.9999999999991,1908.9999999999991,236]
["San José",1611.0000000000002,1418.0000000000002,193.00000000000003]
["Soriano",1409.0000000000002,1274.0000000000002,134.99999999999997]
["Tacuarembó",1675.0000000000002,1457.0000000000002,218]
["Treinta y Tres",811.99999999999989,744.99999999999989,67]
["Fuente: Procesamiento propio en base a datos proporcionados por el D.E.E .— C.E.I.P."]
["Nota: No se presenta información para Montevideo Rural por que no existen establecimientos en  el área demográfica rural."]
["        "]
["        "]

{"sheet":"II-2.2.17","index":199,"n_rows":30,"n_cols":9,"rows_kept":30,"cut":false,"hidden":false,"merged":[[0,6,1,8],[4,0,4,8],[5,0,7,0],[5,1,7,1],[5,2,5,5],[5,6,5,8],[6,2,7,2],[6,3,6,5],[6,6,7,6],[6,7,6,8]]}
["CONSEJO DE EDUCACIÓN PRIMARIA",null,null,null,null,null,"RENDIMIENTO ESCOLAR"]
[]
["Cuadro Nº II-2.2.17"]
[]
["RENDIMIENTO ESCOLAR DE EDUCACIÓN PRIMARIA COMÚN POR FORMA DE ADMINISTRACIÓN SEGÚN DEPARTAMENTO AÑO 2013"]
["DEPARTAMENTO","TOTAL","PÚBLICA",null,null,null,"PRIVADA"]
[null,null,"TOTAL","SEXO",null,null,"TOTAL","SEXO"]
[null,null,null,"M","M","F",null,"M","F"]
["TOTAL",{"$f":"+C9+G9","v":51918},{"$f":"+E9+F9","v":43638},null,{"$f":"SUM(E10:E11)","v":22458},{"$f":"SUM(F10:F11)","v":21180},{"$f":"+H9+I9","v":8280.0000000000018},{"$f":"SUM(H10,H11)","v":4215.0000000000018},{"$f":"SUM(I10,I11)","v":4065.0000000000005}]
["MONTEVIDEO",{"$f":"+C10+G10","v":17862},{"$f":"+E10+F10","v":12817},6560,6552.9999999999982,6264.0000000000009,{"$f":"+H10+I10","v":5045.0000000000018},2574.0000000000014,2471.0000000000005]
["RESTO DEL PAÍS",{"$f":"+C11+G11","v":34056},30821,null,{"$f":"SUM(E12:E29)","v":15905},{"$f":"SUM(F12:F29)","v":14915.999999999998},3235,{"$f":"SUM(H12:H29)","v":1641},{"$f":"SUM(I12:I29)","v":1594}]
["Artigas",{"$f":"+C12+G12","v":1528},1515,765,767.00000000000011,747.99999999999989,13,5,8]
["Canelones",8304.9999999999982,7145.9999999999982,3826,3653.0000000000009,3492.9999999999973,1159,592.99999999999989,566]
["Cerro Largo",1531,1429,802,734.00000000000023,694.99999999999989,102,54,48]
["Colonia",1852.0000000000007,1737.0000000000007,891,881.00000000000034,856.00000000000034,115.00000000000001,58.000000000000007,57.000000000000007]
["Durazno",1065.9999999999995,970.99999999999955,502,516.99999999999955,454.00000000000006,95,44,51]
["Flores",416,361,192,170,191,55,36,19]
["Florida",1083.0000000000002,1039.0000000000002,502,542.00000000000011,497.00000000000017,44,21,23]
["Lavalleja",917,816,426,436.00000000000028,379.99999999999977,101,59,41.999999999999993]
["Maldonado",2971,2291,1183,1213,1078.0000000000002,680,341.00000000000006,338.99999999999994]
["Paysandú",2134,1930.9999999999998,976,1017.9999999999999,912.99999999999989,203,99,103.99999999999999]
["Río Negro",1015,947,501,482.00000000000011,464.99999999999994,68,33,35]
["Rivera",1920,1824,995,956.99999999999989,867.00000000000011,96,55,41]
["Rocha",1208.9999999999998,1161.9999999999998,603,612.99999999999989,548.99999999999989,47,23,24]
["Salto",2317,2145,1191,1081,1064,172,86,86]
["San José",1695,1611,824,854.00000000000011,756.99999999999989,84,43,41]
["Soriano",1479,1409,717,703.99999999999966,705.00000000000045,70,28,42]
["Tacuarembó",1769.0000000000005,1675.0000000000005,845,855.00000000000034,820,94,46,48]
["Treinta y Tres",849,812,443,427.99999999999994,384.00000000000011,37,17,20]
["Fuente: Procesamiento propio en base a datos proporcionados por el D.E.E. — C.E.I.P."]

{"sheet":"II-2.2.18","index":200,"n_rows":34,"n_cols":6,"rows_kept":34,"cut":false,"hidden":false,"merged":[[30,0,30,5],[0,4,1,5],[4,0,4,5],[5,0,6,1],[5,2,5,3],[5,4,5,5],[29,0,29,5]]}
["CONSEJO DE EDUCACIÓN PRIMARIA",null,null,null,"RENDIMIENTO ESCOLAR"]
[]
["Cuadro Nº II-2.2.18"]
[]
["ASISTENCIA INSUFICIENTE Y ABANDONO INTERMITENTE DE 1º GRADO Y 1º A 6º GRADO EN EDUCACIÓN COMÚN PÚBLICA SEGÚN DEPARTAMENTO. AÑO 2013"]
["DEPARTAMENTO",null,"ASISTENCIA INSUFICIENTE",null,"ABANDONO INTERMITENTE"]
[null,null,"Sólo\n1.er año","1.º a 6.º  años","Sólo\n1.er año","1.º a 6.º  años"]
["TOTAL",{"$f":"SUM(B9:B10)","v":260476},{"$f":"SUM(C9:C10)","v":5503},{"$f":"SUM(D9:D10)","v":22717.999999999989},{"$f":"SUM(E9:E10)","v":409.00000000000006},{"$f":"SUM(F9:F10)","v":1937}]
["MONTEVIDEO",{"$f":"'[1]II-2.2.1'!E10","v":80120},3167.0000000000005,12471.999999999989,200.00000000000006,850.00000000000034]
["RESTO DEL PAÍS",{"$f":"SUM(B11:B28)","v":180356},{"$f":"SUM(C11:C28)","v":2336},{"$f":"SUM(D11:D28)","v":10246},{"$f":"SUM(E11:E28)","v":209},{"$f":"SUM(F11:F28)","v":1086.9999999999998}]
["Artigas",{"$f":"'[1]II-2.2.1'!E12","v":7984.9999999999982},112,487.00000000000011,4.9999999999999982,42.999999999999979]
["Canelones",{"$f":"'[1]II-2.2.1'!E13","v":43484},942.00000000000011,4210.9999999999991,61.000000000000014,322.99999999999989]
["Cerro Largo",{"$f":"'[1]II-2.2.1'!E14","v":8541.0000000000018},78.000000000000043,378.00000000000017,3.0000000000000018,28.000000000000021]
["Colonia",{"$f":"'[1]II-2.2.1'!E15","v":10554.000000000005},58.000000000000014,237.00000000000006,5.9999999999999991,46]
["Durazno",{"$f":"'[1]II-2.2.1'!E16","v":5264},60.000000000000007,301.99999999999989,5,43.000000000000021]
["Flores",{"$f":"'[1]II-2.2.1'!E17","v":2133},15.000000000000004,59.999999999999993,0,2]
["Florida",{"$f":"'[1]II-2.2.1'!E18","v":6137.0000000000018},52.000000000000021,222.00000000000009,26.999999999999996,92.000000000000043]
["Lavalleja",{"$f":"'[1]II-2.2.1'!E19","v":4814.0000000000018},35.000000000000007,164,1.0000000000000009,22.000000000000011]
["Maldonado",{"$f":"'[1]II-2.2.1'!E20","v":13325.000000000004},170.99999999999997,726,32,98]
["Paysandú",{"$f":"'[1]II-2.2.1'!E21","v":11317.000000000004},97.999999999999972,454.99999999999977,12.000000000000002,42]
["Río Negro",{"$f":"'[1]II-2.2.1'!E22","v":5552.0000000000018},51.999999999999993,188.00000000000003,5,14]
["Rivera",{"$f":"'[1]II-2.2.1'!E23","v":10536.000000000002},110.00000000000006,505,11,66]
["Rocha",{"$f":"'[1]II-2.2.1'!E24","v":6503.9999999999991},84.000000000000043,390,12.000000000000004,54.000000000000021]
["Salto",{"$f":"'[1]II-2.2.1'!E25","v":12906},197.99999999999997,716.99999999999977,13.999999999999998,88.000000000000028]
["San José",{"$f":"'[1]II-2.2.1'!E26","v":9716.0000000000036},102.00000000000003,439,2,35]
["Soriano",{"$f":"'[1]II-2.2.1'!E27","v":8137.0000000000018},62,281.00000000000006,3.0000000000000009,18.000000000000011]
["Tacuarembó",{"$f":"'[1]II-2.2.1'!E28","v":8901},65,289.99999999999983,4.0000000000000009,44.999999999999986]
["Treinta y Tres",{"$f":"'[1]II-2.2.1'!E29","v":4550},42,194.00000000000006,6.0000000000000009,28]
["Fuente: Procesamiento propio en base a datos proporcionados por el D.E.E. — C.E.I.P."]
["No incluye datos correspondientes a JICI ."]
[]
[]
[]
["       "]

{"sheet":"II-2.3.1 ","index":201,"n_rows":96,"n_cols":9,"rows_kept":96,"cut":false,"hidden":false,"merged":[[6,7,7,7],[6,8,7,8],[31,0,31,8],[32,0,32,8],[0,6,1,7],[4,0,4,8],[5,0,7,0],[5,2,5,8],[6,1,7,1],[6,2,7,2],[6,3,7,3],[6,4,7,4],[6,5,7,5],[6,6,7,6]]}
["CONSEJO DE EDUCACIÓN PRIMARIA",null,null,null,null,null,"PERSONAL DOCENTE"]
[]
["Cuadro Nº II-2.3.1"]
[]
["PERSONAL DOCENTE DE EDUCACIÓN PRIMARIA PÚBLICA POR TIPO DE DESEMPEÑO DOCENTE SEGÚN DEPARTAMENTO AÑO 2013"]
["DEPARTAMENTO",null,"TIPO DE DESEMPEÑO DOCENTE"]
[null,"TOTAL","Inspección","Educación Común","Educación en Colonias","Educación Especial","Servicios Docentes Especiales","Profesores Especiales","Coordinación Apoyo"]
[]
["TOTAL",{"$f":"SUM(B11:B12)","v":19389},273,15225,39,963,128,2668,93]
[]
["MONTEVIDEO",{"$f":"SUM(C11:I11)","v":5683},104,4157,14,407,75,913,13]
["RESTO DEL PAÍS",{"$f":"SUM(B14:B31)","v":13706},169,11068,25,556,{"$f":"SUM(G14:G31)","v":53},1755,80]
[]
["Artigas",{"$f":"SUM(C14:I14)","v":651},7,524,0,23,0,93,4]
["Canelones",2724,31,2260,0,108,13,299,13]
["Cerro Largo",702,9,561,0,32,4,92,4]
["Colonia",812,9,653,0,36,3,107,4]
["Durazno",463,7,376,0,22,0,54,4]
["Flores",208,3,159,0,9,0,34,3]
["Florida",535,7,410,0,24,5,85,4]
["Lavalleja",433,6,348,0,20,4,51,4]
["Maldonado",842,11,654,15,38,7,113,4]
["Paysandú",861,10,709,0,37,4,97,4]
["Río Negro",462,5,373,0,21,0,59,4]
["Rivera",888,11,714,0,31,1,127,4]
["Rocha",544,7,419,0,28,3,83,4]
["Salto",956,12,759,9,32,2,137,5]
["San José",740,9,622,0,29,0,76,4]
["Soriano",657,9,531,0,29,2,82,4]
["Tacuarembó",806,10,665,1,22,5,100,3]
["Treinta y Tres",422,6,331,0,15,0,66,4]
["Fuente: DEE — CEIP Listado de cargos de la División Hacienda a Julio 2013"]
[]
["        "]
["        "]
[]
[]
[]
[]
[]
[]
[]
[]
[]
[]
[]
[]
[]
[]
[]
[]
[]
[]
[]
[]
[]
[]
[]
[]
[]
[]
[]
[]
[]
[]
[]
[]
[]
[]
[]
[]
[]
[]
[{"$f":"SUM(A76:A77)","v":147}]
[]
[92]
[{"$f":"SUM(A79:A96)","v":55}]
[]
[0]
[14]
[4]
[3]
[0]
[0]
[5]
[4]
[7]
[5]
[0]
[1]
[3]
[2]
[0]
[2]
[5]
[0]

{"sheet":"II-2.3.2 ","index":202,"n_rows":32,"n_cols":11,"rows_kept":32,"cut":false,"hidden":false,"merged":[[0,9,1,10],[4,0,4,10],[5,0,8,1],[5,2,8,2],[5,3,8,3],[5,4,8,4],[5,5,5,10],[6,5,6,7],[6,8,6,10],[48,20,48,22],[6,11,8,12],[6,13,6,22],[7,5,8,5],[7,6,8,6],[7,7,8,7],[7,8,8,8],[7,9,8,9],[7,10,8,10],[7,13,7,16],[7,17,8,17],[7,18,7,22],[8,13,8,14],[30,0,30,10],[42,11,42,22],[45,11,45,22],[52,20,53,20],[52,21,53,21],[52,22,53,22],[49,17,49,22],[50,11,53,12],[50,13,50,22],[51,13,51,15],[51,17,53,17],[51,18,51,22],[52,13,52,14],[52,15,53,15],[52,18,53,18],[52,19,53,19]]}
["CONSEJO DE EDUCACIÓN PRIMARIA",null,null,null,null,null,null,null,null,"PERSONAL DOCENTE"]
[]
["Cuadro Nº II-2.3.2"]
[]
["PERSONAL DOCENTE DE EDUCACIÓN PRIMARIA PRIVADA POR TIPO DE ESTABLECIMIENTO Y TIPO DE DESEMPEÑO DOCENTE SEGÚN DEPARTAMENTO AÑO 2013"]
["  DEPARTAMENTO",null,"TOTAL","MAESTROS","PROFESORES","ESTABLECIMIENTOS"]
[null,null,null,null,null,"HABILITADOS",null,null,"AUTORIZADOS"]
[null,null,null,null,null,"Total","Maestros","Profesores","Total","Maestros","Profesores"]
[]
["TOTAL",null,{"$f":"+D10+E10","v":7954},{"$f":"+G10+J10","v":3414},{"$f":"+H10+K10","v":4540},{"$f":"+G10+H10","v":7452},{"$f":"SUM(G11:G12)","v":3245},{"$f":"SUM(H11:H12)","v":4207},{"$f":"+J10+K10","v":502},{"$f":"SUM(J11:J12)","v":169},{"$f":"SUM(K11:K12)","v":333}]
["MONTEVIDEO",null,{"$f":"+D11+E11","v":4751},{"$f":"G11+J11","v":2007},{"$f":"H11+K11","v":2744},{"$f":"+G11+H11","v":4322},1875,2447,{"$f":"+J11+K11","v":429},132,297]
["RESTO DEL PAÍS",null,{"$f":"+D12+E12","v":3203},{"$f":"G12+J12","v":1407},{"$f":"H12+K12","v":1796},{"$f":"+G11+H11","v":4322},{"$f":"SUM(G13:G30)","v":1370},{"$f":"SUM(H13:H30)","v":1760},{"$f":"+J12+K12","v":73},{"$f":"SUM(J13:J30)","v":37},{"$f":"SUM(K13:K30)","v":36}]
["Artigas",null,{"$f":"+F13+I13","v":27},12,15,{"$f":"+G13+H13","v":27},12,15,0,0,0]
["Canelones",null,1132,506,626,1067,474,593,65,32,33]
["Cerro Largo",null,78,42,36,78,42,36,0,0,0]
["Colonia",null,103,40,63,103,40,63,0,0,0]
["Durazno",null,69,39,30,69,39,30,0,0,0]
["Flores",null,55,25,30,55,25,30,0,0,0]
["Florida",null,52,21,31,52,21,31,0,0,0]
["Lavalleja",null,119,53,66,119,53,66,0,0,0]
["Maldonado",null,586,265,321,586,265,321,0,0,0]
["Paysandú",null,196,86,110,196,86,110,0,0,0]
["Río Negro",null,111,37,74,106,34,72,5,3,2]
["Rivera",null,125,50,75,125,50,75,0,0,0]
["Rocha",null,65,30,35,65,30,35,0,0,0]
["Salto",null,154,61,93,154,61,93,0,0,0]
["San José",null,104,45,59,101,43,58,3,2,1]
["Soriano",null,59,24,35,59,24,35,0,0,0]
["Tacuarembó",null,145,61,84,145,61,84,0,0,0]
["Treinta y Tres",null,23,10,13,23,10,13,0,0,0]
["Fuente: DEE — CEIP Planillas enviadas por las Inspecciones Departamentales a abril de 2011."]
["NOTA: El personal docente incluye exclusivamente docencia directa "]

{"sheet":"MEDIA BASICA","index":203,"n_rows":0,"n_cols":0,"rows_kept":0,"cut":false,"hidden":false,"merged":[[37,0,37,4],[39,0,39,4],[24,0,24,4],[26,0,26,4],[28,0,28,4],[31,0,31,4],[33,0,33,4],[35,0,35,4],[22,0,22,4],[10,0,10,4],[14,0,14,4],[16,0,16,4],[18,0,18,4],[20,0,20,4]]}

{"sheet":"CONTROL Media Básica","index":204,"n_rows":15,"n_cols":4,"rows_kept":15,"cut":false,"hidden":true,"merged":[]}
[null,"PRIMER CUADRO","SEGUNDO CUADRO"]
["MATRÍCULA","II-3.2.1","II-3.2.4",{"$f":"IF('II-3.2.1'!C10 ='II-3.2.4'!B11, \"OK\", \"INCONSISTENCIA\")","v":"OK"}]
["MATRÍCULA","II-3.2.1","II-3.2.4",{"$f":"IF('II-3.2.1'!D10 = 'II-3.2.4'!D11, \"OK\", \"INCONSISTENCIA\")","v":"OK"}]
["MATRÍCULA","II-3.2.1","II-3.2.4",{"$f":"IF('II-3.2.1'!E10 = 'II-3.2.4'!F11, \"OK\", \"INCONSISTENCIA\")","v":"OK"}]
["MATRÍCULA","II-3.2.1","II-3.2.4",{"$f":"IF('II-3.2.1'!C13 = 'II-3.2.4'!C11, \"OK\", \"INCONSISTENCIA\")","v":"OK"}]
["MATRÍCULA","II-3.2.1","II-3.2.4",{"$f":"IF('II-3.2.1'!D13 = 'II-3.2.4'!E11, \"OK\", \"INCONSISTENCIA\")","v":"OK"}]
["MATRÍCULA","II-3.2.1","II-3.2.4",{"$f":"IF('II-3.2.1'!E13 = 'II-3.2.4'!G11, \"OK\", \"INCONSISTENCIA\")","v":"OK"}]
["MATRÍCULA","II-3.2.2","II-3.2.5",{"$f":"IF('II-3.2.2'!C14='II-3.2.5 '!F9, \"OK\", \"INCONSISTENCIA\")","v":"OK"}]
["MATRÍCULA","II-3.2.2","II-3.2.5",{"$f":"IF('II-3.2.2'!F14='II-3.2.5 '!C9, \"OK\", \"INCONSISTENCIA\")","v":"OK"}]
["MATRÍCULA","II-3.2.2","II-3.2.5",{"$f":"IF('II-3.2.2'!I14='II-3.2.5 '!D9, \"OK\", \"INCONSISTENCIA\")","v":"OK"}]
["MATRÍCULA","II-3.2.2","II-3.2.5",{"$f":"IF('II-3.2.2'!L14='II-3.2.5 '!E9, \"OK\", \"INCONSISTENCIA\")","v":"OK"}]
["MATRÍCULA","II-3.2.5","II-3.2.6",{"$f":"IF('II-3.2.5 '!C9='II-3.2.6 '!E10, \"OK\", \"INCONSISTENCIA\")","v":"OK"}]
["MATRÍCULA","II-3.2.5","II-3.2.6",{"$f":"IF('II-3.2.5 '!D9='II-3.2.6 '!C10, \"OK\", \"INCONSISTENCIA\")","v":"OK"}]
["MATRÍCULA","II-3.2.5","II-3.2.6",{"$f":"IF('II-3.2.5 '!E9='II-3.2.6 '!D10, \"OK\", \"INCONSISTENCIA\")","v":"OK"}]
["MATRÍCULA","II-3.2.5","II-3.2.6",{"$f":"IF('II-3.2.5 '!F9='II-3.2.6 '!F10, \"OK\", \"INCONSISTENCIA\")","v":"OK"}]

{"sheet":"II-3.1.1","index":205,"n_rows":38,"n_cols":13,"rows_kept":38,"cut":false,"hidden":false,"merged":[[6,0,14,0],[37,0,37,11],[0,9,2,11],[5,0,5,11],[6,3,6,11],[8,3,8,11],[11,3,13,4],[11,5,13,6],[7,1,14,1],[9,10,14,10],[9,11,14,11],[7,3,7,9],[9,3,10,6],[9,8,13,9],[9,2,14,2],[9,7,14,7]]}
["CONSEJO DE EDUCACIÓN INICIAL Y PRIMARIA (CEIP), ",null,null,null,null,null,null,null,null,"ESTABLECIMIENTOS"]
["CONSEJO DE EDUCACIÓN SECUNDARIA (CES) Y CONSEJO DE EDUCACIÓN TÉCNICO PROFESIONAL (UTU)"]
[]
["Cuadro Nº II-3.1.1"]
[]
["ESTABLECIMIENTOS DE EDUCACIÓN MEDIA BÁSICA POR MODALIDAD Y FORMA DE ADMINISTRACIÓN SEGÚN DEPARTAMENTO. AÑO 2013."]
["DEPARTAMENTO",null,null,"MODALIDAD"]
[null,"TOTAL GENERAL",null,"CES",null,null,null,null,null,null,"CEIP","CETP"]
[null,null,null,"FORMA DE ADMINISTRACIÓN"]
[null,null,"TOTAL LICEOS PÚBLICOS","LICEOS PÚBLICOS",null,null,null,"TOTAL LICEOS PRIVADOS","Liceos Privados",null,"Escuelas con Ciclo Básico Rural","Escuelas de CBT y Técnica."]
[]
[null,null,null,"Diurnos Oficiales",null,"Extra Edad Oficiales (Nocturno Y Diurno)"]
[]
[]
[null,null,null,"Ciclo Básico","C.Básico y Bachillerato","Ciclo Básico","C.Básico y Bachillerato",null,"Ciclo Básico","C.Básico y Bachillerato"]
["TOTAL",{"$f":"SUM(C16+H16)","v":501},{"$f":"SUM(C17,C18)","v":324},{"$f":"D17+D18","v":102},153,7,62,{"$f":"SUM(I16:J16)","v":177},19,158,61,138]
["MONTEVIDEO",{"$f":"SUM(C17+H17)","v":169},{"$f":"SUM(D17:G17)","v":72},39,17,1,15,{"$f":"SUM(I17:J17)","v":97},6,91,1,22]
["RESTO DEL PAÍS",{"$f":"SUM(C18+H18)","v":332},{"$f":"SUM(C19:C36)","v":252},{"$f":"SUM(D19:D36)","v":63},{"$f":"SUM(E19:E36)","v":136},6,47,{"$f":"SUM(I18:J18)","v":80},{"$f":"SUM(I19:I36)","v":13},{"$f":"SUM(J19:J36)","v":67},60,116]
["Artigas",11,{"$f":"SUM(D19:G19)","v":10},4,5,0,1,1,1,0,3,7]
["Canelones",84,{"$f":"SUM(D20:G20)","v":59},15,28,3,13,25,3,22,0,27]
["Cerro Largo",12,10,2,6,0,2,2,0,2,4,8," "]
["Colonia",20,18,3,9,0,6,2,1,1,6,9]
["Durazno",10,8,2,5,0,1,2,0,2,1,5]
["Flores",7,5,1,3,0,1,2,0,2,1,2]
["Florida",14,12,2,9,0,1,2,0,2,2,4]
["Lavalleja",13,10,2,6,1,1,3,2,1,2,4]
["Maldonado",27,15,5,6,0,4,12,1,11,4,4]
["Paysandú",17,13,5,7,0,1,4,0,4,10,5]
["Río Negro",11,9,3,4,0,2,2,1,1,5,3]
["Rivera",20,14,5,7,2,0,6,2,4,4,9]
["Rocha",15,13,3,7,0,3,2,0,2,3,5]
["Salto",16,11,1,9,0,1,5,0,5,1,4]
["San José",16,13,3,5,0,5,3,1,2,7,5]
["Soriano",12,11,3,5,0,3,1,0,1,1,6]
["Tacuarembó",17,13,3,9,0,1,4,1,3,4,6]
["Treinta y Tres",10,8,1,6,0,1,2,0,2,2,3]
["Fuente: D.E.- C.E.S ."]
["Notas:\n1- Los establecimientos considerados en el Tipo de Educación Escuelas con Ciclo Básico Rural” ya fueron considerados en los totales de establecimientos de Educación Primaria por lo cual, si bien se presentan en la columna  correspondiente, no participan en el “Total” del presente cuadro.\n2- En un mismo establecimiento del CETP, coexisten  ofertas educativas de diferentes niveles. Los establecimientos fueron contabilizados por el nivel educativo, por lo tanto cada dependencia física será contada tantas veces como niveles educativos contenga. Por ello el presente cuadro computa los establecimientos con cursos de Educación Media Básica, independientemente que en el mismo espacio locativo se dicten ofertas de otros niveles."]

{"sheet":"II-3.1.2","index":206,"n_rows":33,"n_cols":7,"rows_kept":33,"cut":false,"hidden":false,"merged":[[0,6,0,7],[31,0,31,5],[32,0,32,5],[4,0,4,5],[5,0,8,0],[5,2,5,5],[6,1,8,1],[6,2,6,3],[7,2,7,5]]}
["CONSEJO DE EDUCACIÓN INICIAL Y PRIMARIA (CEIP), ",null,null,null,null,null,"ESTABLECIMIENTOS"]
["CONSEJO DE EDUCACIÓN SECUNDARIA (CES) Y CONSEJO DE EDUCACIÓN TÉCNICO PROFESIONAL (UTU)"]
["Cuadro Nº II-3.1.2"]
[]
["ESTABLECIMIENTOS FÍSICOS DE EDUCACIÓN MEDIA POR FORMA DE ADMINISTRACIÓN SEGÚN DEPARTAMENTO. AÑO 2013."]
["DEPARTAMENTO",null,"MODALIDAD"]
[null,"TOTAL GENERAL","CES",null,"CEIP","CETP"]
[]
[null,null,"LICEOS PÚBLICOS","LICEOS PRIVADOS","Escuelas con Ciclo Básico Rural","Escuelas de CBT y Técnica."]
["TOTAL",{"$f":"B11+B12","v":797},{"$f":"C11+C12","v":296},{"$f":"D11+D12","v":188},{"$f":"E11+E12","v":61},{"$f":"F11+F12","v":252}]
["MONTEVIDEO",{"$f":"SUM(C11:F11)","v":240},75,106,1,58]
["RESTO DEL PAÍS",{"$f":"SUM(C12:F12)","v":557},{"$f":"SUM(C13:C30)","v":221},{"$f":"SUM(D13:D30)","v":82},{"$f":"SUM(E13:E30)","v":60},{"$f":"SUM(F13:F30)","v":194}]
["Artigas",{"$f":"C13+D13+E13+F13","v":27},11,1,3,12]
["Canelones",121,50,26,0,45]
["Cerro Largo",26,8,2,4,12]
["Colonia",36,14,2,6,14]
["Durazno",19,8,2,1,8]
["Flores",11,3,2,1,5]
["Florida",22,12,2,2,6]
["Lavalleja",19,8,3,2,6]
["Maldonado",35,12,13,4,6]
["Paysandú",42,14,4,10,14]
["Río Negro",19,8,2,5,4]
["Rivera",33,13,6,4,10]
["Rocha",25,11,2,3,9]
["Salto",24,11,5,1,7]
["San José",33,9,3,7,14]
["Soriano",17,9,1,1,6]
["Tacuarembó",32,13,4,4,11]
["Treinta y Tres",16,7,2,2,5]
["Fuente: C.E.S  - CETP- CEIP"]
["Nota: 1- A diferencia del cuadro anterior II-3.1.1, el presente consolida la cantidad de establecimientos físicos con independencia del nivel educativo al cual son dirigidos los programas de estudios impartidos. En el caso del CETP debe considerarse que además de Educación Media se dictan programas dirigidos a Educación Terciaria No Universitaria y Educación de Jóvenes y Adultos. "]
["2- Dentro de la cantidad de establecimientos declarados en el CETP se encuentran 126 reparticiones denominadas\nsatélites en las cuales se  imparten cursos administrados por el CETP, en establecimientos que no forman parte de los activos de ANEP. "]

{"sheet":"II-3.2.1","index":207,"n_rows":27,"n_cols":5,"rows_kept":27,"cut":false,"hidden":false,"merged":[[24,0,24,4],[0,3,1,5],[4,0,4,4],[5,0,7,0],[5,2,6,4],[6,1,7,1]]}
["CONSEJO DE EDUCACIÓN SECUNDARIA",null,null,"ALUMNOS MATRICULADOS"]
[]
["Cuadro Nº II-3.2.1"]
[]
["ALUMNOS MATRICULADOS EN EDUCACION MEDIA BÁSICA GENERAL POR GRADO SEGÚN GRANDES ÁREAS Y FORMA DE ADMINISTRACIÓN. AÑO 2013."]
["GRANDES ÁREAS Y FORMA DE ADMINISTRACIÓN",null,"GRADO"]
[null,"TOTAL"]
[null,null,"PRIMERO","SEGUNDO","TERCERO"]
["TOTAL DEL PAÍS",{"$f":"C9+D9+E9","v":151201},{"$f":"C14+C19","v":55052},48151,47998]
["MEDIA BÁSICA PÚBLICA",124749,45755,39376,39618]
["  Diurna",111263,{"$f":"C16+C21","v":42725},35512,33026]
["  Nocturna",13486,{"$f":"C17+C22","v":3030},3864,6592]
["MEDIA BÁSICA PRIVADA",26452,9297,8775,8380]
["TOTAL MONTEVIDEO",55292,{"$f":"C15+C18","v":20431},{"$f":"D15+D18","v":17549},{"$f":"E15+E18","v":17312}]
["MEDIA BÁSICA PÚBLICA",38460,{"$f":"C16+C17","v":14546},{"$f":"D16+D17","v":11931},{"$f":"E16+E17","v":11983}]
["  Diurna",33785,13565,10577,9643]
["  Nocturna",4675,981,1354,2340]
["MEDIA BÁSICA PRIVADA",{"$f":"C18+D18+E18","v":16832},5885,5618,5329]
["TOTAL RESTO DEL PAÍS",95909,{"$f":"C20+C23","v":34621},{"$f":"D20+D23","v":30602},{"$f":"E20+E23","v":30686}]
["MEDIA  BÁSICA PÚBLICA",86289,{"$f":"C21+C22","v":31209},{"$f":"D21+D22","v":27445},{"$f":"E21+E22","v":27635}]
["  Diurna",77478,29160,24935,23383]
["  Nocturna",8811,2049,2510,4252]
["MEDIA BÁSICA PRIVADA",9620,3412,3157,3051]
["Fuente: D.E. — C.E.S."]
["Nota: La referencia \"Privada\", (incluye los Habilitados \"Liceo Naval\" y \"Liceo Militar\"), se corresponde con la de \"Liceos Habilitados\" presente en ediciones anteriores del Anuario Estadístico del MEC."]
[]
["        "]

{"sheet":"II-3.2.2","index":208,"n_rows":35,"n_cols":14,"rows_kept":35,"cut":false,"hidden":false,"merged":[[10,12,10,13],[11,3,12,3],[11,4,12,4],[11,6,12,6],[11,7,12,7],[11,9,12,9],[11,10,12,10],[11,12,12,12],[11,13,12,13],[0,7,1,9],[5,0,6,8],[8,0,12,0],[8,1,12,1],[8,3,8,13],[9,2,12,2],[9,3,9,4],[9,5,12,5],[9,6,9,7],[9,8,12,8],[9,9,9,10],[9,11,12,11],[9,12,9,13],[10,3,10,4],[10,6,10,7],[10,9,10,10]]}
["CONSEJO DE EDUCACIÓN TÉCNICO PROFESIONAL (U.T.U.)",null,null,null,null,null,null,"ALUMNOS MATRICULADOS"]
[]
[]
[]
["Cuadro II-3.2.2."]
["ALUMNOS MATRICULADOS EN EL CETP EN EDUCACIÓN MEDIA BÁSICA TECNOLÓGICA POR TIPO DE CURSO SEGÚN  GRANDES ÁREAS, DEPARTAMENTO Y SEXO .AÑO 2013"]
[]
[]
["GRANDES ÁREAS,DEPARTAMENTO  Y SEXO ","TOTAL ",null,"EDUCACIÓN MEDIA BÁSICA TECNOLÓGICA "]
[null,null,"TOTAL ","Articulación Ed.Media Básica",null,"TOTAL","C. B. T. Agrario",null,"TOTAL","Ciclo Básico Tecnológico",null,"TOTAL ","Formación Profesional Básica 2007"]
[null,null,null,"Sexo",null,null,"Sexo",null,null,"Sexo",null,null,"Sexo"]
[null,null,null,"M","F",null,"M","F",null,"M","F",null,"M","F"]
[]
["TOTAL ",{"$f":"+C14+F14+I14+L14","v":29074},{"$f":"SUM(C15:C16)","v":954},{"$f":"SUM(D15:D16)","v":406},{"$f":"SUM(E15:E16)","v":548},{"$f":"SUM(F15:F16)","v":1135},{"$f":"SUM(G15:G16)","v":812},323,16787,9963,6824,10198,{"$f":"SUM(M15:M16)","v":6285},{"$f":"SUM(N15:N16)","v":3913}]
["Montevideo",{"$f":"+C15+F15+I15+L15","v":5117},{"$f":"+D15+E15","v":292},155,137,{"$f":"+G15+H15","v":0},0,0,{"$f":"+J15+K15","v":2329},1398,931,{"$f":"+M15+N15","v":2496},1499,997]
["Resto del País ",{"$f":"+C16+F16+I16+L16","v":23957},{"$f":"SUM(C17:C34)","v":662},251,411,{"$f":"SUM(F17:F34)","v":1135},812,323,{"$f":"SUM(I17:I34)","v":14458},8565,5893,{"$f":"SUM(L17:L34)","v":7702},4786,2916]
["Artigas",{"$f":"+C17+F17+I17+L17","v":1442},{"$f":"+D17+E17","v":69},29,40,{"$f":"+G17+H17","v":0},0,0,{"$f":"+J17+K17","v":857},517,340,{"$f":"+M17+N17","v":516},255,261]
["Canelones",{"$f":"+C18+F18+I18+L18","v":5419},173,60,113,91,56,35,2771,1631,1140,2384,1513,871]
["Cerro Largo",1557,68,23,45,59,45,14,953,572,381,477,307,170]
["Colonia",1599,74,27,47,105,76,29,1140,712,428,280,202,78]
["Durazno",1024,0,0,0,131,77,54,665,402,263,228,120,108]
["Flores",283,0,0,0,0,0,0,161,97,64,122,90,32]
["Florida",698,57,18,39,0,0,0,352,188,164,289,177,112]
["Lavalleja",513,0,0,0,41,30,11,254,143,111,218,127,91]
["Maldonado",1476,0,0,0,0,0,0,1101,659,442,375,225,150]
["Paysandú",1380,0,0,0,253,180,73,675,425,250,452,274,178]
["Rio Negro",683,0,0,0,0,0,0,475,304,171,208,140,68]
["Rivera",885,24,4,20,75,61,14,517,283,234,269,150,119]
["Rocha",909,30,20,10,81,60,21,455,273,182,343,230,113]
["Salto",1248,26,15,11,72,53,19,844,463,381,306,208,98]
["San José",1582,81,31,50,62,50,12,1218,661,557,221,141,80]
["Soriano",1596,27,9,18,105,84,21,1062,647,415,402,239,163]
["Tacuarembó",1059,33,15,18,0,0,0,522,316,206,504,312,192]
["Treinta y Tres",604,0,0,0,60,40,20,436,272,164,108,76,32]
["Fuente: Procesamiento propio en base a datos proporcionados por el D.E. - CETP  (U.T.U) ."]

{"sheet":"II-3.2.3","index":209,"n_rows":34,"n_cols":13,"rows_kept":34,"cut":false,"hidden":false,"merged":[[10,4,11,4],[10,5,11,5],[10,9,11,9],[10,10,11,10],[10,11,11,11],[10,6,11,6],[10,7,11,7],[10,8,11,8],[0,8,1,13],[5,0,5,12],[6,0,11,0],[6,1,9,3],[6,4,6,12],[7,4,7,12],[8,4,8,6],[8,7,8,9],[8,10,8,12],[9,4,9,6],[10,1,11,1],[10,2,11,2],[10,3,11,3],[10,12,11,12],[9,7,9,9],[9,10,9,12]]}
["CONSEJO DE EDUCACIÓN PRIMARIA",null,null,null,null,null,null,null,"ALUMNOS MATRICULADOS"]
[]
["Cuadro Nº II-3.2.3"]
[]
[]
["ALUMNOS MATRICULADOS EN SÉPTIMO, OCTAVO Y NOVENO GRADO DE CICLO BÁSICO RURAL POR SEXO SEGÚN DEPARTAMENTO AÑO 2013."]
["DEPARTAMENTO","TOTAL",null,null,"CICLO BÁSICO RURAL"]
[null,null,null,null,"GRADO"]
[null,null,null,null,"SÉPTIMO",null,null,"OCTAVO",null,null,"NOVENO"]
[null,null,null,null,"SEXO",null,null,"SEXO",null,null,"SEXO"]
[null,"T","M","F","T","M","F","T","M","F","T","M","F"]
[]
["TOTAL",{"$f":"E13+H13+K13","v":1812},933,879,{"$f":"F13+G13","v":686},{"$f":"F14+F15","v":377},{"$f":"G14+G15","v":309},{"$f":"I13+J13","v":600},{"$f":"I14+I15","v":298},{"$f":"J14+J15","v":302},{"$f":"L13+M13","v":526},{"$f":"L14+L15","v":258},{"$f":"M14+M15","v":268}]
["MONTEVIDEO",64,31,33,23,11,12,20,10,10,21,10,11]
["RESTO DEL PAÍS",1748,902,846,{"$f":"F15+G15","v":663},{"$f":"SUM(F16:F33)","v":366},{"$f":"SUM(G16:G33)","v":297},{"$f":"I15+J15","v":580},{"$f":"SUM(I16:I33)","v":288},{"$f":"SUM(J16:J33)","v":292},{"$f":"L15+M15","v":505},{"$f":"SUM(L16:L33)","v":248},{"$f":"SUM(M16:M33)","v":257}]
["Artigas",114,55,59,40,19,21,48,23,25,26,13,13]
["Canelones",{"$f":"E17+H17+K17","v":0},{"$f":"F17+I17+L17","v":0},{"$f":"G17+J17+M17","v":0},0,0,0,0,0,0,0,0,0]
["Cerro Largo",100,52,48,45,31,14,32,10,22,23,11,12]
["Colonia",182,101,81,63,39,24,72,40,32,47,22,25]
["Durazno",28,14,14,9,4,5,7,4,3,12,6,6]
["Flores",12,9,3,4,4,0,3,2,1,5,3,2]
["Florida",65,37,28,26,19,7,22,9,13,17,9,8]
["Lavalleja",75,29,46,33,16,17,22,9,13,20,4,16]
["Maldonado",101,63,38,44,26,18,23,12,11,34,25,9]
["Paysandú",298,154,144,111,53,58,103,57,46,84,44,40]
["Río Negro",105,38,67,43,16,27,30,12,18,32,10,22]
["Rivera",127,64,63,39,22,17,41,21,20,47,21,26]
["Rocha",77,40,37,29,14,15,24,12,12,24,14,10]
["Salto",24,16,8,10,8,2,8,4,4,6,4,2]
["San José",189,106,83,71,43,28,62,33,29,56,30,26]
["Soriano",51,18,33,24,11,13,15,5,10,12,2,10]
["Tacuarembó",139,76,63,52,30,22,43,24,19,44,22,22]
["Treinta y Tres",61,30,31,20,11,9,25,11,14,16,8,8]
["Fuente: DE — CES"]

{"sheet":"II-3.2.4","index":210,"n_rows":33,"n_cols":7,"rows_kept":33,"cut":false,"hidden":false,"merged":[[0,4,1,6],[4,0,4,6],[6,0,9,0],[6,1,6,6],[7,1,7,2],[7,3,7,4],[7,5,7,6],[8,1,8,6]]}
["CONSEJO DE EDUCACIÓN SECUNDARIA",null,null,null,"ALUMNOS MATRICULADOS"]
[]
["Cuadro Nº II-3.2.4"]
[]
["ALUMNOS MATRICULADOS DE EDUCACIÓN MEDIA BÁSICA GENERAL  POR GRADO Y FORMA DE ADMINISTRACIÓN SEGÚN DEPARTAMENTO AÑO 2013"]
[]
["DEPARTAMENTO","GRADO"]
[null,"PRIMERO",null,"SEGUNDO",null,"TERCERO"]
[null,"FORMA DE ADMINISTRACIÓN"]
[null,"Públicos","Privados","Públicos","Privados","Públicos","Privados"]
["TOTAL",{"$f":"B12+B13","v":45755},9297,39376,8775,39618,8380]
["MONTEVIDEO",14546,5885,11931,5618,11983,5329]
["RESTO DEL PAÍS",{"$f":"SUM(B14:B31)","v":31209},3412,27445,3157,27635,3051]
["Artigas",1193,18,1217,23,1143,17]
["Canelones",8103,1291,6932,1105,7058,1142]
["Cerro Largo",1237,96,1286,81,1336,75]
["Colonia",1596,26,1518,21,1567,40]
["Durazno",900,77,738,94,723,76]
["Flores",389,48,313,62,305,40]
["Florida",884,102,795,71,861,60]
["Lavalleja",957,57,813,50,799,59]
["Maldonado",2357,476,2105,479,2059,471]
["Paysandú",1797,235,1453,210,1474,217]
["Río Negro",898,59,880,46,821,52]
["Rivera",2318,168,1727,151,1759,132]
["Rocha",1136,76,1079,79,1054,63]
["Salto ",2121,238,1938,240,1853,196]
["San José",1529,149,1246,121,1380,103]
["Soriano",1220,73,1102,70,1193,86]
["Tacuarembó",1734,127,1544,157,1460,145]
["Treinta y Tres",840,96,759,97,790,77]
["Fuente: DE — CES"]
["Nota: Incluye la matrícula correspondiente a los liceos de cuarto turno (nocturnos). "]

{"sheet":"II-3.2.5 ","index":211,"n_rows":22,"n_cols":6,"rows_kept":22,"cut":false,"hidden":false,"merged":[[21,0,21,4],[0,4,1,5],[4,0,4,3],[6,0,7,0],[6,1,7,1],[6,2,6,5]]}
["CONSEJO DE EDUCACIÓN TÉCNICO PROFESIONAL (U.T.U.)",null,null,null,"ALUMNOS MATRICULADOS"]
[]
["Cuadro Nº II-3.2.5"]
[]
["ALUMNOS MATRICULADOS EN EDUCACIÓN TÉCNICA MEDIA BÁSICA POR TIPO DE CURSO SEGÚN EDAD. AÑO 2013"]
[]
["EDAD","TOTAL","TIPO DE CURSO"]
[null,null,"C.T.B Agrario","Ciclo Básico Tecnológico","Formación Profesional Básica\nPlan 2007","Articulación Educación Media Básica"]
["TOTAL",{"$f":"SUM(B10:B21)","v":29074},{"$f":"SUM(C10:C21)","v":1135},{"$f":"SUM(D10:D21)","v":16787},{"$f":"SUM(E10:E21)","v":10198},{"$f":"SUM(F10:F21)","v":954}]
["11 y 12 años ",{"$f":"SUM(C10:F10)","v":3661},268,3382,7,4]
["13 años ",{"$f":"SUM(C11:F11)","v":5460},383,5041,29,7]
["14 años ",5674,332,4687,642,13]
["15 años ",4833,110,2277,2427,19]
["16 años ",4019,32,1016,2951,20]
["17 años ",2585,6,294,2249,36]
["18 años ",981,3,50,871,57]
["19 años ",366,0,7,299,60]
["20 a 24 años ",563,1,22,359,181]
["25 a 29 años ",286,0,2,137,147]
["30 años y más ",593,0,8,227,358]
["Edad desconocida",53,0,1,0,52]
["Fuente : Procesamiento propio en base a datos proporcionados por el D.E.-CETP (U.T.U.) "]

{"sheet":"II-3.2.6 ","index":212,"n_rows":26,"n_cols":6,"rows_kept":26,"cut":false,"hidden":false,"merged":[[0,2,1,3],[25,0,25,3],[6,0,7,0],[6,1,7,1],[6,2,6,4],[5,0,5,5]]}
["CONSEJO DE EDUCACIÓN TÉCNICO PROFESIONAL (U.T.U.)",null,"ALUMNOS MATRICULADOS"]
[]
[]
["Cuadro Nº II-3.2.6."]
[]
["ALUMNOS MATRICULADOS EN EL CETP EN EDUCACIÓN MEDIA BÁSICA POR TIPO DE CURSO SEGÚN SECTORES DE ESTUDIO. AÑO 2013"]
["SECTORES DE ESTUDIO","TOTAL","TIPO DE CURSO"]
[null,null,"Ciclo Básico Tecnológico","Formación Profesional Básica Plan 2007","CTB AGRARIO ","Articulación Educación Media"]
[]
["Prog. Ciclo Básico. Educación Media",{"$f":"+C10+D10+E10+F10","v":29074},{"$f":"SUM(C11:C25)","v":16787},{"$f":"SUM(D11:D25)","v":10198},{"$f":"SUM(E11:E25)","v":1135},{"$f":"SUM(F11:F25)","v":954}]
["Agropecuario",{"$f":"+C11+D11+E11+F11","v":222},0,222,0,0]
["Construcción y Arquitectura",205,0,205,0,0]
["Deportes",849,0,849,0,0]
["Electricidad y Electrónica",1473,0,1473,0,0]
["Gastronomía",1551,0,1542,0,9]
["Hortifruticultura y Jardinería",63,0,63,0,0]
["Informática",937,0,937,0,0]
["Madera y Muebles",1188,0,1182,0,6]
["Mant. y Reparación de Vehículos",1184,0,1184,0,0]
["Metal - Mecánica",499,0,499,0,0]
["Prog. Articulación entre Niveles",936,0,0,0,936]
["Prog. Ciclo Básico Agrario",1135,0,0,1135,0]
["Prog. Ciclo Básico. Educación Media",16787,16787,0,0,0]
["Servicios personales",1633,0,1633,0,0]
["Textil y Confección de Vestimenta",412,0,409,0,3]
["Fuente: Procesamiento propio en base a datos proporcionados por el D.E.- CETP . (UTU)"]

{"sheet":"II-3.3.1","index":213,"n_rows":47,"n_cols":7,"rows_kept":47,"cut":false,"hidden":false,"merged":[[0,5,1,6],[4,0,4,6],[6,0,7,0],[6,1,7,1],[6,2,6,3],[6,4,7,4],[6,5,6,6]]}
["CONSEJO DE EDUCACIÓN SECUNDARIA",null,null,null,null,"PERSONAL DOCENTE"]
[]
["Cuadro Nº II-3.3.1."]
[]
["PERSONAL DOCENTE Y HORAS DOCENTES DEL CES EN EDUACIÓN MEDIA BÁSICA GENERAL POR TITULACIÓN SEGÚN ASIGNATURAS. AÑO 2013."]
[]
["ASIGNATURAS","TOTAL DOCENTES","PERSONAL DOCENTE",null,"TOTAL HORAS ","HORAS DOCENTES"]
[null,null,"Titulados","No Titulados",null,"Titulados","No Titulados"]
["TOTAL",{"$f":"SUM(C9:D9)","v":15600},{"$f":"SUM(C10:C45)","v":8786},{"$f":"SUM(D10:D45)","v":6814},{"$f":"SUM(F9:G9)","v":224066},{"$f":"SUM(F10:F45)","v":129766},{"$f":"SUM(G10:G45)","v":94300}]
["ACT.ADAPTADAS AL MEDIO AMBIENT",{"$f":"SUM(C10:D10)","v":57},5,52,{"$f":"SUM(F10:G10)","v":609},33,576]
["ALEMÁN",5,0,5,97,0,97]
["ASTRONOMÍA",168,42,126,2167,442,1725]
["BIOLOGÍA",1257,1022,235,16541,14351,2190]
["CONTABILIDAD",3,0,3,18,0,18]
["DIBUJO",784,406,378,12120,7077,5043]
["DIRECTOR DE COROS",144,54,90,1565,683,882]
["ECONOMÍA",2,2,0,6,6,0]
["ED.SOCIAL Y CÍVICA DERECHO",528,419,109,4324,3645,679]
["EDUCACIÓN FÍSICA",1003,854,149,15853,13974,1879]
["EDUCACIÓN MUSICAL",577,127,450,8574,2081,6493]
["ESPACIO CURRICULAR ABIERTO",630,173,457,5468,1294,4174]
["ESTUDIOS ECONÓMICOS Y SOCIALES",1,1,0,2,2,0]
["EXPRESIÓN CORPORAL Y DANZA",0,0,0,0,0,0]
["EXPRESIÓN CORPORAL Y TEATRO",1,0,1,12,0,12]
["FILOSOFÍA",408,294,114,4514,3462,1052]
["FÍSICA",632,266,366,7557,3474,4083]
["FRANCÉS",58,15,43,1137,356,781]
["GEOGRAFÍA",857,657,200,12733,10550,2183]
["GEOLOGÍA",0,0,0,0,0,0]
["HISTORIA",1468,1222,246,18569,16374,2195]
["IDIOMA ESPAÑOL",1140,826,314,18573,14355,4218]
["INFORMÁTICA",887,147,740,14847,2201,12646]
["INGLÉS",1340,462,878,22533,8489,14044]
["ITALIANO",68,22,46,1222,440,782]
["LABORATORIO DE INFORMÁTICA",316,46,270,6735,922,5813]
["LENG.COM.Y MED.AUDIOVISUALES",1,0,1,3,0,3]
["LENGUA DE SEÑAS",4,0,4,58,0,58]
["LITERATURA",812,641,171,10211,8515,1696]
["MANUALIDADES",1,0,1,20,0,20]
["MATEMÁTICA",1524,554,970,27557,10851,16706]
["PIANISTA ACOMPAÑANTE",117,28,89,1118,279,839]
["PORTUGUÉS",92,20,72,1331,221,1110]
["QUÍMICA",715,481,234,7992,5689,2303]
["REC.NATUR.Y PAISAJE AGRARIO",0,0,0,0,0,0]
["TEATRO",0,0,0,0,0,0]
["Fuente: Departamento de Computación - División Hacienda — C.E.S."]
["Nota: Los docentes que dictan más de una asignatura son considerados como personas distintas en cada asignatura."]

{"sheet":"II-3.3.2","index":214,"n_rows":14,"n_cols":5,"rows_kept":14,"cut":false,"hidden":false,"merged":[[0,4,1,5],[4,0,4,3],[5,0,6,0],[5,1,6,1]]}
["CONSEJO DE EDUCACIÓN TÉCNICO PROFESIONAL (U.T.U.)",null,null,null,"PERSONAL DOCENTE"]
[]
["Cuadro Nº II-3.3.2."]
[]
["PERSONAL DOCENTE DEL CETP EN EDUCACIÓN MEDIA BÁSICA TECNOLÓGICA POR TIPO DE CURSO. AÑO 2013"]
["EDUCACIÓN MEDIA BÁSICA","TOTAL"]
[]
[]
["TOTAL",{"$f":"SUM(B10:B13)","v":6678}]
["Ciclo Básico Tecnológico",3665]
["Ciclo Básico Tecnológico Agrario","S/D"]
["Formación Profesional Básica Plan 2007",2754]
["Articulación Educ.Media Básica",259]
["Fuente: U.T.U. División Informática."]

{"sheet":"II-3.4.1","index":215,"n_rows":26,"n_cols":4,"rows_kept":26,"cut":false,"hidden":false,"merged":[[26,0,26,2],[0,3,1,4],[4,0,4,2],[5,0,8,0],[5,1,6,2],[7,1,8,1],[7,2,8,2]]}
["CONSEJO DE EDUCACIÓN SECUNDARIA",null,null,"GRUPOS"]
[]
["Cuadro Nº II-3.4.1."]
[]
["GRUPOS DEL CES EN EDUCACIÓN MEDIA BÁSICA GENERAL  COMPARADOS CON EL TOTAL DE GRUPOS EN EDUCACIÓN MEDIA GENERAL SEGÚN GRANDES ÁREAS Y FORMA DE ADMINISTRACIÓN. AÑO 2013."]
["GRANDES ÁREAS Y FORMA DE ADMINISTRACIÓN","FORMA DE ADMINISTRACIÓN"]
[]
[null,"Grupos en Educación Media Básica General ","Total de grupos en Educación Media General"]
[]
["TOTAL DEL PAÍS",{"$f":"B15+B20","v":5430},{"$f":"C15+C20","v":9881}]
["MEDIA BÁSICA PÚBLICA",{"$f":"B12+B13","v":4346},{"$f":"C12+C13","v":7562}]
["  Diurna",{"$f":"B17+B22","v":3976},{"$f":"C17+C22","v":6581}]
["  Cuarto Turno",370,{"$f":"C18+C23","v":981}]
["MEDIA BÁSICA PRIVADA",1084,2319]
["TOTAL MONTEVIDEO",{"$f":"B16+B19","v":1951},{"$f":"C16+C19","v":3688}]
["MEDIA BÁSICA PÚBLICA",{"$f":"B17+B18","v":1286},{"$f":"C17+C18","v":2164}]
["  Diurna",1161,1809]
["  Cuarto Turno",125,355]
["MEDIA BÁSICA  PRIVADA",665,1524]
["TOTAL RESTO DEL PAÍS",{"$f":"B21+B24","v":3479},{"$f":"C21+C24","v":6193}]
["MEDIA BÁSICA PÚBLICA",{"$f":"B22+B23","v":3060},{"$f":"C22+C23","v":5398}]
["  Diurna",2815,4772]
["  Cuarto Turno",245,626]
["MEDIA  BÁSICA PRIVADA",419,795]
[]
["Fuente: D.E. — C.E.S."]

{"sheet":"CONTROL Media Superior","index":216,"n_rows":21,"n_cols":4,"rows_kept":21,"cut":false,"hidden":true,"merged":[]}
[null,"PRIMER CUADRO","SEGUNDO CUADRO"]
["MATRÍCULA","II-4.2.1","II-4.2.5",{"$f":"IF('II-4.2.1'!C10='II-4.2.5'!B10, \"OK\", \"INCONSISTENCIA\")","v":"OK"}]
["MATRÍCULA","II-4.2.1","II-4.2.5",{"$f":"IF('II-4.2.1'!D10='II-4.2.5'!D10,\"OK\",\"INCONSISTENCIA\")","v":"OK"}]
["MATRÍCULA","II-4.2.1","II-4.2.5",{"$f":"IF('II-4.2.1'!E10='II-4.2.5'!F10, \"OK\", \"INCONSISTENCIA\")","v":"OK"}]
["MATRÍCULA","II-4.2.1","II-4.2.5",{"$f":"IF('II-4.2.1'!C13='II-4.2.5'!C10, \"OK\", \"INCONSISTENCIA\")","v":"OK"}]
["MATRÍCULA","II-4.2.1","II-4.2.5",{"$f":"IF('II-4.2.1'!D13='II-4.2.5'!E10, \"OK\", \"INCONSISTENCIA\")","v":"OK"}]
["MATRÍCULA","II-4.2.1","II-4.2.5",{"$f":"IF('II-4.2.1'!E13='II-4.2.5'!G10, \"OK\", \"INCONSISTENCIA\")","v":"OK"}]
["MATRÍCULA","II-4.2.3","II-4.2.4",{"$f":"IF('II-4.2.3 '!C10='II-4.2.4 '!C8, \"OK\", \"INCONSISTENCIA\")","v":"OK"}]
["MATRÍCULA","II-4.2.3","II-4.2.4",{"$f":"IF('II-4.2.3 '!D10='II-4.2.4 '!D8, \"OK\", \"INCONSISTENCIA\")","v":"OK"}]
["MATRÍCULA","II-4.2.3","II-4.2.4",{"$f":"IF('II-4.2.3 '!E10='II-4.2.4 '!E8, \"OK\", \"INCONSISTENCIA\")","v":"OK"}]
["MATRÍCULA","II-4.2.3","II-4.2.4",{"$f":"IF('II-4.2.3 '!H10='II-4.2.4 '!H8, \"OK\", \"INCONSISTENCIA\")","v":"OK"}]
["MATRÍCULA","II-4.2.3","II-4.2.4",{"$f":"IF('II-4.2.3 '!I10='II-4.2.4 '!I8, \"OK\", \"INCONSISTENCIA\")","v":"OK"}]
["MATRÍCULA","II-4.2.1","II-4.2.6",{"$f":"IF('II-4.2.1'!D9='II-4.2.6'!B11, \"OK\", \"INCONSISTENCIA\")","v":"OK"}]
["MATRÍCULA","II-4.2.5","II-4.2.9",{"$f":"IF('II-4.2.5'!F10='II-4.2.9'!B12, \"OK\", \"INCONSISTENCIA\")","v":"OK"}]
["MATRÍCULA","II-4.2.5","II-4.2.9",{"$f":"IF('II-4.2.5'!G10='II-4.2.9'!B15, \"OK\", \"INCONSISTENCIA\")","v":"OK"}]
["MATRÍCULA","II-4.2.6","II-4.2.7",{"$f":"IF('II-4.2.6'!B12='II-4.2.7'!B11, \"OK\", \"INCONSISTENCIA\")","v":"OK"}]
["MATRÍCULA","II-4.2.6","II-4.2.8",{"$f":"IF('II-4.2.6'!B15='II-4.2.8 '!B13, \"OK\", \"INCONSISTENCIA\")","v":"OK"}]
["MATRÍCULA","II-4.2.9","II-4.2.10",{"$f":"IF('II-4.2.9'!B12=II_4_2_10!B12, \"OK\", \"INCONSISTENCIA\")","v":"OK"}]
["MATRÍCULA","II-4.2.9","II-4.2.10",{"$f":"IF('II-4.2.9'!B17=II_4_2_10!B13,\"OK\",\"INCONSISTENCIA\")","v":"OK"}]
["MATRÍCULA","II-4.2.9","II-4.2.10",{"$f":"IF('II-4.2.9'!B22=II_4_2_10!B14,\"OK\",\"INCONSISTENCIA\")","v":"OK"}]
["MATRÍCULA","II-4.2.9","II-4.2.11",{"$f":"IF('II-4.2.9'!B15='II-4.2.11 '!B8, \"OK\", \"INCONSISTENCIA\")","v":"OK"}]

{"sheet":"MEDIA SUPERIOR","index":217,"n_rows":0,"n_cols":0,"rows_kept":0,"cut":false,"hidden":false,"merged":[[36,0,36,4],[38,0,38,4],[22,0,22,4],[24,0,24,4],[28,0,28,4],[30,0,30,4],[32,0,32,4],[34,0,34,4],[20,0,20,4],[10,0,10,4],[12,0,12,4],[14,0,14,4],[16,0,16,4],[18,0,18,4]]}

{"sheet":"II-4.1.1","index":218,"n_rows":39,"n_cols":11,"rows_kept":39,"cut":false,"hidden":false,"merged":[[37,0,37,12],[38,0,39,12],[0,7,1,9],[4,0,4,10],[5,3,5,10],[6,1,13,1],[7,3,7,10],[8,10,13,10],[8,3,9,6],[8,8,12,9],[10,3,12,4],[10,5,12,6],[6,3,6,9],[8,2,13,2],[8,7,13,7],[5,0,13,0]]}
["CONSEJO DE EDUCACIÓN SECUNDARIA Y CONSEJO DE EDUCACIÓN TÉCNICO PROFESIONAL (UTU)",null,null,null,null,null,null,"ESTABLECIMIENTOS"]
[]
["Cuadro Nº II-4.1.1"]
[]
["ESTABLECIMIENTOS DE EDUCACIÓN MEDIA SUPERIOR POR MODALIDAD Y FORMA DE ADMINISTRACIÓN SEGÚN DEPARTAMENTO. AÑO 2013."]
["DEPARTAMENTO",null,null,"MODALIDAD"]
[null,"TOTAL GENERAL",null,"CES",null,null,null,null,null,null,"CETP"]
[null,null,null,"FORMA DE ADMINISTRACIÓN"]
[null,null,"TOTAL LICEOS PÚBLICOS","LICEOS PÚBLICOS",null,null,null,"TOTAL LICEOS PRIVADOS","Liceos Privados",null,"Escuelas de CBT y Técnica."]
[]
[null,null,null,"Diurnos Oficiales",null,"Extra Edad Oficiales (Nocturno Y Diurno)"]
[]
[]
[null,null,null,"Bachillerato","C.Básico y Bachillerato","Bachillerato","C.Básico y Bachillerato",null,"Bachillerato","C.Básico y Bachillerato"]
["TOTAL",{"$f":"B16+B17","v":458},{"$f":"SUM(D15:G15)","v":291},{"$f":"D16+D17","v":42},153,34,62,{"$f":"SUM(I15:J15)","v":167},9,158,138]
["MONTEVIDEO",{"$f":"SUM(C16+H16)","v":162},{"$f":"SUM(D16:G16)","v":64},17,17,15,15,{"$f":"SUM(I16:J16)","v":98},7,91,29]
["RESTO DEL PAÍS",{"$f":"SUM(C17+H17)","v":296},{"$f":"SUM(C18:C35)","v":227},{"$f":"SUM(D18:D35)","v":25},{"$f":"SUM(E18:E35)","v":136},19,47,69,{"$f":"SUM(I18:I35)","v":2},{"$f":"SUM(J18:J35)","v":67},109]
["Artigas",{"$f":"SUM(C18+H18)","v":9},{"$f":"SUM(D18:G18)","v":9},2,5,1,1,0,0,0,6]
["Canelones",78,{"$f":"SUM(D19:G19)","v":55},8,28,6,13,23,1,22,23]
["Cerro Largo",10,8,0,6,0,2,2,0,2,5]
["Colonia",20,19,2,9,2,6,1,0,1,11]
["Durazno",11,9,1,5,2,1,2,0,2,3]
["Flores",7,5,0,3,1,1,2,0,2,2]
["Florida",14,12,1,9,1,1,2,0,2,3]
["Lavalleja",8,7,0,6,0,1,1,0,1,4]
["Maldonado",23,11,1,6,0,4,12,1,11,6]
["Paysandú",15,11,2,7,1,1,4,0,4,7]
["Río Negro",9,8,1,4,1,2,1,0,1,3]
["Rivera",14,10,2,7,1,0,4,0,4,5]
["Rocha",14,12,1,7,1,3,2,0,2,4]
["Salto",17,12,1,9,1,1,5,0,5,6]
["San José",13,11,1,5,0,5,2,0,2,7]
["Soriano",11,10,1,5,1,3,1,0,1,6]
["Tacuarembó",14,11,1,9,0,1,3,0,3,4]
["Treinta y Tres",9,7,0,6,0,1,2,0,2,4]
[]
["Fuente: D.E.- C.E.S ."]
["Nota: 1- Los establecimientos considerados en el Tipo de Educación Escuelas con Ciclo Básico Rural” ya fueron considerados en los totales de establecimientos de Educación Primaria por lo cual, si bien se presentan en la columna  correspondiente, no participan en el “Total” del presente cuadro."]
["2- En un mismo establecimiento del CETP, coexisten  ofertas educativas de diferentes niveles Los establecimientos fueron contabilizados por el nivel educativo, por lo tanto cada dependencia física será contada tantas veces como niveles educativos contenga Por ello el presente cuadro computa los establecimientos con cursos de Educación Media Básica, independientemente que en el mismo espacio locativo se dicten ofertas de otros niveles."]

{"sheet":"II-4.2.1","index":219,"n_rows":29,"n_cols":5,"rows_kept":29,"cut":false,"hidden":false,"merged":[[24,0,24,4],[0,2,1,4],[0,7,1,7],[4,0,4,4],[5,0,7,0],[5,1,7,1],[5,2,6,4]]}
["CONSEJO DE EDUCACIÓN SECUNDARIA",null,"ALUMNOS MATRICULADOS"]
[]
["Cuadro Nº II-4.2.1"]
[]
["ALUMNOS MATRICULADOS  DEL CES  EN EDUCACIÓN MEDIA SUPERIOR  GENERAL POR GRADO SEGÚN GRANDES ÁREAS Y FORMA DE ADMINISTRACIÓN AÑO 2013"]
["GRANDES ÁREAS Y FORMA DE ADMINISTRACIÓN","TOTAL","GRADO"]
[]
[null,null,"CUARTO","QUINTO","SEXTO"]
["TOTAL DEL PAÍS",{"$f":"C9+D9+E9","v":116552},{"$f":"C10+C13","v":40753},{"$f":"D10+D13","v":41648},{"$f":"E10+E13","v":34151}]
["MEDIA SUPERIOR PÚBLICA ",{"$f":"C10+D10+E10","v":99510},{"$f":"C11+C12","v":34134},{"$f":"D11+D12","v":36202},{"$f":"E11+E12","v":29174}]
["  Diurna",{"$f":"C11+D11+E11","v":66654},{"$f":"C16+C21","v":25656},23251,17747]
["  Cuarto Turno",32856,8478,12951,11427]
["MEDIA SUPERIOR PRIVADA",17042,6619,5446,4977]
["TOTAL MONTEVIDEO",46141,{"$f":"C15+C18","v":14792},{"$f":"D15+D18","v":16915},{"$f":"E15+E18","v":14434}]
["MEDIA SUPERIOR PÚBLICA ",33688,{"$f":"C16+C17","v":10258},{"$f":"D16+D17","v":12827},{"$f":"E16+E17","v":10603}]
["  Diurna",18532,6986,6601,4945]
["  Cuarto Turno",15156,3272,6226,5658]
["MEDIA SUPERIOR PRIVADA ",12453,4534,4088,3831]
["TOTAL RESTO DEL PAÍS",70411,{"$f":"C20+C23","v":25961},{"$f":"D20+D23","v":24733},{"$f":"E20+E23","v":19717}]
["MEDIA SUPERIOR PÚBLICA ",65822,{"$f":"C21+C22","v":23876},{"$f":"D21+D22","v":23375},{"$f":"E21+E22","v":18571}]
["  Diurna",48122,18670,16650,12802]
["  Cuarto Turno",17700,5206,6725,5769]
["MEDIA SUPERIOR PRIVADA ",4589,2085,1358,1146]
["Fuente: DE — CES"]
["Nota: La referencia \"Privada\" (incluye los Habilitados \"Liceo Naval\" y \"Liceo Militar\"), se corresponde con la de \"Liceos Habilitados\" presente en ediciones anteriores del Anuario Estadístico del MEC"]
["       "]
["        "]
["        "]
["        "]

{"sheet":"II-4.2.2 ","index":220,"n_rows":34,"n_cols":25,"rows_kept":34,"cut":false,"hidden":false,"merged":[[7,22,9,22],[7,23,7,24],[8,23,8,24],[9,23,10,23],[9,24,10,24],[32,0,32,12],[8,5,8,6],[33,0,33,21],[6,4,6,21],[9,2,10,2],[9,3,10,3],[7,14,7,15],[8,14,8,15],[7,16,9,16],[5,4,5,21],[9,20,10,20],[9,21,10,21],[7,19,10,19],[7,20,7,21],[8,17,8,18],[8,20,8,21],[7,17,7,18],[9,17,10,17],[9,18,10,18],[7,13,10,13],[0,7,1,7],[0,10,0,13],[5,0,10,0],[5,1,10,1],[5,2,8,3],[7,4,10,4],[7,5,7,6],[8,8,8,9],[8,11,8,12],[4,0,4,21],[9,5,10,5],[9,6,10,6],[7,7,10,7],[7,8,7,9],[7,10,10,10],[7,11,7,12]]}
["CONSEJO DE EDUCACIÓN TÉCNICO PROFESIONAL (U.T.U.)",null,null,null,null,null,null,null,null,null,"ALUMNOS MATRICULADOS"]
[]
["Cuadro Nº II-4.2.2"]
[]
["ALUMNOS MATRICULADOS EN EL CETP EN EDUCACIÓN MEDIA SUPERIOR TECNOLÓGICA POR TIPO DE CURSO SEGÚN GRANDES ÁREAS, DEPARTAMENTO Y SEXO. AÑO 2013"]
["GRANDES ÁREAS,DEPARTAMENTO Y SEXO ","TOTAL","TOTAL ",null,"Tipo de curso"]
[null,null,null,null,"EDUACIÓN MEDIA SUPERIOR TECONOLOGICA "]
[null,null,null,null,"TOTAL ","Bachillerato Figari",null,"TOTAL ","Bachillerato Profesional",null,"TOTAL ","Curso Técnico",null,"TOTAL ","E. M. P. Especialización",null,"TOTAL ","Educación Media Profesional",null,"TOTAL","Educación Media Tecnológica",null,"TOTAL","Formación Profesional Superior"]
[null,null,null,null,null,"Sexo",null,null,"Sexo",null,null,"Sexo",null,null,"Sexo",null,null,"Sexo",null,null,"Sexo"]
[null,null,"F","M",null,"F","M",null,"F","M",null,"F","M",null,"F","M",null,"F","M",null,"F","M"]
[null,null,null,null,null,null,null,null,"Count","Count",null,"Count","Count",null,null,null,null,"Count","Count",null,"Count","Count"]
["TOTAL ",{"$f":"B13+B14","v":38995},{"$f":"F12+I12+L12+R12+U12+X12+O12","v":17460},{"$f":"G12+J12+M12+S12+V12+Y12+P12","v":21535},{"$f":"F12+G12","v":183},94,89,{"$f":"I12+J12","v":746},140,606,{"$f":"L12+M12","v":368},354,14,{"$f":"O12+P12","v":70},13,57,{"$f":"R12+S12","v":13860},6670,7190,{"$f":"U12+V12","v":23492},9990,13502,{"$f":"X12+Y12","v":276},199,77]
["Montevideo",{"$f":"C13+D13","v":16673},{"$f":"F13+I13+L13+R13+U13+X13+O13","v":6769},{"$f":"G13+J13+M13+S13+V13+Y13+P13","v":9904},{"$f":"F13+G13","v":164},86,78,{"$f":"I13+J13","v":437},85,352,{"$f":"L13+M13","v":368},354,14,{"$f":"O13+P13","v":70},13,57,{"$f":"R13+S13","v":5462},2478,2984,{"$f":"U13+V13","v":9901},3558,6343,{"$f":"X13+Y13","v":271},195,76]
["RESTO DEL PAÍS",{"$f":"SUM(B15:B32)","v":22322},10691,11631,19,8,11,309,55,254,0,0,0,0,0,0,8398,4192,4206,13591,6432,7159,5,4,1]
["Artigas",{"$f":"C15+D15","v":1291},673,618,19,8,11,11,0,11,0,0,0,0,0,0,612,312,300,649,353,296,0,0,0]
["Canelones",{"$f":"C16+D16","v":4384},2409,1975,0,0,0,73,25,48,0,0,0,0,0,0,1866,1109,757,2445,1275,1170,0,0,0]
["Cerro Largo",1188,604,584,0,0,0,19,0,19,0,0,0,0,0,0,545,297,248,624,307,317,0,0,0]
["Colonia",1541,746,795,0,0,0,26,10,16,0,0,0,0,0,0,586,273,313,929,463,466,0,0,0]
["Durazno",575,264,311,0,0,0,0,0,0,0,0,0,0,0,0,145,66,79,430,198,232,0,0,0]
["Flores",299,134,165,0,0,0,10,0,10,0,0,0,0,0,0,43,32,11,246,102,144,0,0,0]
["Florida",717,328,389,0,0,0,0,0,0,0,0,0,0,0,0,208,120,88,509,208,301,0,0,0]
["Lavalleja",529,269,260,0,0,0,4,0,4,0,0,0,0,0,0,324,155,169,201,114,87,0,0,0]
["Maldonado",1723,733,990,0,0,0,29,7,22,0,0,0,0,0,0,680,302,378,1014,424,590,0,0,0]
["Paysandú",1672,677,995,0,0,0,8,3,5,0,0,0,0,0,0,341,159,182,1323,515,808,0,0,0]
["Rio Negro",613,248,365,0,0,0,0,0,0,0,0,0,0,0,0,155,56,99,458,192,266,0,0,0]
["Rivera",544,305,239,0,0,0,0,0,0,0,0,0,0,0,0,302,145,157,242,160,82,0,0,0]
["Rocha",1001,460,541,0,0,0,0,0,0,0,0,0,0,0,0,293,173,120,703,283,420,5,4,1]
["Salto",1914,816,1098,0,0,0,62,5,57,0,0,0,0,0,0,653,283,370,1199,528,671,0,0,0]
["San José",1013,478,535,0,0,0,21,2,19,0,0,0,0,0,0,480,195,285,512,281,231,0,0,0]
["Soriano",1580,764,816,0,0,0,0,0,0,0,0,0,0,0,0,566,305,261,1014,459,555,0,0,0]
["Tacuarembó",1236,571,665,0,0,0,25,1,24,0,0,0,0,0,0,394,121,273,817,449,368,0,0,0]
["Treinta y Tres",502,212,{"$f":"G32+J32+M32+S32+V32+Y32","v":290},0,0,0,21,2,19,0,0,0,0,0,0,{"$f":"R32+S32","v":205},89,116,276,121,155,0,0,0]
["Fuente : Procesamiento propio en base a datos proporcionados por el D.E. _ CETP (U.T.U. ) "]
["Nota: Los matriculados en Formación Profesional Superior, potencialmente son estudiantes de Educación Media Superior, ya que con el curso de Articulación correspondiente adquieren continuidad educativa a  nivel tericiario. "]

{"sheet":"II-4.2.3 ","index":221,"n_rows":26,"n_cols":10,"rows_kept":26,"cut":false,"hidden":false,"merged":[[0,9,1,10],[4,0,4,9],[5,0,8,0],[5,1,8,1],[5,2,6,8],[7,2,7,8]]}
["CONSEJO DE EDUCACIÓN TÉCNICO PROFESIONAL (U.T.U.)",null,null,null,null,null,null,null,null,"ALUMNOS MATRICULADOS"]
[]
["Cuadro Nº II-4.2.3"]
[]
["ALUMNOS MATRICULADOS EN EL CETP EN EDUCACIÓN MEDIA SUPERIOR POR TIPO DE CURSO SEGÚN EDAD. AÑO 2013."]
["EDAD ","TOTAL ","TIPO DE CURSO "]
[]
[null,null,"EDUCACIÓN MEDIA SUPERIOR TECNOLÓGICA "]
[null,null,"Bachillerato Figari","Bachillerato Profesional","Curso Técnico","E. M. P. Especialización","Educación Media Profesional","Educación Media Tecnológica","Formación Profesional Superior"]
["TOTAL ",{"$f":"+C10+D10+E10+F10+G10+H10+I10","v":38995},{"$f":"SUM(C11:C20)","v":183},746,368,70,13860,23492,276]
["14 años",{"$f":"+C11+D11+E11+F11+G11+H11+I11","v":52},0,0,0,0,5,47,0]
["15 años",3474,4,0,16,0,730,2719,5]
["16 años",5637,8,1,36,3,1554,4021,14]
["17 años",6610,15,102,44,7,1829,4567,46]
["18años",4782,18,120,46,10,1591,2960,37]
["19años",3322,8,69,40,8,1251,1913,33]
["20 a 24 años",8309,35,239,133,28,3400,4396,78]
["25 a 29 años",3395,36,97,30,8,1600,1597,27]
["30 años y más",3409,59,118,23,6,1895,1272,36]
["Edad desc",5,0,0,0,0,5,0,0]
[]
["Fuente: Procesamiento propio en base a datos proporcionados por el D.E. - CETP (U.T.U)"]
["Nota: Los cursos de Articulación no corresponden estrictamente a Educación Media Superior. El curso de Articulación brinda"]
["la posibilidad de adquirir el nivel educativo para ingresar a cursos terciarios dentro de la oferta educativa del CEPT. "]
["De esta manera se entiende que su inclusión en Educación Media Superior parece más apropiada que su inclusión en nivel "]
["Terciario. "]

{"sheet":"II-4.2.4 ","index":222,"n_rows":38,"n_cols":10,"rows_kept":38,"cut":false,"hidden":false,"merged":[[4,0,4,10],[5,0,6,0],[5,1,6,1],[5,2,5,8]]}
["CONSEJO DE EDUCACIÓN TÉCNICO PROFESIONAL (U.T.U.)",null,null,null,null,null,null,null,null,"ALUMNOS MATRICULADOS"]
[]
["Cuadro Nº II-4.2.4."]
[]
["ALUMNOS MATRICULADOS EN EL CETP EN EDUCACIÓN MEDIA SUPERIOR TECNOLÓGICA POR TIPO DE CURSO SEGÚN SECTORES DE ESTUDIO. AÑO 2013."]
["SECTORES DE ESTUDIO ","TOTAL","EDUCACIÓN MEDIA SUPERIOR TECNOLÓGICA"]
[null,null,{"$f":"'[2]II 4.2.4'!C4","v":"Bachillerato Figari"},{"$f":"'[2]II 4.2.4'!D4","v":"Bachillerato Profesional"},{"$f":"'[2]II 4.2.4'!E4","v":"Curso Técnico"},"E. M. P. Especialización",{"$f":"'[2]II 4.2.4'!F4","v":"Educación Media Profesional"},{"$f":"'[2]II 4.2.4'!G4","v":"Educación Media Tecnológica"},"Formación Profesional Superior"]
["TOTAL",{"$f":"+C8+D8+E8+F8+G8+H8+I8","v":38995},{"$f":"SUM(C9:C33)","v":183},{"$f":"SUM(D9:D33)","v":746},368,70,13860,23492,276]
["Agropecuario",{"$f":"+C9+D9+E9+F9+G9+H9+I9","v":2332},0,8,0,0,230,2094,0]
["Artes y Artesanías",164,164,0,0,0,0,0,0]
["Cerámica",19,19,0,0,0,0,0,0]
["Comercio y Administración",12504,0,0,0,0,4429,8075,0]
["Comunicaciones",13,0,0,0,0,0,13,0]
["Construcción y Arquitectura",2146,0,62,0,13,597,1474,0]
["Deportes y afines",1155,0,0,0,0,53,1102,0]
["Electricidad y Electrónica",4310,0,186,0,0,1662,2462,0]
["Forestal",14,0,0,0,0,14,0,0]
["Gastronomía",2339,0,202,0,0,2137,0,0]
["Gráficos",41,0,0,0,0,0,0,41]
["Hortifruticultura y Jardinería",18,0,4,0,0,14,0,0]
["Hotelería",145,0,0,0,0,0,0,145]
["Informática",5930,0,32,0,0,418,5480,0]
["Madera y Muebles",691,0,68,0,0,623,0,0]
["Mant. y Reparación de Vehículos",1806,0,136,0,53,1224,393,0]
["Mant., Rep., y Serv. a la Producción",179,0,13,0,0,166,0,0]
["Metal - Mecánica",863,0,11,0,0,492,360,0]
["Pesca",99,0,16,0,0,83,0,0]
["Protección al medio ambiente",31,0,8,0,0,23,0,0]
["Química, Termodinámica y Agroenergía",602,0,0,0,0,167,435,0]
["Servicios personales",1575,0,0,202,0,1373,0,0]
["Telecomunicaciones",0,0,0,0,0,0,0,0]
["Textil y Confección de Vestimenta",325,0,0,166,4,155,0,0]
["Turismo",1694,0,0,0,0,0,1604,90]
["Fuente: D.E.- CETP (U.T.U.) "]
["Nota: Los cursos de Articulación no corresponden estrictamente a Educación Media Superior. El curso de Articulación brinda"]
["la posibilidad de adquirir el nivel educativo para ingresar a cursos terciarios dentro de la oferta educativa del CEPT. "]
["De esta manera se entiende que su inclusión en Educación Media Superior parece más apropiada que su inclusión en nivel "]
["Terciario. "]

{"sheet":"II-4.2.5","index":223,"n_rows":32,"n_cols":7,"rows_kept":32,"cut":false,"hidden":false,"merged":[[31,0,31,6],[0,4,1,6],[4,0,4,6],[5,0,8,0],[5,1,5,6],[6,1,6,2],[6,3,6,4],[6,5,6,6],[7,1,7,6]]}
["CONSEJO DE EDUCACIÓN SECUNDARIA",null,null,null,"ALUMNOS MATRICULADOS"]
[]
["Cuadro Nº II-4.2.5."]
[]
["ALUMNOS MATRICULADOS EN EL CES EN EDUCACIÓN MEDIA SUPERIOR GENERAL POR GRADO Y FORMA DE ADMINISTRACIÓN SEGÚN DEPARTAMENTO AÑO 2013"]
["DEPARTAMENTO","GRADO"]
[null,"CUARTO",null,"QUINTO",null,"SEXTO"]
[null,"FORMA DE ADMINISTRACIÓN"]
[null,"Públicos","Privados","Públicos","Privados","Públicos","Privados"]
["TOTAL",{"$f":"SUM(B11:B12)","v":34134},6619,36202,5446,29174,4977]
["MONTEVIDEO",10258,4534,12827,4088,10603,3831]
["RESTO DEL PAÍS",{"$f":"SUM(B13:B30)","v":23876},2085,23375,1358,18571,1146]
["Artigas",1076,0,1041,0,783,0]
["Canelones",5782,744,5696,461,4463,429]
["Cerro Largo",1224,39,1218,7,865,24]
["Colonia",1379,5,1342,0,1146,0]
["Durazno",676,74,694,51,522,31]
["Flores",312,41,323,10,277,0]
["Florida",834,52,741,52,609,34]
["Lavalleja",775,14,753,24,514,0]
["Maldonado",1860,367,2001,452,1675,399]
["Paysandú",1133,181,1237,96,1001,109]
["Río Negro",637,12,588,0,474,0]
["Rivera",1452,67,1462,45,1174,25]
["Rocha",1116,39,871,0,678,0]
["Salto ",1500,152,1520,55,1300,12]
["San José",1229,82,1287,42,955,28]
["Soriano",955,47,932,0,899,0]
["Tacuarembó",1320,106,1112,63,810,55]
["Treinta y Tres",616,63,557,0,426,0]
["Fuente: DE — CES"]
["Nota:  La referencia \"Privados\" (incluye los Habilitados \"Liceo Naval\" y \"Liceo Militar\"), se corresponde con la de \"Liceos Habilitados\" presente en ediciones anteriores del Anuario Estadístico del MEC"]

{"sheet":"II-4.2.6","index":224,"n_rows":30,"n_cols":17,"rows_kept":30,"cut":false,"hidden":false,"merged":[[8,11,8,12],[8,13,8,14],[5,8,5,16],[6,9,6,14],[6,15,9,15],[7,16,9,16],[8,9,8,10],[5,1,5,2],[6,3,6,7],[0,5,1,7],[4,0,4,7],[4,8,4,10],[5,0,9,0],[5,3,5,7],[6,8,9,8],[6,2,9,2],[6,1,9,1]]}
["CONSEJO DE EDUCACIÓN SECUNDARIA",null,null,null,null,"ALUMNOS MATRICULADOS"]
[]
["Cuadro Nº II-4.2.6"]
[]
["ALUMNOS MATRICULADOS EN EL CES EN QUINTO GRADO DE EDUCACIÓN MEDIA POR PLAN Y ORIENTACIÓN SEGÚN GRANDES ÁREAS Y FORMA DE ADMINISTRACIÓN AÑO 2013"]
["GRANDES ÁREAS Y FORMAS DE ADMINISTRACIÓN",null,null,"QUINTO GRADO DE EDUCACIÓN MEDIA GENERAL"]
[null,"TOTAL GENERAL ","TOTAL PLAN REF 06","ORIENTACIÓN     PLAN REFORMULACIÓN 2006",null,null,null,null,"TOTAL PLAN 94","ORIENTACIÓN  PLAN 94",null,null,null,null,null,"TOTAL PLANES PRIVADOS","OTROS (*)"]
[null,null,null,null,null,null,null,null,null,null,null,null,null,null,null,null,"BINT y/o BICUL "]
[null,null,null,"Nucleo común","DivHum","DivBiol","DivCient","DivArt",null,"2º H",null,"2º B",null,"2º C"]
[null,null,null,null,null,null,null,null,null,"ANUAL","1ºSemestre","ANUAL","1ºSemestre","ANUAL","1ºSemestre"]
["TOTAL DEL PAÍS",{"$f":"SUM(B12+B15)","v":41648},{"$f":"SUM(D11:H11)","v":23292},{"$f":"D12+D15","v":73},{"$f":"E12+E15","v":9059},{"$f":"F12+F15","v":8765},{"$f":"G12+G15","v":3393},{"$f":"H12+H15","v":2002},{"$f":"SUM(J11:O11)","v":12910},{"$f":"J12+J15","v":3979},3462,3125,1525,536,283,5328,118]
["EDUCACIÓN MEDIA SUPERIOR PÚBLICA",{"$f":"SUM(B13:B14)","v":36202},23292,{"$f":"D13+D14","v":73},{"$f":"E13+E14","v":9059},{"$f":"F13+F14","v":8765},{"$f":"G13+G14","v":3393},{"$f":"H13+H14","v":2002},{"$f":"SUM(J12:O12)","v":12910},{"$f":"J13+J14","v":3979},3462,3125,1525,536,283,0,0]
["  Diurna",{"$f":"SUM(C13+I13+P13+Q13)","v":23251},23188,{"$f":"D18+D23","v":73},{"$f":"E18+E23","v":9059},8765,3393,1898,63,{"$f":"J18+J23","v":47},0,16,0,0,0,0,0]
["  Cuarto Turno",12951,104,0,{"$f":"E19+E24","v":0},{"$f":"F19+F24","v":0},{"$f":"G19+G24","v":0},{"$f":"H19+H24","v":104},12847,{"$f":"J19+J24","v":3932},3462,3109,1525,536,283,0,0]
["EDUCACIÓN MEDIA SUPERIOR PRIVADA",5446,0,{"$f":"D20+D25","v":0},0,0,0,0,{"$f":"SUM(J15:O15)","v":0},{"$f":"J20+J25","v":0},0,0,0,0,0,5328,118]
["TOTAL MONTEVIDEO",16915,6688,{"$f":"D17+D20","v":13},{"$f":"E17+E20","v":2627},{"$f":"F17+F20","v":2095},{"$f":"G17+G20","v":1102},{"$f":"H17+H20","v":851},6139,{"$f":"J17+J20","v":1470},2062,1153,907,264,283,3988,100]
["EDUCACIÓN MEDIA SUPERIOR PÚBLICA",12827,6688,{"$f":"D18+D19","v":13},{"$f":"E18+E19","v":2627},{"$f":"F18+F19","v":2095},{"$f":"G18+G19","v":1102},{"$f":"H18+H19","v":851},{"$f":"SUM(J17:O17)","v":6139},{"$f":"J18+J19","v":1470},2062,1153,907,264,283,0,0]
["  Diurna",6601,6584,13,2627,2095,1102,747,{"$f":"SUM(J18:O18)","v":17},17,0,0,0,0,0,0,0]
["  Cuarto Turno",6226,104,0,0,0,0,104,{"$f":"SUM(J19:O19)","v":6122},1453,2062,1153,907,264,283,0,0]
["EDUCACIÓN MEDIA SUPERIOR PRIVADA",4088,0,0,0,0,0,0,{"$f":"SUM(J20:O20)","v":0},0,0,0,0,0,0,3988,100]
["TOTAL RESTO DEL PAÍS",24733,16604,{"$f":"D22+D25","v":60},{"$f":"E22+E25","v":6432},{"$f":"F22+F25","v":6670},{"$f":"G22+G25","v":2291},{"$f":"H22+H25","v":1151},6771,{"$f":"J22+J25","v":2509},1400,1972,618,272,0,1340,18]
["EDUCACIÓN MEDIA SUPERIOR PÚBLICA",23375,16604,{"$f":"D23+D24","v":60},{"$f":"E23+E24","v":6432},{"$f":"F23+F24","v":6670},{"$f":"G23+G24","v":2291},{"$f":"H23+H24","v":1151},6771,{"$f":"J23+J24","v":2509},1400,1972,618,272,0,0,0]
["  Diurna",16650,16604,60,6432,6670,2291,1151,46,30,0,16,0,0,0,0,0]
["  Cuarto Turno",6725,0,0,0,0,0,0,6725,2479,1400,1956,618,272,0,0,0]
["EDUCACIÓN MEDIA SUPERIOR PRIVADA",1358,0,0,0,0,0,0,0,0,0,0,0,0,0,1340,18]
["Fuente: DE — CES"]
["Nota:   OTROS (*) Corresponde a los cursos de Bachillerato Internacional y Bachillerato Bicultural"]
["        La referencia \"Privada\", (incluye los Habilitados \"Liceo Naval\" y \"Liceo Militar\"),"]
["        se corresponde con la de \"Liceos Habilitados\" presente en ediciones anteriores"]
["        del Anuario Estadístico del MEC"]

{"sheet":"II-4.2.7","index":225,"n_rows":32,"n_cols":15,"rows_kept":32,"cut":false,"hidden":false,"merged":[[8,13,9,13],[8,14,9,14],[8,4,9,4],[8,5,9,5],[8,6,9,6],[8,7,9,7],[8,8,9,8],[8,11,9,11],[6,2,9,2],[6,9,9,9],[0,5,1,5],[0,10,1,13],[4,0,4,21],[5,0,9,0],[5,1,9,1],[5,3,5,14],[6,3,6,8],[6,10,6,14],[7,3,7,4],[7,5,7,6],[7,7,7,8],[8,3,9,3],[8,10,9,10],[8,12,9,12]]}
["CONSEJO DE EDUCACIÓN SECUNDARIA",null,null,null,null,null,null,null,null,null,"ALUMNOS MATRICULADOS"]
[]
["Cuadro Nº II-4.2.7"]
[]
["ALUMNOS MATRICULADOS EN EL CES EN QUINTO GRADO DE EDUCACIÓN MEDIA GENERAL PÚBLICA POR PLAN Y ORIENTACIÓN SEGÚN DEPARTAMENTO AÑO 2013"]
["DEPARTAMENTO","TOTAL GENERAL"]
[null,null,"TOTAL PLAN 94","ORIENTACIÓN  PLAN / 94",null,null,null,null,null,"TOTAL PLAN 06","ORIENTACIÓN  PLAN / REFORMULACIÓN 2006"]
[null,null,null,"2º H",null,"2º B",null,"2º C"]
[null,null,null,"ANUAL","1ºSemestre","ANUAL","1ºSemestre","ANUAL","1ºSemestre",null,"Nucleo común","DivHum","DivBiol","DivCient","DivArt"]
[]
["TOTAL",{"$f":"SUM(C11+J11)","v":36202},{"$f":"SUM(D11:I11)","v":12910},{"$f":"SUM(D12:D13)","v":3979},3462,3125,1525,536,283,{"$f":"SUM(K11:O11)","v":23292},{"$f":"SUM(K12:K13)","v":73},{"$f":"SUM(L12:L13)","v":9059},{"$f":"SUM(M12:M13)","v":8765},{"$f":"SUM(N12:N13)","v":3393},{"$f":"SUM(O12:O13)","v":2002}]
["MONTEVIDEO",{"$f":"SUM(C12+J12)","v":12827},{"$f":"SUM(D12:I12)","v":6139},1470,2062,1153,907,264,283,{"$f":"SUM(K12:O12)","v":6688},13,2627,2095,1102,851]
["RESTO DEL PAÍS",23375,6771,{"$f":"SUM(D14:D31)","v":2509},1400,1972,618,272,0,16604,{"$f":"SUM(K14:K31)","v":60},{"$f":"SUM(L14:L31)","v":6432},{"$f":"SUM(M14:M31)","v":6670},{"$f":"SUM(N14:N31)","v":2291},{"$f":"SUM(O14:O31)","v":1151}]
["Artigas",1041,208,71,64,0,73,0,0,833,0,403,331,80,19]
["Canelones",5696,1926,663,510,511,141,101,0,3770,0,1482,1293,688,307]
["Cerro Largo",1218,334,193,0,134,0,7,0,884,0,306,407,117,54]
["Colonia",1342,428,232,0,196,0,0,0,914,0,290,341,175,108]
["Durazno",694,178,120,0,58,0,0,0,516,0,217,206,63,30]
["Flores",323,120,51,0,57,0,12,0,203,0,59,94,40,10]
["Florida",741,181,122,0,59,0,0,0,560,0,248,203,76,33]
["Lavalleja",753,122,78,0,44,0,0,0,631,23,277,249,59,23]
["Maldonado",2001,685,234,153,192,54,52,0,1316,0,520,455,183,158]
["Paysandú",1237,275,0,107,0,150,18,0,962,0,292,509,108,53]
["Río Negro",588,218,129,0,84,0,5,0,370,0,132,166,38,34]
["Rivera",1462,333,57,142,44,66,24,0,1129,0,527,437,110,55]
["Rocha",871,214,125,0,89,0,0,0,657,0,228,285,76,68]
["Salto ",1520,275,147,0,117,0,11,0,1245,37,466,573,120,49]
["San José",1287,549,155,101,125,134,34,0,738,0,219,340,140,39]
["Soriano",932,290,72,118,92,0,8,0,642,0,266,256,77,43]
["Tacuarembó",1112,292,60,105,127,0,0,0,820,0,330,343,97,50]
["Treinta y Tres",557,143,0,100,43,0,0,0,414,0,170,182,44,18]
["Fuente: DE — CES"]

{"sheet":"II-4.2.8 ","index":226,"n_rows":36,"n_cols":7,"rows_kept":36,"cut":false,"hidden":false,"merged":[[10,4,11,4],[10,5,11,5],[10,6,11,6],[0,5,1,7],[4,0,4,10],[6,0,6,7],[8,0,11,0],[8,1,11,1],[8,2,8,6],[8,9,11,10],[9,2,9,5],[10,2,11,2],[10,3,11,3]]}
["CONSEJO DE EDUCACIÓN SECUNDARIA",null,null,null,null,"ALUMNOS MATRICULADOS"]
[]
["Cuadro Nº II-4.2.8"]
[]
[]
[]
["ALUMNOS MATRICULADOS EN EL CES EN QUINTO GRADO DE EDUCACIÓN MEDIA SUPERIOR DE EDUCACIÓN SECUNDARIA PRIVADA POR ORIENTACIÓN SEGÚN DEPARTAMENTO AÑO 2013"]
[]
["DEPARTAMENTO","TOTAL","QUINTO GRADO DE EDUCACIÓN MEDIA GENERAL"]
[null,null,"ORIENTACIÓN Planes 86+93+2006",null,null,null,"OTROS (*)"]
[null,null,"Humanística","Biológica","Científica","Artístico","BINT y/o BICUL"]
[]
["TOTAL",{"$f":"C13+D13+E13+F13+G13","v":5446},{"$f":"C14+C15","v":1814},{"$f":"D14+D15","v":1405},{"$f":"E14+E15","v":1656},{"$f":"F14+F15","v":453},{"$f":"G14+G15","v":118}]
["MONTEVIDEO",{"$f":"C14+D14+E14+F14+G14","v":4088},1415,921,1257,395,100]
["RESTO DEL PAÍS",1358,{"$f":"SUM(C16:C33)","v":399},{"$f":"SUM(D16:D33)","v":484},{"$f":"SUM(E16:E33)","v":399},{"$f":"SUM(F16:F33)","v":58},{"$f":"SUM(G16:G33)","v":18}]
["Artigas",0,0,0,0,0,0]
["Canelones",461,140,160,133,28,0]
["Cerro Largo",7,0,3,4,0,0]
["Colonia",0,0,0,0,0,0]
["Durazno",51,23,11,17,0,0]
["Flores",10,0,3,7,0,0]
["Florida",52,11,21,20,0,0]
["Lavalleja",24,15,9,0,0,0]
["Maldonado",452,117,154,133,30,18]
["Paysandú",96,37,36,23,0,0]
["Río Negro",0,0,0,0,0,0]
["Rivera",45,9,20,16,0,0]
["Rocha",0,0,0,0,0,0]
["Salto ",55,22,22,11,0,0]
["San José",42,14,16,12,0,0]
["Soriano",0,0,0,0,0,0]
["Tacuarembó",63,11,29,23,0,0]
["Treinta y Tres",0,0,0,0,0,0]
["Fuente: DE — CES"]
["Nota:   Otros (*) Corresponde a los cursos de Bachillerato Internacional y"]
["        Bachillerato Bicultural"]

{"sheet":"II-4.2.9","index":227,"n_rows":28,"n_cols":26,"rows_kept":28,"cut":false,"hidden":false,"merged":[[6,2,9,2],[0,12,1,14],[5,0,9,0],[5,1,9,1],[8,17,9,17],[6,3,6,14],[6,16,7,23],[7,13,8,14],[7,9,8,10],[8,21,9,21],[8,22,9,22],[8,23,9,23],[6,15,9,15],[8,20,9,20],[8,16,9,16],[6,25,7,25],[7,3,8,4],[7,5,8,6],[7,7,8,8],[7,11,8,12],[8,25,9,25],[8,18,9,18],[8,19,9,19],[6,24,9,24]]}
["CONSEJO DE EDUCACIÓN SECUNDARIA",null,null,null,null,null,null,null,null,null,null,null,"ALUMNOS MATRICULADOS"]
[]
["Cuadro Nº II-4.2.9"]
[]
["ALUMNOS MATRICULADOS EN EL CES EN SEXTO GRADO DE BACHILLERATO POR OPCIÓN Y PLAN SEGÚN GRANDES ÁREAS Y FORMA DE ADMINISTRACIÓN AÑO 2013"]
["GRANDES ÁREAS Y FORMA DE ADMINISTRACIÓN","Total todos los planes"]
[null,null,"Total Plan 94","O P C I Ó N     P L A N    / 94",null,null,null,null,null,null,null,null,null,null,null,"Total Plan 06","O P C I Ó N     P L A N    / R E F O R  M  U L A C I Ó N  2006",null,null,null,null,null,null,null,"TotPlanes Privados","OTROS (*)"]
[null,null,null,"3º DER",null,"3º ECO",null,"3º AGR",null,"3º MED",null,"3º ARQ",null,"3º ING"]
[null,null,null,null,null,null,null,null,null,null,null,null,null,null,null,null,"Nucleo común","Social Humanístico","Social Economía","Ciencias Agrarias","Ciencias Biológicas","Física Matemática","Matemática Diseño","Arte y Expresión",null,"BINT y/o BICUL"]
[null,null,null,"ANUAL","1º Semestre","ANUAL","1º Semestre","ANUAL","1º Semestre","ANUAL","1º Semestre","ANUAL","1º Semestre","ANUAL","1º Semestre"]
["TOTAL",{"$f":"C11+P11+Y11+Z11","v":34151},{"$f":"SUM(D11:O11)","v":11366},{"$f":"D12+D15","v":3169},2345,514,215,109,0,2965,1220,124,74,461,170,{"$f":"SUM(Q11:X11)","v":17808},{"$f":"Q12+Q15","v":12},{"$f":"R12+R15","v":5978},{"$f":"S12+S15","v":2015},606,5681,1548,731,1237,4857,120]
["EDUCACIÓN MEDIA SUPERIOR PÚBLICA",{"$f":"C12+P12+Y12+Z12","v":29174},{"$f":"SUM(D12:O12)","v":11366},{"$f":"D13+D14","v":3169},2345,514,215,109,0,2965,1220,124,74,461,170,{"$f":"SUM(Q12:X12)","v":17808},{"$f":"Q13+Q14","v":12},{"$f":"R13+R14","v":5978},{"$f":"S13+S14","v":2015},606,5681,1548,731,1237,0,0]
["  Diurna",17747,13,{"$f":"D18+D23","v":13},0,{"$f":"F18+F23","v":0},0,0,0,0,{"$f":"K18+K23","v":0},0,0,0,0,17734,{"$f":"Q18+Q23","v":12},5978,{"$f":"S18+S23","v":2015},606,5681,1548,731,1163,0,0]
["  Cuarto Turno",11427,11353,3156,2345,{"$f":"F19+F24","v":514},{"$f":"G19+G24","v":215},109,0,2965,{"$f":"K19+K24","v":1220},124,74,461,170,74,0,0,{"$f":"S19+S24","v":0},0,0,0,0,74,0,0]
["EDUCACIÓN MEDIA SUPERIOR PRIVADA",4977,0,0,0,{"$f":"F20+F25","v":0},0,0,0,0,{"$f":"K20+K25","v":0},0,0,0,0,0,0,0,{"$f":"S20+S25","v":0},0,0,0,0,0,4857,120]
["TOTAL MONTEVIDEO",14434,5597,{"$f":"D17+D20","v":1173},1439,292,215,37,0,962,854,117,74,264,170,5006,{"$f":"Q17+Q20","v":12},{"$f":"R17+R20","v":1543},{"$f":"S17+S20","v":794},72,1391,460,235,499,3727,104]
["EDUCACIÓN MEDIA SUPERIOR PÚBLICA",10603,5597,{"$f":"D18+D19","v":1173},{"$f":"E18+E19","v":1439},{"$f":"F18+F19","v":292},215,37,0,962,854,117,74,264,170,5006,{"$f":"Q18+Q19","v":12},{"$f":"R18+R19","v":1543},{"$f":"S18+S19","v":794},72,1391,460,235,499,0,0]
["  Diurna",4945,13,13,0,0,0,0,0,0,0,0,0,0,0,4932,12,1543,794,72,1391,460,235,425,0,0]
["  Cuarto Turno",5658,5584,1160,1439,292,215,37,0,962,854,117,74,264,170,74,0,0,0,0,0,0,0,74,0,0]
["EDUCACIÓN MEDIA SUPERIOR PRIVADA",3831,0,0,0,0,0,0,0,0,0,0,0,0,0,0,0,0,0,0,0,0,0,0,3727,104]
["RESTO DEL PAÍS",19717,5769,{"$f":"D22+D25","v":1996},906,222,0,72,0,2003,366,7,0,197,0,12802,{"$f":"Q22+Q25","v":0},{"$f":"R22+R25","v":4435},{"$f":"S22+S25","v":1221},534,4290,1088,496,738,1130,16]
["EDUCACIÓN MEDIA SUPERIOR PÚBLICA",18571,5769,{"$f":"D23+D24","v":1996},{"$f":"E23+E24","v":906},{"$f":"F23+F24","v":222},0,72,0,2003,366,7,0,197,0,12802,{"$f":"Q23+Q24","v":0},{"$f":"R23+R24","v":4435},{"$f":"S23+S24","v":1221},534,4290,1088,496,738,0,0]
["  Diurna",12802,0,0,0,0,0,0,0,0,0,0,0,0,0,12802,0,4435,1221,534,4290,1088,496,738,0,0]
["  Cuarto Turno",5769,5769,1996,906,222,0,72,0,2003,366,7,0,197,0,0,0,0,0,0,0,0,0,0,0,0]
["EDUCACIÓN MEDIA SUPERIOR PRIVADA",1146,0,0,0,0,0,0,0,0,0,0,0,0,0,0,0,0,0,0,0,0,0,0,1130,16]
["Fuente: DE — CES"]
["Nota:   La referencia \"Privada\" (incluye los Habilitados \"Liceo Naval\" y \"Liceo Militar\"), se corresponde con la de \"Liceos Habilitados\""]
["        presente en ediciones anteriores del Anuario Estadístico del MEC"]

{"sheet":"II_4_2_10","index":228,"n_rows":33,"n_cols":24,"rows_kept":33,"cut":false,"hidden":false,"merged":[[0,3,1,5],[6,0,10,0],[6,1,10,1],[6,3,7,14],[8,5,8,6],[8,7,8,8],[8,9,8,10],[8,11,8,12],[8,13,8,14],[9,3,10,3],[9,4,10,4],[9,5,10,5],[9,6,10,6],[4,15,4,23],[8,3,8,4],[6,16,7,23],[8,23,10,23],[8,16,10,16],[9,11,10,11],[9,12,10,12],[9,13,10,13],[9,14,10,14],[6,15,10,15],[8,18,10,18],[9,9,10,9],[9,10,10,10],[8,19,10,19],[8,20,10,20],[8,21,10,21],[8,22,10,22],[9,7,10,7],[9,8,10,8],[5,2,5,23],[6,2,10,2],[8,17,10,17]]}
["CONSEJO DE EDUCACIÓN SECUNDARIA",null,null,"ALUMNOS MATRICULADOS"]
[]
["Cuadro Nº II-4.2.10",null,"VOLVER"]
[]
["ALUMNOS MATRICULADOS EN EL CES EN SEXTO GRADO DE EDUCACIÓN MEDIA GENERAL PÚBLICA POR PLAN Y OPCIÓN SEGÚN DEPARTAMENTO AÑO 2013"]
[null,null,"SEXTO GRADO"]
["DEPARTAMENTO","TOTAL GENERAL","TOTAL Plan 94","O P C I Ó N   P L A N /  94",null,null,null,null,null,null,null,null,null,null,null,"Total Plan Ref. 06","O P C I Ó N      P L A N  / R E F O R M U L A C I Ó N  2006"]
[]
[null,null,null,"3º DER",null,"3º ECO",null,"3º AGR",null,"3º MED",null,"3º ARQ",null,"3º ING",null,null,"Nucleo Común","Social Humanístico","Social Economía","Ciencias Agrarias","Ciencias Biológicas","Física Matemática","Matemática Diseño","Arte y Expresión"]
[null,null,null,"ANUAL","1ºSemestre","ANUAL","1ºSemestre","ANUAL","1ºSemestre","ANUAL","1ºSemestre","ANUAL","1ºSemestre","ANUAL","1ºSemestre"]
[]
["TOTAL",{"$f":"SUM(C12+P12)","v":29174},{"$f":"SUM(D12:O12)","v":11366},{"$f":"D13+D14","v":3169},2345,514,215,109,0,2965,1220,124,74,461,170,{"$f":"SUM(Q12:X12)","v":17808},{"$f":"Q13+Q14","v":12},{"$f":"R13+R14","v":5978},{"$f":"S13+S14","v":2015},606,5681,1548,731,1237]
["MONTEVIDEO",{"$f":"SUM(C13+P13)","v":10603},{"$f":"SUM(D13:O13)","v":5597},1173,1439,292,215,37,0,962,854,117,74,264,170,{"$f":"SUM(Q13:X13)","v":5006},12,1543,794,72,1391,460,235,499]
["RESTO DEL PAÍS",18571,{"$f":"SUM(D14:O14)","v":5769},{"$f":"SUM(D15:D32)","v":1996},906,222,0,72,0,2003,366,7,0,197,{"$f":"SUM(O15:O32)","v":0},{"$f":"SUM(P15:P32)","v":12802},{"$f":"SUM(Q15:Q32)","v":0},{"$f":"SUM(R15:R32)","v":4435},{"$f":"SUM(S15:S32)","v":1221},534,4290,1088,496,738]
["Artigas",783,184,41,62,0,0,0,0,81,0,0,0,0,0,{"$f":"SUM(Q15:X15)","v":599},0,247,39,0,244,49,11,9]
["Canelones",4463,1610,514,342,93,0,27,0,493,56,7,0,78,0,{"$f":"SUM(Q16:X16)","v":2853},0,922,340,83,843,323,142,200]
["Cerro Largo",865,242,130,0,0,0,0,0,112,0,0,0,0,0,623,0,257,46,25,195,36,21,43]
["Colonia",1146,401,166,0,18,0,0,0,217,0,0,0,0,0,745,0,229,80,58,194,82,38,64]
["Durazno",522,130,88,0,0,0,0,0,42,0,0,0,0,0,392,0,167,50,18,107,22,9,19]
["Flores",277,86,37,0,0,0,0,0,49,0,0,0,0,0,191,0,52,16,12,73,19,6,13]
["Florida",609,159,85,0,0,0,0,0,74,0,0,0,0,0,450,0,172,41,2,157,33,16,29]
["Lavalleja",514,95,59,0,0,0,0,0,36,0,0,0,0,0,419,0,158,44,6,171,23,6,11]
["Maldonado",1675,602,266,37,62,0,0,0,186,40,0,0,11,0,1073,0,370,91,25,297,110,71,109]
["Paysandú",1001,291,0,104,0,0,17,0,0,157,0,0,13,0,710,0,201,66,37,328,29,19,30]
["Río Negro",474,169,83,0,6,0,8,0,68,0,0,0,4,0,305,0,83,17,16,133,35,4,17]
["Rivera",1174,274,45,105,0,0,0,0,0,102,0,0,22,0,900,0,396,77,65,244,80,14,24]
["Rocha",678,208,116,2,0,0,0,0,79,11,0,0,0,0,470,0,149,48,25,151,34,18,45]
["Salto ",1300,295,127,0,17,0,16,0,118,0,0,0,17,0,1005,0,359,54,36,412,79,40,25]
["San José",955,427,183,0,11,0,4,0,187,0,0,0,42,0,528,0,166,49,22,192,57,22,20]
["Soriano",899,311,56,118,15,0,0,0,112,0,0,0,10,0,588,0,167,68,43,202,36,34,38]
["Tacuarembó",810,180,0,76,0,0,0,0,104,0,0,0,0,0,630,0,213,73,32,233,33,20,26]
["Treinta y Tres",426,105,0,60,0,0,0,0,45,0,0,0,0,0,321,0,127,22,29,114,8,5,16]
["Fuente: DE — CES"]

{"sheet":"II-4.2.11 ","index":229,"n_rows":30,"n_cols":10,"rows_kept":30,"cut":false,"hidden":false,"merged":[[29,0,29,5],[30,0,30,5],[0,3,1,3],[0,4,1,5],[4,0,4,9],[5,0,6,0],[5,1,6,1],[5,2,5,8]]}
["CONSEJO DE EDUCACIÓN SECUNDARIA",null,null,null,"ALUMNOS MATRICULADOS"]
[]
["Cuadro Nº II-4.2.11"]
[]
["ALUMNOS MATRICULADOS EN EL CES EN SEXTO GRADO DE EDUCACIÓN MEDIA GENERAL PRIVADA POR OPCIÓN SEGÚN DEPARTAMENTO. AÑO 2013"]
["DEPARTAMENTO","TOTAL"," TODOS LOS PLANES OPCIÓN SEXTO GRADO",null,null,null,null,null,null,"Otros (*)"]
[null,null,"Social Humanístico","Social Economía","Ciencias Agrarias","Ciencias Biológicas","Física Matemática","Matemática Diseño","Arte y Expresión","B.INT.y/o BICUL."]
["TOTAL",{"$f":"SUM(C8:J8)","v":4977},{"$f":"C9+C10","v":1085},{"$f":"D9+D10","v":985},153,1093,790,447,304,120]
["MONTEVIDEO",{"$f":"SUM(C9:J9)","v":3831},843,808,104,708,645,369,250,104]
["RESTO DEL PAÍS",1146,{"$f":"SUM(C11:C28)","v":242},{"$f":"SUM(D11:D28)","v":177},49,385,145,78,54,16]
["Artigas",0,0,0,0,0,0,0,0,0]
["Canelones",429,95,68,12,137,61,28,28,0]
["Cerro Largo",24,0,0,6,12,6,0,0,0]
["Colonia",0,0,0,0,0,0,0,0,0]
["Durazno",31,13,4,0,10,0,4,0,0]
["Flores",0,0,0,0,0,0,0,0,0]
["Florida",34,8,3,2,15,4,2,0,0]
["Lavalleja",0,0,0,0,0,0,0,0,0]
["Maldonado",399,80,57,11,126,52,31,26,16]
["Paysandú",109,26,26,7,37,9,4,0,0]
["Río Negro",0,0,0,0,0,0,0,0,0]
["Rivera",25,4,4,0,13,0,4,0,0]
["Rocha",0,0,0,0,0,0,0,0,0]
["Salto ",12,0,0,0,12,0,0,0,0]
["San José",28,5,7,4,4,8,0,0,0]
["Soriano",0,0,0,0,0,0,0,0,0]
["Tacuarembó",55,11,8,7,19,5,5,0,0]
["Treinta y Tres",0,0,0,0,0,0,0,0,0]
["Fuente D.E - CES"]
["Nota: Otros (*) Corresponde a los cursos de Bachillerato Internacional y Bachillerato Bicultural. "]

{"sheet":"II-4.3.1","index":230,"n_rows":47,"n_cols":7,"rows_kept":47,"cut":false,"hidden":false,"merged":[[0,5,1,6],[0,7,1,7],[4,0,4,6],[6,0,7,0],[6,1,7,1],[6,2,6,3],[6,4,7,4],[6,5,6,6]]}
["CONSEJO DE EDUCACIÓN SECUNDARIA",null,null,null,null,"PERSONAL DOCENTE"]
[]
["Cuadro Nº II-4.3.1"]
[]
["PERSONAL DOCENTE Y HORAS DOCENTES DEL CES EN EDUCACIÓN MEDIA SUPERIOR GENERAL PÚBLICA POR CONDICIÓN DE TITULACIÓN AÑO 2013"]
[]
["ASIGNATURAS","TOTAL DOCENTES","PERSONAL DOCENTE",null,"TOTAL HORAS ","HORAS DOCENTES"]
[null,null,"Titulados","No Titulados",null,"Titulados","No Titulados"]
["TOTAL",{"$f":"SUM(C9:D9)","v":7545},{"$f":"SUM(C10:C45)","v":5060},{"$f":"SUM(D10:D45)","v":2485},{"$f":"SUM(F9:G9)","v":93952},{"$f":"SUM(F10:F45)","v":66664},{"$f":"SUM(G10:G45)","v":27288}]
["ACT.ADAPTADAS AL MEDIO AMBIENT",{"$f":"+C10+D10","v":0},0,0,{"$f":"+F10+G10","v":0},0,0]
["ALEMÁN",{"$f":"+C11+D11","v":0},0,0,{"$f":"+F11+G11","v":0},0,0]
["ASTRONOMÍA",31,8,23,201,69,132]
["BIOLOGÍA",643,527,116,8311,7055,1256]
["CONTABILIDAD",161,14,147,1403,120,1283]
["DIBUJO",339,204,135,3232,2112,1120]
["DIRECTOR DE COROS",22,11,11,184,92,92]
["ECONOMÍA",143,78,65,960,477,483]
["ED.SOCIAL Y CÍVICA DERECHO",645,549,96,7381,6511,870]
["EDUCACIÓN FÍSICA",144,118,26,1470,1244,226]
["EDUCACIÓN MUSICAL",78,36,42,638,287,351]
["ESPACIO CURRICULAR ABIERTO",0,0,0,0,0,0]
["ESTUDIOS ECONÓMICOS Y SOCIALES",213,176,37,1374,1094,280]
["EXPRESIÓN CORPORAL Y DANZA",34,6,28,268,32,236]
["EXPRESIÓN CORPORAL Y TEATRO",49,15,34,284,106,178]
["FILOSOFÍA",567,421,146,6874,5450,1424]
["FÍSICA",530,325,205,8020,5280,2740]
["FRANCÉS",4,3,1,70,50,20]
["GEOGRAFÍA",192,157,35,1590,1322,268]
["GEOLOGÍA",7,0,7,22,0,22]
["HISTORIA",649,570,79,7862,7056,806]
["IDIOMA ESPAÑOL",12,7,5,239,170,69]
["INFORMÁTICA",93,31,62,1048,404,644]
["INGLÉS",560,237,323,7193,3564,3629]
["ITALIANO",77,28,49,983,372,611]
["LABORATORIO DE INFORMÁTICA",21,10,11,203,83,120]
["LENG.COM.Y MED.AUDIOVISUALES",39,15,24,184,54,130]
["LENGUA DE SEÑAS",0,0,0,0,0,0]
["LITERATURA",631,512,119,7546,6374,1172]
["MANUALIDADES",0,0,0,0,0,0]
["MATEMÁTICA",1034,570,464,17856,10865,6991]
["PIANISTA ACOMPAÑANTE",14,4,10,94,25,69]
["PORTUGUÉS",0,0,0,0,0,0]
["QUÍMICA",525,385,140,8066,6260,1806]
["REC.NATUR.Y PAISAJE AGRARIO",47,31,16,116,68,48]
["TEATRO",41,12,29,280,68,212]
["Fuente: Departamento de Computación - División Hacienda — CES"]
["Nota: Los docentes que dictan más de una asignatura son considerados como personas distintas en cada asignatura"]

{"sheet":"II-4.3.2","index":231,"n_rows":18,"n_cols":5,"rows_kept":18,"cut":false,"hidden":false,"merged":[[0,0,0,1],[0,4,1,5],[0,7,1,7],[4,0,4,3],[5,0,6,0],[5,1,6,1]]}
["CONSEJO DE EDUCACIÓN TÉCNICO PROFESIONAL (U.T.U.)",null,null,null,"PERSONAL DOCENTE"]
[]
["Cuadro Nº II-4.3.2"]
[]
["PERSONAL DOCENTE DEL CETP EN EDUCACIÓN MEDIA SUPERIOR TECNOLÓGICA POR TIPO DE CURSO. AÑO 2013"]
["EDUCACIÓN MEDIA SUPERIOR TECNOLÓGICA","TOTAL"]
[]
["TOTAL",{"$f":"SUM(B9:B16)","v":13709}]
["Bachillerato Figari",113]
["Bachillerato Profesional",568]
["Educación Media Profesional",2933]
["Educación Media Prof. De Especialización",11]
["Educación Media Tecnológica",4242]
["EMS",5613]
["Articulación a Nivel Terciario",141]
["Curso Técnico",88]
["Fuente: U.T.U. División Informática."]
["Los cursos EMP Especialización, fueron reubicados en el  Nivel Superior de Formación Profesional.  "]

{"sheet":"II-4.4.1","index":232,"n_rows":28,"n_cols":3,"rows_kept":28,"cut":false,"hidden":false,"merged":[[0,2,1,3],[0,7,1,7],[4,0,4,2],[5,0,6,0],[23,0,23,2]]}
["CONSEJO DE EDUCACIÓN SECUNDARIA",null,"GRUPOS"]
[]
["Cuadro Nº II-4.4.1"]
[]
["GRUPOS DE EDUCACIÓN MEDIA SUPERIOR GENERAL COMPARADOS CON EL TOTAL DE AMBOS CICLOS SEGÚN GRANDES ÁREAS Y FORMA DE ADMINISTRACIÓN AÑO 2013"]
[null,"FORMA DE ADMINISTRACIÓN"]
[null,"Grupos en Educación Media Superior General","Total de Grupos en Educación Media General"]
["TOTAL DEL PAÍS",{"$f":"B9+B12","v":4451},{"$f":"C9+C12","v":9881}]
["EDUCACIÓN MEDIA SUPERIOR PÚBLICA",{"$f":"B10+B11","v":3216},{"$f":"C10+C11","v":7562}]
["  Diurna",{"$f":"B15+B20","v":2605},6581]
["  Nocturna",611,981]
["EDUCACIÓN MEDIA SUPERIOR PRIVADA",1235,2319]
["TOTAL MONTEVIDEO",{"$f":"B14+B17","v":1737},{"$f":"C14+C17","v":3688}]
["EDUCACIÓN MEDIA SUPERIOR PÚBLICA",{"$f":"B15+B16","v":878},{"$f":"C15+C16","v":2164}]
["  Diurna",648,1809]
["  Nocturna",230,355]
["EDUCACIÓN MEDIA SUPERIOR PRIVADA",859,1524]
["TOTAL RESTO DEL PAÍS",{"$f":"B19+B22","v":2714},{"$f":"C19+C22","v":6193}]
["EDUCACIÓN MEDIA SUPERIOR PÚBLICA",{"$f":"B20+B21","v":2338},{"$f":"C20+C21","v":5398}]
["  Diurna",1957,4772]
["  Nocturna",381,626]
["EDUCACIÓN MEDIA SUPERIOR PRIVADA",376,795]
["Fuente: DE — CES"]
["Nota: El “Total de ambos Ciclos” presenta de manera agregada la cantidad  total de grupos con que cuente Educación Secundaria y es el resultado de adicionar al total de Grupos del presente cuadro (Ciclo Superior de Educación Secundaria), el total de los grupos presentados en el Cuadro II-3.4.1 (Ciclo Básico de Educación Secundaria)"]
["       "]
["        "]
["        "]
["        "]

{"sheet":"TERCIARIA NO UNIVERSITARIA ","index":233,"n_rows":0,"n_cols":0,"rows_kept":0,"cut":false,"hidden":false,"merged":[[29,0,29,4],[18,0,18,4],[21,0,21,4],[23,0,23,4],[25,0,25,4],[10,0,10,4],[12,0,12,4],[14,0,14,4],[16,0,16,4],[27,0,27,4]]}

{"sheet":"II-5.1.1  ","index":234,"n_rows":49,"n_cols":5,"rows_kept":49,"cut":false,"hidden":false,"merged":[[53,0,54,5],[0,3,1,4],[4,0,4,4],[5,0,9,0],[5,1,9,1],[5,2,5,3],[5,4,9,4],[6,2,7,3],[8,2,9,2],[8,3,9,3],[50,0,50,6]]}
["OFERTAS TERCIARIAS NO UNIVERSITARIAS",null,null,"INSTITUCIONES"]
[]
["Cuadro Nº II-5.1.1"]
[]
["MATRÍCULA Y PERSONAL DOCENTE POR SEXO SEGÚN GRANDES ÁREAS, DEPARTAMENTOS E INSTITUCIONES. AÑO 2013."]
["GRANDES ÁREAS / DEPARTAMENTO / INSTITUCIÓN","TOTAL","MATRICULA",null,"DOCENTES"]
[null,null,"SEXO"]
[]
[null,null,"M","F"]
[]
["TOTAL",{"$f":"+B13+B22","v":9253},{"$f":"+C13+C22","v":3869},{"$f":"+D13+D22","v":5384},{"$f":"+E13+E22","v":1202}]
[]
["MONTEVIDEO",{"$f":"SUM(B15:B20)","v":5988},{"$f":"SUM(C15:C20)","v":2491},{"$f":"SUM(D15:D20)","v":3497},{"$f":"SUM(E15:E20)","v":1202}]
[]
["ESCUELA NAVAL",48,30,18,132]
["ESCUELA NACIONAL DE POLICÍA*",308,254,54,109]
["ESCUELA MILITAR",246,221,25,106]
["ESCUELA MILITAR DE AERONÁUTICA",24,22,2,131]
["EMAD",116,29,87,35]
["UTU",5246,1935,3311,689]
[]
["RESTO DEL PAÍS",{"$f":"SUM(B24:B41)","v":3265},{"$f":"SUM(C24:C41)","v":1378},{"$f":"SUM(D24:D41)","v":1887}]
[]
["Artigas",155,73,82,53]
["Canelones",307,170,137,101]
["Cerro Largo",122,49,73,41]
["Colonia",249,127,122,79]
["Durazno",64,31,33,14]
["Flores",109,23,86,12]
["Florida",133,64,69,27]
["Lavalleja",4,1,3,9]
["Maldonado",231,110,121,41]
["Paysandú",629,182,447,117]
["Río negro",121,68,53,40]
["Rivera",10,5,5,58]
["Rocha",268,114,154,2]
["Salto",279,70,209,79]
["San José",72,32,40,17]
["Soriano",187,78,109,73]
["Tacuarembó",262,139,123,28]
["Treinta y Tres",63,42,21,15]
["Fuente: "]
["           D.E - UTU-"]
["           Secretaría General EMAD"]
["          Gestión Educativa - Escuela Naval"]
["          Jefatura de Estudios - Escuela Nacional de Policía "]
["          Escuela Militar"]
["          Departamento de Bedelía - Escuela Militar de Aeronáutica"]
["          Instituto Militar de Estudios Superiores"]

{"sheet":"II-5.2.1","index":235,"n_rows":37,"n_cols":10,"rows_kept":37,"cut":false,"hidden":false,"merged":[[7,5,7,6],[7,8,7,9],[36,0,36,9],[37,0,37,9],[0,6,1,9],[4,0,4,9],[6,0,8,0],[6,1,8,1],[6,2,6,3],[6,4,8,4],[6,5,6,6],[6,7,8,7],[6,8,6,9],[7,2,7,3]]}
["OFERTAS TERCIARIAS NO UNIVERSITARIAS DEL ÁREA SEGURIDAD Y DEFENSA",null,null,null,null,null,"ALUMNOS MATRICULADOS"]
[]
["Cuadro Nº II-5.2.1"]
[]
["ALUMNOS INGRESADOS, MATRICULADOS Y EGRESADOS EN NIVEL TERCIARIO NO UNIVERSITARIO DEL ÁREA SEGURIDAD Y DEFENSA POR SEXO SEGÚN INSTITUCIÓN Y CARRERA. AÑO 2013."]
[]
["INSTITUCION / CARRERA","TOTAL","INGRESADOS",null,"TOTAL","MATRICULADOS",null,"TOTAL","EGRESADOS"]
[null,null,"SEXO",null,null,"SEXO",null,null,"SEXO"]
[null,null,"M","F",null,"M","F",null,"M","F"]
["TOTAL",{"$f":"D10+C10","v":364},{"$f":"+C12+C16+C19+C22","v":305},{"$f":"+D12+D16+D19+D22","v":59},{"$f":"G10+F10","v":626},{"$f":"+F12+F16+F19+F22","v":527},{"$f":"+G12+G16+G19+G22","v":99},{"$f":"J10+I10","v":118},{"$f":"+I12+I16+I19+I22","v":102},{"$f":"+J12+J16+J19+J22","v":16}]
[]
["ESCUELA NAVAL",{"$f":"SUM(B13:B14)","v":121},94,27,48,30,18,0,0,0]
["Oficiales de MARINA DE GUERRA",{"$f":"SUM(C13:D13)","v":74},53,21,{"$f":"SUM(F13:G13)","v":48},30,18,{"$f":"SUM(I13:J13)","v":0},0,0]
["Oficiales de MARINA MERCANTE",{"$f":"SUM(C14:D14)","v":47},41,6,{"$f":"SUM(F14:G14)","v":0},0,0,{"$f":"SUM(I14:J14)","v":0},0,0]
[]
["ESCUELA NACIONAL DE POLICÍA",{"$f":"+C16+D16","v":97},{"$f":"+C17","v":81},{"$f":"+D17","v":16},{"$f":"+F16+G16","v":308},{"$f":"+F17","v":254},{"$f":"+G17","v":54},{"$f":"+I16+J16","v":85},{"$f":"+I17","v":71},{"$f":"+J17","v":14}]
["Curso de Cadetes (1º,2º y 3er.año)",{"$f":"SUM(C17:D17)","v":97},81,16,{"$f":"SUM(F17:G17)","v":308},254,54,{"$f":"SUM(I17:J17)","v":85},71,14]
[]
["ESCUELA MILITAR",{"$f":"SUM(C19:D19)","v":122},{"$f":"SUM(C20:C20)","v":108},{"$f":"SUM(D20:D20)","v":14},{"$f":"SUM(F19:G19)","v":246},{"$f":"SUM(F20:F20)","v":221},{"$f":"SUM(G20:G20)","v":25},{"$f":"SUM(I19:J19)","v":33},{"$f":"SUM(I20:I20)","v":31},{"$f":"SUM(J20:J20)","v":2}]
["Alférez del Ejército Nacional del Cuerpo Comando",{"$f":"+C20+D20","v":122},108,14,{"$f":"+F20+G20","v":246},221,25,{"$f":"SUM(I20:J20)","v":33},31,2]
[]
["ESCUELA MILITAR DE AERONÁUTICA ",{"$f":"SUM(C22:D22)","v":24},{"$f":"SUM(C23:C28)","v":22},{"$f":"SUM(D23:D28)","v":2},{"$f":"SUM(F22:G22)","v":24},{"$f":"SUM(F23:F28)","v":22},{"$f":"SUM(G23:G28)","v":2},"s/d","s/d","s/d"]
["Aspirantes",{"$f":"+C23+D23","v":24},22,2,{"$f":"+F23+G23","v":24},22,2,"s/d","s/d","s/d"]
["Cadetes 1º","s/d","s/d","s/d","s/d","s/d","s/d","s/d","s/d","s/d"]
["Integrantes del Cuerpo Aéreo (Aviadores)","s/d","s/d","s/d","s/d","s/d","s/d","s/d","s/d","s/d"]
["Integrantes del Cuerpo Aéreo (Navegantes)","s/d","s/d","s/d","s/d","s/d","s/d","s/d","s/d","s/d"]
["Integrantes del Cuadro de SSOO FAU (Aviadores)","s/d","s/d","s/d","s/d","s/d","s/d","s/d","s/d","s/d"]
["Integrantes del Cuadro de SSOO FAU (Navegantes)","s/d","s/d","s/d","s/d","s/d","s/d","s/d","s/d","s/d"]
[]
[]
["        Gestión Educativa - Escuela Naval"]
["        Jefatura de Estudios - Escuela Nacional de Policía "]
["        Escuela Militar"]
["        Departamento de Bedelía - Escuela Militar de Aeronáutica"]
["        Instituto Militar de Estudios Superiores"]
["Nota: "]
["        La oferta de la Escuela de Policía:  Lic. Seguridad Pública fue incluidas en el capítulo de Terciaria Universitaria."]

{"sheet":"II-5.2.2","index":236,"n_rows":86,"n_cols":10,"rows_kept":86,"cut":false,"hidden":false,"merged":[[7,2,8,2],[7,3,8,3],[7,5,8,5],[7,6,8,6],[7,8,8,8],[7,9,8,9],[0,6,1,9],[4,0,4,9],[5,0,8,0],[5,1,8,1],[5,2,5,3],[5,4,8,4],[5,5,5,6],[5,7,8,7],[5,8,5,9],[6,2,6,3],[6,5,6,6],[6,8,6,9]]}
["OTRAS OFERTAS TERCIARIAS NO UNIVERSITARIAS",null,null,null,null,null,"ALUMNOS MATRICULADOS"]
[]
["Cuadro Nº II-5.2.2"]
[]
["ALUMNOS INGRESADOS, MATRICULADOS Y EGRESADOS EN OTRAS OFERTAS DE NIVEL TERCIARIO NO UNIVERSITARIO POR SEXO SEGÚN INSTITUCIÓN Y CARRERA. AÑO 2013."]
["INSTITUCION / CARRERA","TOTAL","INGRESADOS",null,"TOTAL","MATRICULADOS",null,"TOTAL","EGRESADOS"]
[null,null,"SEXO",null,null,"SEXO",null,null,"SEXO"]
[null,null,"M","F",null,"M","F",null,"M","F"]
[]
["EMAD Margarita Xirgu",42,9,33,116,29,87,33,6,27]
["Carrera de actuación",22,7,15,61,15,46,22,3,19]
["Carrera de diseño teatral",20,2,18,55,14,41,11,3,8]
[]
["CETP (UTU) ","-","-","-",{"$f":"SUM(E15:E86)","v":8511},{"$f":"SUM(F15:F86)","v":5198},{"$f":"SUM(G15:G86)","v":3313},"-","-","-"]
["Acondicionamiento Térmico","-","-","-",{"$f":"+F15+G15","v":8},8,0,"-","-","-"]
["Administración de Personal","-","-","-",{"$f":"+F16+G16","v":311},64,247,"-","-","-"]
["Administración Hotelera","-","-","-",10,3,7,"-","-","-"]
["Administración Pública","-","-","-",174,44,130,"-","-","-"]
["Agrónica énfasis agrícola","-","-","-",15,15,0,"-","-","-"]
["Agrónica énfasis forestal","-","-","-",19,18,1,"-","-","-"]
["Analista en Marketing","-","-","-",219,69,150,"-","-","-"]
["Area Electrotecnia electrónica","-","-","-",262,244,18,"-","-","-"]
["Área industrial metal mecánica","-","-","-",25,24,1,"-","-","-"]
["Articulación Tecnólogo Químico","-","-","-",85,21,64,"-","-","-"]
["Audiovisuales","-","-","-",50,31,19,"-","-","-"]
["Autotrónica Lab. S. de Control","-","-","-",37,36,1,"-","-","-"]
["Com. Social Op. Prensa","-","-","-",51,19,32,"-","-","-"]
["Com. Social Op. Publicidad","-","-","-",79,34,45,"-","-","-"]
["Com. Social Op. Radiodifusión","-","-","-",94,48,46,"-","-","-"]
["Com. Social Op. RR. PP.","-","-","-",52,12,40,"-","-","-"]
["Com. Social Op. Televisión","-","-","-",48,19,29,"-","-","-"]
["Construcción","-","-","-",117,87,30,"-","-","-"]
["Control ambiental","-","-","-",149,42,107,"-","-","-"]
["Corredor de Seguros","-","-","-",30,18,12,"-","-","-"]
["Diseño Gráfico","-","-","-",141,63,78,"-","-","-"]
["Diseño gráfico en com. Visual","-","-","-",192,87,105,"-","-","-"]
["Electrónica","-","-","-",317,310,7,"-","-","-"]
["Electrotecnia","-","-","-",595,576,19,"-","-","-"]
["Energía solar térmica","-","-","-",10,10,0,"-","-","-"]
["Enología Módulo Enológico II","-","-","-",11,5,6,"-","-","-"]
["Enología Módulo Vitivinícola","-","-","-",10,4,6,"-","-","-"]
["Enología Pasantía y Proy.final","-","-","-",11,9,2,"-","-","-"]
["Forestal","-","-","-",22,11,11,"-","-","-"]
["Gestión de Alojamiento","-","-","-",32,8,24,"-","-","-"]
["Gestión de P. Y. M. E. S.","-","-","-",0,0,0,"-","-","-"]
["Gestión Empresas Turísticas","-","-","-",10,3,7,"-","-","-"]
["Guía y Tec. Diseño Circ. Turísticos","-","-","-",57,11,46,"-","-","-"]
["Industrias Lácteas","-","-","-",46,30,16,"-","-","-"]
["Infografía de Arquitectura","-","-","-",53,18,35,"-","-","-"]
["Inmobiliario (Operador)","-","-","-",129,75,54,"-","-","-"]
["Instalaciones Eléctricas","-","-","-",50,49,1,"-","-","-"]
["Instalaciones Sanitarias","-","-","-",29,23,6,"-","-","-"]
["Instrumentación y Control","-","-","-",49,49,0,"-","-","-"]
["Logística","-","-","-",49,32,17,"-","-","-"]
["Mantenimiento Mecánico Industrial","-","-","-",43,43,0,"-","-","-"]
["Maquinista Naval","-","-","-",116,116,0,"-","-","-"]
["Mecatrónica - Int. Aut. y Control","-","-","-",6,6,0,"-","-","-"]
["Mecatrónica - Mant. Electromecánico","-","-","-",7,7,0,"-","-","-"]
["Motores de Combustión Interna","-","-","-",18,18,0,"-","-","-"]
["Náutica y Pesca","-","-","-",17,16,1,"-","-","-"]
["Óptico","-","-","-",115,50,65,"-","-","-"]
["Organización de eventos","-","-","-",133,26,107,"-","-","-"]
["Pequeña y Mediana Empresa","-","-","-",47,14,33,"-","-","-"]
["Prevencionista en Seg. Industrial","-","-","-",1364,714,650,"-","-","-"]
["Procesos de soldadura y ensayos","-","-","-",20,20,0,"-","-","-"]
["Producción Agrícola Ganadera","-","-","-",214,160,54,"-","-","-"]
["Producción Agropecuaria Familiar","-","-","-",19,8,11,"-","-","-"]
["Producción Lechera","-","-","-",25,18,7,"-","-","-"]
["Producciones Vegetales Intensivas","-","-","-",13,4,9,"-","-","-"]
["Redes y comunicaciones ópticas","-","-","-",24,24,0,"-","-","-"]
["Redes y software","-","-","-",101,90,11,"-","-","-"]
["Refrigeración",null,null,null,0,0,0]
["Refrigeración y Aire Acondicionado",null,null,null,0,0,0]
["Rematador",null,null,null,136,83,53]
["Rematador - Op. Inmobiliario",null,null,null,302,164,138]
["S.P. Arroz pastura - Binacional",null,null,null,24,17,7]
["Sistemas de Prod. Arroz-Pasturas",null,null,null,36,23,13]
["Técnico en Comunicación Social",null,null,null,406,147,259]
["Tecnólogo Agroenergético",null,null,null,16,12,4]
["Tecnólogo Cárnico",null,null,null,{"$f":"+F80+G80","v":170},82,88]
["Tecnólogo en Informática",null,null,null,587,491,96]
["Tecnólogo en Madera",null,null,null,78,53,25]
["Tecnólogo Mecánico",null,null,null,482,453,29]
["Tecnólogo Químico",null,null,null,298,85,213]
["Telecomunicaciones",null,null,null,21,20,1]
["Turismo",null,null,null,25,5,20]

{"sheet":"II-5.3.1","index":237,"n_rows":41,"n_cols":11,"rows_kept":41,"cut":false,"hidden":false,"merged":[[42,0,42,10],[0,4,1,6],[4,0,4,10],[5,0,8,0],[5,1,8,1],[5,2,5,10],[6,2,8,2],[6,3,6,4],[6,5,8,5],[6,6,6,7],[6,8,8,8],[6,9,6,10],[7,3,7,4],[7,6,7,7],[7,9,7,10],[41,0,41,10]]}
["OFERTAS TERCIARIAS NO UNIVERSITARIAS DEL ÁREA SEGURIDAD Y DEFENSA",null,null,null,"PERSONAL ACADÉMICO"]
[]
["Cuadro Nº II-5.3.1"]
[]
["PERSONAL ACADÉMICO DE NIVEL TERCIARIO NO UNIVERSITARIO DEL ÁREA SEGURIDAD Y DEFENSA POR CARGA HORARIA, SEXO, SEGÚN INSTITUCIÓN Y FORMACIÓN. AÑO 2013."]
["INSTITUCIONES / FORMACIÓN","TOTAL","HORAS SEMANALES"]
[null,null,"Total","20 horas o menos",null,"Total","Entre 21 y 30 horas",null,"Total","31 horas y más"]
[null,null,null,"SEXO",null,null,"SEXO",null,null,"SEXO"]
[null,null,null,"M","F",null,"M","F",null,"M","F"]
["TOTAL",{"$f":"C10+F10+I10","v":340},{"$f":"D10+E10","v":243},{"$f":"D12+D18+D24+D30","v":182},{"$f":"E12+E18+E24+E30","v":61},{"$f":"G10+H10","v":7},{"$f":"G12+G18+G24+G30","v":3},{"$f":"H12+H18+H24+H30","v":4},{"$f":"J10+K10","v":90},{"$f":"J12+J18+J24+J30","v":84},{"$f":"K12+K18+K24+K30","v":6}]
[]
["ESCUELA NAVAL",{"$f":"C12+F12+I12","v":132},{"$f":"D12+E12","v":44},{"$f":"SUM(D13:D16)","v":33},{"$f":"SUM(E13:E16)","v":11},{"$f":"G12+H12","v":0},{"$f":"SUM(G13:G16)","v":0},{"$f":"SUM(H13:H16)","v":0},{"$f":"J12+K12","v":88},{"$f":"SUM(J13:J16)","v":82},{"$f":"SUM(K13:K16)","v":6}]
["  Sin formación de grado completa",{"$f":"C13+F13+I13","v":0},{"$f":"D13+E13","v":0},0,0,{"$f":"G13+H13","v":0},0,0,{"$f":"J13+K13","v":0},0,0]
["  Con formación de grado",{"$f":"C14+F14+I14","v":122},{"$f":"D14+E14","v":34},30,4,{"$f":"G14+H14","v":0},0,0,{"$f":"J14+K14","v":88},82,6]
["  Con postgrado de especialización o maestría",{"$f":"C15+F15+I15","v":1},{"$f":"D15+E15","v":1},1,0,0,0,0,{"$f":"J15+K15","v":0},0,0]
["  Con doctorado",{"$f":"C16+F16+I16","v":9},{"$f":"D16+E16","v":9},2,7,{"$f":"G16+H16","v":0},0,0,{"$f":"J16+K16","v":0},0,0]
[]
["ESCUELA NACIONAL DE POLICÍA",{"$f":"C18+F18+I18","v":103},{"$f":"D18+E18","v":99},{"$f":"SUM(D19:D22)","v":76},{"$f":"SUM(E19:E22)","v":23},{"$f":"G18+H18","v":4},{"$f":"SUM(G19:G22)","v":3},{"$f":"SUM(H19:H22)","v":1},{"$f":"J18+K18","v":0},{"$f":"SUM(J19:J22)","v":0},{"$f":"SUM(K19:K22)","v":0}]
["  Sin formación de grado completa",{"$f":"C19+F19+I19","v":0},{"$f":"D19+E19","v":0},0,0,{"$f":"G19+H19","v":0},0,0,{"$f":"J19+K19","v":0},0,0]
["  Con formación de grado",{"$f":"C20+F20+I20","v":102},{"$f":"D20+E20","v":98},76,22,{"$f":"G20+H20","v":4},3,1,{"$f":"J20+K20","v":0},0,0]
["  Con postgrado de especialización o maestría",{"$f":"C21+F21+I21","v":1},{"$f":"D21+E21","v":1},0,1,{"$f":"G21+H21","v":0},0,0,{"$f":"J21+K21","v":0},0,0]
["  Con doctorado",{"$f":"C22+F22+I22","v":0},{"$f":"D22+E22","v":0},0,0,{"$f":"G22+H22","v":0},0,0,{"$f":"J22+K22","v":0},0,0]
[]
["ESCUELA MILITAR",{"$f":"C24+F24+I24","v":105},{"$f":"D24+E24","v":100},{"$f":"SUM(D25:D28)","v":73},{"$f":"SUM(E25:E28)","v":27},{"$f":"G24+H24","v":3},{"$f":"SUM(G25:G28)","v":0},{"$f":"SUM(H25:H28)","v":3},{"$f":"J24+K24","v":2},{"$f":"SUM(J25:J28)","v":2},{"$f":"SUM(K25:K28)","v":0}]
["  Sin formación de grado completa",{"$f":"C25+F25+I25","v":23},{"$f":"D25+E25","v":20},7,13,{"$f":"G25+H25","v":1},0,1,{"$f":"J25+K25","v":2},2,0]
["  Con formación de grado",{"$f":"C26+F26+I26","v":82},{"$f":"D26+E26","v":80},66,14,{"$f":"G26+H26","v":2},0,2,{"$f":"J26+K26","v":0},0,0]
["  Con postgrado de especialización o maestría",{"$f":"C27+F27+I27","v":0},{"$f":"D27+E27","v":0},0,0,{"$f":"G27+H27","v":0},0,0,{"$f":"J27+K27","v":0},0,0]
["  Con doctorado",{"$f":"C28+F28+I28","v":0},{"$f":"D28+E28","v":0},0,0,{"$f":"G28+H28","v":0},0,0,{"$f":"J28+K28","v":0},0,0]
[]
["ESCUELA MILITAR DE AERONÁUTICA","s/d","s/d","s/d","s/d","s/d","s/d","s/d","s/d","s/d","s/d"]
["  Sin formación de grado completa","s/d","s/d","s/d","s/d","s/d","s/d","s/d","s/d","s/d","s/d"]
["  Con formación de grado","s/d","s/d","s/d","s/d","s/d","s/d","s/d","s/d","s/d","s/d"]
["  Con postgrado de especialización o maestría","s/d","s/d","s/d","s/d","s/d","s/d","s/d","s/d","s/d","s/d"]
["  Con doctorado","s/d","s/d","s/d","s/d","s/d","s/d","s/d","s/d","s/d","s/d"]
[]
[" Fuente: "]
["            Jefatura de Estudios - Escuela Nacional de Policía "]
["            Escuela Militar"]
["            Departamento de Bedelía - Escuela Militar de Aeronáutica"]
["            Escuela Naval"]
["            Instituto Militar de Estudios Superiores"]

{"sheet":"II-5.3.2","index":238,"n_rows":16,"n_cols":11,"rows_kept":16,"cut":false,"hidden":false,"merged":[[6,9,6,10],[7,3,7,4],[7,6,7,7],[7,9,7,10],[0,2,1,4],[4,0,4,10],[5,0,8,0],[5,1,8,1],[5,2,5,10],[6,2,8,2],[6,3,6,4],[6,5,8,5],[6,6,6,7],[6,8,8,8]]}
["OTRAS OFERTAS TERCIARIAS NO UNIVERSITARIAS ",null,"PERSONAL ACADÉMICO"]
[]
["Cuadro Nº II-5.3.2"]
[]
["PERSONAL ACADÉMICO DE NIVEL TERCIARIO NO UNIVERSITARIO POR CARGA HORARIA SEMANAL, SEXO, SEGÚN INSTITUCIÓN Y FORMACIÓN AÑO 2013."]
["INSTITUCIONES / FORMACIÓN","TOTAL","HORAS SEMANALES"]
[null,null,"Total","20 horas o menos",null,"Total","Entre 21 y 30 horas",null,"Total","31 horas y más"]
[null,null,null,"SEXO",null,null,"SEXO",null,null,"SEXO"]
[null,null,null,"M","F",null,"M","F",null,"M","F"]
["EMAD Margarita Xirgu",{"$f":"C10+F10+I10","v":34},{"$f":"D10+E10","v":15},{"$f":"SUM(D11:D14)","v":7},{"$f":"SUM(E11:E14)","v":8},{"$f":"G10+H10","v":19},{"$f":"SUM(G11:G14)","v":12},{"$f":"SUM(H11:H14)","v":7},{"$f":"J10+K10","v":0},{"$f":"SUM(J11:J14)","v":0},{"$f":"SUM(K11:K14)","v":0}]
["  Sin formación de grado completa",{"$f":"C11+F11+I11","v":23},{"$f":"D11+E11","v":6},3,3,{"$f":"G11+H11","v":17},11,6,{"$f":"J11+K11","v":0},0,0]
["  Con formación de grado",{"$f":"C12+F12+I12","v":11},{"$f":"D12+E12","v":9},4,5,{"$f":"G12+H12","v":2},1,1,{"$f":"J12+K12","v":0},0,0]
["  Con postgrado de especialización o maestría",{"$f":"C13+F13+I13","v":0},{"$f":"D13+E13","v":0},0,0,{"$f":"G13+H13","v":0},0,0,{"$f":"J13+K13","v":0},0,0]
["  Con doctorado",{"$f":"C14+F14+I14","v":0},{"$f":"D14+E14","v":0},0,0,{"$f":"G14+H14","v":0},0,0,{"$f":"J14+K14","v":0},0,0]
["Fuente: "]
["          Secretaría General - EMAD"]

{"sheet":"FORMACIÓN EN EDUCACIÓN ","index":239,"n_rows":0,"n_cols":0,"rows_kept":0,"cut":false,"hidden":false,"merged":[[30,0,30,4],[32,0,32,4],[22,0,22,4],[24,0,24,4],[26,0,26,4],[28,0,28,4],[20,0,20,4],[10,0,10,4],[12,0,12,4],[14,0,14,4],[16,0,16,4],[18,0,18,4]]}

{"sheet":"II-6.1.1","index":240,"n_rows":40,"n_cols":3,"rows_kept":40,"cut":false,"hidden":false,"merged":[[45,0,46,3],[0,0,0,1],[0,2,1,3],[4,0,4,2],[5,0,9,0],[5,1,9,1],[5,2,9,2]]}
["ANEP - CONSEJO DE FORMACIÓN EN EDUCACIÓN",null,"INSTITUCIONES"]
[]
["Cuadro Nº II-6.1.1"]
[]
["MATRÍCULA Y PERSONAL DOCENTE SEGÚN GRANDES ÁREAS, DEPARTAMENTOS E INSTITUCIONES. AÑO 2013."]
["GRANDES ÁREAS / DEPARTAMENTO / INSTITUCIÓN","TOTAL","DOCENTES"]
[]
[]
[]
[]
["TOTAL",{"$f":"+B13+B19","v":24067},{"$f":"+C13+C19","v":2631}]
[]
["MONTEVIDEO",{"$f":"SUM(B15:B17)","v":9392},{"$f":"SUM(C15:C17)","v":746}]
[]
["IINN",2088,497]
["IPA ",6385,136]
["INET",919,113]
[]
["RESTO DEL PAÍS",{"$f":"SUM(B21:B38)","v":14675},{"$f":"SUM(C21:C38)+89","v":1885}]
[]
["Artigas",577,80]
["Canelones",2409,271]
["Cerro Largo",739,67]
["Colonia",1003,196]
["Durazno",632,53]
["Flores",166,30]
["Florida",633,162]
["Lavalleja",383,42]
["Maldonado ",1037,147]
["Paysandú",1251,93]
["Río Negro",326,31]
["Rivera",1310,145]
["Rocha",300,50]
["Salto",1384,212]
["San José",334,47]
["Soriano",584,49]
["Tacuarembó",719,83]
["Treinta y Tres",888,38]
["Fuente: Informática - D.F.P.D. "]
["Nota: En matrícula docente del Resto del País se incluyen 89 estudiantes que cursan la modalidad semi-presencial y no tienen asignado un Departamento"]

{"sheet":"II-6.2.1 ","index":241,"n_rows":47,"n_cols":14,"rows_kept":47,"cut":false,"hidden":false,"merged":[[45,0,45,9],[8,9,9,9],[8,10,9,10],[8,11,9,11],[8,12,9,12],[24,0,24,1],[8,3,9,3],[8,4,9,4],[8,5,9,5],[8,6,9,6],[0,0,0,2],[0,8,1,10],[4,0,4,9],[5,0,9,1],[5,2,7,4],[5,5,5,13],[6,5,7,7],[6,8,7,10],[6,11,7,13],[8,2,9,2],[8,13,9,13],[8,7,9,7],[8,8,9,8]]}
["ANEP - CONSEJO DE FORMACIÓN EN EDUCACIÓN",null,null,null,null,null,null,null,"ALUMNOS MATRICULADOS"]
[]
["Cuadro Nº II-6.2.1"]
[]
["ALUMNOS INGRESADOS, MATRICULADOS Y EGRESADOS EN FORMACIÓN EN EDUCACIÓN POR CARRERA SEGÚN DEPARTAMENTO Y ESTABLECIMIENTO. AÑO 2013."]
["DEPARTAMENTO / ESTABLECIMIENTO",null,"TOTAL",null,null,"CARRERA"]
[null,null,null,null,null,"Magisterio",null,null,"Profesorado",null,null,"Educador Social"]
[]
[null,null,"Ingr.","Matr.","Egr.","Ingr.","Matr.","Egr.","Ingr.","Matr.","Egr.","Ingr.","Matr.","Egr."]
[]
["TOTAL",null,"S/D",{"$f":"+D13+D18","v":24067},{"$f":"E13+E18","v":1402},{"$f":"+F13+F18","v":0},{"$f":"+G13+G18","v":7137},{"$f":"H13+H18","v":712},{"$f":"+I13+I18","v":0},{"$f":"+J13+J18","v":15861},{"$f":"K13+K18","v":690},{"$f":"+L13+L18","v":0},{"$f":"+M13+M18","v":1069},{"$f":"N13+N18","v":0}]
[]
["MONTEVIDEO",null,"S/D",{"$f":"SUM(D14:D17)","v":9392},457,0,2088,135,{"$f":"SUM(I14:I17)","v":0},6725,{"$f":"SUM(K14:K17)","v":322},0,579,0]
["                IINN",null,{"$f":"F14+I14+L14","v":0},{"$f":"G14+J14+M14","v":2088},135,"S/D",{"$f":"2088","v":2088},135,"S/D","N/C","N/C","N/C","N/C","N/C"]
["                IPA ",null,{"$f":"F15+I15+L15","v":0},6385,299,"N/C","N/C","N/C","S/D",{"$f":"'II-6.2.3 '!H16","v":5806},299,"S/D",{"$f":"'II-6.2.3 '!M16","v":579},"S/D"]
["                UM",null,{"$f":"F16+I16+L16","v":0},0,6,"N/C","N/C","N/C","S/D","S/D",6,"N/C","N/C","N/C"]
["                INET ",null,{"$f":"F17+I17+L17","v":0},919,17,"N/C","N/C","N/C","S/D",{"$f":"'II-6.2.3 '!H17","v":919},17,"N/C","N/C","N/C"]
["RESTO DEL PAÍS",null,{"$f":"SUM(C19:C44)","v":0},14675,945,{"$f":"F19+F20+F26+F27+F32+F31+F33+F34+F35+F36+F37+F38+F39+F40+F41+F42+F43+F44","v":0},5049,577,0,9136,368,0,490,0]
["Artigas         Artigas",null,"S/D",577,40,"S/D",{"$f":"'II-6.2.3 '!C19","v":300},39,"S/D",{"$f":"'II-6.2.3 '!H19","v":204},1,"S/D",{"$f":"'II-6.2.3 '!M19","v":73},"S/D"]
["Canelones",null,"S/D",{"$f":"G20+J20+M20","v":2409},156,"S/D",{"$f":"'II-6.2.3 '!C20","v":953},{"$f":"SUM(H21:H25)","v":105},"S/D",{"$f":"'II-6.2.3 '!H20","v":1333},{"$f":"SUM(K21:K25)","v":51},"S/D",{"$f":"'II-6.2.3 '!M20","v":123},"S/D"]
["                Canelones ",null,{"$f":"F21+I21+L21","v":0},{"$f":"G21+J21+M21","v":485},60,"S/D",{"$f":"'II-6.2.3 '!C21","v":285},22,"S/D",{"$f":"'II-6.2.3 '!H21","v":200},38,"S/D",{"$f":"'II-6.2.3 '!M21","v":0},"S/D"]
["                De la Costa ",null,{"$f":"F22+I22+L22","v":0},439,26,"S/D",{"$f":"'II-6.2.3 '!C22","v":246},20,"S/D",{"$f":"'II-6.2.3 '!H22","v":193},6,"S/D",{"$f":"'II-6.2.3 '!M22","v":0},"S/D"]
["                Pando",null,0,485,32,"S/D",{"$f":"'II-6.2.3 '!C23","v":278},29,"S/D",{"$f":"'II-6.2.3 '!H23","v":207},3,"S/D",{"$f":"'II-6.2.3 '!M23","v":0},"S/D"]
["                San Ramón ",null,0,234,31,"S/D",{"$f":"'II-6.2.3 '!C24","v":144},27,"S/D",{"$f":"'II-6.2.3 '!H24","v":90},4,"S/D",{"$f":"'II-6.2.3 '!M24","v":0},"S/D"]
["María Auxiliadora",null,0,643,7,"S/D",{"$f":"'II-6.2.3 '!C25","v":0},7,"S/D",{"$f":"'II-6.2.3 '!H25","v":643},0,"S/D",{"$f":"'II-6.2.3 '!M25","v":0},"S/D"]
["Cerro Largo     Melo",null,"S/D",{"$f":"G26+J26+M26","v":739},38,"S/D",{"$f":"'II-6.2.3 '!C26","v":300},36,"S/D",{"$f":"'II-6.2.3 '!H26","v":439},2,"S/D",{"$f":"'II-6.2.3 '!M26","v":0},"S/D"]
["Colonia",null,"S/D",{"$f":"G27+J27+M27","v":1003},63,"S/D",{"$f":"'II-6.2.3 '!C27","v":252},{"$f":"SUM(H28:H30)","v":31},"S/D",{"$f":"'II-6.2.3 '!H27","v":751},{"$f":"SUM(K28:K30)","v":32},"S/D",{"$f":"'II-6.2.3 '!M27","v":0},"S/D"]
["                Colonia",null,{"$f":"F28+I28+L28","v":0},{"$f":"G28+J28+L28","v":401},{"$f":"H28+K28+M28","v":25},"S/D",{"$f":"'II-6.2.3 '!C28","v":0},0,"S/D",{"$f":"'II-6.2.3 '!H28","v":401},25,"S/D",{"$f":"'II-6.2.3 '!M28","v":0},"S/D"]
["                Carmelo",null,{"$f":"F29+I29+L29","v":0},362,18,"S/D",{"$f":"'II-6.2.3 '!C29","v":119},15,"S/D",{"$f":"'II-6.2.3 '!H29","v":243},3,"S/D",{"$f":"'II-6.2.3 '!M29","v":0},"S/D"]
["                Rosario",null,0,240,20,"S/D",{"$f":"'II-6.2.3 '!C30","v":133},16,"S/D",{"$f":"'II-6.2.3 '!H30","v":107},4,"S/D",{"$f":"'II-6.2.3 '!M30","v":0},"S/D"]
["Durazno        Durazno ",null,"S/D",632,25,"S/D",{"$f":"'II-6.2.3 '!C31","v":196},21,"S/D",{"$f":"'II-6.2.3 '!H31","v":436},4,"S/D",{"$f":"'II-6.2.3 '!M31","v":0},"S/D"]
["Flores          Trinidad",null,"S/D",166,16,"S/D",{"$f":"'II-6.2.3 '!C32","v":82},15,"S/D",{"$f":"'II-6.2.3 '!H32","v":84},1,"S/D",{"$f":"'II-6.2.3 '!M32","v":0},"S/D"]
["Florida         Florida",null,"S/D",633,57,"S/D",{"$f":"'II-6.2.3 '!C33","v":192},26,"S/D",{"$f":"'II-6.2.3 '!H33","v":441},31,"S/D",{"$f":"'II-6.2.3 '!M33","v":0},"S/D"]
["Lavalleja       Minas",null,"S/D",383,24,"S/D",{"$f":"'II-6.2.3 '!C34","v":145},20,"S/D",{"$f":"'II-6.2.3 '!H34","v":238},4,"S/D",{"$f":"'II-6.2.3 '!M34","v":0},"S/D"]
["Maldonado   Maldonado",null,"S/D",1037,78,"S/D",{"$f":"'II-6.2.3 '!C35","v":273},24,"S/D",{"$f":"'II-6.2.3 '!H35","v":641},54,"S/D",{"$f":"'II-6.2.3 '!M35","v":123},"S/D"]
["Paysandú     Paysandú",null,"S/D",1251,69,"S/D",{"$f":"'II-6.2.3 '!C36","v":392},49,"S/D",{"$f":"'II-6.2.3 '!H36","v":688},20,"S/D",{"$f":"'II-6.2.3 '!M36","v":171},"S/D"]
["Río Negro     Fray Bentos",null,"S/D",326,19,"S/D",{"$f":"'II-6.2.3 '!C37","v":123},13,"S/D",{"$f":"'II-6.2.3 '!H37","v":203},6,"S/D",{"$f":"'II-6.2.3 '!M37","v":0},"S/D"]
["Rivera        Rivera",null,"S/D",1310,107,"S/D",{"$f":"'II-6.2.3 '!C38","v":353},44,"S/D",{"$f":"'II-6.2.3 '!H38","v":957},63,"S/D",{"$f":"'II-6.2.3 '!M38","v":0},"S/D"]
["Rocha          Rocha",null,"S/D",300,8,"S/D",{"$f":"'II-6.2.3 '!C39","v":130},8,"S/D",{"$f":"'II-6.2.3 '!H39","v":170},0,"S/D",{"$f":"'II-6.2.3 '!M39","v":0},"S/D"]
["Salto           Salto ",null,"S/D",1384,125,"S/D",{"$f":"'II-6.2.3 '!C40","v":534},51,"S/D",{"$f":"'II-6.2.3 '!H40","v":850},74,"S/D",{"$f":"'II-6.2.3 '!M40","v":0},"S/D"]
["San José      San José",null,"S/D",334,27,"S/D",{"$f":"'II-6.2.3 '!C41","v":196},24,"S/D",{"$f":"'II-6.2.3 '!H41","v":138},3,"S/D",{"$f":"'II-6.2.3 '!M41","v":0},"S/D"]
["Soriano        Mercedes ",null,"S/D",584,23,"S/D",{"$f":"'II-6.2.3 '!C42","v":151},20,"S/D",{"$f":"'II-6.2.3 '!H42","v":433},3,"S/D",{"$f":"'II-6.2.3 '!M42","v":0},"S/D"]
["Tacuarembó      Tacuarembó ",null,"S/D",719,33,"S/D",{"$f":"'II-6.2.3 '!C43","v":216},25,"S/D",{"$f":"'II-6.2.3 '!H43","v":503},8,"S/D",{"$f":"'II-6.2.3 '!M43","v":0},"S/D"]
["Treinta y Tres    Treinta y Tres",null,"S/D",888,37,"S/D",{"$f":"'II-6.2.3 '!C44","v":261},26,"S/D",{"$f":"'II-6.2.3 '!H44","v":627},11,"S/D",{"$f":"'II-6.2.3 '!M44","v":0},"S/D"]
["Fuente: Informática - DFPD "]
["Nota: No se dispone de datos de ingreso. "]
["Los matriculados en Profesorado del INET corresponden tanto al profesorado de Informática como a Maestros Técnicos."]

{"sheet":"II-6.2.2","index":242,"n_rows":19,"n_cols":10,"rows_kept":19,"cut":false,"hidden":false,"merged":[[7,3,8,3],[7,5,8,5],[7,6,8,6],[18,0,22,9],[7,8,8,8],[7,9,8,9],[0,6,1,9],[4,0,4,9],[5,0,8,0],[5,1,8,1],[5,2,5,3],[5,4,8,4],[5,5,5,6],[5,7,8,7],[5,8,5,9],[6,2,6,3],[6,5,6,6],[6,8,6,9],[7,2,8,2]]}
["OTRAS TERCIARIAS NO UNIVERSITARIAS",null,null,null,null,null,"ALUMNOS MATRICULADOS"]
[]
["Cuadro Nº II-6.2.2"]
[]
["ALUMNOS INGRESADOS, MATRICULADOS Y EGRESADOS EN FORMACIÓN EN EDUCACIÓN POR SEXO SEGÚN INSTITUCIÓN Y CARRERA. AÑO 2013."]
["INSTITUCION / CARRERA","TOTAL","INGRESADOS",null,"TOTAL","MATRICULADOS",null,"TOTAL","EGRESADOS"]
[null,null,"SEXO",null,null,"SEXO",null,null,"SEXO"]
[null,null,"M","F",null,"M","F",null,"M","F"]
[]
["C.I.E.P",{"$f":"SUM(C10:D10)","v":50},{"$f":"SUM(C11:C12)","v":1},{"$f":"SUM(D11:D12)","v":49},{"$f":"SUM(F10:G10)","v":119},{"$f":"SUM(F11:F12)","v":1},{"$f":"SUM(G11:G12)","v":118},{"$f":"SUM(I10:J10)","v":28},{"$f":"SUM(I11:I12)","v":0},{"$f":"SUM(J11:J12)","v":28}]
["Educador Inicial",{"$f":"SUM(C11:D11)","v":43},1,42,{"$f":"SUM(F11:G11)","v":112},1,111,24,0,24]
["Técnico en Primera Infancia",{"$f":"SUM(C12:D12)","v":7},0,7,{"$f":"SUM(F12:G12)","v":7},0,7,4,0,4]
["INAU – CENFORES",{"$f":"SUM(C13:D13)","v":41},{"$f":"C14+C15","v":3},{"$f":"D14+D15","v":38},{"$f":"SUM(F13:G13)","v":53},{"$f":"F14+F15","v":3},{"$f":"G14+G15","v":50},25,{"$f":"I14+I15","v":6},{"$f":"J14+J15","v":19}]
["Progama de Formación de Educadores Sociales",{"$f":"SUM(C14:D14)","v":0},0,0,{"$f":"SUM(F14:G14)","v":0},0,0,25,6,19]
["Programa de Primera Infancia ",41,3,38,53,3,50,0,0,0]
["Fuente:"]
["         CEN.FOR.ES - I.N.A.U. "]
["         C.I.E.P"]
["Nota: En la Carrera de Educación Social, no se registran ingresos ya que a partir de la Ley General de Educación Nº 18437 la Carrera pasa a implementarse en el Consejo de Formación en Educación de ANEP. Durante el 2013 se imparíó las asignaturas correspondiente a 3er año. Es de destacar que los estudiantes que culminan los tres años, comienza un proceso de elaboración de monografía de egreso que puede extenderse hasta un máximo de 2 años."]

{"sheet":"II-6.2.3 ","index":243,"n_rows":47,"n_cols":17,"rows_kept":47,"cut":false,"hidden":false,"merged":[[7,13,7,16],[8,2,9,2],[8,5,8,6],[8,7,9,7],[8,8,8,11],[8,12,9,12],[8,13,8,16],[0,0,0,1],[0,9,1,11],[6,0,10,0],[6,1,6,11],[7,1,10,1],[7,3,7,6],[7,8,7,11]]}
["ANEP - CONSEJO DE FORMACIÓN EN EDUCACIÓN",null,null,null,null,null,null,null,null,"ALUMNOS MATRICULADOS"]
[]
["Cuadro Nº II-6.2.3"]
[]
["ALUMNOS MATRICULADOS EN FORMACIÓN EN EDUCACIÓN POR CARRERA Y GRADO SEGÚN DEPARTAMENTO Y ESTABLECIMIENTOS. AÑO 2013."]
[]
["DEPARTAMENTO / ESTABLECIMIENTO","CARRERA"]
[null,"TOTAL",null,"Magisterio",null,null,null,null,"Profesorado",null,null,null,null,"Educador Social"]
[null,null,"TOTAL",null,null,null,null,"TOTAL",null,null,null,null,"TOTAL"]
[null,null,null,"Primero","Segundo","Tercero","Cuarto",null,"Primero","Segundo","Tercero","Cuarto",null,"Primero","Segundo","Tercero","Cuarto"]
[]
["TOTAL",{"$f":"+B14+B18","v":24067},{"$f":"+C14+C18","v":7137},{"$f":"+D14+D18","v":2679},1803,1476,1179,{"$f":"+H14+H18","v":15861},{"$f":"+I14+I18","v":7263},3529,2498,2170,{"$f":"M14+M18","v":1069},711,274,84,0]
[]
["MONTEVIDEO",{"$f":"SUM(B15:B17)","v":9392},{"$f":"SUM(C15:C17)","v":2088},{"$f":"SUM(D15:D17)","v":767},479,500,342,{"$f":"SUM(H15:H17)","v":6725},{"$f":"SUM(I15:I17)","v":2846},1600,1274,1005,{"$f":"SUM(M15:M17)","v":579},{"$f":"SUM(N15:N17)","v":408},{"$f":"SUM(O15:O17)","v":139},{"$f":"SUM(P15:P17)","v":32},{"$f":"SUM(Q15:Q17)","v":0}]
["                IINN",{"$f":"SUM(C15+H15+M15)","v":2088},{"$f":"SUM(D15:G15)","v":2088},767,479,500,342,{"$f":"SUM(I15:L15)","v":0},"N/C","N/C","N/C","N/C",{"$f":"SUM(N15:Q15)","v":0},"N/C","N/C","N/C","N/C"]
["                IPA",{"$f":"SUM(C16+H16+M16)","v":6385},{"$f":"SUM(D16:G16)","v":0},"N/C","N/C","N/C","N/C",{"$f":"SUM(I16:L16)","v":5806},2265,1411,1195,935,{"$f":"SUM(N16:Q16)","v":579},408,139,32]
["                INET",{"$f":"SUM(C17+H17+M17)","v":919},{"$f":"SUM(D17:G17)","v":0},"N/C","N/C","N/C","N/C",{"$f":"SUM(I17:L17)","v":919},581,189,79,70,{"$f":"SUM(N17:Q17)","v":0},"N/C","N/C","N/C","N/C"]
["RESTO DEL PAÍS",{"$f":"(B19+B20+B26+B27+B31+B32+B33+B34+B35+B36+B37+B38+B39+B40+B41+B42+B43+B44)","v":14675},{"$f":"(C19+C20+C26+C27+C31+C32+C33+C34+C35+C36+C37+C38+C39+C40+C41+C42+C43+C44)","v":5049},{"$f":"+D19+D20+D26+D27+D31+D32+D33+D34+D35+D36+D37+D38+D39+D40+D41+D42+D43+D44","v":1912},{"$f":"+E19+E20+E26+E27+E31+E32+E33+E34+E35+E36+E37+E38+E39+E40+E41+E42+E43+E44","v":1324},976,837,9136,4417,1929,1224,1165,490,303,135,52,0]
["Artigas",{"$f":"SUM(C19+H19+M19)","v":577},{"$f":"SUM(D19:G19)","v":300},90,77,79,54,{"$f":"SUM(I19:L19)","v":204},118,35,16,35,{"$f":"SUM(N19:Q19)","v":73},"N/C",31,42,"N/C"]
["Canelones",{"$f":"SUM(C20+H20+M20)","v":2409},{"$f":"SUM(C21:C25)","v":953},{"$f":"SUM(D21:D24)","v":351},{"$f":"SUM(E21:E24)","v":244},{"$f":"SUM(F21:F24)","v":188},{"$f":"SUM(G21:G24)","v":170},{"$f":"SUM(H21:H25)","v":1333},{"$f":"SUM(I21:I25)","v":587},{"$f":"SUM(J21:J25)","v":320},{"$f":"SUM(K21:K25)","v":194},{"$f":"SUM(L21:L25)","v":232},{"$f":"SUM(N20:Q20)","v":123},93,30,"N/C","N/C"]
["                Canelones",485,{"$f":"SUM(D21:G21)","v":285},102,78,48,57,{"$f":"SUM(I21:L21)","v":200},118,33,16,33,{"$f":"SUM(N21:Q21)","v":0},"N/C","N/C","N/C","N/C"]
["                De la Costa",439,246,91,73,51,31,193,77,47,37,32,0,"N/C","N/C","N/C","N/C"]
["                Pando",485,278,114,57,60,47,207,127,34,22,24,0,"N/C","N/C","N/C","N/C"]
["                San Ramón",234,144,44,36,29,35,90,{"$f":"SUM(44+1)","v":45},{"$f":"SUM(24+1)","v":25},12,8,0,"N/C","N/C","N/C","N/C"]
["                Atlántida",643,0,"N/C","N/C","N/C","N/C",643,220,181,107,135,0,"N/C","N/C","N/C","N/C"]
["Cerro Largo",739,300,123,73,62,42,439,280,79,47,33,0,"N/C","N/C","N/C","N/C"]
["Colonia",1003,{"$f":"SUM(C29:C30)","v":252},{"$f":"SUM(D29:D30)","v":103},{"$f":"SUM(E29:E30)","v":60},{"$f":"SUM(F29:F30)","v":45},{"$f":"SUM(G29:G30)","v":44},{"$f":"SUM(H28:H30)","v":751},{"$f":"SUM(I29:I30)","v":196},{"$f":"SUM(J29:J30)","v":58},{"$f":"SUM(K29:K30)","v":42},{"$f":"SUM(L29:L30)","v":54},0,"N/C","N/C","N/C","N/C"]
["                Colonia",401,{"$f":"SUM(D28:G28)","v":0},"N/C","N/C","N/C","N/C",{"$f":"SUM(I28:L28)","v":401},136,103,94,68,0,"N/C","N/C","N/C","N/C"]
["                Carmelo",362,{"$f":"SUM(D29:G29)","v":119},53,26,19,21,{"$f":"SUM(I29:L29)","v":243},142,41,31,29,0,"N/C","N/C","N/C","N/C"]
["                Rosario",240,133,50,34,26,23,107,54,17,11,25,0,"N/C","N/C","N/C","N/C"]
["Durazno",632,196,71,48,40,37,436,361,32,21,22,0,"N/C","N/C","N/C","N/C"]
["Flores",166,82,38,21,14,9,84,58,16,5,5,0,"N/C","N/C","N/C","N/C"]
["Florida",633,192,71,46,34,41,441,179,115,79,68,0,"N/C","N/C","N/C","N/C"]
["Lavalleja",383,{"$f":"SUM(D34:G34)","v":145},55,42,27,21,{"$f":"SUM(I34:L34)","v":238},{"$f":"SUM(131+7)","v":138},{"$f":"SUM(45+5)","v":50},30,20,0,"N/C","N/C","N/C","N/C"]
["Maldonado",1037,273,90,81,55,47,641,304,179,85,73,123,77,36,10,"N/C"]
["Paysandú",1251,392,168,101,68,55,688,331,148,126,83,171,133,38,"N/C","N/C"]
["Río Negro",326,123,68,22,21,12,203,119,52,11,21,0,"N/C","N/C","N/C","N/C"]
["Rivera",1310,353,139,85,59,70,957,473,218,135,131,0,"N/C","N/C","N/C","N/C"]
["Rocha",300,130,46,36,30,18,170,85,37,27,21,0,"N/C","N/C","N/C","N/C"]
["Salto",1384,534,194,169,96,75,850,{"$f":"SUM(324+20)","v":344},{"$f":"SUM(198+9)","v":207},145,154,0,"N/C","N/C","N/C","N/C"]
["San José",334,196,77,55,38,26,138,{"$f":"SUM(75+3)","v":78},26,{"$f":"SUM(18+1)","v":19},15,0,"N/C","N/C","N/C","N/C"]
["Soriano",584,151,57,38,29,27,433,306,71,33,23,0,"N/C","N/C","N/C","N/C"]
["Tacuarembó",719,216,82,65,45,24,503,220,157,85,41,0,"N/C","N/C","N/C","N/C"]
["Treinta y Tres",888,261,89,61,46,65,627,240,129,124,134,0,"N/C","N/C","N/C","N/C"]
["Fuente: Informática - DFPD "]
["Nota:   Los cursos de INET tienen como duración un año"]
["Los matriculados en Profesorado del INET corresponden tanto al profesorado de Informática como a Maestros Técnicos"]

{"sheet":"II-6.3.1","index":244,"n_rows":51,"n_cols":4,"rows_kept":51,"cut":false,"hidden":false,"merged":[[51,0,51,3],[0,3,1,4],[4,0,4,2],[5,0,7,0],[5,1,6,2],[50,0,50,3]]}
["ANEP - CONSEJO DE FORMACIÓN EN EDUCACIÓN",null,null,"FUNCIONARIOS"]
[]
["Cuadro Nº II-6.3.1"]
[]
["PERSONAL DOCENTE DE LOS INSTITUTOS DE FORMACIÓN EN EDUCACIÓN Y CANTIDAD DE HORAS POR INSTITUCIÓN Y DEPARTAMENTO AÑO 2013"]
["DEPARTAMENTO / ESTABLECIMIENTO"]
[]
[null,"Cantidad de  Docentes","Cantidad de  Horas"]
["TOTAL",{"$f":"B11+B15","v":2631},{"$f":"C11+C15","v":47485}]
[]
["MONTEVIDEO",{"$f":"B12+B13+B14","v":746},{"$f":"C12+C13+C14","v":15251}]
["                IINN",136,1882]
["                IPA ",497,11470]
["                INET ",113,1899]
["RESTO DEL PAÍS",{"$f":"B16+B17+B23+B24+B28+B29+B30+B33+B34+B37+B38+B39+B42+B43+B46+B47+B48+B49+89","v":1885},{"$f":"C16+C17+C23+C24+C28+C29+C30+C33+C34+C37+C38+C39+C42+C43+C46+C47+C48+C49+2012","v":32234}]
["Artigas",80,969]
["Canelones",{"$f":"SUM(B18:B22)","v":271},{"$f":"SUM(C18:C22)","v":4173}]
["                IFD Canelones ",60,657]
["                IFD de la Costa ",44,546]
["                IFD Pando",65,894]
["                IFD San Ramón ",37,560]
["                CERP del Sur",65,1516]
["Cerro Largo",67,1079]
["Colonia",{"$f":"SUM(B25:B27)","v":196},{"$f":"SUM(C25:C27)","v":3206}]
["                IFD Carmelo",30,289]
["                IFD Rosario ",40,498]
["                CERP del Suroeste",126,2419]
["Durazno ",53,668]
["Flores",30,432]
["Florida",{"$f":"B31+B32","v":162},{"$f":"C31+C32","v":2552}]
["                IFD Florida",78,1164]
["                CERP del Centro",84,1388]
["Lavalleja",42,660]
["Maldonado ",{"$f":"B35+B36","v":147},{"$f":"C35+C36","v":2589}]
["                IFD Maldonado",56,771]
["                CERP del Centro",91,1818]
["Paysandú",93,1628]
["Río Negro",31,423]
["Rivera",{"$f":"B40+B41","v":145},{"$f":"C40+C41","v":3103}]
["                IFD Rivera",61,915]
["                CERP del Norte",84,2188]
["Rocha",50,668]
["Salto ",{"$f":"B44+B45","v":212},{"$f":"C44+C45","v":4339}]
["                IFD Salto",63,1100]
["                CERP del Litoral",149,3239]
["San José",47,651]
["Soriano ",49,671]
["Tacuarembó ",83,1370]
["Treinta y Tres",38,1041]
["Fuente: Contralor Docente - CFE"]
["Nota: En octubre del 2007 el CODICEN aprobó un Sistema Único Nacional de Formación Docente (SUNFD) y el nuevo Plan Integrado 2008, creándose además una estructura departamentalizada con el objetivo de fortalecer la labor de los IFD y promover las actividades de investigación y extensión en el espacio de formación en educación. Las horas de departamento representan horas de docencia indirecta destinadas a promover la producción académica de los docentes. Los Departamentos poseen alcance nacional. Su conducción está a cargo de un Coordinacionador/a Académico/a. "]

{"sheet":"II-6.3.2","index":245,"n_rows":22,"n_cols":11,"rows_kept":22,"cut":false,"hidden":false,"merged":[[6,9,6,10],[7,3,7,4],[7,6,7,7],[7,9,7,10],[0,2,1,4],[4,0,4,10],[5,0,8,0],[5,1,8,1],[5,2,5,10],[6,2,8,2],[6,3,6,4],[6,5,8,5],[6,6,6,7],[6,8,8,8]]}
["OTRAS TERCIARIAS NO UNIVERSITARIAS",null,"PERSONAL ACADÉMICO"]
[]
["Cuadro Nº II-6.3.2"]
[]
["PERSONAL DOCENTE DE FORMACIÓN EN EDUCACIÓN POR CARGA HORARIA SEMANAL, SEXO, SEGÚN INSTITUCIÓN Y FORMACIÓN AÑO 2013"]
["INSTITUCIONES / FORMACIÓN","TOTAL","HORAS SEMANALES"]
[null,null,"Total","20 horas o menos",null,"Total","Entre 21 y 30 horas",null,"Total","31 horas y más"]
[null,null,null,"SEXO",null,null,"SEXO",null,null,"SEXO"]
[null,null,null,"M","F",null,"M","F",null,"M","F"]
["CIEP",{"$f":"C10+F10+I10","v":30},{"$f":"D10+E10","v":30},{"$f":"SUM(D11:D14)","v":4},{"$f":"SUM(E11:E14)","v":26},{"$f":"G10+H10","v":0},{"$f":"SUM(G11:G14)","v":0},{"$f":"SUM(H11:H14)","v":0},{"$f":"J10+K10","v":0},{"$f":"SUM(J11:J14)","v":0},{"$f":"SUM(K11:K14)","v":0}]
["Sin formación de grado completa",{"$f":"C11+F11+I11","v":0},{"$f":"D11+E11","v":0},0,0,{"$f":"G11+H11","v":0},0,0,{"$f":"J11+K11","v":0},0,0]
["Con formación de grado (incluye formación docente)",{"$f":"C12+F12+I12","v":19},{"$f":"D12+E12","v":19},2,17,{"$f":"G12+H12","v":0},0,0,{"$f":"J12+K12","v":0},0,0]
["Con posgrado de especialización o maestría",{"$f":"C13+F13+I13","v":3},{"$f":"D13+E13","v":3},2,1,{"$f":"G13+H13","v":0},0,0,{"$f":"J13+K13","v":0},0,0]
["Con doctorado",{"$f":"C14+F14+I14","v":8},{"$f":"D14+E14","v":8},0,8,{"$f":"G14+H14","v":0},0,0,{"$f":"J14+K14","v":0},0,0]
[]
["CENFORES -INAU ",{"$f":"C16+F16+I16","v":28},{"$f":"D16+E16","v":25},{"$f":"SUM(D17:D20)","v":7},{"$f":"SUM(E17:E20)","v":18},{"$f":"G16+H16","v":3},{"$f":"SUM(G17:G20)","v":3},{"$f":"SUM(H17:H20)","v":0},{"$f":"J16+K16","v":0},{"$f":"SUM(J17:J20)","v":0},{"$f":"SUM(K17:K20)","v":0}]
["Sin formación de grado completa",{"$f":"C17+F17+I17","v":0},{"$f":"D17+E17","v":0},0,0,{"$f":"G17+H17","v":0},0,0,{"$f":"J17+K17","v":0},0,0]
["Con formación de grado (incluye formación docente)",{"$f":"C18+F18+I18","v":18},{"$f":"D18+E18","v":15},1,14,{"$f":"G18+H18","v":3},3,0,{"$f":"J18+K18","v":0},0,0]
["Con posgrado de especialización o maestría",{"$f":"C19+F19+I19","v":9},{"$f":"D19+E19","v":9},5,4,{"$f":"G19+H19","v":0},0,0,{"$f":"J19+K19","v":0},0,0]
["Con doctorado",{"$f":"C20+F20+'[3]II-6.3.1 '!G50","v":1},{"$f":"D20+E20","v":1},1,0,{"$f":"G20+H20","v":0},0,0,{"$f":"J20+K20","v":0},0,0]
["Fuente:  CENFORES - INAU"]
["            CIEP"]

{"sheet":"II-6.3.3","index":246,"n_rows":32,"n_cols":4,"rows_kept":32,"cut":false,"hidden":false,"merged":[[0,0,0,1],[0,3,1,4],[4,0,4,2],[5,0,6,0],[5,1,6,1],[5,2,6,2]]}
["ANEP - CONSEJO DE FORMACIÓN EN EDUCACIÓN",null,null,"ALUMNOS MATRICULADOS"]
[]
["Cuadro Nº II-6.3.3"]
[]
["ESTUDIANTES INGRESADOS Y MATRICULADOS EN FORMACIÓN EN EDUCACIÓN SEGÚN ORIGEN GEOGRÁFICO. AÑO 2013."]
["DEPARTAMENTO DONDE CURSÓ EL ÚLTIMO AÑO LICEAL","ESTUDIANTES INGRESADOS","ESTUDIANTES MATRICULADOS"]
[]
["TOTAL ","s/d",{"$f":"SUM(C9:C31)","v":24067}]
["Montevideo","s/d",9392]
["Artigas","s/d",577]
["Canelones","s/d",2409]
["Cerro Largo","s/d",739]
["Colonia","s/d",1003]
["Durazno","s/d",632]
["Flores","s/d",166]
["Florida","s/d",633]
["Lavalleja","s/d",383]
["Maldonado","s/d",1037]
["Paysandú","s/d",1251]
["Río Negro","s/d",326]
["Rivera","s/d",1310]
["Rocha","s/d",300]
["Salto","s/d",1384]
["San José","s/d",334]
["Soriano","s/d",584]
["Tacuarembó","s/d",719]
["Treinta y Tres","s/d",888]
["Total extranjeros","-","-"]
["Extranjeros cono sur (Argentina, Brasil, Chile y Paraguay)","-","-"]
["Extranjeros extra regionales","-","-"]
["Extranjeros extra regionales","-","-"]
["Fuente: Institutos de Formación Docente"]

{"sheet":"EDUCACIÓN UNIVERSITARIA","index":247,"n_rows":0,"n_cols":0,"rows_kept":0,"cut":false,"hidden":false,"merged":[[36,0,36,4],[38,0,38,4],[24,0,24,4],[26,0,26,4],[28,0,28,4],[30,0,30,4],[32,0,32,4],[34,0,34,4],[22,0,22,4],[10,0,10,4],[12,0,12,4],[14,0,14,4],[16,0,16,4],[20,0,20,4]]}

{"sheet":"II-7.1.1  ","index":248,"n_rows":64,"n_cols":10,"rows_kept":64,"cut":false,"hidden":false,"merged":[[61,0,61,9],[0,3,1,5],[4,0,4,10],[5,1,7,1],[5,2,5,3],[5,4,7,4],[5,5,5,6],[5,7,7,7],[5,8,5,9],[6,2,6,3],[6,5,6,6],[6,8,6,9],[55,0,55,6],[56,0,56,6],[57,0,57,9],[60,0,60,9]]}
["OFERTA UNIVERSITARIA DE GRADO",null,null,"INSTITUCIONES"]
[]
["Cuadro Nº II-7.1.1"]
[]
["ALUMNOS INGRESADOS, MATRICULADOS Y EGRESADOS EN PROGRAMAS DE GRADO POR SEXO SEGÚN GRANDES ÁREAS, DEPARTAMENTO E INSTITUCIÓN. AÑO 2013."]
["GRANDES ÁREAS / DEPARTAMENTO / INSTITUCIÓN","TOTAL","INGRESO",null,"TOTAL","MATRÍCULA ",null,"TOTAL","EGRESADOS "]
[null,null,"SEXO",null,null,"SEXO",null,null,"SEXO"]
[null,null,"M","F",null,"M","F",null,"M","F"]
["TOTAL PAÍS",{"$f":"+C9+D9","v":27442},{"$f":"+C13+C28","v":10667},{"$f":"+D13+D28","v":16775},{"$f":"+F9+G9","v":151809},{"$f":"+F13+F28","v":56581},{"$f":"+G13+G28","v":95228},{"$f":"+I9+J9","v":8034},{"$f":"+I13+I28","v":2813},{"$f":"+J13+J28","v":5221}]
["PÚBLICO",{"$f":"B14+B29","v":23657},{"$f":"C14+C29","v":8738},14919,130993,46068,84925,6290,2048,4242]
["PRIVADO",{"$f":"B15+B30","v":3785},1929,1856,20816,10513,10303,1744,765,979]
[]
["MONTEVIDEO",{"$f":"SUM(C13:D13)","v":24152},{"$f":"SUM(C16:C27)","v":9390},{"$f":"SUM(D16:D27)","v":14762},{"$f":"SUM(F13:G13)","v":143455},{"$f":"SUM(F16:F27)","v":53626},{"$f":"SUM(G16:G27)","v":89829},{"$f":"SUM(I13:J13)","v":7198},{"$f":"SUM(I16:I27)","v":2577},{"$f":"SUM(J16:J27)","v":4621}]
["PÚBLICO",{"$f":"B16+B26+B27","v":20684},{"$f":"C16+C26+C27","v":7603},13081,124252,43796,80456,5571,1862,3709]
["PRIVADO",{"$f":"SUM(B17:B25)","v":3468},{"$f":"SUM(C17:C25)","v":1787},1681,19203,9830,9373,1627,715,912]
["UdelaR",{"$f":"SUM(C16:D16)","v":20663},7585,13078,124200,43748,80452,5550,1843,3707]
["UCUDAL",1124,483,641,{"$f":"SUM(F17:G17)","v":6114},2520,3594,621,244,377]
["Universidad ORT Uruguay",1090,625,465,7520,4423,3097,446,219,227]
["Universidad de Montevideo",323,159,164,1608,801,807,236,105,131]
["Universidad de la Empresa",698,379,319,2942,1613,1329,209,117,92]
["Inst Univ Asociación Cristiana de Jóvenes",169,116,53,607,394,213,45,25,20]
["Inst Metodista Univ Crandon *",0,0,0,35,1,34,27,1,26]
["Inst Univ Monseñor Mariano Soler ",21,20,1,59,57,2,4,4,0]
["Inst Univ CEDIIAP",25,0,25,260,5,255,26,0,26]
["Inst Univ CLAEH ",18,5,13,58,16,42,13,0,13]
["Escuela Naval **","s/d","s/d","s/d","s/d","s/d","s/d","s/d","s/d","s/d"]
["Escuela Nacional de Policía ",21,18,3,{"$f":"SUM(F27:G27)","v":52},48,4,21,19,2]
["RESTO DEL PAÍS",{"$f":"+C28+D28","v":3290},{"$f":"+C31+C33+C35+C41+C43+C45+C47+C50+C52+C54","v":1277},{"$f":"+D31+D33+D35+D41+D43+D45+D47+D50+D52+D54","v":2013},{"$f":"+F28+G28","v":8354},{"$f":"+F31+F33+F35+F41+F43+F45+F47+F50+F52+F54","v":2955},{"$f":"+G31+G33+G35+G41+G43+G45+G47+G50+G52+G54","v":5399},{"$f":"+I28+J28","v":836},{"$f":"+I31+I33+I35+I41+I43+I45+I47+I50+I52+I54","v":236},{"$f":"+J31+J33+J35+J41+J43+J45+J47+J50+J52+J54","v":600}]
["PÚBLICO",{"$f":"B31+B33+B36+B42+B44+B46+B48+B51+B53+B55","v":2973},{"$f":"C31+C33+C36+C42+C44+C46+C48+C51+C53+C55","v":1135},1838,6741,2272,4469,719,186,533]
["PRIVADO",{"$f":"B37+B38+B39+B40+B49","v":317},{"$f":"C37+C38+C39+C40+C49","v":142},175,1613,683,930,117,50,67]
["Artigas",{"$f":"SUM(C31:D31)","v":0},0,0,{"$f":"SUM(F31:G31)","v":24},{"$f":"SUM(F32)","v":18},{"$f":"SUM(G32)","v":6},{"$f":"SUM(I31:J31)","v":5},3,2]
["UdelaR",0,0,0,{"$f":"SUM(F32:G32)","v":24},18,6,5,3,2]
["Colonia",0,{"$f":"SUM(C34)","v":0},{"$f":"SUM(D34)","v":0},8,{"$f":"SUM(F34)","v":1},{"$f":"SUM(G34)","v":7},1,{"$f":"SUM(I34)","v":0},1]
["UdelaR",0,0,0,8,1,7,1,0,1]
["Maldonado",960,{"$f":"SUM(C36:C40)","v":403},{"$f":"SUM(D36:D40)","v":557},2249,{"$f":"SUM(F36:F40)","v":981},{"$f":"SUM(G36:G40)","v":1268},176,{"$f":"SUM(I36:I40)","v":95},{"$f":"SUM(J36:J40)","v":81}]
["UdelaR",747,314,433,1113,523,590,80,50,30]
["UCUDAL",{"$f":"SUM(C37:D37)","v":56},34,22,285,146,139,11,4,7]
["Inst Univ CLAEH ",80,27,53,375,140,235,51,13,38]
["Fundación Politécnico de Punta del Este",41,11,30,41,11,30,0,0,0]
["Inst Univ Francisco de Asís ",36,17,19,435,161,274,34,28,6]
["Paysandú",544,{"$f":"SUM(C42)","v":213},{"$f":"SUM(D42)","v":331},1648,{"$f":"SUM(F42)","v":591},{"$f":"SUM(G42)","v":1057},129,{"$f":"SUM(I42)","v":44},{"$f":"SUM(J42)","v":85}]
["UdelaR",544,213,331,1648,591,1057,129,44,85]
["Rivera",258,{"$f":"SUM(C44)","v":135},{"$f":"SUM(D44)","v":123},406,{"$f":"SUM(F44)","v":105},{"$f":"SUM(G44)","v":301},50,{"$f":"SUM(I44)","v":4},{"$f":"SUM(J44)","v":46}]
["UdelaR",258,135,123,406,105,301,50,4,46]
["Rocha",169,{"$f":"SUM(C46)","v":48},{"$f":"SUM(D46)","v":121},170,{"$f":"SUM(F46)","v":64},{"$f":"SUM(G46)","v":106},11,{"$f":"SUM(I46)","v":5},{"$f":"SUM(J46)","v":6}]
["UdelaR",169,48,121,170,64,106,11,5,6]
["Salto",1145,{"$f":"SUM(C48:C49)","v":383},{"$f":"SUM(D48:D49)","v":762},3618,{"$f":"SUM(F48:F49)","v":1134},{"$f":"SUM(G48:G49)","v":2484},446,{"$f":"SUM(I48:I49)","v":78},{"$f":"SUM(J48:J49)","v":368}]
["UdelaR",1041,330,711,3141,909,2232,425,73,352]
["UCUDAL",104,53,51,477,225,252,21,5,16]
["San José",19,18,1,0,0,0,0,0,0]
["UdelaR",19,18,1,0,0,0,0,0,0]
["Tacuarembó",150,51,99,231,61,170,18,7,11]
["UdelaR",150,51,99,231,61,170,18,7,11]
["Treinta y Tres",45,26,19,{"$f":"SUM(F54:G54)","v":0},0,0,{"$f":"SUM(I54:J54)","v":0},0,0]
["UdelaR",45,26,19,0,0,0,0,0,0]
["Fuente: Oficinas Productoras de cada una de las Instituciones. "]
["Nota: "]
["La expresión “Estudiantes” hace referencia a relaciones entre personas e instituciones y no al conteo de personas físicas. De manera que una persona puede ser estudiante de más de una institución o región, ostentando en cualquiera de ambas categorías inserciones múltiples y en cada caso será contada como personas diferentes."]
["* En la licenciatura no tuvieron ingresos en el 2013 ya que se realizó una reestructura de la carrera"]
["Para UdelaR:"]
["Según Res. N°15 del CDC de fecha 23/10/12, se entiende por Generación de Ingreso a Carrera  a todos los estudiantes que ingresan por primera vez a una carrera terciaria y/o de grado, en un año dado. No se consideran los estudiantes que ingresan a la carrera a través de un CIO o de un ciclo básico común en años anteriores. No se incluyen los estudiantes provisorios por previas, ni los de intercambio. Se incluyen los estudiantes de cortesía diplomática."]
["La matrícula de UdelaR corresponde al dato del VII Censo de estudiantes de grado 2012.  130.941 son inscripciones a nivel de carreras que representan 85.905 estudiantes efectivos."]
["El dato de egreso 2013 es PRELIMINAR"]
["** No incluye la información de cursos de nivel Universitario pertenecientes a la Escuela Naval"]

{"sheet":"II-7.2.2 ","index":249,"n_rows":436,"n_cols":10,"rows_kept":436,"cut":false,"hidden":false,"merged":[[6,8,6,9],[432,0,432,9],[433,0,433,9],[434,0,434,9],[0,6,1,8],[4,0,4,6],[5,1,7,1],[5,2,5,3],[5,4,7,4],[5,5,5,6],[5,7,7,7],[5,8,5,9],[6,2,6,3],[6,5,6,6]]}
["UNIVERSIDAD DE LA REPÚBLICA: OFERTA DE GRADO",null,null,null,null,null,"ALUMNOS MATRICULADOS"]
[]
["Cuadro Nº II-7.2.2"]
[]
["ALUMNOS INGRESADOS A CARRERAS 2013, MATRICULADOS 2012 Y EGRESADOS PRELIMINARES 2013 EN PROGRAMAS DE GRADO POR SEXO SEGÚN SERVICIO UNIVERSITARIO Y CARRERA."]
[null,"TOTAL","INGRESADOS (3)",null,"TOTAL","MATRÍCULA (4)",null,"TOTAL","EGRESADOS (datos preliminares) (5)"]
["SERVICIO UNIVERSITARIO / CARRERA",null,"SEXO",null,null,"SEXO",null,null,"SEXO"]
[null,null,"M","F",null,"M","F",null,"M","F"]
["TOTAL",{"$f":"SUM(C9:D9)","v":23636},{"$f":"C11+C32+C37+C43+C62+C81+C110+C118+C132+C148+C155+C168+C179+C190+C197+C214+C220+C230+C266+C269+C290+C305+C326+C337+C349+C366+C369+C375+C379+C384+C394+C402+C406+C410+C414+C420+C357+C423","v":8720},{"$f":"D11+D32+D37+D43+D62+D81+D110+D118+D132+D148+D155+D168+D179+D190+D197+D214+D220+D230+D266+D269+D290+D305+D326+D337+D349+D366+D369+D375+D379+D384+D394+D402+D406+D410+D414+D420+D357+D423","v":14916},{"$f":"SUM(F9:G9)","v":130941},{"$f":"F11+F32+F37+F43+F62+F81+F110+F118+F132+F148+F155+F168+F179+F190+F197+F214+F220+F341+F230+F266+F269+F290+F305+F326+F337+F349+F366+F369+F375+F379+F384+F394+F402+F417+F406+F410+F414+F420","v":46020},{"$f":"G11+G32+G37+G43+G62+G81+G110+G118+G132+G148+G155+G168+G179+G190+G197+G214+G220+G341+G230+G266+G269+G290+G305+G326+G337+G349+G366+G369+G375+G379+G384+G394+G402+G417+G406+G410+G414+G420","v":84921},{"$f":"SUM(I9:J9)","v":6269},{"$f":"I11+I32+I37+I43+I62+I81+I110+I118+I132+I148+I155+I168+I179+I190+I197+I214+I220+I230+I266+I269+I290+I305+I326+I337+I349+I366+I369+I375+I379+I384+I394+I402+I406+I410+I414+I420","v":2029},{"$f":"J11+J32+J37+J43+J62+J81+J110+J118+J132+J148+J155+J168+J179+J190+J197+J214+J220+J230+J266+J269+J290+J305+J326+J337+J349+J366+J369+J375+J379+J384+J394+J402+J406+J410+J414+J420","v":4240}]
[]
["FACULTAD DE HUMANIDADES Y CIENCIAS DE LA EDUCACIÓN",{"$f":"SUM(C11:D11)","v":1161},{"$f":"C12+C26+C30+C24","v":370},{"$f":"D12+D26+D30","v":791},{"$f":"SUM(F11:G11)","v":5977},{"$f":"F12+F23+F26+F30","v":1933},{"$f":"G12+G23+G26+G30","v":4044},{"$f":"SUM(I11:J11)","v":103},{"$f":"I12+I24+I26+I30","v":33},{"$f":"J12+J24+J26+J30","v":70}]
["Montevideo",1138,{"$f":"SUM(C13:C22)","v":368},{"$f":"SUM(D13:D22)","v":770},{"$f":"SUM(F12:G12)","v":5730},{"$f":"SUM(F13:F22)","v":1861},{"$f":"SUM(G13:G22)","v":3869},93,{"$f":"SUM(I13:I22)","v":31},{"$f":"SUM(J13:J22)","v":62}]
["Técnico en Museología",0,0,0,{"$f":"SUM(F13:G13)","v":477},119,358,18,8,10]
["Técnico en Interpretación LSU - Español - LSU ",28,1,27,24,1,23,0,0,0]
["Licenciado en Ciencias Antropológicas",154,68,86,922,315,607,18,5,13]
["Licenciado en Ciencias de la Educación",187,45,142,819,203,616,15,2,13]
["Licenciado en Ciencias Históricas",129,67,62,816,400,416,4,3,1]
["Licenciado en Letras",142,46,96,871,272,599,8,5,3]
["Licenciado en Lingüística",92,27,65,503,117,386,3,1,2]
["Técnico Universitario en Corrección de Estilo (Lengua Española)",271,52,219,556,102,454,13,2,11]
["Licenciado en Filosofía",135,62,73,735,332,403,14,5,9]
["Licenciatura en Turismo",0,0,0,7,0,7,1,0,0]
["Maldonado",null,null,null,153,{"$f":"F24+F25","v":48},{"$f":"G24+G25","v":105}]
["Licenciado en Turismo",1,1,0,138,44,94,9,2,7]
["Técnico Universitario en Turismo",null,null,null,15,4,11]
["Salto",9,{"$f":"C27+C28","v":1},{"$f":"D27+D28","v":8},94,{"$f":"F27+F28","v":24},{"$f":"G27+G28","v":70},1,{"$f":"I27+I28","v":0},{"$f":"J27+J28","v":1}]
["Técnico en Interpretación LSU - Español - LSU ",9,1,8,0,0,0,0,0,0]
["Licenciado Binacional en Turismo ",0,0,0,94,24,70,1,0,1]
["Tacuarembó"]
["Técnico en Interpretación LSU - Español - LSU ",13,0,13,0,0,0,0,0,0]
[]
["FACULTAD DE AGRONOMÍA",{"$f":"SUM(C32:D32)","v":482},{"$f":"SUM(C33:C35)","v":305},{"$f":"SUM(D33:D35)","v":177},{"$f":"SUM(F32:G32)","v":2289},{"$f":"SUM(F33:F35)","v":1575},{"$f":"SUM(G33:G35)","v":714},{"$f":"SUM(I32:J32)","v":156},{"$f":"SUM(I33:I35)","v":118},{"$f":"SUM(J33:J35)","v":38}]
["Ingeniero Agrónomo",{"$f":"SUM(C33:D33)","v":377},237,140,{"$f":"SUM(F33:G33)","v":2155},1505,650,{"$f":"SUM(I33:J33)","v":155},118,37]
["Salto"]
["Ingeniero Agrónomo ",{"$f":"SUM(C35:D35)","v":105},68,37,{"$f":"SUM(F35:G35)","v":134},70,64,{"$f":"SUM(I35:J35)","v":1},0,1]
[]
["FACULTAD DE ARQUITECTURA",{"$f":"SUM(C37:D37)","v":680},{"$f":"SUM(C38:C41)","v":281},{"$f":"SUM(D38:D41)","v":399},{"$f":"SUM(F37:G37)","v":5483},{"$f":"SUM(F38:F41)","v":2342},{"$f":"SUM(G38:G41)","v":3141},{"$f":"SUM(I37:J37)","v":300},{"$f":"SUM(I38:I41)","v":144},{"$f":"SUM(J38:J41)","v":156}]
["Arquitecto",{"$f":"SUM(C38:D38)","v":621},258,363,{"$f":"SUM(F38:G38)","v":5395},2293,3102,{"$f":"SUM(I38:J38)","v":300},144,156]
["Salto"]
["Arquitecto ",{"$f":"SUM(C40:D40)","v":1},0,1,{"$f":"SUM(F40:G40)","v":88},49,39,{"$f":"SUM(I40:J40)","v":0},0,0]
["Licenciatura en Diseño Integrado ",{"$f":"SUM(C41:D41)","v":58},23,35,{"$f":"SUM(F41:G41)","v":0},0,0,{"$f":"SUM(I41:J41)","v":0},0,0]
[]
["FACULTAD DE CIENCIAS ECONÓMICAS Y ADMINISTRACIÓN",{"$f":"SUM(C43:D43)","v":2980},{"$f":"C44+C56+C58+C60","v":1287},{"$f":"D44+D56+D58+D60","v":1693},{"$f":"SUM(F43:G43)","v":17663},{"$f":"F44+F56+F58+F60","v":7253},{"$f":"G44+G56+G58+G60","v":10410},{"$f":"SUM(I43:J43)","v":729},{"$f":"I44+I56+I58+I60","v":299},{"$f":"J44+J56+J58+J60","v":430}]
["Montevideo",{"$f":"C44+D44","v":2752},{"$f":"SUM(C46:C54)","v":1209},{"$f":"SUM(D46:D54)","v":1543},{"$f":"F44+G44","v":17475},{"$f":"SUM(F45:F54)","v":7202},{"$f":"SUM(G45:G54)","v":10273},{"$f":"I44+J44","v":729},{"$f":"SUM(I45:I54)","v":299},{"$f":"SUM(J45:J54)","v":430}]
["Ciclo básico de CCEE",null,null,null,{"$f":"F45+G45","v":1162},471,691]
["Licenciatura en Estadística",65,28,37,695,311,384,{"$f":"SUM(I46:J46)","v":6},2,4]
["Contador Público (Plan 2012)",1991,841,1150,10156,4056,6100,{"$f":"SUM(I47:J47)","v":470},189,281]
["Licenciado en Economía (Plan 2012)",362,207,155,2671,1330,1341,127,65,62]
["Licenciado en Administración (Plan 2012)",334,133,201,2791,1034,1757,37,12,25]
["Contador Público (Plan 1980)",0,0,0,0,0,0,4,1,3]
["Contador Público (Plan 1990)",0,0,0,0,0,0,57,20,37]
["Licenciado en Economía (Plan 1990)",0,0,0,0,0,0,19,9,10]
["Economista (Plan 1980)",null,null,null,null,null,null,1,1,0]
["Licenciado en Administración-Contador (Plan 1990)",0,0,0,0,0,0,8,0,8]
["Maldonado"]
["Tecnólogo en Administración y Contabilidad (Plan 2012) ",113,46,67,62,22,40,0,0,0]
["Rocha"]
["Tecnólogo en Administración y Contabilidad (Plan 2012) ",31,5,26,0,0,0,0,0,0]
["Tacuarembó"]
["Tecnólogo en Administración y Contabilidad (Plan 2012) ",84,27,57,126,29,97,0,0,0]
[]
["FACULTAD DE DERECHO",{"$f":"SUM(C62:D62)","v":2794},{"$f":"C63+C72+C75","v":832},{"$f":"D63+D72+D75","v":1962},{"$f":"SUM(F62:G62)","v":24001},{"$f":"F63+F72+F75","v":6750},{"$f":"G63+G72+G75","v":17251},{"$f":"SUM(I62:J62)","v":907},{"$f":"I63+I72+I75","v":227},{"$f":"J63+J72+J75","v":680}]
["Montevideo",2668,{"$f":"SUM(C64:C71)","v":789},{"$f":"SUM(D64:D71)","v":1879},22743,{"$f":"SUM(F64:F71)","v":6376},{"$f":"SUM(G64:G71)","v":16367},872,{"$f":"SUM(I64:I71)","v":218},{"$f":"SUM(J64:J71)","v":654}]
["Dr. en Derecho",9,5,4,8880,2543,6337,390,115,275]
["Escribano Público",1,1,0,8447,2378,6069,251,48,203]
["Dr. en Derecho - Escribano Público (*)",1164,348,816,0,0,0,0,0,0]
["Licenciado en Relaciones Internacionales",657,255,402,2592,874,1718,122,37,85]
["Traductor Público",34,4,30,209,33,176,27,3,24]
["Licenciado en Relaciones Laborales",799,172,627,1197,276,921,0,0,0]
["Técnico en Relaciones Laborales",null,null,null,1418,272,1146,82,15,67]
["Dr. en Derecho - Escribano Público (*) ",4,4,0,0,0,0,0,0,0]
["Rocha",4,{"$f":"C73+C74","v":0},{"$f":"D73+D74","v":4},{"$f":"F72+G72","v":57},{"$f":"F73+F74","v":17},{"$f":"G73+G74","v":40},6,{"$f":"I73+I74","v":0},{"$f":"J73+J74","v":6}]
["Licenciado en Relaciones Laborales ",4,0,4,0,0,0,0,0,0]
["Técnico en Relaciones Laborales ",null,null,null,57,17,40,6,0,6]
["Salto",{"$f":"C75+D75","v":122},{"$f":"C76+C77+C78","v":43},{"$f":"D76+D77+D78","v":79},1201,{"$f":"F76+F77+F78+F79","v":357},{"$f":"G76+G77+G78+G79","v":844},{"$f":"I75+J75","v":29},{"$f":"I76+I77+I78","v":9},{"$f":"J76+J77+J78","v":20}]
["Escribano Público ",{"$f":"C76+D76","v":1},0,1,570,170,400,15,3,12]
["Dr. en Derecho - Escribano Público (*) ",{"$f":"C77+D77","v":121},43,78,0,0,0,0,0,0]
["Dr. en Derecho ",{"$f":"C78+D78","v":0},0,0,625,184,441,14,6,8]
["Licenciado en Relaciones Internacionales",null,null,null,6,3,3]
[]
["FACULTAD DE INGENIERÍA",{"$f":"SUM(C81:D81)","v":1884},{"$f":"C82+C99+C100+C104+C106+C108","v":1500},{"$f":"D82+D99+D100+D104+D106+D108","v":384},{"$f":"SUM(F81:G81)","v":9271},{"$f":"F82+F99+F100+F104+F106+F108","v":7187},{"$f":"G82+G99+G100+G104+G106+G108","v":2084},{"$f":"SUM(I81:J81)","v":314},{"$f":"I82+I99+I100+I104+I106+I108","v":255},{"$f":"J82+J99+J100+J104+J106+J108","v":59}]
["Montevideo",1737,{"$f":"SUM(C85:C97)","v":1372},{"$f":"SUM(D85:D97)","v":365},9043,{"$f":"SUM(F83:F97)","v":6994},{"$f":"SUM(G83:G97)","v":2049},295,{"$f":"SUM(I85:I97)","v":238},{"$f":"SUM(J85:J97)","v":57}]
["Analista Programador",null,null,null,11,6,5]
["Ciclo Básico de Ingeniería",null,null,null,257,189,68]
["Tecnólogo Mecánico (1)",115,111,4,327,300,27,20,15,5]
["Tecnólogo en Informática (1)",90,74,16,274,223,51,11,8,3]
["Ingeniero de Producción",92,51,41,95,48,47,0,0,0]
["Ingeniero Industrial Mecánico",201,160,41,1028,848,180,39,37,2]
["Ingeniero Naval",27,19,8,90,77,13,2,2,0]
["Ingeniero Civil",254,174,80,1262,792,470,48,37,11]
["Ingeniero Eléctrico",243,195,48,1458,1208,250,45,37,8]
["Ingeniero Agrimensor",37,20,17,140,91,49,4,2,2]
["Ingeniero en Computación",658,551,107,4095,3206,889,{"$f":"SUM(I93:J93)","v":126},100,26]
["Perito en Ingeniería Electrónica",null,null,null,3,3,0]
["Perito en Ingeniería Mecánica",null,null,null,1,1,0]
["Perito en Instrumentación Industrial",null,null,null,2,2,0]
["Licenciado en Computación",20,17,3,0,0,0,{"$f":"SUM(I97:J97)","v":0},0,0]
["Maldonado"]
["Tecnólogo en Informática (1) ",33,28,5,49,40,9,2,2,0]
["Paysandú",65,{"$f":"C101+C102","v":62},{"$f":"D101+D102","v":3},135,{"$f":"F101+F102","v":118},{"$f":"G101+G102","v":17},12,{"$f":"I101+I102","v":10},{"$f":"J101+J102","v":2}]
["Tecnólogo Mecánico (1) ",28,27,1,56,53,3,3,3,0]
["Tecnólogo en Informática (1) ",37,35,2,79,65,14,9,7,2]
["Rocha"]
["Tecnólogo en Telecomunicaciones ",19,14,5,44,35,9,5,5,0]
["Salto"]
["Licenciado en Ciencias Hídricas Aplicadas ",11,6,5,0,0,0,0,0,0]
["San José"]
["Tecnólogo en Informática (1) ",19,18,1,0,0,0,0,0,0]
[]
["FACULTAD DE MEDICINA",{"$f":"SUM(C110:D110)","v":1365},{"$f":"SUM(C112+C114+C116)","v":394},{"$f":"SUM(D112+D114+D116)","v":971},{"$f":"SUM(F110:G110)","v":8144},{"$f":"SUM(F112+F114+F116)","v":2377},{"$f":"SUM(G112+G114+G116)","v":5767},{"$f":"SUM(I110:J110)","v":432},{"$f":"SUM(I112+I114+I116)","v":140},{"$f":"SUM(J112+J114+J116)","v":292}]
["Montevideo"]
["Dr. en Medicina",1365,394,971,8101,2361,5740,{"$f":"SUM(I112:J112)","v":417},136,281]
["Paysandú"]
["Dr. en Medicina ",{"$f":"SUM(C114:D114)","v":0},0,0,{"$f":"SUM(F114:G114)","v":18},8,10,5,1,4]
["Salto"]
["Dr. en Medicina ",{"$f":"SUM(C116:D116)","v":0},0,0,{"$f":"SUM(F116:G116)","v":25},8,17,10,3,7]
[]
["FACULTAD DE ODONTOLOGÍA ",{"$f":"SUM(C118:D118)","v":591},{"$f":"C119+C124+C127","v":112},{"$f":"D119+D124+D127","v":479},{"$f":"SUM(F118:G118)","v":2959},{"$f":"F119+F124+F127","v":653},{"$f":"G119+G124+G127","v":2306},{"$f":"SUM(I118:J118)","v":332},{"$f":"I119+I124+I127","v":75},{"$f":"J119+J124+J127","v":257}]
["Montevideo",516,{"$f":" SUM(C120:C123)","v":104},{"$f":" SUM(D120:D123)","v":412},2872,{"$f":" SUM(F120:F123)","v":636},{"$f":" SUM(G120:G123)","v":2236},{"$f":"SUM(I119:J119)","v":312},{"$f":" SUM(I120:I123)","v":74},{"$f":" SUM(J120:J123)","v":238}]
["Asistente en Odontología",88,7,81,304,27,277,{"$f":"SUM(I120:J120)","v":32},1,31]
["Higienista en Odontología",83,6,77,338,38,300,58,5,53]
["Doctor en Odontología",254,68,186,1803,463,1340,171,51,120]
["Laboratorista en Odontología",91,23,68,427,108,319,51,17,34]
["Rivera",47,{"$f":"C125+C126","v":5},{"$f":"D125+D126","v":42},24,{"$f":"F125+F126","v":4},{"$f":"G125+G126","v":20},0,{"$f":"I125+I126","v":0},{"$f":"J125+J126","v":0}]
["Asistente en Odontología ",19,2,17,10,2,8,0,0,0]
["Higienista en Odontología ",28,3,25,14,2,12,0,0,0]
["Salto",28,{"$f":"C128+C130+C129","v":3},{"$f":"D128+D130+D129","v":25},63,{"$f":"F128+F130+F129","v":13},{"$f":"G128+G130+G129","v":50},20,{"$f":"I128+I130+I129","v":1},{"$f":"J128+J130+J129","v":19}]
["Asistente en Odontología ",7,0,7,12,3,9,0,0,0]
["Higienista en Odontología ",20,3,17,51,10,41,20,1,19]
["Higienista en Odontología ",1,0,1,0,0,0,0,0,0]
[]
["FACULTAD DE QUÍMICA",{"$f":"SUM(C132:D132)","v":409},{"$f":"C133+C142+C143","v":125},{"$f":"D133+D142+D143","v":284},{"$f":"SUM(F132:G132)","v":3840},{"$f":"F133+F142+F143","v":998},{"$f":"G133+G142+G143","v":2842},{"$f":"SUM(I132:J132)","v":122},{"$f":"I133+I142+I143","v":34},{"$f":"J133+J142+J143","v":88}]
["Montevideo",380,{"$f":"SUM(C134:C139)","v":116},{"$f":"SUM(D134:D139)","v":264},3793,{"$f":"SUM(F134:F140)","v":988},{"$f":"SUM(G134:G140)","v":2805},119,{"$f":"SUM(I134:I139)","v":32},{"$f":"SUM(J134:J139)","v":87}]
["Químico Farmacéutico (Plan 2000)",147,47,100,1853,456,1397,49,10,39]
["Químico",67,23,44,654,241,413,16,9,7]
["Bioquímico Clínico",100,24,76,1046,226,820,21,5,16]
["Tecnólogo Químico (1)",66,22,44,206,55,151,15,1,14]
["Químico Farmacéutico (Plan 1980)",0,0,0,0,0,0,6,1,5]
["Licenciado en Química",0,0,0,33,10,23,12,6,6]
["Magister en Química",null,null,null,1,0,1]
["Paysandú"]
["Tecnólogo Químico (1) ",24,7,17,34,6,28,3,2,1]
["Salto",5,{"$f":"C144+C145+C146","v":2},{"$f":"D144+D145+D146","v":3},13,{"$f":"F144+F145+F146","v":4},{"$f":"G144+G145+G146","v":9},0,{"$f":"I144+I145+I146","v":0},{"$f":"J144+J145+J146","v":0}]
["Químico Farmacéutico ",1,0,1,4,2,2,0,0,0]
["Químico ",2,1,1,4,1,3,0,0,0]
["Bioquímico Clínico ",2,1,1,5,1,4,0,0,0]
[]
["FACULTAD DE VETERINARIA ",{"$f":"SUM(C148:D148)","v":522},{"$f":"C149+C153","v":188},{"$f":"D149+D153","v":334},{"$f":"SUM(F148:G148)","v":3681},{"$f":"F149+F153","v":1422},{"$f":"G149+G153","v":2259},{"$f":"SUM(I148:J148)","v":150},{"$f":"I149+I153","v":70},{"$f":"J149+J153","v":80}]
["Montevideo",{"$f":"SUM(C149:D149)","v":439},{"$f":"C150+C151","v":156},{"$f":"D150+D151","v":283},{"$f":"SUM(F149:G149)","v":3443},{"$f":"F150+F151","v":1310},{"$f":"G150+G151","v":2133},{"$f":"SUM(I149:J149)","v":150},{"$f":"I150+I151","v":70},{"$f":"J150+J151","v":80}]
["Doctor en Ciencias Veterinarias",{"$f":"SUM(C150:D150)","v":439},156,283,{"$f":"SUM(F150:G150)","v":3443},1310,2133,{"$f":"SUM(I150:J150)","v":141},65,76]
["Doctor en Medicina y Tecnología Veterinaria",0,0,0,0,0,0,{"$f":"SUM(I151:J151)","v":9},5,4]
["Salto"]
["Doctor en Ciencias Veterinarias ",83,32,51,238,112,126,0,0,0]
[]
["ESCUELA UNIV DE BIBLIOTECOLOGÍA Y CIENCIAS AFINES",{"$f":"SUM(C155:D155)","v":180},{"$f":"C156+C160","v":39},{"$f":"D156+D160","v":141},{"$f":"SUM(F155:G155)","v":744},{"$f":"F156+F160+F164","v":159},{"$f":"G156+G160+G164","v":585},{"$f":"SUM(I155:J155)","v":38},{"$f":"I156+I160","v":7},{"$f":"J156+J160","v":31}]
["Montevideo",139,{"$f":"C157+C158+C159","v":30},{"$f":"D157+D158+D159","v":109},667,{"$f":"F157+F158+F159","v":142},{"$f":"G157+G158+G159","v":525},36,{"$f":"I157+I158+I159","v":7},{"$f":"J157+J158+J159","v":29}]
["Licenciado en Archivología",70,16,54,0,0,0,0,0,0]
["Licenciado en Bibliotecología",69,14,55,405,78,327,21,5,16]
["Archivólogo",0,0,0,262,64,198,15,2,13]
["Paysandú",41,{"$f":"C161+C162","v":9},{"$f":"D161+D162","v":32},71,{"$f":"F161+F162+F163","v":13},{"$f":"G161+G162+G163","v":58},2,{"$f":"I161+I162","v":0},{"$f":"J161+J162","v":2}]
["Licenciado en Archivología ",31,5,26,26,5,21,0,0,0]
["Licenciado en Bibliotecología ",10,4,6,32,6,26,2,0,2]
["Archivólogo",null,null,null,null,2,11]
["Rivera",null,null,null,6,{"$f":"F165+F166","v":4},{"$f":"G165+G166","v":2}]
["Archivólogo",null,null,null,4,2,2]
["Licenciado en Bibliotecología",null,null,null,2,2,0]
[]
["INSTITUTO ESCUELA NACIONAL DE BELLAS ARTES ",{"$f":"+C168+D168","v":629},{"$f":"C169+C173+C175+C177","v":198},{"$f":"D169+D173+D175+D177","v":431},{"$f":"+F168+G168","v":2357},{"$f":"F169+F173+F175+F177","v":757},{"$f":"G169+G173+G175+G177","v":1600},{"$f":"+I168+J168","v":53},{"$f":"I169+I173+I175+I177","v":13},{"$f":"J169+J173+J175+J177","v":40}]
["Montevideo",{"$f":"+C169+D169","v":516},{"$f":"C170+C171","v":152},{"$f":"D170+D171","v":364},{"$f":"+F169+G169","v":2231},{"$f":"F170+F171","v":703},{"$f":"G170+G171","v":1528},{"$f":"+I169+J169","v":40},{"$f":"I170+I171","v":8},{"$f":"J170+J171","v":32}]
["Licenciado en Artes",516,152,364,2231,703,1528,25,4,21]
["Creador Plástico",0,0,0,0,0,0,15,4,11]
["Maldonado"]
["Licenciado en Lenguaje y Medios Audiovisuales ",47,20,27,79,39,40,0,0,0]
["Paysandú"]
["Técnico en Imagen Fotográfica ",25,14,11,47,15,32,13,5,8]
["Rocha"]
["Técnico en Artes Plásticas y Visuales ",41,12,29,0,0,0,0,0,0]
[]
["ESCUELA DE ENFERMERÍA ",{"$f":"SUM(C179:D179)","v":491},{"$f":"C180+C184+C186+C188","v":98},{"$f":"D180+D184+D186+D188","v":393},{"$f":"SUM(F179:G179)","v":3280},{"$f":"F180+F184+F186+F188","v":524},{"$f":"G180+G184+G186+G188","v":2756},{"$f":"SUM(I179:J179)","v":698},{"$f":"I180+I184+I186+I188","v":101},{"$f":"J180+J184+J186+J188","v":597}]
["Montevideo",{"$f":"SUM(C180:D180)","v":398},{"$f":"C181+C182","v":83},{"$f":"D181+D182","v":315},{"$f":"SUM(F180:G180)","v":2605},{"$f":"F181+F182","v":410},{"$f":"G181+G182","v":2195},332,{"$f":"I181+I182","v":49},{"$f":"J181+J182","v":283}]
["Licenciado en Enfermería",309,72,237,2605,410,2195,332,49,283]
["Licenciado en Enfermería - Prof. de Aux.",89,11,78,0,0,0,0,0,0]
["Rivera"]
["Licenciado en Enfermería - Carrera Escalonada de Enf. ",2,0,2,217,26,191,46,4,42]
["Rocha"]
["Licenciado en Enfermería ",27,4,23,68,12,56,0,0,0]
["Salto"]
["Licenciado en Enfermería ",64,11,53,390,76,314,320,48,272]
[]
["ESCUELA DE NUTRICIÓN ",{"$f":"SUM(C190:D190)","v":393},{"$f":"+C192+C194","v":59},{"$f":"+D192+D194","v":334},{"$f":"+F190+G190","v":1962},{"$f":"+F192+F194+F195","v":234},{"$f":"+G192+G194+G195","v":1728},{"$f":"+I190+J190","v":132},{"$f":"+I192+I194+I195","v":9},{"$f":"+J192+J194+J195","v":123}]
["Montevideo"]
["Licenciado en Nutrición",{"$f":"SUM(C192:D192)","v":363},52,311,{"$f":"SUM(F192:G192)","v":1929},230,1699,{"$f":"SUM(I192:J192)","v":132},9,123]
["Tacuarembó"]
["Técnico Operador de Alimentos ",{"$f":"SUM(C194:D194)","v":30},7,23,{"$f":"SUM(F194:G194)","v":33},4,29,{"$f":"SUM(I194:J194)","v":0},0,0]
[]
[]
["ESCUELA UNIVERSITARIA DE MÚSICA",{"$f":"SUM(C197:D197)","v":67},{"$f":"C198+C205","v":40},{"$f":"D198+D205","v":27},{"$f":"SUM(F197:G197)","v":309},{"$f":"F198+F205","v":200},{"$f":"G198+G205","v":109},{"$f":"SUM(I197:J197)","v":14},{"$f":"I198+I205","v":9},{"$f":"J198+J205","v":5}]
["Salto",8,{"$f":"SUM(C199:C202)","v":2},{"$f":"SUM(D199:D202)","v":6},22,{"$f":"SUM(F199:F203)","v":12},{"$f":"SUM(G199:G203)","v":10},1,{"$f":"SUM(I199:I204)","v":1},{"$f":"SUM(J199:J202)","v":0}]
["Técnico Interpretación Opción Canto",2,0,2,0,0,0,0,0,0]
["Técnico Interpretación Opción Guitarra",1,0,1,0,0,0,0,0,0]
["Técnico Interpretación Opción Piano",2,1,1,15,10,5,0,0,0]
["Técnico en Dirección de Coros",3,1,2,5,2,3,0,0,0]
["Diplomado en Música",null,null,null,2,0,2]
["Técnico en Interpretación",null,null,null,null,null,null,1,1,0]
["Montevideo",59,{"$f":"SUM(C206:C209)","v":38},{"$f":"SUM(D206:D209)","v":21},287,{"$f":"SUM(F206:F211)","v":188},{"$f":"SUM(G206:G211)","v":99},13,{"$f":"SUM(I206:I212)","v":8},{"$f":"SUM(J206:J212)","v":5}]
["Licenciado en Música",27,18,9,129,86,43,6,4,2]
["Licenciado en Interpretación Musical",32,20,12,137,94,43,2,1,1]
["Licenciado en Interpretación Instrumental",0,0,0,0,0,0,2,1,1]
["Licenciado en Musicología",0,0,0,15,4,11,2,1,1]
["Licenciado en Dirección Coral",null,null,null,3,2,1]
["Licenciado en Dirección Orquestal",null,null,null,3,2,1]
["Licenciado en Dirección Orquestal",null,null,null,null,null,null,1,1,0]
[]
["ESCUELA DE PARTERAS",{"$f":"SUM(C214:D214)","v":471},{"$f":"SUM(C216:C218)","v":53},{"$f":"SUM(D216:D218)","v":418},{"$f":"SUM(F214:G214)","v":1133},{"$f":"SUM(F216:F218)","v":70},{"$f":"SUM(G216:G218)","v":1063},{"$f":"SUM(I214:J214)","v":48},{"$f":"SUM(I216:I218)","v":0},{"$f":"SUM(J216:J218)","v":48}]
["Montevideo"]
["Obstetra - Partera",{"$f":"SUM(C216:D216)","v":422},53,369,{"$f":"SUM(F216:G216)","v":1004},70,934,{"$f":"SUM(I216:J216)","v":29},0,29]
["Paysandú"]
["Obstetra - Partera",{"$f":"SUM(C218:D218)","v":49},0,49,{"$f":"SUM(F218:G218)","v":129},0,129,{"$f":"SUM(I218:J218)","v":19},0,19]
[]
["FACULTAD DE PSICOLOGÍA",{"$f":"SUM(C220:D220)","v":1730},{"$f":"C221+C227","v":425},{"$f":"D221+D227","v":1305},{"$f":"SUM(F220:G220)","v":7091},{"$f":"F221+F227","v":1562},{"$f":"G221+G227","v":5529},{"$f":"SUM(I220:J220)","v":424},{"$f":"I221+I226","v":69},{"$f":"J221+J226","v":355}]
["Montevideo",{"$f":"SUM(C221:D221)","v":1730},{"$f":"C222+C223+C224","v":425},{"$f":"D222+D223+D224","v":1305},{"$f":"SUM(F221:G221)","v":7082},{"$f":"F222+F223+F224","v":1561},{"$f":"G222+G223+G224","v":5521},421,{"$f":"SUM(I222:I225)","v":68},{"$f":"SUM(J222:J225)","v":353}]
["Licenciado en Psicología (Plan 2013)",{"$f":"SUM(C222:D222)","v":1730},425,1305,{"$f":"SUM(F222:G222)","v":0},0,0,80,18,62]
["Psicólogo",{"$f":"SUM(C223:D223)","v":0},0,0,{"$f":"SUM(F223:G223)","v":0},0,0,3,0,3]
["Licenciado en Psicología (Plan 1988)",{"$f":"SUM(C224:D224)","v":0},0,0,{"$f":"SUM(F224:G224)","v":7082},1561,5521,337,50,287]
["Técnico en Psicología Infantil",null,null,null,null,null,null,1,0,1]
["Salto",null,null,null,null,null,null,null,{"$f":"I227+I228","v":1},{"$f":"J227+J228","v":2}]
["Licenciado en Psicología",{"$f":"SUM(C227:D227)","v":0},0,0,{"$f":"SUM(F227:G227)","v":9},1,8,{"$f":"SUM(I227:J227)","v":2},0,2]
["Licenciado en Psicología (Plan 2013)",null,null,null,null,null,null,{"$f":"SUM(I228:J228)","v":1},1,0]
[]
["ESCUELA DE TECNOLOGÍA MEDICA",{"$f":"SUM(C230:D230)","v":1005},{"$f":"C231+C254","v":196},{"$f":"D231+D254","v":809},{"$f":"SUM(F230:G230)","v":4008},{"$f":"F231+F254","v":842},{"$f":"G231+G254","v":3166},{"$f":"SUM(I230:J230)","v":254},{"$f":"I231+I254","v":60},{"$f":"J231+J254","v":194}]
["Montevideo",775,{"$f":"SUM(C232:C250)","v":149},{"$f":"SUM(D232:D250)","v":626},3148,{"$f":"SUM(F232:F253)","v":634},{"$f":"SUM(G232:G253)","v":2514},187,{"$f":"SUM(I232:I250)","v":42},{"$f":"SUM(J232:J250)","v":145}]
["Técnico en Anatomía Patológica",32,5,27,150,26,124,18,4,14]
["Licenciado en Fisioterapia",60,18,42,273,95,178,27,10,17]
["Licenciado en Instrumentación Quirúrgica",40,6,34,246,47,199,16,3,13]
["Licenciado en Laboratorio Clínico",114,18,96,361,63,298,12,2,10]
["Técnico en Podología",40,6,34,123,26,97,2,0,2]
["Licenciado en Psicomotricidad",50,2,48,288,10,278,19,0,19]
["Licenciado en Imagenología ",2,1,1,0,0,0,0,0,0]
["Licenciado en Imagenología",85,30,55,272,119,153,19,8,11]
["Tecnólogo en Cosmetología Médica",38,0,38,153,2,151,17,0,17]
["Licenciado en Neurofisiología Clínica",33,9,24,143,35,108,8,2,6]
["Licenciado en Fonoaudiología",39,6,33,152,10,142,15,1,14]
["Técnico en Hemoterapia",44,11,33,106,26,80,12,5,7]
["Licenciado en Neumocardiología",36,7,29,152,38,114,3,1,2]
["Licenciado en Oftalmología",15,2,13,170,44,126,3,2,1]
["Técnico en Radioisótopos",18,5,13,56,16,40,4,2,2]
["Tecnólogo en Radioterapia",20,6,14,62,15,47,7,2,5]
["Licenciado en Registros Médicos",94,14,80,54,8,46,4,0,4]
["Licenciado en Terapia Ocupacional",15,3,12,107,8,99,0,0,0]
["Instrumentación Quirúrgica",0,0,0,0,0,0,1,0,1]
["Técnico en EEG y Neurofisiología Clínica",null,null,null,1,1,0]
["Tecnólogo en Registros Médicos",null,null,null,278,45,233]
["Técnico en Oftalmología",null,null,null,1,0,1]
["Paysandú",230,{"$f":"SUM(C255:C263)","v":47},{"$f":"SUM(D255:D263)","v":183},860,{"$f":"SUM(F255:F264)","v":208},{"$f":"SUM(G255:G264)","v":652},67,{"$f":"SUM(I255:I263)","v":18},{"$f":"SUM(J255:J263)","v":49}]
["Técnico en Anatomía Patológica ",10,1,9,39,14,25,6,0,6]
["Licenciado en Fisioterapia ",29,9,20,127,41,86,18,3,15]
["Licenciado en Instrumentación Quirúrgica ",10,2,8,71,16,55,1,0,1]
["Licenciado en Laboratorio Clínico ",15,3,12,77,13,64,10,4,6]
["Técnico en Podología ",33,6,27,83,20,63,6,0,6]
["Licenciado en Psicomotricidad ",36,4,32,141,5,136,6,0,6]
["Licenciado en Imagenología ",45,11,34,124,50,74,9,6,3]
["Técnico en Hemoterapia ",20,5,15,50,10,40,5,2,3]
["Tecnólogo en Salud Ocupacional ",32,6,26,136,36,100,6,3,3]
["Tecnólogo en Radioterapia",null,null,null,12,3,9]
[]
["CIENCIAS DE LA COMUNICACIÓN",{"$f":"SUM(C266:D266)","v":677},{"$f":"SUM(C267:C267)","v":274},{"$f":"SUM(D267:D267)","v":403},{"$f":"SUM(F266:G266)","v":2818},{"$f":"SUM(F267:F267)","v":1052},{"$f":"SUM(G267:G267)","v":1766},{"$f":"SUM(I266:J266)","v":161},{"$f":"SUM(I267:I267)","v":44},{"$f":"SUM(J267:J267)","v":117}]
["Licenciado en Ciencias de la Comunicación",{"$f":"SUM(C267:D267)","v":677},274,403,{"$f":"SUM(F267:G267)","v":2818},1052,1766,{"$f":"SUM(I267:J267)","v":161},44,117]
[]
["FACULTAD DE CIENCIAS",{"$f":"SUM(C269:D269)","v":642},{"$f":"C270+C283+C285+C286","v":305},{"$f":"D270+D283+D285+D286","v":337},{"$f":"SUM(F269:G269)","v":4769},{"$f":"F270+F283+F285+F286","v":2101},{"$f":"G270+G283+G285+G286","v":2668},{"$f":"SUM(I269:J269)","v":124},{"$f":"I270+I283+I285+I286","v":52},{"$f":"J270+J283+J285+J286","v":72}]
["Montevideo",{"$f":"SUM(C270:D270)","v":508},{"$f":"SUM(C271:C278)","v":248},{"$f":"SUM(D271:D278)","v":260},4620,{"$f":"SUM(F271:F280)","v":2039},{"$f":"SUM(G271:G280)","v":2581},120,{"$f":"SUM(I271:I278)","v":52},{"$f":"SUM(J271:J278)","v":68}]
["Licenciado en Matemática",{"$f":"SUM(C271:D271)","v":58},42,16,588,382,206,8,4,4]
["Licenciado en Ciencias Biológicas",163,60,103,1710,560,1150,49,21,28]
["Licenciado en Bioquímica",87,27,60,1134,348,786,51,19,32]
["Licenciado en Ciencias Físicas Opción Física",83,48,35,784,519,265,4,3,1]
["Licenciado en Ciencias Físicas Opción Astronomía",28,20,8,1,1,0,1,0,1]
["Licenciado en Geografía",31,21,10,157,91,66,0,0,0]
["Licenciado en Geología",58,30,28,221,124,97,3,1,2]
["Licenciado en Física",0,0,0,0,0,0,4,4,0]
["Licenciado en Ciencias Meteorológicas",null,null,null,3,3,0]
["Licenciado en Recursos Naturales",null,null,null,22,11,11]
[]
["Maldonado"]
["Licenciado en Gestión Ambiental  ",52,27,25,24,10,14,0,0,0]
["Rocha"]
["Licenciado en Gestión Ambiental ",10,3,7,{"$f":"SUM(F285:G285)","v":0},0,0,0,0,0]
["Rivera",72,{"$f":"C287+C288","v":27},{"$f":"D287+D288","v":45},{"$f":"SUM(F286:G286)","v":125},{"$f":"SUM(F287:F288)","v":52},{"$f":"SUM(G287:G288)","v":73},4,{"$f":"I287+I288","v":0},{"$f":"J287+J288","v":4}]
["Licenciado en Recursos Naturales ",42,18,24,81,33,48,1,0,1]
["Tecnólogo en Gestión de Recursos Naturales y Desarrollo Sustentable ",30,9,21,44,19,25,3,0,3]
[]
["FACULTAD DE CIENCIAS SOCIALES",{"$f":"SUM(C290:D290)","v":880},{"$f":"C291+C300","v":238},{"$f":"D291+D300","v":642},{"$f":"SUM(F290:G290)","v":6584},{"$f":"F291+F300","v":1604},{"$f":"G291+G300","v":4980},{"$f":"SUM(I290:J290)","v":238},{"$f":"I291+I300","v":48},{"$f":"J291+J300","v":190}]
["Montevideo",788,{"$f":"SUM(C292:C297)","v":220},{"$f":"SUM(D292:D297)","v":568},5824,{"$f":"SUM(F292:F297)","v":1475},{"$f":"SUM(G292:G298)","v":4349},198,{"$f":"SUM(I292:I297)","v":38},{"$f":"SUM(J292:J297)","v":160}]
["Estudios Iniciales en CCSS ",2,0,2,0,0,0,0,0,0]
["Estudios Iniciales en CCSS",786,220,566,2259,570,1689,0,0,0]
["Licenciado en Ciencia Política **",0,0,0,699,308,391,20,11,9]
["Licenciado en Desarrollo **",0,0,0,178,75,103,3,0,3]
["Licenciado en Trabajo Social **",0,0,0,1713,191,1522,93,9,84]
["Licenciado en Sociología **",0,0,0,974,331,643,82,18,64]
["Asistente Social Universitario",null,null,null,1,0,1]
[]
["Salto",92,{"$f":"C301+C302+C303","v":18},{"$f":"D301+D302+D303","v":74},760,{"$f":"F301+F302+F303","v":129},{"$f":"G301+G302+G303","v":631},40,{"$f":"I301+I302+I303","v":10},{"$f":"J301+J302+J303","v":30}]
["Estudios Iniciales en CCSS ",92,18,74,205,36,169,0,0,0]
["Licenciado en Ciencias Sociales **",0,0,0,254,43,211,5,3,2]
["Licenciado en Trabajo Social ** ",0,0,0,301,50,251,35,7,28]
[]
["INSTITUTO SUPERIOR DE EDUCACIÓN FÍSICA",{"$f":"SUM(C305:D305)","v":564},{"$f":"C306+C313+C319+C322","v":371},{"$f":"D306+D313+D319+D322","v":193},{"$f":"SUM(F305:G305)","v":1397},{"$f":"F306+F313+F319+F322","v":882},{"$f":"G306+G313+G319+G322","v":515},{"$f":"SUM(I305:J305)","v":184},{"$f":"I306+I313+I319+I322","v":114},{"$f":"J306+J313+J319+J322","v":70}]
["Montevideo",235,{"$f":"C307+C308+C309","v":143},{"$f":"D307+D308+D309","v":92},677,{"$f":"SUM(F307:F311)","v":439},{"$f":"SUM(G307:G311)","v":238},107,{"$f":"I307+I308+I309","v":60},{"$f":"J307+J308+J309","v":47}]
["Licenciado en Educación Física",140,70,70,553,320,233,95,48,47]
["Técnico Deportivo Superior - Actividades Acuáticas",48,26,22,0,0,0,0,0,0]
["Técnico Deportivo Superior - Fútbol",47,47,0,118,114,4,12,12,0]
["Profesor de Educación Física",null,null,null,2,1,1]
["Técnico Deportivo Superior Opción Básquetbol",null,null,null,4,4,0]
[]
["Maldonado",118,{"$f":"C314+C315","v":72},{"$f":"D314+D315","v":46},375,{"$f":"SUM(F314:F317)","v":222},{"$f":"SUM(G314:G317)","v":153},69,{"$f":"I314+I315","v":46},{"$f":"J314+J315","v":23}]
["Licenciado en Educación Física ",77,42,35,311,193,118,69,46,23]
["Técnico Deportivo Superior - Atletismo ",41,30,11,0,0,0,0,0,0]
["Profesor de Educación Física",null,null,null,2,1,1]
["Técnico Deportivo Superior Opción Voleibol",null,null,null,62,28,34]
[]
["Paysandú",97,{"$f":"C320+C321","v":70},{"$f":"D320+D321","v":27},345,{"$f":"F320+F321","v":221},{"$f":"G320+G321","v":124},8,{"$f":"I320+I321","v":8},{"$f":"J320+J321","v":0}]
["Licenciado en Educación Física ",70,46,24,302,189,113,8,8,0]
["Técnico Deportivo Superior - Básquetbol ",27,24,3,43,32,11,0,0,0]
["Rivera",114,{"$f":"C323+C324","v":86},{"$f":"D323+D324","v":28},0,{"$f":"F323+F324","v":0},{"$f":"G323+G324","v":0},0,{"$f":"I323+I324","v":0},{"$f":"J323+J324","v":0}]
["Técnico Deportivo Superior - Actividades Acuáticas ",42,24,18,0,0,0,0,0,0]
["Técnico Deportivo Superior - Fútbol ",72,62,10,0,0,0,0,0,0]
[]
["ESCUELA DE ADMINISTRACIÓN",{"$f":"SUM(C326:D326)","v":1087},{"$f":"SUM(C328:C333)","v":389},{"$f":"SUM(D328:D333)","v":698},{"$f":"SUM(F326:G326)","v":5255},{"$f":"F327+F333+F335","v":1685},{"$f":"G327+G333+G335","v":3570},{"$f":"SUM(I326:J326)","v":194},{"$f":"SUM(I328:I333)","v":48},{"$f":"SUM(J328:J333)","v":146}]
["Montevideo",1087,{"$f":"C328+C329","v":389},{"$f":"D328+D329","v":698},5224,{"$f":"SUM(F328:F330)","v":1675},{"$f":"SUM(G328:G330)","v":3549},193,{"$f":"SUM(I328:I331)","v":48},{"$f":"SUM(J328:J331)","v":145}]
["Técnico Universitario en Administración",1087,389,698,4791,1556,3235,189,46,143]
["Técnico en Administración de Empresas",0,0,0,249,70,179,3,1,2]
["Técnico en Administración Pública",null,null,null,184,49,135]
["Técnico en Administración Pública",null,null,null,null,null,null,1,1,0]
["Colonia"]
["Técnico Universitario en Administración ",0,0,0,8,1,7,1,0,1]
["Maldonado"]
["Técnico Universitario en Administración",null,null,null,23,9,14]
[]
["Escuela Universitaria Centro de Diseño",{"$f":"SUM(C337:D337)","v":228},{"$f":"SUM(C338:C339)","v":44},{"$f":"SUM(D338:D339)","v":184},{"$f":"SUM(F337:G337)","v":963},{"$f":"SUM(F338:F339)","v":168},{"$f":"SUM(G338:G339)","v":795},{"$f":"SUM(I337:J337)","v":20},{"$f":"SUM(I338:I339)","v":8},{"$f":"SUM(J338:J339)","v":12}]
["Licenciado en Diseño Industrial Opción Producto",{"$f":"SUM(C338:D338)","v":117},42,75,{"$f":"SUM(F338:G338)","v":477},148,329,{"$f":"SUM(I338:J338)","v":12},7,5]
["Licenciado en Diseño Industrial Opción Textil Y Moda",{"$f":"SUM(C339:D339)","v":111},2,109,{"$f":"SUM(F339:G339)","v":486},20,466,{"$f":"SUM(I339:J339)","v":8},1,7]
[]
["Ciclo Inicial Optativo (sin especificar área)",{"$f":"SUM(C341:D341)","v":0},{"$f":"SUM(C343:C347)","v":0},{"$f":"SUM(D343:D347)","v":0},{"$f":"SUM(F341:G341)","v":272},{"$f":"SUM(F343:F347)","v":122},{"$f":"SUM(G343:G347)","v":150},{"$f":"SUM(I341:J341)","v":0},{"$f":"SUM(I343:I347)","v":0},{"$f":"SUM(J343:J347)","v":0}]
["Maldonado"]
["Ciclo Inicial Optativo ",{"$f":"SUM(C343:D343)","v":0},null,null,{"$f":"SUM(F343:G343)","v":194},75,119,{"$f":"SUM(I343:J343)","v":0}]
["Rocha"]
["Ciclo Inicial Optativo ",{"$f":"SUM(C345:D345)","v":0},null,null,{"$f":"SUM(F345:G345)","v":1},0,1,{"$f":"SUM(I345:J345)","v":0}]
["Salto"]
["Ciclo Inicial Optativo ",{"$f":"SUM(C347:D347)","v":0},null,null,{"$f":"SUM(F347:G347)","v":77},47,30,{"$f":"SUM(I347:J347)","v":0}]
[]
["Área Ciencias y Tecnología",{"$f":"SUM(C349:D349)","v":83},{"$f":"SUM(C351:C355)","v":50},{"$f":"SUM(D351:D355)","v":33},{"$f":"SUM(F349:G349)","v":0},{"$f":"SUM(F351:F355)","v":0},{"$f":"SUM(G351:G355)","v":0},{"$f":"SUM(I349:J349)","v":0},{"$f":"SUM(I351:I355)","v":0},{"$f":"SUM(J351:J355)","v":0}]
["Maldonado"]
["Ciclo Inicial Optativo - Área Ciencias y Tecnologías ",{"$f":"SUM(C351:D351)","v":39},18,21,{"$f":"SUM(F351:G351)","v":0},null,null,{"$f":"SUM(I351:J351)","v":0},0,0]
["Rocha"]
["Ciclo Inicial Optativo - Área Ciencias y Tecnologías ",{"$f":"SUM(C353:D353)","v":1},0,1,{"$f":"SUM(F353:G353)","v":0},null,null,{"$f":"SUM(I353:J353)","v":0},0,0]
["Salto"]
["Ciclo Inicial Optativo - Área Ciencias y Tecnologías ",{"$f":"SUM(C355:D355)","v":43},32,11,{"$f":"SUM(F355:G355)","v":0},null,null,{"$f":"SUM(I355:J355)","v":0},0,0]
[]
["Área social",{"$f":"SUM(C357:D357)","v":697},{"$f":"SUM(C359:C364)","v":180},{"$f":"SUM(D359:D364)","v":517},{"$f":"SUM(F357:G357)","v":0},{"$f":"SUM(F359:F364)","v":0},{"$f":"SUM(G359:G364)","v":0},{"$f":"SUM(I357:J357)","v":0},{"$f":"SUM(I359:I364)","v":0},{"$f":"SUM(J359:J364)","v":0}]
["Maldonado",{"$f":"SUM(C358:D358)","v":274},{"$f":"C359+C360","v":84},{"$f":"D359+D360","v":190},0,{"$f":"F359+F360","v":0},{"$f":"G359+G360","v":0},0,{"$f":"I359+I360","v":0},{"$f":"J359+J360","v":0}]
["Ciclo Inicial Optativo - Área Social ",{"$f":"SUM(C359:D359)","v":1},0,1,0,0,0,0,0,0]
["Ciclo Inicial Optativo - Área Social",{"$f":"SUM(C360:D360)","v":273},84,189,0,0,0,0,0,0]
["Rocha"]
["Ciclo Inicial Optativo - Área Social",{"$f":"SUM(C362:D362)","v":36},10,26,0,0,0,0,0,0]
["Salto"]
["Ciclo Inicial Optativo - Área Social",{"$f":"SUM(C364:D364)","v":387},86,301,0,0,0,0,0,0]
[]
["Fac. Ingeniería y Fac. Ciencias",{"$f":"SUM(C366:D366)","v":83},{"$f":"C367+C368","v":52},{"$f":"D367+D368","v":31},{"$f":"SUM(F366:G366)","v":99},{"$f":"F367+F368","v":54},{"$f":"G367+G368","v":45},{"$f":"SUM(I366:J366)","v":1},{"$f":"I367+I368","v":1},{"$f":"J367+J368","v":0}]
["Licenciado en Ciencias de la Atmósfera",{"$f":"SUM(C367:D367)","v":16},11,5,{"$f":"SUM(F367:G367)","v":99},54,45,{"$f":"SUM(I367:J367)","v":1},1,0]
["Tecnólogo en Cartografía",67,41,26,0,0,0,{"$f":"SUM(I368:J368)","v":0},0,0]
["Fac. Ingeniería y Fac. Química",{"$f":"SUM(C369:D369)","v":214},{"$f":"SUM(C370:C373)","v":79},{"$f":"SUM(D370:D373)","v":135},{"$f":"SUM(F369:G369)","v":2103},{"$f":"SUM(F370:F373)","v":780},{"$f":"SUM(G370:G373)","v":1323},{"$f":"SUM(I369:J369)","v":69},{"$f":"SUM(I370:I373)","v":32},{"$f":"SUM(J370:J373)","v":37}]
["Montevideo"]
["Ingeniero Químico",{"$f":"SUM(C371:D371)","v":211},79,132,{"$f":"SUM(F371:G371)","v":2098},778,1320,{"$f":"SUM(I371:J371)","v":69},32,37]
["Salto"]
["Ingeniero Químico ",{"$f":"SUM(C373:D373)","v":3},0,3,{"$f":"SUM(F373:G373)","v":5},2,3,null,0,0]
[]
["Fac. Ingeniería, Fac. Química, Fac. Agronomía y C.E.T.P. - U.T.U.",{"$f":"SUM(C375:D375)","v":0},{"$f":"SUM(C377)","v":0},{"$f":"SUM(D377)","v":0},{"$f":"SUM(F375:G375)","v":24},{"$f":"SUM(F377)","v":18},{"$f":"SUM(G377)","v":6},5,{"$f":"SUM(I377)","v":3},{"$f":"SUM(J377)","v":2}]
["Artigas"]
["Tecnólogo Agroenergético",{"$f":"SUM(C377:D377)","v":0},0,0,24,18,6,5,3,2]
[]
["Fac. Ingeniería, Fac. Química, Fac. Agronomía y Fac. Veterinaria",{"$f":"SUM(C379:D379)","v":110},{"$f":"SUM(C381)","v":26},{"$f":"SUM(D381)","v":84},{"$f":"SUM(F379:G379)","v":1170},{"$f":"F381+F383","v":291},{"$f":"G381+G383","v":879},{"$f":"SUM(I379:J379)","v":46},{"$f":"SUM(I381)","v":9},{"$f":"SUM(J381)","v":37}]
["Montevideo"]
["Ingeniero Alimentario",110,26,84,1168,291,877,{"$f":"SUM(I381:J381)","v":46},9,37]
["Salto"]
["Ingeniero Alimentario",null,null,null,null,0,2]
["Fac. Ciencias, Fac. Humanidades, Fac. Medicina y Fac. Odontología",{"$f":"SUM(C384:D384)","v":92},{"$f":"SUM(C386:C392)","v":22},{"$f":"SUM(D386:D392)","v":70},{"$f":"SUM(F384:G384)","v":257},{"$f":"SUM(F386:F392)","v":80},{"$f":"SUM(G386:G392)","v":177},{"$f":"SUM(I384:J384)","v":3},{"$f":"SUM(I386:I392)","v":0},{"$f":"SUM(J386:J392)","v":3}]
["Montevideo"]
["Licenciado en Biología Humana",{"$f":"SUM(C386:D386)","v":69},18,51,{"$f":"SUM(F386:G386)","v":230},72,158,{"$f":"SUM(I386:J386)","v":3},0,3]
["Paysandú"]
["Licenciado en Biología Humana ",{"$f":"SUM(C388:D388)","v":1},0,1,{"$f":"SUM(F388:G388)","v":9},2,7,{"$f":"SUM(I388:J388)","v":0},0,0]
["Rivera"]
["Licenciado en Biología Humana ",{"$f":"SUM(C390:D390)","v":2},1,1,{"$f":"SUM(F390:G390)","v":3},1,2,{"$f":"SUM(I390:J390)","v":0},0,0]
["Salto"]
["Licenciado en Biología Humana ",{"$f":"SUM(C392:D392)","v":20},3,17,{"$f":"SUM(F392:G392)","v":15},5,10,{"$f":"SUM(I392:J392)","v":0},0,0]
[]
["Fac. Cs. Econ. Y Adm., Fac. Derecho, Fac. Hum. y Cs. Educ., Fac. Cs. Soc. Y Fac. Psicología.",{"$f":"SUM(C394:D394)","v":45},{"$f":"SUM(C396:C400)","v":7},{"$f":"SUM(D396:D400)","v":38},{"$f":"SUM(F394:G394)","v":222},{"$f":"SUM(F396:F400)","v":47},{"$f":"SUM(G396:G400)","v":175},{"$f":"SUM(I394:J394)","v":0},{"$f":"SUM(I396:I400)","v":0},{"$f":"SUM(J396:J400)","v":0}]
["Montevideo"]
["Técnico en Gestión Universitaria",{"$f":"SUM(C396:D396)","v":31},3,28,{"$f":"SUM(F396:G396)","v":217},47,170,{"$f":"SUM(I396:J396)","v":0},0,0]
["Paysandú"]
["Técnico en Gestión Universitaria  ",{"$f":"SUM(C398:D398)","v":12},4,8,{"$f":"SUM(F398:G398)","v":0},0,0,{"$f":"SUM(I398:J398)","v":0},0,0]
["Salto"]
["Técnico en Gestión Universitaria ",{"$f":"SUM(C400:D400)","v":2},0,2,{"$f":"SUM(F400:G400)","v":5},0,5,{"$f":"SUM(I400:J400)","v":0},0,0]
[]
["Fac. Agronomía, Fac. Ingeniería, C.E.T.P. - U.T.U.",{"$f":"SUM(C402:D402)","v":21},{"$f":"SUM(C404)","v":16},{"$f":"SUM(D404)","v":5},{"$f":"SUM(F402:G402)","v":31},{"$f":"SUM(F404)","v":18},{"$f":"SUM(G404)","v":13},{"$f":"SUM(I402:J402)","v":0},{"$f":"SUM(I404)","v":0},{"$f":"SUM(J404)","v":0}]
["Rivera"]
["Tecnólogo en Madera ",{"$f":"SUM(C404:D404)","v":21},16,5,31,18,13,0,0,0]
[]
["Fac. Agronomía, Fac. Arquitectura",{"$f":"SUM(C406:D406)","v":70},{"$f":"C408","v":18},{"$f":"D408","v":52},{"$f":"SUM(F406:G406)","v":154},{"$f":"SUM(F408)","v":58},{"$f":"SUM(G408)","v":96},{"$f":"SUM(I406:J406)","v":0},{"$f":"SUM(I408)","v":0},{"$f":"SUM(J408)","v":0}]
["Maldonado"]
["Licenciatura en Diseño de Paisaje ",{"$f":"SUM(C408:D408)","v":70},18,52,{"$f":"SUM(F408:G408)","v":154},58,96,{"$f":"SUM(I408:J408)","v":0},0,0]
[]
["Fac. Agronomía, Fac. Ingeniería, Fac. Química, Fac. Veterinaria y C.E.T.P. - U.T.U.",{"$f":"SUM(C410:D410)","v":23},{"$f":"SUM(C412)","v":17},{"$f":"SUM(D412)","v":6},0,{"$f":"SUM(F412)","v":28},{"$f":"SUM(G412)","v":44},{"$f":"SUM(I410:J410)","v":18},{"$f":"SUM(I412)","v":7},{"$f":"SUM(J412)","v":11}]
["Tacuarembó"]
["Tecnólogo Cárnico ",{"$f":"SUM(C412:D412)","v":23},17,6,{"$f":"SUM(F412:G412)","v":72},28,44,{"$f":"SUM(I412:J412)","v":18},7,11]
[]
["I.E.N.B.A. y Fac. Arquitectura",{"$f":"SUM(C414:D414)","v":221},{"$f":"SUM(C415)","v":94},{"$f":"SUM(D415)","v":127},{"$f":"SUM(F414:G414)","v":500},{"$f":"SUM(F415)","v":167},{"$f":"SUM(G415)","v":333},{"$f":"SUM(I414:J414)","v":0},{"$f":"SUM(I415)","v":0},{"$f":"SUM(J415)","v":0}]
["Licenciado en Diseño y Comunicación Visual",{"$f":"SUM(C415:D415)","v":221},94,127,{"$f":"SUM(F415:G415)","v":500},167,333,{"$f":"SUM(I415:J415)","v":0},0,0]
[]
["Fac. Agronomía y Fac. Química",{"$f":"SUM(C417:D417)","v":0},{"$f":"SUM(C418)","v":0},{"$f":"SUM(D418)","v":0},{"$f":"SUM(F417:G417)","v":3},{"$f":"SUM(F418)","v":1},{"$f":"SUM(G418)","v":2},{"$f":"SUM(I417:J417)","v":0},{"$f":"SUM(I418)","v":0},{"$f":"SUM(J418)","v":0}]
["Licenciado en Vitivinicultura y Enología",null,null,null,{"$f":"SUM(F418:G418)","v":3},1,2]
[]
["Fac. Ciencias y Fac. Medicina",{"$f":"SUM(C420:D420)","v":20},{"$f":"SUM(C421)","v":10},{"$f":"SUM(D421)","v":10},{"$f":"SUM(F420:G420)","v":56},{"$f":"SUM(F421)","v":26},{"$f":"SUM(G421)","v":30},{"$f":"SUM(I420:J420)","v":0},{"$f":"SUM(I421)","v":0},{"$f":"SUM(J421)","v":0}]
["Licenciado en Física Médica",{"$f":"SUM(C421:D421)","v":20},10,10,{"$f":"SUM(F421:G421)","v":56},26,30,{"$f":"SUM(I421:J421)","v":0},0,0]
[]
["Agronomía, Ciencias e Ingeniería",{"$f":"SUM(C423:D423)","v":45},{"$f":"C425","v":26},{"$f":"D425","v":19},{"$f":"SUM(F423:G423)","v":0},{"$f":"F425","v":0},{"$f":"G425","v":0},{"$f":"SUM(I423:J423)","v":0},{"$f":"I425","v":0},{"$f":"J425","v":0}]
["Treinta y Tres"]
["Tecnólogo Minero ",{"$f":"SUM(C425:D425)","v":45},26,19,{"$f":"SUM(F425:G425)","v":0},0,0,{"$f":"SUM(I425:J425)","v":0},0,0]
[]
[]
["Fuente: División Estadística - Dirección General de Planeamiento - UdelaR"]
["Notas: "]
["(*) Los estudiantes presentan inscripción simultánea a las dos carreras (Dr. en Derecho - Escribano Público)."]
["(**) Los estudiantes de estas carreras ingresan en \"Estudios Iniciales en CCSS\"."]
["(1) Carrera compartida con CETP-UTU (Consejo de Educación Técnico Profesional – Universidad del Trabajo del Uruguay)."]
["(2) L.S.U.: Lenguaje de Señas Uruguayas."]
["(3) Según Res. N°15 del CDC de fecha 23/10/12, se entiende por Generación de Ingreso a Carrera  a todos los estudiantes que ingresan por primera vez a una carrera terciaria y/o de grado, en un año dado. No se consideran los estudiantes que ingresan a la carrera a través de un CIO o de un ciclo básico común en años anteriores. No se incluyen los estudiantes provisorios por previas, ni los de intercambio. Se incluyen los estudiantes de cortesía diplomática."]
["(4) La matrícula de UdelaR corresponde al dato del VII Censo de estudiantes de grado 2012.  130.941 son inscripciones a nivel de carreras que representan 85.905 estudiantes efectivos."]
["(5) El dato de egreso de UdelaR 2013 es PRELIMINAR"]

{"sheet":"II-7.2.3 ","index":250,"n_rows":169,"n_cols":32,"rows_kept":169,"cut":false,"hidden":false,"merged":[[6,5,6,6],[6,8,6,9],[0,5,1,8],[4,0,4,9],[5,0,7,0],[5,1,7,1],[5,2,5,3],[5,4,7,4],[5,5,5,6],[5,7,7,7],[5,8,5,9],[6,2,6,3]]}
["UNIVERSIDADES PRIVADAS: OFERTA DE GRADO",null,null,null,null,"ALUMNOS MATRICULADOS"]
[]
["Cuadro Nº II-7.2.3"]
[]
["ALUMNOS INGRESADOS, MATRICULADOS Y EGRESADOS EN PROGRAMAS DE GRADO EN UNIVERSIDADES PRIVADAS POR SEXO SEGÚN UNIVERSIDAD Y CARRERA. AÑO 2013."]
["UNIVERSIDAD / CARRERA","TOTAL","INGRESADOS",null,"TOTAL","MATRICULADOS",null,"TOTAL","EGRESADOS"]
[null,null,"SEXO",null,null,"SEXO",null,null,"SEXO"]
[null,null,"    M","   F",null,"M","F",null,"M","F"]
["TOTAL",{"$f":"SUM(C9:D9)","v":3395},{"$f":"C11+C80+C110+C135","v":1733},{"$f":"+D11+D80+D110+D135","v":1662},{"$f":"SUM(F9:G9)","v":19191},{"$f":"+F11+F80+F110+F135","v":9838},{"$f":"+G11+G80+G110+G135","v":9353},{"$f":"SUM(I9:J9)","v":1544},{"$f":"+I11+I80+I110+I135","v":694},{"$f":"+J11+J80+J110+J135","v":850},null,null,null,null,null,null,null,null,null,null,null,null,null,null,null,null,null,{"$f":"+AE9+AF9","v":3},null,null,1,2]
[null,null,null,null,null,null,null,null,null,null,null,null,null,null,null,null,null,null,null,null,null,null,null,null,null,null,null,{"$f":"+AE10+AF10","v":24},null,null,10,14]
["UCUDAL",{"$f":"SUM(C11:D11)","v":1284},{"$f":"+C13+C22+C43+C57+C64+C70+C78","v":570},714,7121,3001,4120,653,253,400]
[]
["FACULTAD DE CIENCIAS HUMANAS",{"$f":"SUM(C13:D13)","v":182},{"$f":"SUM(C14:C20)","v":55},{"$f":"SUM(D14:D20)","v":127},{"$f":"SUM(F13:G13)","v":1145},{"$f":"SUM(F14:F20)","v":354},{"$f":"SUM(G14:G20)","v":791},{"$f":"SUM(I13:J13)","v":86},{"$f":"SUM(I14:I20)","v":24},{"$f":"SUM(J14:J20)","v":62}]
["Técnico en Educación, Tiempo Libre y Recreación",10,7,3,47,27,20,7,2,5]
["Técnico en Educación Social",0,0,0,8,2,6,0,0,0]
["Licenciatura en Comunicación Social",109,34,75,790,270,520,58,21,37]
["Licenciatura en Ciencias Sociales",8,3,5,98,24,74,7,1,6]
["Licenciatura en Educación Inicial",36,1,35,136,1,135,14,0,14]
["Licenciatura en Educación énfasis en Tiempo Libre y Recreación",19,10,9,56,29,27,0,0,0]
["Licenciatura en Educación Social",0,0,0,10,1,9,0,0,0]
[]
["FACULTAD DE CIENCIAS EMPRESARIALES",{"$f":"B23+B30+B36","v":517},{"$f":"+C23+C30+C36","v":281},{"$f":"+D23+D30+D36","v":236},{"$f":"SUM(F22:G22)","v":3078},{"$f":"+F23+F30+F36","v":1481},{"$f":"+G23+G30+G36","v":1597},{"$f":"SUM(I22:J22)","v":331},{"$f":"+I23+I30+I36","v":142},{"$f":"+J23+J30+J36","v":189}]
["Montevideo",{"$f":"SUM(B24:B29)","v":365},{"$f":"SUM(C24:C29)","v":202},163,2345,1135,1210,300,134,166]
["Licenciatura en Dirección de Empresas",{"$f":"SUM(C24:D24)","v":87},55,32,486,284,202,64,38,26]
["Licenciatura en Dirección de Empresas Turísticas",23,10,13,159,64,95,20,6,14]
["Licenciatura en Negocios Internacionales",83,45,38,534,276,258,89,36,53]
["Contador Público",146,80,66,858,394,464,99,46,53]
["Licenciatura en Economía",13,9,4,126,75,51,11,3,8]
["Licenciatura en Gestión Humana",13,3,10,182,42,140,17,5,12]
["Maldonado",{"$f":"SUM(B31:B35)","v":56},{"$f":"SUM(C31:C35)","v":34},22,283,146,137,10,3,7]
["Licenciatura en Dirección de Empresas",19,14,5,99,53,46,4,0,4]
["Contador Público",22,10,12,169,83,86,5,2,3]
["Licenciatura en Negocios Internacionales",11,6,5,11,6,5,0,0,0]
["Licenciatura en Dirección de Empresas Turísticas",3,3,0,3,3,0,0,0,0]
["Licenciatura en Economía",1,1,0,1,1,0,1,1,0]
["Salto",{"$f":"SUM(B37:B41)","v":96},{"$f":"SUM(C37:C41)","v":45},51,450,200,250,21,5,16]
["Licenciatura en Dirección de Empresas",24,9,15,97,41,56,3,0,3]
["Contador Público",63,30,33,334,148,186,18,5,13]
["Licenciatura en Negocios Internacionales",1,1,0,1,1,0,0,0,0]
["Licenciatura en Gestión Humana",2,1,1,2,1,1,0,0,0]
["Licenciatura en Producción y Gestión Agrícola",6,4,2,16,9,7,0,0,0]
[]
["FACULTAD DE INGENIERÍA Y TECNOLOGÍAS",{"$f":"B44+B53","v":172},{"$f":"C44+C53","v":129},43,997,800,197,75,65,10]
["Montevideo",{"$f":"SUM(B45:B52)","v":164},{"$f":"SUM(C45:C52)","v":121},43,970,775,195,75,65,10]
["Ingeniería en Informática",{"$f":"SUM(C45:D45)","v":52},41,11,{"$f":"SUM(F45:G45)","v":393},338,55,{"$f":"SUM(I45:J45)","v":24},20,4]
["Ingeniería en Electrónica",11,8,3,94,73,21,13,11,2]
["Ingeniería en Telecomunicación",9,8,1,60,43,17,7,7,0]
["Ingeniería Industrial",32,30,2,156,133,23,7,6,1]
["Ingeniería en Sistemas Eléctricos de Potencia",7,6,1,20,19,1,0,0,0]
["Licenciatura en Informática",11,11,0,85,76,9,24,21,3]
["Licenciatura en Ingeniería Audiovisual",18,12,6,116,82,34,0,0,0]
["Ingeniería en Alimentos",24,5,19,46,11,35,0,0,0]
["Salto",{"$f":"SUM(B54:B55)","v":8},{"$f":"SUM(C54:C55)","v":8},0,27,25,2,0,0,0]
["Ingeniería en Informática ",7,7,0,22,21,1,0,0,0]
["Licenciatura en Informática ",1,1,0,5,4,1,0,0,0]
[]
["FACULTAD DE DERECHO",{"$f":"SUM(C57:D57)","v":77},{"$f":"SUM(C59:C60)","v":32},{"$f":"SUM(D59:D60)","v":45},{"$f":"SUM(F57:G57)","v":355},{"$f":"SUM(F59:F60)","v":140},{"$f":"SUM(G59:G61)","v":215},{"$f":"SUM(I57:J57)","v":46},{"$f":"SUM(I59:I61)","v":15},{"$f":"SUM(J59:J60)","v":31}]
["Montevideo",{"$f":"B59+B60","v":77},{"$f":"C59+C60","v":32},45,353,140,213,45,14,31]
["Dr. en Derecho",{"$f":"SUM(C59:D59)","v":53},27,26,{"$f":"SUM(F59:G59)","v":282},124,158,{"$f":"SUM(I59:J59)","v":37},11,26]
["Notariado",{"$f":"SUM(C60:D60)","v":24},5,19,{"$f":"SUM(F60:G60)","v":71},16,55,{"$f":"SUM(I60:J60)","v":8},3,5]
["Maldonado",{"$f":"B62","v":0},{"$f":"C62","v":0},0,2,0,2,1,1,0]
["Derecho",{"$f":"C62+D62","v":0},0,0,{"$f":"F62+G62","v":2},0,2,{"$f":"I62+J62","v":1},1,0]
[]
["FACULTAD DE PSICOLOGÍA",{"$f":"SUM(C64:D64)","v":162},{"$f":"SUM(C65:C68)","v":39},{"$f":"SUM(D65:D68)","v":123},{"$f":"SUM(F64:G64)","v":821},{"$f":"SUM(F65:F68)","v":139},{"$f":"SUM(G65:G68)","v":682},{"$f":"SUM(I64:J64)","v":55},{"$f":"SUM(I65:I68)","v":6},{"$f":"SUM(J65:J68)","v":49}]
["Técnico en Acompañamiento Terapéutico",{"$f":"SUM(C65:D65)","v":13},1,12,{"$f":"SUM(F65:G65)","v":39},4,35,{"$f":"SUM(I65:J65)","v":2},0,2]
["Licenciatura en Psicología",{"$f":"SUM(C66:D66)","v":112},38,74,{"$f":"SUM(F66:G66)","v":635},131,504,{"$f":"SUM(I66:J66)","v":48},6,42]
["Licenciatura en Psicopedagogía",{"$f":"SUM(C67:D67)","v":26},0,26,{"$f":"SUM(F67:G67)","v":128},4,124,{"$f":"SUM(I67:J67)","v":5},0,5]
["Licenciatura en Fonoaudiología",{"$f":"SUM(C68:D68)","v":11},0,11,{"$f":"SUM(F68:G68)","v":19},0,19,{"$f":"SUM(I68:J68)","v":0},0,0]
[]
["FACULTAD DE ENFERMERÍA Y TECNOLOGÍAS DE LA SALUD",{"$f":"SUM(C70:D70)","v":164},{"$f":"SUM(C71:C75)","v":34},{"$f":"SUM(D71:D75)","v":130},{"$f":"SUM(F70:G70)","v":633},{"$f":"SUM(F71:F75)","v":70},{"$f":"SUM(G71:G75)","v":563},{"$f":"SUM(I70:J70)","v":50},{"$f":"SUM(I71:I75)","v":1},{"$f":"SUM(J71:J75)","v":49}]
["Licenciatura en Enfermería",19,3,16,78,6,72,6,0,6]
["Licenciatura en Enfermería - Profesionalización",20,2,18,52,7,45,6,1,5]
["Licenciatura en Nutrición",37,4,33,228,19,209,18,0,18]
["Licenciatura en Psicomotricidad",44,1,43,206,7,199,20,0,20]
["Licenciatura en Fisioterapia",44,24,20,69,31,38,0,0,0]
[]
["FACULTAD DE ODONTOLOGÍA -"]
["Dr. en Odontología",{"$f":"SUM(C78:D78)","v":10},0,10,{"$f":"SUM(F78:G78)","v":92},17,75,{"$f":"SUM(I78:J78)","v":10},0,10]
[]
["UNIVERSIDAD ORT URUGUAY",{"$f":"SUM(C80:D80)","v":1090},{"$f":"+C82+C88+C93+C101","v":625},{"$f":"+D82+D88+D93+D101","v":465},{"$f":"SUM(F80:G80)","v":7520},{"$f":"+F82+F88+F93+F101","v":4423},{"$f":"+G82+G88+G93+G101","v":3097},{"$f":"SUM(I80:J80)","v":446},{"$f":"+I82+I88+I93+I101","v":219},{"$f":"+J82+J88+J93+J101","v":227}]
[null,null,null,null,null,null,null,null,null,null,null,null,null,null,null,null,null,null,null,null,null,null,null,null,null,null,null,null,null,null,17,15]
["FACULTAD DE ADMINISTRACIÓN Y CIENCIAS SOCIALES",{"$f":"SUM(C82:D82)","v":363},{"$f":"SUM(C83:C86)","v":209},{"$f":"SUM(D83:D86)","v":154},{"$f":"SUM(F82:G82)","v":2560},{"$f":"SUM(F83:F86)","v":1468},{"$f":"SUM(G83:G86)","v":1092},{"$f":"SUM(I82:J82)","v":159},{"$f":"SUM(I83:I86)","v":77},{"$f":"SUM(J83:J86)","v":82},null,null,null,null,null,null,null,null,null,null,null,null,null,null,null,null,null,null,null,null,22,33]
["Licenciatura en Gerencia y Administración",{"$f":"SUM(C83:D83)","v":176},106,70,{"$f":"SUM(F83:G83)","v":1121},689,432,{"$f":"SUM(I83:J83)","v":65},31,34]
["Licenciatura en Estudios Internacionales",{"$f":"SUM(C84:D84)","v":57},26,31,{"$f":"SUM(F84:G84)","v":370},178,192,{"$f":"SUM(I84:J84)","v":20},9,11]
["Licenciatura en Economía",{"$f":"SUM(C85:D85)","v":31},20,11,{"$f":"SUM(F85:G85)","v":192},122,70,{"$f":"SUM(I85:J85)","v":16},11,5]
["Contador Público",{"$f":"SUM(C86:D86)","v":99},57,42,{"$f":"SUM(F86:G86)","v":877},479,398,{"$f":"SUM(I86:J86)","v":58},26,32]
[]
["FACULTAD DE ARQUITECTURA",{"$f":"SUM(C88:D88)","v":124},{"$f":"SUM(C89:C91)","v":39},{"$f":"SUM(D89:D91)","v":85},{"$f":"SUM(F88:G88)","v":844},{"$f":"SUM(F89:F91)","v":301},{"$f":"SUM(G89:G91)","v":543},{"$f":"SUM(I88:J88)","v":78},{"$f":"SUM(I89:I91)","v":26},{"$f":"SUM(J89:J91)","v":52}]
["Arquitectura",{"$f":"SUM(C89:D89)","v":87},33,54,{"$f":"SUM(F89:G89)","v":621},276,345,{"$f":"SUM(I89:J89)","v":59},25,34]
["Licenciatura en Diseño de Interiores",{"$f":"SUM(C90:D90)","v":31},5,26,{"$f":"SUM(F90:G90)","v":208},23,185,{"$f":"SUM(I90:J90)","v":16},1,15]
["Diseñador de Interiores (terciaria)",{"$f":"SUM(C91:D91)","v":6},1,5,{"$f":"SUM(F91:G91)","v":15},2,13,{"$f":"SUM(I91:J91)","v":3},0,3]
[]
["FACULTAD DE COMUNICACIÓN Y DISEÑO",{"$f":"SUM(C93:D93)","v":265},{"$f":"SUM(C94:C99)","v":101},{"$f":"SUM(D94:D99)","v":164},{"$f":"SUM(F93:G93)","v":1624},{"$f":"SUM(F94:F99)","v":612},{"$f":"SUM(G94:G99)","v":1012},{"$f":"SUM(I93:J93)","v":88},{"$f":"SUM(I94:I99)","v":20},{"$f":"SUM(J94:J99)","v":68}]
["Licenciatura en Comunicación",91,25,66,610,237,373,25,3,22]
["Licenciatura en Diseño Gráfico",68,27,41,475,180,295,35,12,23]
["Licenciatura en Diseño de Modas",27,1,26,201,4,197,14,0,14]
["Licenciatura en Diseño Industrial",26,12,14,129,53,76,8,4,4]
["Licenciatura en Diseño Multimedia",19,13,6,87,56,31,6,1,5]
["Licenciatura en Animación y Videojuegos",34,23,11,122,82,40,0,0,0]
[]
["FACULTAD DE INGENIERÍA",{"$f":"SUM(C101:D101)","v":338},{"$f":"SUM(C102:C108)","v":276},{"$f":"SUM(D102:D108)","v":62},2492,2042,450,121,96,25]
["Licenciatura en Sistemas",121,108,13,{"$f":"SUM(F102:G102)","v":906},757,149,{"$f":"SUM(I102:J102)","v":35},31,4]
["Ingeniería en Telecomunicaciones",15,12,3,149,128,21,10,5,5]
["Ingeniería en Sistemas",150,132,18,1122,969,153,56,49,7]
["Ingeniería en Electrónica",11,10,1,140,123,17,8,8,0]
["Licenciatura en Biotecnología",41,14,27,156,54,102,0,0,0]
["Técnico Biotecnólogo (terciaria)",0,0,0,16,8,8,12,3,9]
["Licenciatura en Ingeniería de Software",0,0,0,3,3,0,0,0,0]
[]
["UNIVERSIDAD DE MONTEVIDEO",{"$f":"SUM(C110:D110)","v":323},{"$f":"+C112+C118+C124+C128+C132","v":159},{"$f":"+D112+D118+D124+D128+D132","v":164},{"$f":"SUM(F110:G110)","v":1608},{"$f":"+F112+F118+F124+F128+F132","v":801},{"$f":"+G112+G118+G124+G128+G132","v":807},{"$f":"SUM(I110:J110)","v":236},{"$f":"+I112+I118+I124+I128+I132","v":105},{"$f":"+J112+J118+J124+J128+J132","v":131}]
[]
["FACULTAD DE CIENCIAS EMPRESARIALES Y ECONOMÍA",{"$f":"SUM(C112:D112)","v":145},{"$f":"SUM(C113:C116)","v":79},{"$f":"SUM(D113:D116)","v":66},{"$f":"SUM(F112:G112)","v":768},{"$f":"SUM(F113:F116)","v":407},{"$f":"SUM(G113:G116)","v":361},{"$f":"SUM(I112:J112)","v":125},{"$f":"SUM(I113:I116)","v":50},{"$f":"SUM(J113:J116)","v":75}]
["Licenciatura en Dirección y Administración de Empresas",{"$f":"SUM(C113:D113)","v":17},12,5,{"$f":"SUM(F113:G113)","v":152},92,60,{"$f":"SUM(I113:J113)","v":25},10,15]
["Licenciatura en Economía",{"$f":"SUM(C114:D114)","v":24},18,6,{"$f":"SUM(F114:G114)","v":108},70,38,{"$f":"SUM(I114:J114)","v":17},8,9]
["Contador Público",{"$f":"SUM(C115:D115)","v":77},37,40,{"$f":"SUM(F115:G115)","v":427},215,212,{"$f":"SUM(I115:J115)","v":83},32,51]
["Licenciatura en Negocios Internacionales",{"$f":"SUM(C116:D116)","v":27},12,15,{"$f":"SUM(F116:G116)","v":81},30,51,{"$f":"SUM(I116:J116)","v":0},0,0]
[]
["FACULTAD DE INGENIERÍA",{"$f":"SUM(C118:D118)","v":64},{"$f":"SUM(C119:C122)","v":45},{"$f":"SUM(D119:D122)","v":19},{"$f":"SUM(F118:G118)","v":310},{"$f":"SUM(F119:F122)","v":224},{"$f":"SUM(G119:G122)","v":86},{"$f":"SUM(I118:J118)","v":31},{"$f":"SUM(I119:I122)","v":16},{"$f":"SUM(J119:J122)","v":15}]
["Ingeniería Civil",{"$f":"SUM(C119:D119)","v":28},15,13,{"$f":"SUM(F119:G119)","v":125},78,47,{"$f":"SUM(I119:J119)","v":8},4,4]
["Ingeniería Industrial",{"$f":"SUM(C120:D120)","v":23},18,5,{"$f":"SUM(F120:G120)","v":128},99,29,{"$f":"SUM(I120:J120)","v":15},7,8]
["Ingeniería Telemática",{"$f":"SUM(C121:D121)","v":6},6,0,{"$f":"SUM(F121:G121)","v":43},36,7,{"$f":"SUM(I121:J121)","v":8},5,3]
["Ingeniería en Informática",{"$f":"SUM(C122:D122)","v":7},6,1,{"$f":"SUM(F122:G122)","v":14},11,3,{"$f":"SUM(I122:J122)","v":0},0,0]
[]
["FACULTAD DE HUMANIDADES",{"$f":"SUM(C124:D124)","v":38},{"$f":"SUM(C125:C126)","v":11},{"$f":"SUM(D125:D126)","v":27},{"$f":"SUM(F124:G124)","v":145},{"$f":"SUM(F125:F126)","v":38},{"$f":"SUM(G125:G126)","v":107},{"$f":"SUM(I124:J124)","v":3},{"$f":"SUM(I125:I126)","v":2},{"$f":"SUM(J125:J126)","v":1}]
["Licenciatura en Humanidades",{"$f":"SUM(C125:D125)","v":19},9,10,{"$f":"SUM(F125:G125)","v":56},21,35,{"$f":"SUM(I125:J125)","v":2},2,0]
["Licenciatura en Traducción Inglés - Español",{"$f":"SUM(C126:D126)","v":19},2,17,{"$f":"SUM(F126:G126)","v":89},17,72,{"$f":"SUM(I126:J126)","v":1},0,1]
[]
["FACULTAD DE DERECHO",{"$f":"SUM(C128:D128)","v":32},{"$f":"SUM(C129:C130)","v":12},{"$f":"SUM(D129:D130)","v":20},{"$f":"SUM(F128:G128)","v":204},{"$f":"SUM(F129:F130)","v":80},{"$f":"SUM(G129:G130)","v":124},{"$f":"SUM(I128:J128)","v":43},{"$f":"SUM(I129:I130)","v":23},{"$f":"SUM(J129:J130)","v":20}]
["Abogacía",{"$f":"SUM(C129:D129)","v":25},9,16,{"$f":"SUM(F129:G129)","v":155},67,88,{"$f":"SUM(I129:J129)","v":30},20,10]
["Notariado",{"$f":"SUM(C130:D130)","v":7},3,4,{"$f":"SUM(F130:G130)","v":49},13,36,{"$f":"SUM(I130:J130)","v":13},3,10]
[]
["FACULTAD DE COMUNICACIÓN",{"$f":"SUM(C132:D132)","v":44},{"$f":"SUM(C133:C133)","v":12},{"$f":"SUM(D133:D133)","v":32},{"$f":"SUM(F132:G132)","v":181},{"$f":"SUM(F133:F133)","v":52},{"$f":"SUM(G133:G133)","v":129},{"$f":"SUM(I132:J132)","v":34},{"$f":"SUM(I133:I133)","v":14},{"$f":"SUM(J133:J133)","v":20}]
["Licenciatura en Comunicación",{"$f":"SUM(C133:D133)","v":44},12,32,{"$f":"SUM(F133:G133)","v":181},52,129,{"$f":"SUM(I133:J133)","v":34},14,20]
[]
["UNIVERSIDAD DE LA EMPRESA",{"$f":"SUM(C135:D135)","v":698},{"$f":"C137+C141+C146+C153+C157+C163+C166","v":379},{"$f":"D137+D141+D146+D153+D157+D163+D166","v":319},{"$f":"SUM(F135:G135)","v":2942},{"$f":"F137+F141+F146+F153+F157+F163+F166","v":1613},{"$f":"G137+G141+G146+G153+G157+G163+G166","v":1329},{"$f":"SUM(I135:J135)","v":209},{"$f":"I137+I141+I146+I153+I157+I163+I166","v":117},{"$f":"J137+J141+J146+J153+J157+J163+J166","v":92}]
[]
["FACULTAD DE CIENCIAS JURÍDICAS",{"$f":"SUM(C137:D137)","v":30},{"$f":"SUM(C138:C139)","v":12},{"$f":"SUM(D138:D139)","v":18},{"$f":"SUM(F137:G137)","v":267},{"$f":"SUM(F138:F139)","v":105},{"$f":"SUM(G138:G139)","v":162},{"$f":"SUM(I137:J137)","v":13},{"$f":"SUM(I138:I139)","v":6},{"$f":"SUM(J138:J139)","v":7}]
["Dr. en Derecho",{"$f":"SUM(C138:D138)","v":14},7,7,{"$f":"SUM(F138:G138)","v":137},70,67,{"$f":"SUM(I138:J138)","v":6},2,4]
["Escribano Público",{"$f":"SUM(C139:D139)","v":16},5,11,{"$f":"SUM(F139:G139)","v":130},35,95,{"$f":"SUM(I139:J139)","v":7},4,3]
[]
["FACULTAD DE DISEÑO Y COMUNICACIÓN",{"$f":"SUM(C141:D141)","v":12},{"$f":"SUM(C142:C144)","v":1},{"$f":"SUM(D142:D144)","v":11},{"$f":"SUM(F141:G141)","v":137},{"$f":"SUM(F142:F144)","v":30},{"$f":"SUM(G142:G144)","v":107},{"$f":"SUM(I141:J141)","v":13},{"$f":"SUM(I142:I144)","v":0},{"$f":"SUM(J142:J144)","v":13}]
["Licenciatura en Diseño de Indumentaria",{"$f":"SUM(C142:D142)","v":12},1,11,{"$f":"SUM(F142:G142)","v":75},3,72,{"$f":"SUM(I142:J142)","v":11},0,11]
["Licenciatura en Diseño Aplicado",{"$f":"SUM(C143:D143)","v":0},0,0,{"$f":"SUM(F143:G143)","v":27},9,18,{"$f":"SUM(I143:J143)","v":2},0,2]
["Licenciatura en Diseño Gráfico",{"$f":"SUM(C144:D144)","v":0},0,0,{"$f":"SUM(F144:G144)","v":35},18,17,{"$f":"SUM(I144:J144)","v":0},0,0]
[]
["FACULTAD DE CIENCIAS EMPRESARIALES",{"$f":"SUM(C146:D146)","v":342},{"$f":"SUM(C147:C151)","v":155},{"$f":"SUM(D147:D151)","v":187},{"$f":"SUM(F146:G146)","v":1690},{"$f":"SUM(F147:F151)","v":823},{"$f":"SUM(G147:G151)","v":867},{"$f":"SUM(I146:J146)","v":85},{"$f":"SUM(I147:I151)","v":36},{"$f":"SUM(J147:J151)","v":49}]
["Contador Público",132,43,89,659,272,387,40,17,23]
["Licenciatura en Administración de Empresas",91,50,41,428,233,195,13,5,8]
["Licenciatura en Marketing",74,42,32,427,240,187,26,11,15]
["Licenciatura en Comercio Exterior",26,13,13,96,58,38,6,3,3]
["Licenciatura en Recursos Humanos",19,7,12,80,20,60,0,0,0]
[]
["FACULTAD DE CIENCIAS DE LA SALUD",{"$f":"SUM(C153:D153)","v":42},{"$f":"SUM(C154:C155)","v":23},{"$f":"SUM(D154:D155)","v":19},{"$f":"SUM(F153:G153)","v":90},{"$f":"SUM(F154:F155)","v":44},{"$f":"SUM(G154:G155)","v":46},{"$f":"SUM(I153:J153)","v":0},{"$f":"SUM(I154:I155)","v":0},{"$f":"SUM(J154:J155)","v":0}]
["Licenciatura en Fisioterapia",{"$f":"SUM(C154:D154)","v":15},10,5,{"$f":"SUM(F154:G154)","v":30},18,12,{"$f":"SUM(I154:J154)","v":0},0,0]
["Licenciatura en Imagenología",{"$f":"SUM(C155:D155)","v":27},13,14,{"$f":"SUM(F155:G155)","v":60},26,34,{"$f":"SUM(I155:J155)","v":0},0,0]
[]
["FACULTAD DE INGENIERIA",{"$f":"SUM(C157:D157)","v":88},{"$f":"SUM(C158:C161)","v":72},{"$f":"SUM(D158:D161)","v":16},{"$f":"SUM(F157:G157)","v":437},{"$f":"SUM(F158:F161)","v":363},{"$f":"SUM(G158:G161)","v":74},{"$f":"SUM(I157:J157)","v":48},{"$f":"SUM(I158:I161)","v":40},{"$f":"SUM(J158:J161)","v":8}]
["Ingeniería en Informática",{"$f":"SUM(C158:D158)","v":18},13,5,{"$f":"SUM(F158:G158)","v":94},70,24,{"$f":"SUM(I158:J158)","v":6},2,4]
["Licenciatura en Informática",{"$f":"SUM(C159:D159)","v":42},34,8,{"$f":"SUM(F159:G159)","v":307},260,47,{"$f":"SUM(I159:J159)","v":22},19,3]
["Técnico en Informática",{"$f":"SUM(C160:D160)","v":28},25,3,{"$f":"SUM(F160:G160)","v":28},25,3,{"$f":"SUM(I160:J160)","v":0},0,0]
["Analista en Informática",{"$f":"SUM(C161:D161)","v":0},0,0,{"$f":"SUM(F161:G161)","v":8},8,0,{"$f":"SUM(I161:J161)","v":20},19,1]
[]
["FACULTAD DE CIENCIAS AGRARIAS",{"$f":"SUM(C163:D163)","v":150},{"$f":"SUM(C164:C165)","v":98},{"$f":"SUM(D164:D165)","v":52},{"$f":"SUM(F163:G163)","v":287},{"$f":"SUM(F164:F165)","v":230},{"$f":"SUM(G164:G165)","v":57},{"$f":"SUM(I163:J163)","v":37},{"$f":"SUM(I164:I165)","v":30},{"$f":"SUM(J164:J165)","v":7}]
["Ingeniero Agrónomo",{"$f":"SUM(C164:D164)","v":79},52,27,{"$f":"SUM(F164:G164)","v":106},90,16,{"$f":"SUM(I164:J164)","v":0},0,0]
[null,{"$f":"SUM(C165:D165)","v":71},46,25,{"$f":"SUM(F165:G165)","v":181},140,41,{"$f":"SUM(I165:J165)","v":37},30,7]
["FACULTAD DE CIENCIAS DE LA EDUCACIÓN",{"$f":"C166+D166","v":34},{"$f":"C167","v":18},{"$f":"D167","v":16},{"$f":"F166+G166","v":34},{"$f":"F167","v":18},16,{"$f":"I166+J166","v":13},5,8]
["Diploma de Especialización en Docencia Universitaria y Nivel Superior",{"$f":"C167+D167","v":34},18,16,{"$f":"F167+G167","v":34},18,16,{"$f":"I167+J167","v":13},5,8]
[]
["Fuente: Oficinas Productoras de cada una de las Instituciones. "]

{"sheet":"II-7.2.4","index":251,"n_rows":51,"n_cols":10,"rows_kept":51,"cut":false,"hidden":false,"merged":[[6,5,6,6],[6,8,6,9],[50,0,50,3],[0,5,1,8],[4,0,4,9],[5,0,7,0],[5,1,7,1],[5,2,5,3],[5,4,7,4],[5,5,5,6],[5,7,7,7],[5,8,5,9],[6,2,6,3]]}
["INSTITUTOS UNIVERSITARIOS: OFERTA DE GRADO",null,null,null,null,"ALUMNOS MATRICULADOS"]
[]
["Cuadro Nº II-7.2.4"]
[]
["ALUMNOS INGRESADOS, MATRICULADOS Y EGRESADOS EN PROGRAMAS DE GRADO DE INSTITUTOS UNIVERSITARIOS Y OFERTAS UNIVERSITAREAS DEL ÁREA SEGURIDAD Y DEFENSA POR SEXO SEGÚN INSTITUCIÓN Y CARRERA. AÑO 2013."]
["INSTITUTO UNIVERSITARIO / CARRERA","TOTAL","INGRESADOS",null,"TOTAL","MATRICULADOS",null,"TOTAL","EGRESADOS"]
[null,null,"SEXO",null,null,"SEXO",null,null,"SEXO"]
[null,null,"M","F",null,"M","F",null,"M","F"]
["TOTAL",{"$f":"SUM(C9:D9)","v":411},{"$f":"C11+C15+C23+C26+C29+C36+C41+C45","v":214},{"$f":"+D11+D15+D23+D26+D29+D36+D41+D45","v":197},{"$f":"SUM(F9:G9)","v":1881},{"$f":"+F11+F15+F23+F26+F29+F36+F41+F45","v":822},{"$f":"+G11+G15+G23+G26+G29+G36+G41+G45","v":1059},{"$f":"SUM(I9:J9)","v":221},{"$f":"+I11+I15+I23+I26+I29+I36+I41+I45","v":90},{"$f":"+J11+J15+J23+J26+J29+J36+J41+J45","v":131}]
[]
["INST UNIV ASOCIACIÓN CRISTIANA DE JÓVENES",{"$f":"SUM(C11:D11)","v":169},{"$f":"SUM(C12:C13)","v":116},{"$f":"SUM(D12:D13)","v":53},{"$f":"SUM(F11:G11)","v":607},{"$f":"SUM(F12:F13)","v":394},{"$f":"SUM(G12:G13)","v":213},{"$f":"SUM(I11:J11)","v":45},{"$f":"SUM(I12:I13)","v":25},{"$f":"SUM(J12:J13)","v":20}]
["Licenciatura en Educación Física, Recreación y Deporte",{"$f":"SUM(C12:D12)","v":102},78,24,{"$f":"SUM(F12:G12)","v":483},331,152,{"$f":"SUM(I12:J12)","v":20},15,5]
["Tecnicatura en Fitness",{"$f":"SUM(C13:D13)","v":67},38,29,{"$f":"SUM(F13:G13)","v":124},63,61,{"$f":"SUM(I13:J13)","v":25},10,15]
[]
["INST UNIV CLAEH -",{"$f":"B17+B18","v":98},{"$f":"C17+C18","v":32},66,433,156,277,64,13,51]
["Montevideo"]
["Licenciatura en Gestión Cultural ",{"$f":"SUM(C17:D17)","v":18},5,13,{"$f":"SUM(F17:G17)","v":58},16,42,{"$f":"SUM(I17:J17)","v":13},0,13]
["Maldonado",{"$f":"SUM(B19:B21)","v":80},{"$f":"SUM(C19:C21)","v":27},53,375,140,235,51,13,38]
["Medicina",{"$f":"SUM(C19:D19)","v":45},17,28,{"$f":"SUM(F19:G19)","v":229},97,132,{"$f":"SUM(I19:J19)","v":29},9,20]
["Abogacia",{"$f":"SUM(C20:D20)","v":35},10,25,{"$f":"SUM(F20:G20)","v":109},29,80,{"$f":"SUM(I20:J20)","v":10},2,8]
["Notariado",{"$f":"SUM(C21:D21)","v":0},0,0,{"$f":"SUM(F21:G21)","v":37},14,23,{"$f":"SUM(I21:J21)","v":12},2,10]
[]
["INST METODISTA UNIV CRANDON *",{"$f":"SUM(C23:D23)","v":0},{"$f":"SUM(C24:C24)","v":0},{"$f":"SUM(D24:D24)","v":0},{"$f":"SUM(F23:G23)","v":35},{"$f":"SUM(F24:F24)","v":1},{"$f":"SUM(G24:G24)","v":34},{"$f":"SUM(I23:J23)","v":27},{"$f":"SUM(I24:I24)","v":1},{"$f":"SUM(J24:J24)","v":26}]
["Licenciatura en Gestión de Empresas",{"$f":"SUM(C24:D24)","v":0},0,0,{"$f":"SUM(F24:G24)","v":35},1,34,{"$f":"SUM(I24:J24)","v":27},1,26]
[]
["INST UNIV MONSEÑOR MARIANO SOLER - ",{"$f":"SUM(C26:D26)","v":21},{"$f":"SUM(C27:C27)","v":20},{"$f":"SUM(D27:D27)","v":1},{"$f":"SUM(F26:G26)","v":59},{"$f":"SUM(F27:F27)","v":57},{"$f":"SUM(G27:G27)","v":2},{"$f":"SUM(I26:J26)","v":4},{"$f":"SUM(I27:I27)","v":4},{"$f":"SUM(J27:J27)","v":0}]
["Licenciatura en Ciencias Teológicas",{"$f":"SUM(C27:D27)","v":21},20,1,{"$f":"SUM(F27:G27)","v":59},57,2,{"$f":"SUM(I27:J27)","v":4},4,0]
[]
["INST UNIV FRANCISCO DE ASÍS ",{"$f":"+C29+D29","v":36},{"$f":"SUM(C31:C34)","v":17},{"$f":"SUM(D31:D34)","v":19},{"$f":"+F29+G29","v":435},{"$f":"SUM(F31:F34)","v":161},{"$f":"SUM(G31:G34)","v":274},{"$f":"+I29+J29","v":34},{"$f":"SUM(I31:I34)","v":28},{"$f":"SUM(J31:J34)","v":6}]
["Maldonado"]
["Licenciatura en Turismo",{"$f":"+C31+D31","v":8},5,3,{"$f":"+F31+G31","v":127},58,69,{"$f":"+I31+J31","v":0},0,0]
["Licenciatura en Administración y Dirección de Empresas",{"$f":"+C32+D32","v":6},5,1,{"$f":"+F32+G32","v":163},63,100,{"$f":"+I32+J32","v":3},0,3]
["Contador Público",{"$f":"+C33+D33","v":12},4,8,{"$f":"+F33+G33","v":97},31,66,{"$f":"+I33+J33","v":17},15,2]
["Licenciatura en Psicología",{"$f":"+C34+D34","v":10},3,7,{"$f":"+F34+G34","v":48},9,39,{"$f":"+I34+J34","v":14},13,1]
[]
["INST UNIV CEDIIAP",{"$f":"+C36+D36","v":25},{"$f":"SUM(C37:C39)","v":0},{"$f":"SUM(D37:D39)","v":25},{"$f":"+F36+G36","v":260},{"$f":"SUM(F37:F39)","v":5},{"$f":"SUM(G37:G39)","v":255},{"$f":"+I36+J36","v":26},{"$f":"SUM(I37:I39)","v":0},{"$f":"SUM(J37:J39)","v":26}]
["Lic. Psicomotricidad",{"$f":"+C37+D37","v":12},0,12,{"$f":"+F37+G37","v":152},2,150,{"$f":"+I37+J37","v":10},0,10]
["Lic. Psicopedagogía",{"$f":"+C38+D38","v":13},0,13,{"$f":"+F38+G38","v":97},1,96,{"$f":"+I38+J38","v":16},0,16]
["Lic. en Musicoterapia",{"$f":"+C39+D39","v":0},0,0,{"$f":"+F39+G39","v":11},2,9,{"$f":"+I39+J39","v":0},0,0]
[]
["FUNDACIÓN POLITÉCNICO DE PUNTA DEL ESTE",{"$f":"+C41+D41","v":41},{"$f":"C42+C43","v":11},{"$f":"D42+D43","v":30},{"$f":"+F41+G41","v":0},{"$f":"F42+F43","v":0},{"$f":"G42+G43","v":0},{"$f":"+I41+J41","v":0},{"$f":"I42+I43","v":0},{"$f":"J42+J43","v":0}]
["Contador Público",{"$f":"+C42+D42","v":31},9,22,{"$f":"+F42+G42","v":0},0,0,{"$f":"+I42+J42","v":0},0,0]
["Licenciado en Economía y Finanzas Aplicadas",{"$f":"+C43+D43","v":10},2,8,{"$f":"+F43+G43","v":0},0,0,{"$f":"+I43+J43","v":0},0,0]
[]
["ESCUELA NACIONAL DE POLICÍA",{"$f":"C45+D45","v":21},{"$f":"+C46","v":18},{"$f":"+D46","v":3},{"$f":"F45+G45","v":52},{"$f":"+F46","v":48},{"$f":"+G46","v":4},{"$f":"+I45+J45","v":21},{"$f":"+I46","v":19},{"$f":"+J46","v":2}]
["Curso Licenciatura Segur. Pública",{"$f":"C46+D46","v":21},18,3,{"$f":"F46+G46","v":52},48,4,{"$f":"I46+J46","v":21},19,2]
[]
["Fuente: Oficinas Productoras de cada una de las Instituciones. "]
[]
[]
["* En la licenciatura no tuvieron ingresos en el 2013 ya que hicieron una reestructura de la carrera"]

{"sheet":"II-7.2.5","index":252,"n_rows":43,"n_cols":10,"rows_kept":43,"cut":false,"hidden":false,"merged":[[5,5,5,6],[5,7,7,7],[5,8,5,9],[6,2,6,3],[6,5,6,6],[6,8,6,9],[0,2,1,4],[4,0,4,4],[5,0,7,0],[5,1,7,1],[5,2,5,3],[5,4,7,4]]}
["OFERTA UNIVERSITARIA DE POSTGRADO",null,"INSTITUCIONES"]
[]
["Cuadro Nº II-7.2.5"]
[]
["ALUMNOS INGRESADOS, MATRICULADOS Y EGRESADOS EN PROGRAMAS DE POSTGRADO POR SEXO SEGÚN INSTITUCIÓN. AÑO 2013."]
["INSTITUCIÓN","TOTAL","INGRESADOS",null,"TOTAL","MATRICULADOS *",null,"TOTAL","EGRESADOS (datos preliminares)"]
[null,null,"SEXO",null,null,"SEXO",null,null,"SEXO"]
[null,null,"M","F",null,"M","F",null,"M","F"]
["TOTAL PAIS",{"$f":"SUM(C9:D9)","v":4736},{"$f":"+C13+C29","v":1864},{"$f":"+D13+D29","v":2872},{"$f":"SUM(F9:G9)","v":11640},{"$f":"+F13+F29","v":4167},{"$f":"+G13+G29","v":7473},{"$f":"SUM(I9:J9)","v":1732},{"$f":"+I13+I29","v":666},{"$f":"+J13+J29","v":1066}]
["PÚBLICO",{"$f":"B14+B30","v":3349},{"$f":"C14+C30","v":1365},1984,6969,2678,4291,1031,403,628]
["PRIVADO",{"$f":"B15+B31","v":1387},499,888,4671,1489,3182,701,263,438]
[]
["Montevideo",{"$f":"SUM(C13:D13)","v":4705},{"$f":"SUM(C16:C27)","v":1854},{"$f":"SUM(D16:D27)","v":2851},{"$f":"SUM(F13:G13)","v":11602},{"$f":"SUM(F16:F27)","v":4152},{"$f":"SUM(G16:G27)","v":7450},{"$f":"SUM(I13:J13)","v":1732},{"$f":"SUM(I16:I27)","v":666},{"$f":"SUM(J16:J27)","v":1066}]
["PÚBLICO",{"$f":"B16+B26+B27","v":3318},{"$f":"C16+C26+C27","v":1355},1963,6932,2663,4269,1031,403,628]
["PRIVADO",{"$f":"SUM(B17:B25)","v":1387},{"$f":"SUM(C17:C25)","v":499},888,4670,1489,3181,701,263,438]
["UdelaR",3149,1213,1936,6839,2593,4246,933,319,614]
["UCUDAL",570,133,437,2280,479,1801,292,72,220]
["Universidad ORT Uruguay",198,78,120,688,285,403,186,78,108]
["Universidad de Montevideo",302,159,143,639,307,332,107,60,47]
["Universidad de la Empresa",227,111,116,801,356,445,83,46,37]
["Inst Univ CLAEH ",78,15,63,174,32,142,10,4,6]
["Inst Univ de Postgrado en Psicoanálisis",6,1,5,45,8,37,13,1,12]
["Inst Metodista Univ Crandon **",6,2,4,6,2,4,8,2,6]
["Inst Univ CEDIIAP",0,0,0,5,0,5,2,0,2]
["Inst Univ Asociación Cristiana de Jóvenes",0,0,0,32,20,12,0,0,0]
["Centro de Altos Estudios Nacionales",62,40,22,62,40,22,38,24,14]
["Escuela de Guerra Naval (ESGUE)",107,102,5,31,30,1,60,60,0]
[]
["Resto del país",31,{"$f":"+C32+C34","v":10},{"$f":"+D32+D34","v":21},38,{"$f":"+F32+F34","v":15},{"$f":"+G32+G34","v":23},0,{"$f":"+I32+I34","v":0},{"$f":"+J32+J34","v":0}]
["PÚBLICO",{"$f":"B33+B36","v":31},{"$f":"C33+C36","v":10},21,37,15,22,0,0,0]
["PRIVADO",{"$f":"B35","v":0},{"$f":"C35","v":0},0,1,0,1,0,0,0]
["Maldonado",{"$f":"SUM(C32:D32)","v":0},{"$f":"SUM(C33)","v":0},{"$f":"SUM(D33)","v":0},{"$f":"SUM(F32:G32)","v":24},{"$f":"SUM(F33)","v":12},{"$f":"SUM(G33)","v":12},{"$f":"SUM(I32:J32)","v":0},{"$f":"SUM(I33)","v":0},{"$f":"SUM(J33)","v":0}]
["UdelaR",0,0,0,24,12,12,0,0,0]
["Salto",{"$f":"SUM(C34:D34)","v":31},{"$f":"C35+C36","v":10},{"$f":"D35+D36","v":21},{"$f":"SUM(F34:G34)","v":14},{"$f":"F35+F36","v":3},{"$f":"G35+G36","v":11},{"$f":"SUM(I34:J34)","v":0},{"$f":"I35+I36","v":0},{"$f":"J35+J36","v":0}]
["UCUDAL",{"$f":"SUM(C35:D35)","v":0},0,0,{"$f":"SUM(F35:G35)","v":1},0,1,{"$f":"SUM(I35:J35)","v":0},0,0]
["UdelaR",{"$f":"SUM(C36:D36)","v":31},10,21,{"$f":"SUM(F36:G36)","v":13},3,10,{"$f":"SUM(I36:J36)","v":0},0,0]
[]
[]
["Fuente: Bedelías de los Servicios Universitarios y Sistema de Gestión de Bedelías-SeCIU"]
[]
["El dato de Egresos de Posgrado  2013 es PRELIMINAR"]
["*Los datos de la matrícula de estudiantes son los correspondientes al año 2012"]
["** En la licenciatura no tuvieron ingresos en el 2013 ya que hicieron una reestructura de la carrera"]

{"sheet":"II-7.2.6 ","index":253,"n_rows":309,"n_cols":10,"rows_kept":309,"cut":false,"hidden":false,"merged":[[317,0,317,9],[318,0,318,9],[311,0,311,9],[312,0,312,9],[313,0,313,9],[314,0,314,9],[315,0,315,9],[316,0,316,9],[310,0,310,9],[0,3,1,6],[4,0,4,6],[5,0,7,0],[5,1,7,1],[5,2,5,3],[5,4,7,4],[5,5,5,6],[5,7,7,7],[5,8,5,9],[6,2,6,3],[6,5,6,6],[6,8,6,9]]}
["UNIVERSIDAD DE LA REPÚBLICA: OFERTA DE POSTGRADO",null,null,"ALUMNOS MATRICULADOS"]
[]
["Cuadro Nº II-7.2.6"]
[]
["ALUMNOS INGRESADOS 2013, MATRICULADOS 2012 Y EGRESADOS PRELIMINARES 2013 EN PROGRAMAS DE POSTGRADO DE LA UNIVERSIDAD DE LA REPÚBLICA POR SEXO SEGÚN SERVICIO UNIVERSITARIO Y ACREDITACIÓN. "]
["SERVICIO UNIVERSITARIO / ACREDITACIÓN","TOTAL","INGRESADOS",null,"TOTAL","MATRICULADOS *",null,"TOTAL","EGRESADOS (datos preliminares)"]
[null,null,"SEXO",null,null,"SEXO",null,null,"SEXO"]
[null,null,"M","F",null,"M","F",null,"M","F"]
["TOTAL",{"$f":"SUM(C9:D9)","v":3180},{"$f":"C11+C25+C35+C63+C88+C166+C174+C188+C196+C206+C215+C225+C238+C244+C250+C253+C256+C259+C262+C265+C269+C273+C276+C288+C290+C297+C300","v":1223},{"$f":"D11+D25+D35+D63+D88+D166+D174+D188+D196+D206+D215+D225+D238+D244+D250+D253+D256+D259+D262+D265+D269+D273+D276+D288+D290+D297+D300","v":1957},{"$f":"SUM(F9:G9)","v":6839},{"$f":"F11+F25+F35+F63+F88+F166+F174+F188+F196+F206+F215+F225+F238+F244+F250+F253+F256+F259+F262+F265+F269+F273+F276+F288+F290+F293+F300+F297","v":2593},{"$f":"G11+G25+G35+G63+G88+G166+G174+G188+G196+G206+G215+G225+G238+G244+G250+G253+G256+G259+G262+G265+G269+G273+G276+G288+G290+G293+G300+G297","v":4246},{"$f":"SUM(I9:J9)","v":933},{"$f":"I11+I25+I35+I63+I88+I166+I174+I188+I196+I206+I215+I225+I238+I244+I250+I253+I256+I259+I262+I265+I269+I273+I276+I288+I290","v":319},{"$f":"J11+J25+J35+J63+J88+J166+J174+J188+J196+J206+J215+J225+J238+J244+J250+J253+J256+J259+J262+J265+J269+J273+J276+J288+J290","v":614}]
[]
["FACULTAD DE CIENCIAS ECONÓMICAS Y ADMINISTRACIÓN",{"$f":"+C11+D11","v":209},{"$f":"SUM(C12:C24)","v":93},{"$f":"SUM(D12:D24)","v":116},{"$f":"+F11+G11","v":392},{"$f":"SUM(F12:F23)","v":197},{"$f":"SUM(G12:G23)","v":195},{"$f":"+I11+J11","v":28},{"$f":"SUM(I12:I24)","v":12},{"$f":"SUM(J12:J24)","v":16}]
["Diploma en Especialización en Costos y Gestión Empresarial",22,10,12,{"$f":"+F12+G12","v":25},16,9,1,0,1]
["Posgrado de Especialización en Administración",13,5,8,{"$f":"+F13+G13","v":47},22,25,2,2,0]
["Posgrado de Especialización en Finanzas",24,12,12,64,31,33,2,1,1]
["Posgrado de Especialización en Marketing",21,9,12,34,14,20,1,0,1]
["Posgrado de Especialización en Tributación",8,2,6,0,0,0,0,0,0]
["Posgrado de Especialización en Sistemas de Información T.I.",13,8,5,0,0,0,0,0,0]
["Posgrado de Especialización en Economía, Derecho y Gestión del Deporte",19,14,5,24,5,19,4,1,3]
["Maestría en Economía",35,13,22,67,31,36,3,0,3]
["Maestría en Finanzas",10,5,5,39,20,19,0,0,0]
["Maestría en Gerencia y Administración (MBA)",41,15,26,80,51,29,15,8,7]
["Maestría en Marketing",3,0,3,11,7,4,0,0,0]
["Diplomado en Administración",null,null,null,1,0,1]
[]
["FACULTAD DE DERECHO",{"$f":"+C25+D25","v":21},{"$f":"SUM(C26:C34)","v":6},{"$f":"SUM(D26:D34)","v":15},{"$f":"+F25+G25","v":248},{"$f":"SUM(F26:F33)","v":88},{"$f":"SUM(G26:G33)","v":160},{"$f":"+I25+J25","v":12},{"$f":"SUM(I26:I34)","v":4},{"$f":"SUM(J26:J34)","v":8}]
["Especialización en Derecho de Daños",{"$f":"+C26+D26","v":6},1,5,7,1,6,2,2,0]
["Especialización en Derecho Procesal",4,1,3,37,14,23,2,0,2]
["Maestría en Derecho con orientación en Derecho del Trabajo y de la Seguridad Social",4,2,2,64,29,35,0,0,0]
["Maestría en Derecho con orient. en Derecho de Daños",7,2,5,30,17,13,1,1,0]
["Especialización en Derecho Comercial",0,0,0,9,4,5,3,1,2]
["Especialización en Derecho del Trabajo y de la Seguridad Social",0,0,0,6,3,3,3,0,3]
["Maestría en Relaciones Internacionales",0,0,0,53,12,41,1,0,1]
["Maestría en Derecho con orient. en Derecho Comercial",null,null,null,42,8,34]
[]
["FACULTAD DE INGENIERÍA",{"$f":"+C35+D35","v":149},{"$f":"SUM(C36:C59)","v":103},{"$f":"SUM(D36:D59)","v":46},{"$f":"+F35+G35","v":346},{"$f":"SUM(F36:F61)","v":259},{"$f":"SUM(G36:G61)","v":87},{"$f":"+I35+J35","v":60},{"$f":"SUM(I36:I59)","v":46},{"$f":"SUM(J36:J59)","v":14}]
["Especialización en Estudios Avanzados en Computación",1,1,0,5,4,1,2,2,0]
["Especialización en Gestión de Tecnologías",12,8,4,24,17,7,22,16,6]
["Especialización en Ingeniería de la Energía",2,1,1,0,0,0,0,0,0]
["Especialización en Ingeniería de Software",11,4,7,0,0,0,0,0,0]
["Especialización en Seguridad Informática",15,12,3,0,0,0,0,0,0]
["Especialización en Sistemas de Información y Tecnologías de Gestión de datos",14,12,2,0,0,0,2,2,0]
["Especialización en Sistemas Eléctricos de Potencia",7,5,2,1,1,0,0,0,0]
["Especialización en Telecomunicaciones",4,4,0,6,6,0,1,1,0]
["Maestría en Informática (PEDECIBA)",17,14,3,65,55,10,7,4,3]
["Maestría en Ingeniería Ambiental",4,1,3,19,10,9,1,1,0]
["Maestría en Ingeniería de la Energía",8,5,3,51,39,12,2,2,0]
["Maestría en Ingeniería Eléctrica",15,14,1,29,27,2,3,3,0]
["Maestría en Ingeniería en Computación",1,1,0,10,7,3,2,2,0]
["Maestría en Ingeniería Estructural",5,3,2,16,10,6,0,0,0]
["Maestría en Ingeniería Física",1,1,0,0,0,0,0,0,0]
["Maestría en Ingeniería Matemática  ",14,6,8,21,18,3,6,6,0]
["Maestría en Ingeniería Mecánica de los Fluídos Aplicada",2,2,0,16,8,8,3,2,1]
["Maestría en Ingeniería Química",4,1,3,7,2,5,1,0,1]
["Doctorado en Ingeniería Mecánica de los Fluídos Aplicada",1,0,1,9,4,5,1,0,1]
["Doctorado en Informática",3,3,0,22,18,4,2,2,0]
["Doctorado en Ingeniería Ambiental",1,1,0,0,0,0,0,0,0]
["Doctorado en Ingeniería Eléctrica",5,4,1,18,16,2,4,3,1]
["Doctorado en Ingeniería Química",2,0,2,3,1,2,0,0,0]
["Maestría en Ingeniería de Celulosa y Papel",0,0,0,21,13,8,1,0,1]
["Doctor en Ingeniería Física",null,null,null,1,1,0]
["Doctor en Ingeniería Estructural",null,null,null,2,2,0]
[]
["FACULTAD DE CIENCIAS SOCIALES",{"$f":"+C63+D63","v":319},{"$f":"SUM(C64:C87)","v":109},{"$f":"SUM(D64:D87)","v":210},{"$f":"+F63+G63","v":775},{"$f":"SUM(F64:F86)","v":305},{"$f":"SUM(G64:G86)","v":470},{"$f":"+I63+J63","v":78},{"$f":"SUM(I64:I87)","v":17},{"$f":"SUM(J64:J87)","v":61}]
["Diploma en Economía para no Economistas",21,11,10,67,34,33,9,4,5]
["Diploma en Economía con Especialización",3,1,2,2,2,0,0,0,0]
["Diploma en Economía y Gestión Bancaria",24,7,17,33,12,21,14,2,12]
["Diploma en Género y Políticas Públicas",34,4,30,60,6,54,3,0,3]
["Diploma de Especialización en Políticas Sociales",1,0,1,2,0,2,0,0,0]
["Diploma Jóvenes, Juventud y Políticas Públicas",21,4,17,22,9,13,1,1,0]
["Maestría Bimodal en Estudios Contemporáneos de América Latina",24,7,17,12,3,9,0,0,0]
["Maestría en Demografía y Estudios de Población",36,12,24,29,9,20,0,0,0]
["Maestría en Economía Internacional",37,18,19,108,61,47,2,1,1]
["Maestría en Trabajo Social",19,0,19,43,8,35,0,0,0]
["Maestría en Historia Económica",46,18,28,49,21,28,1,0,1]
["Doctorado en Economía",7,2,5,0,0,0,1,1,0]
["Doctorado en Ciencias Sociales",10,2,8,55,29,26,1,0,1]
["Maestría en Historia Política",31,19,12,0,0,0,0,0,0]
["Maestría en Ciencia Política",1,0,1,73,41,32,3,2,1]
["Doctorado en Ciencia Política",4,4,0,0,0,0,0,0,0]
["Diploma en Análisis Sociodemográficos Aplicados a la Gestión",0,0,0,56,19,37,4,2,2]
["Diploma en Especialización en Intervención Familiar",0,0,0,32,3,29,23,1,22]
["Diploma en Investigación Social Aplicada a Estudios de Mercado, Publicidad y Opinión Pública",0,0,0,27,8,19,2,0,2]
["Maestría en Sociología",0,0,0,69,28,41,6,1,5]
["Diploma en Ciencia Política",0,0,0,0,0,0,7,2,5]
["Diploma en Historia Económica",0,0,0,0,0,0,1,0,1]
["Diplomado Especialista en Estudios Internacionales, Sistema Internacional e Integración",null,null,null,36,12,24]
[]
["FACULTAD DE MEDICINA ",{"$f":"+C88+D88","v":1426},{"$f":"SUM(C89:C164)","v":546},{"$f":"SUM(D89:D164)","v":880},{"$f":"+F88+G88","v":2500},{"$f":"SUM(F89:F164)","v":823},{"$f":"SUM(G89:G164)","v":1677},{"$f":"+I88+J88","v":382},{"$f":"SUM(I89:I164)","v":122},{"$f":"SUM(J89:J164)","v":260}]
["Diploma en Banco de Multitejidos para Trasplante",2,1,1,1,1,0,0,0,0]
["Diploma en Bases Inmunogenéticas de los Trasplantes",8,2,6,0,0,0,0,0,0]
["Diploma en Coordinación de Trasplantes",8,2,6,13,4,9,0,0,0]
["Diploma en Ecografía Gineco-Obstétrica (1)",89,48,41,0,0,0,0,0,0]
["Diploma en Emergentología (1) (2)",627,305,322,0,0,0,4,3,1]
["Diploma en Endoscopía Digestiva (1)",0,0,0,8,1,7,1,0,1]
["Diploma en Genética Médica Opción Adulto (2) (1)",2,0,2,4,1,3,1,0,1]
["Diploma en Genética Médica Opción Pediatría (2) (1)",1,0,1,0,0,0,1,0,1]
["Diploma en Infectología Pediátrica",0,0,0,1,1,0,1,1,0]
["Diploma en Neurodesarrollo",21,1,20,10,1,9,13,0,13]
["Diploma en Prof. de los Cuidados Paliativos del Adulto (2)",21,3,18,15,2,13,5,0,5]
["Diploma en Psicoterapia en los Servicios de Salud (1)",18,3,15,36,10,26,1,0,1]
["Diploma en Salud Pública (1)",19,2,17,0,0,0,25,5,20]
["Diploma en Transplante de Progenitores Hematopoyéticos (1)",2,0,2,3,0,3,0,0,0]
["Diploma en Urología Pediátrica",null,null,null,1,0,1]
["Doctorado en Ciencias Médicas (PROINBIO)",{"$f":"+C104+D104","v":2},1,1,{"$f":"+F104+G104","v":10},4,6,{"$f":"+I104+J104","v":2},2,0]
["Especialización en Administración de Servicios de Salud (2)",{"$f":"+C105+D105","v":5},2,3,37,13,24,{"$f":"+I105+J105","v":1},0,1]
["Especialización en Anatomía Patológica (2)",{"$f":"+C106+D106","v":7},1,6,24,2,22,{"$f":"+I106+J106","v":12},3,9]
["Especialización en Anestesiología",{"$f":"+C107+D107","v":25},10,15,91,35,56,{"$f":"+I107+J107","v":22},9,13]
["Especialización en Cardiología (2)",{"$f":"+C108+D108","v":25},8,17,110,52,58,{"$f":"+I108+J108","v":20},6,14]
["Especialización en Cardiología Pediátrica",null,null,null,9,2,7]
["Especialización en Cirugía Cardíaca",{"$f":"+C110+D110","v":1},1,0,6,6,0,{"$f":"+I110+J110","v":2},1,1]
["Especialización en Cirugía General",12,7,5,52,32,20,10,5,5]
["Especialización en Cirugía Pediátrica (2)",2,1,1,2,2,0,4,4,0]
["Especialización en Cirugía Plástica, Reparadora y Estética",3,2,1,18,8,10,5,1,4]
["Especialización en Cirugía Toracica (2)",1,1,0,4,4,0,1,1,0]
["Especialización en Cirugía Vascular Periférica",1,1,0,8,4,4,3,2,1]
["Especialización en Dermatología Médico-Quirúrgica",9,1,8,33,5,28,6,0,6]
["Especialización en Emergentología Pediatrica (1)",5,0,5,0,0,0,0,0,0]
["Especialización en Endocrinología y Metabolismo",12,2,10,59,14,45,10,2,8]
["Especialización en Enfermedades Infecciosas (2)",7,0,7,17,6,11,3,0,3]
["Especialización en Epidemiología (2)",6,2,4,26,8,18,3,0,3]
["Especialización en Farmacología y Terapéutica",null,null,null,6,3,3]
["Especialización en Fisiatría",{"$f":"+C122+D122","v":0},0,0,3,0,3,{"$f":"+I122+J122","v":1},0,1]
["Especialización en Gastroenterología",15,3,12,58,17,41,9,2,7]
["Especialización en Gastroenterología, Hepatología y Nutrición Pediátrica",2,2,0,2,0,2,0,0,0]
["Especialización en Geriatría",7,0,7,48,14,34,2,1,1]
["Especialización en Gerontopsicomotricidad",1,0,1,4,1,3,1,0,1]
["Especialización en Ginecotocología",19,6,13,58,14,44,17,4,13]
["Especialización en Hematología",3,1,2,24,2,22,5,0,5]
["Especialización en Hemoterapia y Medicina Transfusional",4,0,4,28,8,20,0,0,0]
["Especialización en Imagenología",19,6,13,98,41,57,0,0,0]
["Especialización en Laboratorio Clínico",null,null,null,1,1,0]
["Especialización en Laboratorio de Patología Clínica",{"$f":"+C132+D132","v":3},0,3,31,4,27,{"$f":"+I132+J132","v":4},0,4]
["Especialización en Medicina del Deporte",10,4,6,45,27,18,8,5,3]
["Especialización en Medicina Familiar y Comunitaria (2)",32,8,24,165,40,125,5,1,4]
["Especialización en Medicina Intensiva",34,17,17,130,63,67,25,14,11]
["Especialización en Medicina Interna (2)",34,12,22,169,54,115,12,7,5]
["Especialización en Medicina Legal",5,0,5,20,4,16,0,0,0]
["Especialización en Medicina Nuclear",2,2,0,21,8,13,0,0,0]
["Especialización en Microbiología",1,0,1,12,1,11,0,0,0]
["Especialización en Nefrología (2)",15,4,11,44,24,20,3,2,1]
["Especialización en Neonatología (1) (2)",93,27,66,28,4,24,17,8,9]
["Especialización en Neumología (2)",5,1,4,23,8,15,3,0,3]
["Especialización en Neumología Pediátrica (1)",0,0,0,0,0,0,4,1,3]
["Especialización en Neurocirugía",1,0,1,39,23,16,2,1,1]
["Especialización en Neurología",5,1,4,0,0,0,0,0,0]
["Especialización en Radiodiagnóstico",null,null,null,6,2,4,0,0,0]
["Especialización en Neuropediatría (2)",3,1,2,8,2,6,3,1,2]
["Especialización en Oftalmología",10,4,6,43,18,25,12,5,7]
["Especialización en Oncología Médica",7,1,6,21,5,16,1,0,1]
["Especialización en Oncología Radioterápica",1,0,1,7,4,3,0,0,0]
["Especialización en Otorrinolaringología",5,2,3,39,24,15,2,2,0]
["Especialización en Parasitología y Micología Médica (2)",2,2,0,6,1,5,1,0,1]
["Especialización en Pediatría",73,10,63,402,68,334,49,7,42]
["Especialización en Psiquiatría",0,0,0,50,18,32,16,7,9]
["Especialización en Psiquiatría Pediátrica",6,1,5,31,5,26,2,0,2]
["Especialización en Rehabilitación y Medicina Física",6,2,4,27,7,20,4,0,4]
["Especialización en Reumatología (2)",5,0,5,26,5,21,2,0,2]
["Especialización en Salud Ocupacional",7,3,4,42,10,32,2,0,2]
["Especialización en Terapia Intensiva Pediatrica",8,1,7,19,3,16,1,0,1]
["Especialización en Toxicología Clínica",1,1,0,14,2,12,0,0,0]
["Especialización en Traumatología y Ortopedia",9,9,0,58,44,14,7,6,1]
["Especialización en Urología",4,3,1,24,15,9,0,0,0]
["Especilización en Pre Ancianidad y Geriatría",null,null,null,2,1,1]
["Maestría en Ciencias Médicas (PROINBIO)",{"$f":"+C164+D164","v":28},5,23,20,10,10,{"$f":"+I164+J164","v":6},3,3]
[]
["FACULTAD DE ODONTOLOGÍA ",{"$f":"+C166+D166","v":38},{"$f":"SUM(C167:C173)","v":4},{"$f":"SUM(D167:D173)","v":34},{"$f":"+F166+G166","v":77},{"$f":"SUM(F167:F172)","v":32},{"$f":"SUM(G167:G172)","v":45},{"$f":"+I166+J166","v":5},{"$f":"SUM(I167:I173)","v":1},{"$f":"SUM(J167:J173)","v":4}]
["Especialización en Endodoncia",{"$f":"+C167+D167","v":7},1,6,12,2,10,{"$f":"+I167+J167","v":0},0,0]
["Especialización en Odontopediatría",{"$f":"+C168+D168","v":8},0,8,12,0,12,{"$f":"+I168+J168","v":4},0,4]
["Especialización en Ortopedia y Ortodoncia Dento Maxilo Facial",{"$f":"+C169+D169","v":23},3,20,9,3,6,{"$f":"+I169+J169","v":0},0,0]
["Especialización en Cirugía y Traumatología Buco Maxilo Facial ",{"$f":"+C170+D170","v":0},0,0,18,12,6,{"$f":"+I170+J170","v":1},1,0]
["Especialización en Prostodoncia",null,null,null,18,13,5]
["Especialización en Odontología Restauradora integral",null,null,null,8,2,6]
[]
["FACULTAD DE HUMANIDADES Y CIENCIAS DE LA EDUCACIÓN",{"$f":"+C174+D174","v":179},{"$f":"SUM(C175:C187)","v":49},{"$f":"SUM(D175:D187)","v":130},{"$f":"+F174+G174","v":371},{"$f":"SUM(F175:F186)","v":123},{"$f":"SUM(G175:G186)","v":248},{"$f":"+I174+J174","v":12},{"$f":"SUM(I175:I187)","v":6},{"$f":"SUM(J175:J187)","v":6}]
["Maestría en Ciencias Humanas -  Literatura Latinoamericana",17,1,16,45,14,31,1,0,1]
["Maestría en Ciencias Humanas -  Historia Rioplatense",12,6,6,27,13,14,1,1,0]
["Maestría en Ciencias Humanas -  Filosofía Contemporánea",25,8,17,79,33,46,2,1,1]
["Maestría en Ciencias Humanas -  Lenguaje, Cultura y Sociedad",40,10,30,65,15,50,1,0,1]
["Maestría en Ciencias Humanas -  Antropología de la Cuenca del Plata",18,8,10,52,15,37,3,2,1]
["Maestría en Ciencias Humanas -  Estudios Latinoamericanos",41,11,30,49,19,30,0,0,0]
["Maestría en Ciencias Humanas -  Teoría e Historia del Teatro",26,5,21,42,7,35,2,1,1]
["Maestría en Ciencias Humanas -  Estudios Fronterizos",0,0,0,2,0,2,1,0,1]
["Maestría en Ciencias Humanas -  Filosofía y Sociedad",0,0,0,1,1,0,1,1,0]
["Maestría en Ciencias Humanas -  Estudios Migratorios",null,null,null,1,0,1]
["Maestría en Ciencias Humanas -  Historia Comparada",null,null,null,7,6,1]
["Maestría en Ciencias Humanas -  Historia del Uruguay",null,null,null,1,0,1]
[]
["FACULTAD DE AGRONOMÍA",{"$f":"+C188+D188","v":86},{"$f":"SUM(C189:C194)","v":45},{"$f":"SUM(D189:D194)","v":41},{"$f":"+F188+G188","v":281},{"$f":"SUM(F189:F194)","v":157},{"$f":"SUM(G189:G194)","v":124},{"$f":"+I188+J188","v":26},{"$f":"SUM(I189:I194)","v":14},{"$f":"SUM(J189:J194)","v":12}]
["Diploma en Agronomía",14,8,6,41,24,17,0,0,0]
["Diploma en Desarrollo Rural Sustentable",3,0,3,7,3,4,1,1,0]
["Maestría en Agronomía",4,4,0,33,27,6,1,1,0]
["Maestría en Desarrollo Rural Sustentable",2,1,1,24,10,14,2,1,1]
["Maestría en Ciencias Agrarias",40,19,21,150,81,69,22,11,11]
["Doctorado en Ciencias Agrarias",23,13,10,26,12,14,0,0,0]
[]
["FACULTAD DE ARQUITECTURA",{"$f":"+C196+D196","v":39},{"$f":"SUM(C197:C205)","v":22},{"$f":"SUM(D197:D205)","v":17},{"$f":"+F196+G196","v":151},{"$f":"SUM(F197:F204)","v":67},{"$f":"SUM(G197:G204)","v":84},{"$f":"+I196+J196","v":17},{"$f":"SUM(I197:I205)","v":8},{"$f":"SUM(J197:J205)","v":9}]
["Diploma de Especialización en Construcción de Obras de Arquitectura",{"$f":"+C197+D197","v":9},3,6,6,5,1,{"$f":"+I197+J197","v":1},1,0]
["Doctorado en Arquitectura",{"$f":"+C198+D198","v":11},7,4,0,0,0,{"$f":"+I198+J198","v":0},0,0]
["Maestría en Construcción de Obras de Arquitectura",{"$f":"+C199+D199","v":19},12,7,18,10,8,{"$f":"+I199+J199","v":0},0,0]
["Especialización en Intervención en el Patrimonio Arquitectónico",{"$f":"+C200+D200","v":0},0,0,21,9,12,{"$f":"+I200+J200","v":16},7,9]
["Diploma de Especialista en Proyecto de Mobiliario",null,null,null,11,3,8]
["Diploma de Especialista en Proyecto del Paisaje",null,null,null,13,2,11]
["Diploma de Especialista en Diseño de Estructuras en la Arquitectura",null,null,null,18,8,10]
["Maestría en Ordenamiento Territorial y Desarrollo Urbano",null,null,null,64,30,34]
[]
["FACULTAD DE QUÍMICA",{"$f":"+C206+D206","v":49},{"$f":"SUM(C207:C212)","v":13},{"$f":"SUM(D207:D212)","v":36},{"$f":"+F206+G206","v":169},{"$f":"SUM(F207:F213)","v":45},{"$f":"SUM(G207:G213)","v":124},{"$f":"+I206+J206","v":11},{"$f":"SUM(I207:I212)","v":3},{"$f":"SUM(J207:J212)","v":8}]
["Maestría en Química",3,1,2,19,3,16,2,0,2]
["Doctorado en Química",35,10,25,136,42,94,8,2,6]
["Especialización en Farmacia Industrial",6,0,6,0,0,0,0,0,0]
["Especialización en Farmacia Hospitalaria",1,0,1,8,0,8,0,0,0]
["Maestría en Química - Educación en Química",4,2,2,4,0,4,0,0,0]
["Doctorado en Química (Plan 1996)",0,0,0,0,0,0,1,1,0]
["Doctorado en Química- Orientación Educación en Química",null,null,null,2,0,2]
[]
["FACULTAD DE VETERINARIA",{"$f":"+C215+D215","v":51},{"$f":"SUM(C216:C222)","v":23},{"$f":"SUM(D216:D222)","v":28},{"$f":"+F215+G215","v":67},{"$f":"SUM(F216:F223)","v":30},{"$f":"SUM(G216:G223)","v":37},{"$f":"+I215+J215","v":5},{"$f":"SUM(I216:I222)","v":0},{"$f":"SUM(J216:J222)","v":5}]
["Especialización en Inocuidad de Alimentos de Origen Animal",12,2,10,0,0,0,0,0,0]
["Maestría en Nutrición de Rumiantes",1,1,0,6,4,2,1,0,1]
["Maestría en Reproducción Animal",2,1,1,12,5,7,1,0,1]
["Maestría en Producción Animal",1,1,0,7,3,4,2,0,2]
["Maestría en Salud Animal",9,4,5,24,9,15,1,0,1]
["Maestría en Educación y Extensión Rural",22,11,11,0,0,0,0,0,0]
["Doctorado en Salud Animal",4,3,1,5,3,2,0,0,0]
["Doctorado en Producción Animal",null,null,null,13,6,7]
[]
["FACULTAD DE CIENCIAS",{"$f":"+C225+D225","v":140},{"$f":"SUM(C226:C235)","v":63},{"$f":"SUM(D226:D235)","v":77},{"$f":"+F225+G225","v":591},{"$f":"SUM(F226:F236)","v":225},{"$f":"SUM(G226:G236)","v":366},{"$f":"+I225+J225","v":77},{"$f":"SUM(I226:I235)","v":33},{"$f":"SUM(J226:J235)","v":44}]
["Maestría en Biotecnología",8,3,5,44,9,35,5,2,3]
["Maestría en Ciencias Ambientales",11,3,8,33,13,20,4,2,2]
["Maestría en Ciencias Biológicas (PEDECIBA)",66,30,36,282,89,193,40,11,29]
["Maestría en Geociencias (PEDECIBA)",7,0,7,21,7,14,2,1,1]
["Doctorado en Ciencias Biológicas(PEDECIBA)",28,13,15,137,55,82,17,9,8]
["Maestría en Matemática (PEDECIBA)",5,4,1,10,8,2,4,3,1]
["Maestría en Física (PEDECIBA)",5,3,2,15,14,1,3,3,0]
["Doctorado en Matemática (PEDECIBA)",3,2,1,14,11,3,1,1,0]
["Doctorado en Biotecnología (PEDECIBA)",4,3,1,0,0,0,0,0,0]
["Doctorado en Física (PEDECIBA)",3,2,1,11,7,4,1,1,0]
["Maestría en Ciencias Biológicas  - ciclo único",null,null,null,24,12,12]
[]
["FACULTAD DE ENFERMERÍA",{"$f":"+C238+D238","v":21},{"$f":"SUM(C239:C240)","v":5},{"$f":"SUM(D239:D240)","v":16},{"$f":"+F238+G238","v":111},{"$f":"SUM(F239:F242)","v":5},{"$f":"SUM(G239:G242)","v":106},{"$f":"+I238+J238","v":2},{"$f":"SUM(I239:I240)","v":0},{"$f":"SUM(J239:J240)","v":2}]
["Especialización en Enfermería en Cuidados Intensivos",{"$f":"+C239+D239","v":21},5,16,{"$f":"+F239+G239","v":0},0,0,{"$f":"+I239+J239","v":0},0,0]
["Maestría en Salud Mental",{"$f":"+C240+D240","v":0},0,0,{"$f":"+F240+G240","v":22},3,19,{"$f":"+I240+J240","v":2},0,2]
["Maestría en Gestión de Servicios de Salud",null,null,null,{"$f":"+F241+G241","v":47},1,46]
["Maestría en Atención a la Salud en Primer Nivel",null,null,null,{"$f":"+F242+G242","v":42},1,41]
[]
["FACULTAD DE PSICOLOGÍA",{"$f":"+C244+D244","v":134},{"$f":"SUM(C245:C248)","v":28},{"$f":"SUM(D245:D248)","v":106},{"$f":"+F244+G244","v":206},{"$f":"SUM(F245:F248)","v":38},{"$f":"SUM(G245:G248)","v":168},{"$f":"+I244+J244","v":3},{"$f":"SUM(I245:I248)","v":1},{"$f":"SUM(J245:J248)","v":2}]
["Maestría en Psicología Clínica",{"$f":"+C245+D245","v":37},6,31,{"$f":"+F245+G245","v":62},9,53,{"$f":"+I245+J245","v":1},0,1]
["Maestría en Psicología Social",{"$f":"+C246+D246","v":38},8,30,{"$f":"+F246+G246","v":65},19,46,{"$f":"+I246+J246","v":2},1,1]
["Maestría en Psicología y Educación",{"$f":"+C247+D247","v":38},11,27,{"$f":"+F247+G247","v":79},10,69,{"$f":"+I247+J247","v":0},0,0]
["Especialización en Técnicas de Evaluación Psicológica",{"$f":"+C248+D248","v":21},3,18,{"$f":"+F248+G248","v":0},0,0,{"$f":"+I248+J248","v":0},0,0]
[]
["Agronomía, Veterinaria e INAC",{"$f":"+C250+D250","v":23},{"$f":"SUM(C251:C251)","v":10},{"$f":"SUM(D251:D251)","v":13},{"$f":"+F250+G250","v":32},{"$f":"SUM(F251:F251)","v":18},{"$f":"SUM(G251:G251)","v":14},{"$f":"+I250+J250","v":32},{"$f":"SUM(I251:I251)","v":18},{"$f":"SUM(J251:J251)","v":14}]
["Especialización en Industria Cárnica",{"$f":"+C251+D251","v":23},10,13,{"$f":"+F251+G251","v":32},18,14,{"$f":"+I251+J251","v":32},18,14]
[null,{"$f":"+C252+D252","v":0},null,null,null,null,null,{"$f":"+I252+J252","v":0}]
["Área Social - C.S.E.",{"$f":"+C253+D253","v":1},{"$f":"SUM(C254:C254)","v":0},{"$f":"SUM(D254:D254)","v":1},{"$f":"+F253+G253","v":67},{"$f":"SUM(F254:F254)","v":17},{"$f":"SUM(G254:G254)","v":50},{"$f":"+I253+J253","v":11},{"$f":"SUM(I254:I254)","v":2},{"$f":"SUM(J254:J254)","v":9}]
["Maestría en Enseñanza Universitaria",{"$f":"+C254+D254","v":1},0,1,{"$f":"+F254+G254","v":67},17,50,{"$f":"+I254+J254","v":11},2,9]
[]
["CCEE y Cs. Soc.",{"$f":"+C256+D256","v":0},{"$f":"SUM(C257:C257)","v":0},{"$f":"SUM(D257:D257)","v":0},{"$f":"+F256+G256","v":20},{"$f":"SUM(F257:F257)","v":6},{"$f":"SUM(G257:G257)","v":14},{"$f":"+I256+J256","v":4},{"$f":"SUM(I257:I257)","v":0},{"$f":"SUM(J257:J257)","v":4}]
["Magister en Políticas y Gestión Públicas",{"$f":"+C257+D257","v":0},0,0,{"$f":"+F257+G257","v":20},6,14,{"$f":"+I257+J257","v":4},0,4]
[]
["CCEE y Medicina",{"$f":"+C259+D259","v":24},{"$f":"SUM(C260:C260)","v":10},{"$f":"SUM(D260:D260)","v":14},{"$f":"+F259+G259","v":85},{"$f":"SUM(F260:F260)","v":41},{"$f":"SUM(G260:G260)","v":44},{"$f":"+I259+J259","v":40},{"$f":"SUM(I260:I260)","v":18},{"$f":"SUM(J260:J260)","v":22}]
["Posgrado de Especialización en Gestión de Servicios de Salud",{"$f":"+C260+D260","v":24},10,14,{"$f":"+F260+G260","v":85},41,44,{"$f":"+I260+J260","v":40},18,22]
[]
["Ciencias, Química e Ingeniería",{"$f":"SUM(B263:B263)","v":11},{"$f":"SUM(C263:C263)","v":9},{"$f":"SUM(D263:D263)","v":2},{"$f":"+F262+G262","v":29},{"$f":"SUM(F263:F263)","v":19},{"$f":"SUM(G263:G263)","v":10},{"$f":"+I262+J262","v":1},{"$f":"SUM(I263)","v":1},{"$f":"SUM(J264:J264)","v":0}]
["Maestría en Bioinformática ",{"$f":"+C263+D263","v":11},9,2,{"$f":"+F263+G263","v":29},19,10,{"$f":"+I263+J263","v":1},1,0]
[]
["FACULTAD DE CIENCIAS ECONÓMICAS Y ADMINISTRACIÓN, FAC DE CIENCIAS SOCIALES Y UNIVERSIDAD DE SIENA",{"$f":"+C265+D265","v":0},{"$f":"SUM(C266:C266)","v":0},{"$f":"SUM(D266:D266)","v":0},{"$f":"+F265+G265","v":26},{"$f":"F266+F267","v":11},{"$f":"G266+G267","v":15},{"$f":"+I265+J265","v":3},{"$f":"SUM(I266)","v":2},{"$f":"SUM(J266)","v":1}]
["Diploma en Economía y Gestión del Turismo Sustentable",{"$f":"+C266+D266","v":0},0,0,{"$f":"+F266+G266","v":2},1,1,{"$f":"+I266+J266","v":3},2,1]
["Maestría en Economía y Gestión del Turismo Sustentable",null,null,null,{"$f":"+F267+G267","v":24},10,14]
[]
["Cs.Soc., Derecho, Medicina y Psicología",{"$f":"+C269+D269","v":20},{"$f":"C270+C271","v":4},{"$f":"D270+D271","v":16},{"$f":"+F269+G269","v":78},{"$f":"F270+F271","v":26},{"$f":"G270+G271","v":52},{"$f":"+I269+J269","v":1},{"$f":"I270+I271","v":0},{"$f":"J270+J271","v":1}]
["Maestría en Derechos de la Infancia y Políticas Públicas",{"$f":"+C270+D270","v":20},4,16,{"$f":"+F270+G270","v":78},26,52,{"$f":"+I270+J270","v":0},0,0]
["Especialización en Derechos de la Infancia y Políticas Públicas",{"$f":"+C271+D271","v":0},0,0,{"$f":"+F271+G271","v":0},0,0,{"$f":"+I271+J271","v":1},0,1]
[]
["ESPACIO INTERDISCIPLINARIO - Área Social y Artística",{"$f":"+C273+D273","v":62},{"$f":"SUM(C274:C274)","v":26},{"$f":"SUM(D274:D274)","v":36},{"$f":"+F273+G273","v":0},{"$f":"SUM(F274:F274)","v":0},{"$f":"SUM(G274:G274)","v":0},{"$f":"+I273+J273","v":0},{"$f":"SUM(I274)","v":0},{"$f":"SUM(J274)","v":0}]
["Diploma en Gestión Cultural",{"$f":"+C274+D274","v":62},26,36,{"$f":"+F274+G274","v":0},0,0,{"$f":"+I274+J274","v":0},0,0]
[]
["IPES (ANEP) - UdelaR",{"$f":"+C276+D276","v":97},{"$f":"SUM(C277:C285)","v":35},{"$f":"SUM(D277:D285)","v":62},{"$f":"+F276+G276","v":87},{"$f":"SUM(F277:F286)","v":16},{"$f":"SUM(G277:G286)","v":71},{"$f":"+I276+J276","v":123},{"$f":"SUM(I277:I286)","v":11},{"$f":"SUM(J277:J286)","v":112}]
["Diploma de Especialización en Educación Ambiental",{"$f":"+C277+D277","v":1},0,1,{"$f":"+F277+G277","v":0},0,0,{"$f":"+I277+J277","v":0},0,0]
["Diploma de Especialización en Geografía ",{"$f":"+C278+D278","v":20},6,14,{"$f":"+F278+G278","v":20},6,14,{"$f":"+I278+J278","v":0},0,0]
["Diploma de Especialización en Matemática",27,7,20,0,0,0,0,0,0]
["Diploma de Especialización en Física",18,12,6,0,0,0,0,0,0]
["Especialización en Didáctica para la Enseñanza Primaria",0,0,0,0,0,0,55,2,53]
["Especialización en Didáctica para la Enseñanza Media",0,0,0,0,0,0,36,6,30]
["Especialización en Educación y Desarrollo",0,0,0,47,6,41,31,2,29]
["Diploma de Especialización en Geografía (Salto)",18,5,13,13,3,10,0,0,0]
["Diploma de Especialización en Matemática (Salto)",13,5,8,0,0,0,0,0,0]
["Magíster en Educación Ambiental",null,null,null,{"$f":"F286+G286","v":7},1,6,1,1,0]
[]
["Lic. Com. y EUBCA",{"$f":"+C288+D288","v":42},{"$f":"SUM(C289:C289)","v":17},{"$f":"SUM(D289:D289)","v":25},{"$f":"+F288+G288","v":38},{"$f":"SUM(F289:F289)","v":14},{"$f":"SUM(G289:G289)","v":24},{"$f":"+I288+J288","v":0},{"$f":"SUM(I289:I289)","v":0},{"$f":"SUM(J289:J289)","v":0}]
["Maestría en Información y Comunicación",{"$f":"+C289+D289","v":42},17,25,{"$f":"+F289+G289","v":38},14,24,{"$f":"+I289+J289","v":0},0,0]
["Nutrición y Dietética",{"$f":"+C290+D290","v":31},{"$f":"C291","v":2},{"$f":"D291","v":29},{"$f":"+F290+G290","v":0},{"$f":"F291","v":0},{"$f":"G291","v":0},{"$f":"+I290+J290","v":0},{"$f":"I291","v":0},{"$f":"J291","v":0}]
["Especialización en Nutrición en Enfermedades Crónicas no Transmisibles",{"$f":"+C291+D291","v":31},2,29,{"$f":"+F291+G291","v":0},0,0,{"$f":"+I291+J291","v":0},0,0]
[]
["Facultades de Arquitectura, Ciencias, Ciencias Sociales, Derecho e Ingeniería",null,null,null,{"$f":"F293+G293","v":60},{"$f":"F294+F295","v":25},{"$f":"G294+G295","v":35}]
["Maestría en Manejo Costero Integrado del Cono Sur",null,null,null,{"$f":"F294+G294","v":36},13,23]
["Maestría en Manejo Costero Integrado del Cono Sur (Maldonado)",null,null,null,{"$f":"F295+G295","v":24},12,12]
[]
["Facultades de Ciencias Económicas, Ciencias Sociales y Psicología",{"$f":"+C297+D297","v":8},{"$f":"SUM(C298:C298)","v":1},{"$f":"SUM(D298:D298)","v":7},{"$f":"+F297+G297","v":15},{"$f":"SUM(F298:F298)","v":4},{"$f":"SUM(G298:G298)","v":11},{"$f":"+I297+J297","v":0},{"$f":"SUM(I298)","v":0},{"$f":"SUM(J298)","v":0}]
["Diplomado en Transformacion Organizacional",8,1,7,15,4,11]
[]
["Facultad de Ingenieria y Quìmica",{"$f":"+C300+D300","v":0},{"$f":"SUM(C301:C301)","v":0},{"$f":"SUM(D301:D301)","v":0},{"$f":"+F300+G300","v":17},{"$f":"SUM(F301:F301)","v":2},{"$f":"SUM(G301:G301)","v":15},{"$f":"+I300+J300","v":0},{"$f":"SUM(I301)","v":0},{"$f":"SUM(J301)","v":0}]
["Magister en Ciencia y Tecnología de los alimentos",{"$f":"+C301+D301","v":0},0,0,{"$f":"+F301+G301","v":17},2,15,{"$f":"+I301+J301","v":0},0,0]
[]
["Fuente: Bedelías de los Servicios Universitarios y Sistema de Gestión de Bedelías-SeCIU"]
["Nota:"]
["(1) Incluye ingresos y/o egresos por Actuación Documentada"]
["(2) Incluye ingresos y/o egresos por Competencia Notoria"]
["PEDECIBA : Programa de Desarrollo de las Ciencias Básicas"]
["El dato de Egresos de Posgrado  2013 es PRELIMINAR"]
["*Los datos de la matrícula de estudiantes son los correspondientes al I Censo de Posgrado, año 2012"]

{"sheet":"II-7.2.7 ","index":254,"n_rows":169,"n_cols":10,"rows_kept":169,"cut":false,"hidden":false,"merged":[[6,5,6,6],[6,8,6,9],[0,5,1,8],[4,0,4,9],[5,0,7,0],[5,1,7,1],[5,2,5,3],[5,4,7,4],[5,5,5,6],[5,7,7,7],[5,8,5,9],[6,2,6,3]]}
["UNIVERSIDADES PRIVADAS: OFERTA DE POSTGRADO",null,null,null,null,"ALUMNOS MATRICULADOS"]
[]
["Cuadro Nº II-7.2.7"]
[]
["ALUMNOS INGRESADOS, MATRICULADOS Y EGRESADOS EN PROGRAMAS DE POSTGRADO DE UNIVERSIDADES PRIVADAS POR SEXO SEGÚN UNIVERSIDAD Y ACREDITACIÓN. AÑO 2013."]
["UNIVERSIDAD / ACREDITACIÓN","TOTAL","INGRESADOS",null,"TOTAL","MATRICULADOS",null,"TOTAL","EGRESADOS"]
[null,null,"SEXO",null,null,"SEXO",null,null,"SEXO"]
[null,null,"M","F",null,"M","F",null,"M","F"]
["TOTAL",{"$f":"SUM(C9:D9)","v":1297},{"$f":"C11+C80+C111+C146","v":481},{"$f":"D11+D80+D111+D146","v":816},{"$f":"SUM(F9:G9)","v":4408},{"$f":"F11+F80+F111+F146","v":1427},{"$f":"G11+G80+G111+G146","v":2981},{"$f":"SUM(I9:J9)","v":668},{"$f":"I11+I80+I111+I146","v":256},{"$f":"J11+J80+J111+J146","v":412}]
[]
["UCUDAL",{"$f":"SUM(C11:D11)","v":570},{"$f":"C13+C22+C38+C60+C66+C69+C73+C77","v":133},{"$f":"D13+D22+D38+D60+D66+D69+D73+D77","v":437},{"$f":"SUM(F11:G11)","v":2280},{"$f":"+F13+F22+F38+F60+F66+F69+F73+F77","v":479},{"$f":"+G13+G22+G38+G60+G66+G69+G73+G77","v":1801},{"$f":"SUM(I11:J11)","v":292},{"$f":"+I13+I22+I38+I60+I66+I69+I73+I77","v":72},{"$f":"+J13+J22+J38+J60+J66+J69+J73+J77","v":220}]
[]
["FACULTAD DE CIENCIAS EMPRESARIALES",{"$f":"+C13+D13","v":99},{"$f":"SUM(C14:C20)","v":50},{"$f":"SUM(D14:D20)","v":49},{"$f":"+F13+G13","v":331},{"$f":"SUM(F14:F20)","v":172},{"$f":"SUM(G14:G20)","v":159},{"$f":"+I13+J13","v":100},{"$f":"SUM(I14:I20)","v":45},{"$f":"SUM(J14:J20)","v":55}]
["Postgrado en Finanzas Corporativas",12,3,9,22,7,15,11,6,5]
["Postgrado en Finanzas Bancarias",0,0,0,2,0,2,2,0,2]
["Postgrado en Tributaria",0,0,0,22,6,16,13,3,10]
["Postgrado en Marketing",11,5,6,47,22,25,13,6,7]
["Postgrado en Gestión de RRHH",12,2,10,45,16,29,21,8,13]
["Postgrado en Dirección y Administración de Empresas",8,3,5,52,32,20,14,7,7]
["Maestría en Dirección de Empresas",56,37,19,141,89,52,26,15,11]
[]
["FACULTAD DE CIENCIAS HUMANAS",{"$f":"+C22+D22","v":214},{"$f":"SUM(C23:C37)","v":38},{"$f":"SUM(D23:D37)","v":176},{"$f":"+F22+G22","v":687},{"$f":"SUM(F23:F37)","v":131},{"$f":"SUM(G23:G37)","v":556},{"$f":"+I22+J22","v":85},{"$f":"SUM(I23:I37)","v":10},{"$f":"SUM(J23:J37)","v":75}]
["Postgrado en Cambio Organizacional ",16,2,14,55,11,44,12,2,10]
["Postgrado en Comunicación y Cultura",0,0,0,5,2,3,1,0,1]
["Postgrado en Estrategias Comunicacionales",13,4,9,33,8,25,2,0,2]
["Postgrado en Comunicación Organizacional",18,4,14,33,7,26,2,1,1]
["Postgrado en Gestión de Centros Educativos",43,12,31,147,35,112,13,1,12]
["Postgrado en Didáctica de la Matemática",0,0,0,0,0,0,5,0,5]
["Postgrado en Dificultades de Aprendizaje del Lenguaje y Razonamiento",91,7,84,211,13,198,36,0,36]
["Postgrado en Orientación Educativa",1,0,1,42,7,35,1,1,0]
["Postgrado en Gestión Educativa",11,2,9,11,2,9,0,0,0]
["Maestría en Comunicación - énfasis en Recepción y Cultura",5,3,2,21,9,12,0,0,0]
["Maestría en Educación",5,1,4,63,15,48,7,3,4]
["Maestría en Comunicación Política y Gestión de Campañas",5,2,3,24,12,12,0,0,0]
["Maestría en Estudios Organizacionales",6,1,5,32,9,23,6,2,4]
["Maestría en Evaluación de Sistemas Educativos",0,0,0,10,1,9,0,0,0]
[]
["FACULTAD DE PSICOLOGÍA",{"$f":"+C38+D38","v":197},{"$f":"SUM(C39:C58)","v":33},{"$f":"SUM(D39:D58)","v":164},{"$f":"+F38+G38","v":788},{"$f":"SUM(F39:F58)","v":108},{"$f":"SUM(G39:G58)","v":680},{"$f":"+I38+J38","v":66},{"$f":"SUM(I39:I58)","v":13},{"$f":"SUM(J39:J58)","v":53}]
["Postgrado en Psiconeuroinmunoendocrinología",0,0,0,36,4,32,26,3,23]
["Postgrado en Psicología Educacional",57,5,52,163,15,148,0,0,0]
["Postgrado en Psicología del Trabajo y Organización",32,4,28,83,9,74,6,1,5]
["Postgrado en Psicología Clínica orientación Cognitiva",32,5,27,86,11,75,0,0,0]
["Postgrado en Drogodependencia",13,4,9,46,13,33,7,4,3]
["Postgrado en Psicología Infantil y del Adolescente",20,2,18,64,7,57,0,0,0]
["Postgrado en Psicología Analítica",7,2,5,25,8,17,1,0,1]
["Postgrado en Psicología Sistémica y Familias",0,0,0,48,2,46,3,0,3]
["Postgrado en Intervención Psicosocial",9,0,9,34,1,33,1,1,0]
["Postgrado en Diabetología",0,0,0,44,15,29,15,4,11]
["Maestría en Intervención Psicopedagógica",7,0,7,21,0,21,0,0,0]
["Maestría en Psicología Educacional",5,3,2,19,5,14,0,0,0]
["Maestría en Psicología Clínica Niños y Adolescentes",1,1,0,7,1,6,0,0,0]
["Maestría en Psicoterapia Jungiana",8,6,2,17,8,9,0,0,0]
["Maestría en Psicología Clínica Familiar Sistémica",1,0,1,18,1,17,0,0,0]
["Maestría en Psicología Clínica orientación Cognitiva",0,0,0,12,1,11,0,0,0]
["Maestría en Nutrición",5,1,4,60,6,54,7,0,7]
["Doctorado en Psicología",0,0,0,4,1,3,0,0,0]
["Salto"]
["Postgrado en Psicología Educacional (Salto)",0,0,0,1,0,1,0,0,0]
[]
["FACULTAD DE ENFERMERÍA Y TECNOLOGÍAS DE LA SALUD",{"$f":"+C60+D60","v":2},{"$f":"SUM(C61:C64)","v":0},{"$f":"SUM(D61:D64)","v":2},{"$f":"+F60+G60","v":138},{"$f":"SUM(F61:F64)","v":14},{"$f":"SUM(G61:G64)","v":124},{"$f":"+I60+J60","v":26},{"$f":"SUM(I61:I64)","v":3},{"$f":"SUM(J61:J64)","v":23}]
["Postgrado en Gestión de Servicios de Salud",0,0,0,84,13,71,18,3,15]
["Postgrado en Salud Comunitaria",0,0,0,16,0,16,6,0,6]
["Postgrado en Enfermería Oncológica",1,0,1,15,0,15,0,0,0]
["Postgrado en Enfermería Cuidados Intensivos",1,0,1,23,1,22,2,0,2]
[]
["FACULTAD DE ODONTOLOGÍA",{"$f":"+C66+D66","v":22},{"$f":"SUM(C67:C68)","v":2},{"$f":"SUM(D67:D68)","v":20},{"$f":"+F66+G66","v":246},{"$f":"SUM(F67:F68)","v":30},{"$f":"SUM(G67:G68)","v":216},{"$f":"+I66+J66","v":0},{"$f":"SUM(I67:I68)","v":0},{"$f":"SUM(J67:J68)","v":0}]
["Postgrado de Especialización en Ortodoncia y Ortopedia Buco maxilofacial",{"$f":"+C67+D67","v":22},2,20,{"$f":"+F67+G67","v":246},30,216,{"$f":"+I67+J67","v":0},0,0]
[]
["FACULTAD DE INGENIERÍA Y TECNOLOGÍAS -",{"$f":"+C69+D69","v":3},{"$f":"SUM(C70:C71)","v":1},{"$f":"SUM(D70:D71)","v":2},{"$f":"+F69+G69","v":35},{"$f":"SUM(F70:F71)","v":14},{"$f":"SUM(G70:G71)","v":21},{"$f":"+I69+J69","v":4},{"$f":"SUM(I70:I71)","v":1},{"$f":"SUM(J70:J71)","v":3}]
["Postgrado en Ciencia y Tecnología de Alimentos",{"$f":"+C70+D70","v":3},1,2,{"$f":"+F70+G70","v":29},8,21,{"$f":"+I70+J70","v":3},0,3]
["Maestría en Ciencias de la Ingeniería Eléctrica",{"$f":"+C71+D71","v":0},0,0,{"$f":"+F71+G71","v":6},6,0,{"$f":"+I71+J71","v":1},1,0]
[]
["FACULTAD DE DERECHO",{"$f":"+C73+D73","v":33},{"$f":"SUM(C74:C75)","v":9},{"$f":"SUM(D74:D75)","v":24},{"$f":"+F73+G73","v":34},{"$f":"SUM(F74:F75)","v":9},{"$f":"SUM(G74:G75)","v":25},{"$f":"+I73+J73","v":1},{"$f":"SUM(I74:I75)","v":0},{"$f":"SUM(J74:J75)","v":1}]
["Maestría en Derecho",{"$f":"+C74+D74","v":0},0,0,{"$f":"+F74+G74","v":1},0,1,{"$f":"+I74+J74","v":1},0,1]
["Maestría en Derecho Civíl",{"$f":"+C75+D75","v":33},9,24,{"$f":"+F75+G75","v":33},9,24,{"$f":"+I75+J75","v":0},0,0]
[]
["Psicología y Enfermería y Tecnologías de la Salud",{"$f":"+C77+D77","v":0},{"$f":"SUM(C78:C78)","v":0},{"$f":"SUM(D78:D78)","v":0},{"$f":"+F77+G77","v":21},{"$f":"SUM(F78:F78)","v":1},{"$f":"SUM(G78:G78)","v":20},{"$f":"+I77+J77","v":10},{"$f":"SUM(I78:I78)","v":0},{"$f":"SUM(J78:J78)","v":10}]
["Maestría en Atención Temprana",0,0,0,21,1,20,10,0,10]
[]
["UNIVERSIDAD ORT URUGUAY",{"$f":"SUM(C80:D80)","v":198},{"$f":"+C82+C98+C101+C104","v":78},{"$f":"+D82+D98+D101+D104","v":120},{"$f":"SUM(F80:G80)","v":688},{"$f":"+F82+F98+F101+F104","v":285},{"$f":"+G82+G98+G101+G104","v":403},{"$f":"SUM(I80:J80)","v":186},{"$f":"+I82+I98+I101+I104","v":78},{"$f":"+J82+J98+J101+J104","v":108}]
[]
["FACULTAD DE ADMINISTRACIÓN Y CIENCIAS SOCIALES",{"$f":"+C82+D82","v":130},{"$f":"SUM(C83:C96)","v":53},{"$f":"SUM(D83:D96)","v":77},{"$f":"+F82+G82","v":477},{"$f":"SUM(F83:F96)","v":210},{"$f":"SUM(G83:G96)","v":267},{"$f":"+I82+J82","v":112},{"$f":"SUM(I83:I96)","v":52},{"$f":"SUM(J83:J96)","v":60}]
["Diploma de Especialización en Recursos Humanos",11,4,7,40,11,29,6,1,5]
["Diploma de Especialización en Finanzas",3,0,3,27,8,19,9,4,5]
["Master en Administración de Empresas",26,16,10,98,62,36,38,26,12]
["Master en Políticas Públicas",0,0,0,1,1,0,1,1,0]
["MBA en Agronegocios",0,0,0,1,1,0,0,0,0]
["Master en Dirección de Recursos Humanos",8,1,7,23,4,19,3,0,3]
["Master en Dirección Financiera",4,1,3,21,13,8,5,4,1]
["Diploma de Especialización en Impuestos",29,8,21,100,28,72,19,6,13]
["Diploma de Especialización en Dirección de Marketing",16,4,12,39,9,30,12,3,9]
["Diploma de Especialización en Contabilidad",12,4,8,34,11,23,7,1,6]
["Master en Impuestos y Normas de Contabilidad - NIIF",8,3,5,28,10,18,2,0,2]
["Diploma de Especialización en Economía",0,0,0,1,0,1,0,0,0]
["Master en Economía",0,0,0,13,8,5,2,1,1]
["Master en Gerencia de Empresas Tecnológicas TIC",13,12,1,51,44,7,8,5,3]
[]
["FACULTAD DE INGENIERÍA",{"$f":"+C98+D98","v":5},{"$f":"SUM(C99:C99)","v":3},{"$f":"SUM(D99:D99)","v":2},{"$f":"+F98+G98","v":24},{"$f":"SUM(F99:F99)","v":19},{"$f":"SUM(G99:G99)","v":5},{"$f":"+I98+J98","v":3},{"$f":"SUM(I99:I99)","v":3},{"$f":"SUM(J99:J99)","v":0}]
["Master en Ingeniería",{"$f":"+C99+D99","v":5},3,2,{"$f":"+F99+G99","v":24},19,5,{"$f":"+I99+J99","v":3},3,0]
[]
["FACULTAD DE ARQUITECTURA",{"$f":"+C101+D101","v":10},{"$f":"C102","v":5},{"$f":"D102","v":5},{"$f":"+F101+G101","v":20},{"$f":"F102","v":11},{"$f":"G102","v":9},{"$f":"+I101+J101","v":6},{"$f":"I102","v":4},{"$f":"J102","v":2}]
["Diploma de Especialización en Desarrollos Inmobiliarios",{"$f":"+C102+D102","v":10},5,5,{"$f":"+F102+G102","v":20},11,9,{"$f":"+I102+J102","v":6},4,2]
[]
["INSTITUTO DE EDUCACIÓN",{"$f":"+C104+D104","v":53},{"$f":"SUM(C105:C109)","v":17},{"$f":"SUM(D105:D109)","v":36},{"$f":"+F104+G104","v":167},{"$f":"SUM(F105:F109)","v":45},{"$f":"SUM(G105:G109)","v":122},{"$f":"+I104+J104","v":65},{"$f":"SUM(I105:I109)","v":19},{"$f":"SUM(J105:J109)","v":46}]
["Diploma en Educación (a distancia)",0,0,0,0,0,0,34,8,26]
["Master en Educación",23,6,17,92,25,67,10,4,6]
["Diploma en Planificación y Gestión Educativa (a distancia)",3,1,2,3,1,2,12,5,7]
["Master en Gestión Educativa",27,10,17,59,17,42,9,2,7]
["Doctorado en Educación",0,0,0,13,2,11,0,0,0]
[]
["UNIVERSIDAD DE MONTEVIDEO",{"$f":"+C111+D111","v":302},{"$f":"C113+C117+C126+C130+C137+C140+C143","v":159},{"$f":"D113+D117+D126+D130+D137+D140+D143","v":143},{"$f":"+F111+G111","v":639},{"$f":"+F113+F117+F126+F130+F137+F140+F143","v":307},{"$f":"+G113+G117+G126+G130+G137+G140+G143","v":332},{"$f":"+I111+J111","v":107},{"$f":"+I113+I117+I126+I130+I137+I140+I143","v":60},{"$f":"+J113+J117+J126+J130+J137+J140+J143","v":47}]
[]
["FACULTAD DE CIENCIAS EMPRESARIALES Y ECONOMÍA",{"$f":"+C113+D113","v":42},{"$f":"SUM(C114:C115)","v":25},{"$f":"SUM(D114:D115)","v":17},{"$f":"+F113+G113","v":76},{"$f":"SUM(F114:F115)","v":41},{"$f":"SUM(G114:G115)","v":35},{"$f":"+I113+J113","v":16},{"$f":"SUM(I114:I115)","v":7},{"$f":"SUM(J114:J115)","v":9}]
["Maestría en Finanzas",{"$f":"+C114+D114","v":28},17,11,{"$f":"+F114+G114","v":49},29,20,{"$f":"+I114+J114","v":14},6,8]
["Maestría en Economía",{"$f":"+C115+D115","v":14},8,6,{"$f":"+F115+G115","v":27},12,15,{"$f":"+I115+J115","v":2},1,1]
[]
["FACULTAD DE DERECHO",{"$f":"+C117+D117","v":102},{"$f":"SUM(C118:C124)","v":40},{"$f":"SUM(D118:D124)","v":62},{"$f":"+F117+G117","v":264},{"$f":"SUM(F118:F124)","v":100},{"$f":"SUM(G118:G124)","v":164},{"$f":"+I117+J117","v":11},{"$f":"SUM(I118:I124)","v":8},{"$f":"SUM(J118:J124)","v":3}]
["Maestría en Comercio Internacional e Integración",8,3,5,20,7,13,0,0,0]
["Maestría en Derecho Administrativo Económico",13,4,9,28,8,20,0,0,0]
["Maestría en Derecho de la Empresa",19,8,11,49,23,26,2,1,1]
["Maestría en Derecho y Técnica Tributaria",30,13,17,70,31,39,9,7,2]
["Maestría en Derecho LL.M.",23,9,14,29,12,17,0,0,0]
["Maestría en Gestión Humana de las Organizaciones",0,0,0,26,7,19,0,0,0]
["Maestría en Contabilidad y Técnica Tributaria",9,3,6,42,12,30,0,0,0]
[]
["INSTITUTO DE ESTUDIOS EMPRESARIALES",{"$f":"+C126+D126","v":107},{"$f":"SUM(C127:C128)","v":69},{"$f":"SUM(D127:D128)","v":38},{"$f":"+F126+G126","v":165},{"$f":"SUM(F127:F128)","v":106},{"$f":"SUM(G127:G128)","v":59},{"$f":"+I126+J126","v":58},{"$f":"SUM(I127:I128)","v":37},{"$f":"SUM(J127:J128)","v":21}]
["Maestría Profesional en Dirección y Administración de Empresas",{"$f":"+C127+D127","v":83},54,29,{"$f":"+F127+G127","v":122},81,41,{"$f":"+I127+J127","v":40},28,12]
["Maestría en Dirección de Empresas de Salud",{"$f":"+C128+D128","v":24},15,9,{"$f":"+F128+G128","v":43},25,18,{"$f":"+I128+J128","v":18},9,9]
[]
["CENTRO DE CIENCIAS BIOMÉDICAS",{"$f":"+C130+D130","v":43},{"$f":"SUM(C131:C135)","v":18},{"$f":"SUM(D131:D135)","v":25},{"$f":"+F130+G130","v":104},{"$f":"SUM(F131:F135)","v":40},{"$f":"SUM(G131:G135)","v":64},{"$f":"+I130+J130","v":22},{"$f":"SUM(I131:I135)","v":8},{"$f":"SUM(J131:J135)","v":14}]
["Maestría en Medicina Familiar",15,4,11,27,6,21,13,2,11]
["Maestría en Farmacología Clínica",5,2,3,10,4,6,1,0,1]
["Especialización en Medicina de Emergencia",19,8,11,56,19,37,8,6,2]
["Especialización en Traumatología y Ortopedia",4,4,0,11,11,0,0,0,0]
["Especialización en Mastología",0,0,0,0,0,0,0,0,0]
[]
["FACULTAD DE HUMANIDADES",{"$f":"+C137+D137","v":7},{"$f":"SUM(C138:C138)","v":6},{"$f":"SUM(D138:D138)","v":1},{"$f":"+F137+G137","v":21},{"$f":"SUM(F138:F138)","v":16},{"$f":"SUM(G138:G138)","v":5},{"$f":"+I137+J137","v":0},{"$f":"SUM(I138:I138)","v":0},{"$f":"SUM(J138:J138)","v":0}]
["Maestría en Historia",{"$f":"+C138+D138","v":7},6,1,{"$f":"+F138+G138","v":21},16,5,{"$f":"+I138+J138","v":0},0,0]
[]
["FACULTAD DE COMUNICACIÓN",{"$f":"+C140+D140","v":1},{"$f":"SUM(C141:C141)","v":1},{"$f":"SUM(D141:D141)","v":0},{"$f":"+F140+G140","v":7},{"$f":"SUM(F141:F141)","v":3},{"$f":"SUM(G141:G141)","v":4},{"$f":"+I140+J140","v":0},{"$f":"SUM(I141:I141)","v":0},{"$f":"SUM(J141:J141)","v":0}]
["Maestría en Estudios Latinoamericanos",{"$f":"+C141+D141","v":1},1,0,{"$f":"+F141+G141","v":7},3,4,{"$f":"+I141+J141","v":0},0,0]
[]
["FACULTAD DE INGENIERÍA",{"$f":"C143+D143","v":0},{"$f":"C144","v":0},{"$f":"D144","v":0},{"$f":"F143+G143","v":2},{"$f":"F144","v":1},1,{"$f":"I143+J143","v":0},0,0]
["Maestría en Investigación Aplicada en Ingeniería",{"$f":"C144+D144","v":0},0,0,{"$f":"F144+G144","v":2},1,1,{"$f":"I144+J144","v":0},0,0]
[]
["UNIVERSIDAD DE LA EMPRESA",{"$f":"+C146+D146","v":227},{"$f":"+C148+C157+C161+C165","v":111},{"$f":"+D148+D157+D161+D165","v":116},{"$f":"+F146+G146","v":801},{"$f":"+F148+F157+F161+F165","v":356},{"$f":"+G148+G157+G161+G165","v":445},{"$f":"+I146+J146","v":83},{"$f":"+I148+I157+I161+I165","v":46},{"$f":"+J148+J157+J161+J165","v":37}]
[]
["FACULTAD DE CIENCIAS EMPRESARIALES ",{"$f":"+C148+D148","v":112},{"$f":"SUM(C149:C155)","v":54},{"$f":"SUM(D149:D155)","v":58},{"$f":"+F148+G148","v":353},{"$f":"SUM(F149:F155)","v":185},{"$f":"SUM(G149:G155)","v":168},{"$f":"+I148+J148","v":35},{"$f":"SUM(I149:I155)","v":17},{"$f":"SUM(J149:J155)","v":18}]
["Postgrado de Especialización Ejecutivo en Marketing",25,18,7,25,18,7,0,0,0]
["Postgrado de Especialización en Dirección de Recursos Humanos",27,4,23,27,4,23,6,1,5]
["Postgrado de Especialización en Habilidades Gerenciales",13,6,7,13,6,7,13,7,6]
["Maestría en Dirección y Administración de Empresas",24,14,10,187,102,85,5,3,2]
["Doctorado en Administración",0,0,0,38,27,11,0,0,0]
["Postgrado de Especialización en Negocios",12,8,4,19,12,7,10,5,5]
["Postgrado en Tributación y Fiscalidad",11,4,7,44,16,28,1,1,0]
[]
["FACULTAD DE CIENCIAS JURIDÍCAS",{"$f":"+C157+D157","v":22},{"$f":"SUM(C158:C159)","v":14},{"$f":"SUM(D158:D159)","v":8},{"$f":"+F157+G157","v":75},{"$f":"SUM(F158:F159)","v":45},{"$f":"SUM(G158:G159)","v":30},{"$f":"+I157+J157","v":2},{"$f":"SUM(I158:I159)","v":1},{"$f":"SUM(J158:J159)","v":1}]
["Maestría en Derecho de las Relaciones Internacionales y de la Integración en América Latina",{"$f":"+C158+D158","v":22},14,8,{"$f":"+F158+G158","v":56},35,21,{"$f":"+I158+J158","v":2},1,1]
["Maestría en Ciencias Criminológico Forenses",{"$f":"+C159+D159","v":0},0,0,{"$f":"+F159+G159","v":19},10,9,{"$f":"+I159+J159","v":0},0,0]
[]
["FACULTAD DE CIENCIAS DE LA  EDUCACIÓN",{"$f":"+C161+D161","v":51},{"$f":"SUM(C162:C163)","v":12},{"$f":"SUM(D162:D163)","v":39},{"$f":"+F161+G161","v":331},{"$f":"SUM(F162:F163)","v":95},{"$f":"SUM(G162:G163)","v":236},{"$f":"+I161+J161","v":16},{"$f":"SUM(I162:I163)","v":7},{"$f":"SUM(J162:J163)","v":9}]
["Maestría en Educación",{"$f":"+C162+D162","v":51},12,39,{"$f":"+F162+G162","v":284},81,203,{"$f":"+I162+J162","v":9},4,5]
["Doctorado en Educación",{"$f":"+C163+D163","v":0},0,0,{"$f":"+F163+G163","v":47},14,33,{"$f":"+I163+J163","v":7},3,4]
[]
["FACULTAD DE CIENCIAS AGRARIAS",{"$f":"+C165+D165","v":42},{"$f":"C166+C167","v":31},{"$f":"D166+D167","v":11},{"$f":"+F165+G165","v":42},{"$f":"F166+F167","v":31},{"$f":"G166+G167","v":11},{"$f":"+I165+J165","v":30},{"$f":"I166+I167","v":21},{"$f":"J166+J167","v":9}]
["Diploma en Administración de Agronegocios",{"$f":"+C166+D166","v":20},14,6,{"$f":"+F166+G166","v":20},14,6,{"$f":"+I166+J166","v":19},14,5]
["Programa de Gestión Agropecuaria",{"$f":"+C167+D167","v":22},17,5,{"$f":"+F167+G167","v":22},17,5,{"$f":"+I167+J167","v":11},7,4]
[]
["Fuente: Oficinas Productoras de cada una de las Instituciones. "]

{"sheet":"II-7.2.8 ","index":255,"n_rows":46,"n_cols":12,"rows_kept":46,"cut":false,"hidden":false,"merged":[[6,5,6,6],[6,8,6,9],[46,0,46,5],[0,5,1,8],[4,0,4,9],[5,0,7,0],[5,1,7,1],[5,2,5,3],[5,4,7,4],[5,5,5,6],[5,7,7,7],[5,8,5,9],[6,2,6,3]]}
["INSTITUTOS UNIVERSITARIOS: OFERTA DE POSTGRADO",null,null,null,null,"ALUMNOS MATRICULADOS"]
[]
["Cuadro Nº II-7.2.8"]
[]
["ALUMNOS INGRESADOS, MATRICULADOS Y EGRESADOS EN PROGRAMAS DE POSTGRADO DE INSTITUTOS UNIVERSITARIOS POR SEXO SEGÚN INSTITUTO UNIVERSITARIO Y ACREDITACIÓN. AÑO 2013."]
["INSTITUTO UNIVERSITARIO / ACREDITACIÓN","TOTAL","INGRESADOS",null,"TOTAL","MATRICULADOS",null,"TOTAL","EGRESADOS"]
[null,null,"SEXO",null,null,"SEXO",null,null,"SEXO"]
[null,null,"M","F",null,"M","F",null,"M","F"]
["TOTAL",{"$f":"SUM(C9:D9)","v":259},{"$f":"+C11+C21+C27+C24+C33+C30+C37","v":160},{"$f":"+D11+D21+D27+D24+D33+D30+D37","v":99},{"$f":"SUM(F9:G9)","v":355},{"$f":"+F11+F21+F27+F24+F33+F30+F37","v":132},{"$f":"+G11+G21+G27+G24+G33+G30+G37","v":223},{"$f":"SUM(I9:J9)","v":131},{"$f":"+I11+I21+I27+I24+I33+I30+I37","v":91},{"$f":"+J11+J21+J27+J24+J33+J30+J37","v":40}]
[]
["INST UNIV CLAEH ",{"$f":"+C11+D11","v":78},{"$f":"SUM(C12:C20)","v":15},{"$f":"SUM(D12:D20)","v":63},{"$f":"+F11+G11","v":174},{"$f":"SUM(F12:F20)","v":32},{"$f":"SUM(G12:G20)","v":142},{"$f":"I11+J11","v":10},{"$f":"SUM(I12:I20)","v":4},{"$f":"SUM(J12:J20)","v":6},null,{"$f":"E11+E21+E24+E27+E30","v":262}]
["Especialización en Didáctica de la Historia",{"$f":"+C12+D12","v":15},3,12,{"$f":"+F12+G12","v":15},3,12,{"$f":"+I12+J12","v":0},0,0]
["Especialización en Gestion de Servicios de  Salud",18,6,12,77,16,61,2,1,1]
["Especialización en Didáctica de la Educación Básica",9,2,7,9,2,7,5,3,2]
["Especialización en Docencia de la Educación Media",6,1,5,21,5,16,1,0,1]
["Maestría en Políticas y Gestión de la Educación",0,0,0,6,0,6,1,0,1]
["Especialización en Tecnología Educativa",12,1,11,24,3,21,1,0,1]
["Maestria en Tecnología Educativa",0,0,0,4,1,3,0,0,0]
["Especialización en Didáctica de la Educación Superior",18,2,16,18,2,16,0,0,0]
[]
["INSTITUTO UNIVERSITARIO DE POSTGRADO EN PSICOANÁLISIS (IUPP) -",{"$f":"+C21+D21","v":6},{"$f":"SUM(C22)","v":1},{"$f":"SUM(D22)","v":5},{"$f":"+F21+G21","v":45},{"$f":"SUM(F22)","v":8},{"$f":"SUM(G22)","v":37},{"$f":"+I21+J21","v":13},{"$f":"SUM(I22)","v":1},{"$f":"SUM(J22)","v":12}]
["Maestría en Psicoanálisis",{"$f":"+C22+D22","v":6},1,5,{"$f":"+F22+G22","v":45},8,37,{"$f":"+I22+J22","v":13},1,12]
[]
["INST METODISTA UNIV CRANDON ",{"$f":"+C24+D24","v":6},{"$f":"SUM(C25)","v":2},{"$f":"SUM(D25)","v":4},{"$f":"+F24+G24","v":6},{"$f":"SUM(F25)","v":2},{"$f":"SUM(G25)","v":4},{"$f":"+I24+J24","v":8},{"$f":"SUM(I25)","v":2},{"$f":"SUM(J25)","v":6}]
["Posgrado de Especialización de Traducción en la lengua inglesa",{"$f":"+C25+D25","v":6},2,4,{"$f":"+F25+G25","v":6},2,4,{"$f":"+I25+J25","v":8},2,6]
[]
["INST UNIV CEDIIAP",{"$f":"+C27+D27","v":0},{"$f":"SUM(C28)","v":0},{"$f":"SUM(D28)","v":0},{"$f":"+F27+G27","v":5},{"$f":"SUM(F28)","v":0},{"$f":"SUM(G28)","v":5},{"$f":"+I27+J27","v":2},{"$f":"SUM(I28)","v":0},{"$f":"SUM(J28)","v":2}]
["Especialización en Dificultades de Aprendizaje con mención en las funciones psicológicas superiores",{"$f":"+C28+D28","v":0},0,0,{"$f":"+F28+G28","v":5},0,5,{"$f":"+I28+J28","v":2},0,2]
[]
["INST UNIV ASOCIACIÓN CRISTIANA DE JÓVENES",{"$f":"+C30+D30","v":0},{"$f":"SUM(C31)","v":0},{"$f":"SUM(D31)","v":0},{"$f":"+F30+G30","v":32},{"$f":"SUM(F31)","v":20},{"$f":"SUM(G31)","v":12},{"$f":"+I30+J30","v":0},{"$f":"SUM(I31)","v":0},{"$f":"SUM(J31)","v":0}]
["Posgrado de Especialización en educación física y deporte escolar",{"$f":"+C31+D31","v":0},0,0,{"$f":"+F31+G31","v":32},20,12,{"$f":"+I31+J31","v":0},0,0]
[]
["Centro de Altos Estudios Nacionales (CALEN)",{"$f":"+C33+D33","v":62},{"$f":"C34+C35","v":40},{"$f":"D34+D35","v":22},{"$f":"+F33+G33","v":62},{"$f":"F34+F35","v":40},{"$f":"G34+G35","v":22},{"$f":"+I33+J33","v":38},{"$f":"I34+I35","v":24},{"$f":"J34+J35","v":14}]
["Posgrado de Especialización en Estrategia Nacional",{"$f":"+C34+D34","v":31},20,11,{"$f":"+F34+G34","v":31},20,11,{"$f":"+I34+J34","v":19},12,7]
["Maestría en Estrategia Nacional",{"$f":"+C35+D35","v":31},20,11,{"$f":"+F35+G35","v":31},20,11,19,12,7]
[]
["Escuela de Guerra Naval (ESGUE)",{"$f":"C37+D37","v":107},{"$f":"SUM(C38:C43)","v":102},{"$f":"SUM(D38:D43)","v":5},{"$f":"F37+G37","v":31},{"$f":"SUM(F38:F43)","v":30},{"$f":"SUM(G38:G43)","v":1},{"$f":"I37+J37","v":60},{"$f":"SUM(I38:I43)","v":60},{"$f":"SUM(J38:J43)","v":0}]
["Curso perfec. Of. Subalternos",41,36,5,{"$f":"F38+G38","v":3},2,1,16,16,0]
["Curso perfec. Of. Jefes",23,23,0,{"$f":"F39+G39","v":2},2,0,13,13,0]
["Curso perf. Of. Superiores",24,24,0,{"$f":"F40+G40","v":24},24,0,16,16,0]
["Curso de Mando para TT/NN",8,8,0,{"$f":"F41+G41","v":2},2,0,4,4,0]
["Curso Estado Mayor Gral.",10,10,0,{"$f":"F42+G42","v":0},0,0,10,10,0]
["Curso Estado Mayor Técnico",1,1,0,0,0,0,1,1,0]
[]
["Fuente: Oficinas Productoras de cada una de las Instituciones. "]
["Nota: Para las definiciones de ingreso, matrícula y egreso, ir a Anexo-Definiciones. "]

{"sheet":"II-7.2.9 ","index":256,"n_rows":152,"n_cols":11,"rows_kept":152,"cut":false,"hidden":false,"merged":[[153,0,153,5],[0,3,1,6],[4,0,4,10],[5,0,8,0],[5,1,5,10],[6,1,8,1],[6,2,6,4],[6,5,6,7],[6,8,6,10],[7,2,8,2],[7,3,7,4],[7,5,8,5],[7,6,7,7],[7,8,8,8],[7,9,7,10],[151,0,151,10]]}
["UNIVERSIDADES E INSTITUTOS UNIVERSITARIOS",null,null,"PERSONAL ACADÉMICO"]
[]
["Cuadro Nº II-7.2.9"]
[]
["PERSONAL DOCENTE Y NO DOCENTE DE INSTITUCIONES UNIVERSITARIAS PUBLICAS Y PRIVADAS EXPRESADAS EN POSICIONES FUNCIONALES POR CARGA HORARIA SEMANAL SEGÚN INSTITUCIÓN, ACTIVIDAD Y SEXO. AÑO 2013."]
["INSTITUCIÓN / ACTIVIDAD","Carga horaria semanal"]
[null,"TOTAL","19 y -",null,null,"20 a 39",null,null,"40 y +"]
[null,null,"Total","Sexo",null,"Total","Sexo",null,"Total","Sexo"]
[null,null,null,"M","F",null,"M","F",null,"M","F"]
["TOTAL DOCENTE Y NO DOCENTE",{"$f":"+C10+F10+I10","v":25170},{"$f":"+C11+C12","v":10194},{"$f":"SUM(D11:D12)","v":3719},{"$f":"SUM(E11:E12)","v":2623},{"$f":"+F11+F12","v":8269},{"$f":"SUM(G11:G12)","v":428},{"$f":"SUM(H11:H12)","v":371},{"$f":"+I11+I12","v":6707},{"$f":"SUM(J11:J12)","v":412},{"$f":"SUM(K11:K12)","v":443}]
["Total Personal Docente",{"$f":"+C11+F11+I11","v":17926},{"$f":"C15+C19+C23","v":9948},{"$f":"D15+D19+D23","v":3613},2483,{"$f":"F15+F19+F23","v":5517},{"$f":"G15+G19+G23","v":328},208,{"$f":"I15+I19+I23","v":2461},{"$f":"J15+J19+J23","v":240},159]
["Total Personal NO Docente",{"$f":"+C12+F12+I12","v":7244},{"$f":"C16+C20+C24","v":246},106,140,{"$f":"F16+F20+F24","v":2752},100,163,{"$f":"I16+I20+I24","v":4246},172,284]
[]
["TOTAL UDELAR DOCENTE Y NO DOCENTE*",{"$f":"+C14+F14+I14","v":17174},{"$f":"+C15+C16","v":3852},{"$f":"SUM(D15:D16)","v":0},{"$f":"SUM(E15:E16)","v":0},{"$f":"+F15+F16","v":7470},{"$f":"SUM(G15:G16)","v":0},{"$f":"SUM(H15:H16)","v":0},{"$f":"+I15+I16","v":5852},{"$f":"SUM(J15:J16)","v":0},{"$f":"SUM(K15:K16)","v":0}]
["Personal Docente UDELAR",{"$f":"+C15+F15+I15","v":10895},3852,"s/d","s/d",4981,"s/d","s/d",2062,"s/d","s/d"]
["Personal NO Docente UDELAR",{"$f":"+C16+F16+I16","v":6279},0,"s/d","s/d",2489,"s/d","s/d",3790,"s/d","s/d"]
[]
["TOTAL PRIVADOS DOCENTE Y NO DOCENTE",{"$f":"+C18+F18+I18","v":7544},{"$f":"+D18+E18","v":6039},{"$f":"+D19+D20","v":3482},{"$f":"+E19+E20","v":2557},{"$f":"+G18+H18","v":746},{"$f":"+G19+G20","v":411},{"$f":"+H19+H20","v":335},{"$f":"+J18+K18","v":759},{"$f":"+J19+J20","v":327},{"$f":"+K19+K20","v":432}]
["Personal Docente de Universidades e Institutos Privados",{"$f":"+C19+F19+I19","v":6665},{"$f":"+D19+E19","v":5823},{"$f":"SUM(D27:D31,D35:D39,D43:D47,D51:D55,D59:D63,D67:D70,D74:D77,D81:D85,D89:D93,D97:D100,D104:D108,D112:D116)","v":3392},{"$f":"SUM(E27:E31,E35:E39,E43:E47,E51:E55,E59:E63,E67:E70,E74:E77,E81:E85,E89:E93,E97:E100,E104:E108,E112:E116)","v":2431},{"$f":"+G19+H19","v":532},{"$f":"SUM(G27:G31,G35:G39,G43:G47,G51:G55,G59:G63,G67:G70,G74:G77,G81:G85,G89:G93,G97:G100,G104:G108,G112:G116)","v":325},{"$f":"SUM(H27:H31,H35:H39,H43:H47,H51:H55,H59:H63,H67:H70,H74:H77,H81:H85,H89:H93,H97:H100,H104:H108,H112:H116)","v":207},{"$f":"+J19+K19","v":310},{"$f":"SUM(J27:J31,J35:J39,J43:J47,J51:J55,J59:J63,J67:J70,J74:J77,J81:J85,J89:J93,J97:J100,J104:J108,J112:J116)","v":157},{"$f":"SUM(K27:K31,K35:K39,K43:K47,K51:K55,K59:K63,K67:K70,K74:K77,K81:K85,K89:K93,K97:K100,K104:K108,K112:K116)","v":153}]
["Personal NO Docente de Universidades e Institutos Privados",{"$f":"+C20+F20+I20","v":879},{"$f":"+D20+E20","v":216},{"$f":"D32+D40+D48+D56+D64+D71+D78+D86+D94+D101+D109+D117","v":90},{"$f":"E32+E40+E48+E56+E64+E71+E78+E86+E94+E101+E109+E117","v":126},{"$f":"+G20+H20","v":214},{"$f":"G32+G40+G48+G56+G64+G71+G78+G86+G94+G101+G109+G117","v":86},{"$f":"H32+H40+H48+H56+H64+H71+H78+H86+H94+H101+H109+H117","v":128},{"$f":"+J20+K20","v":449},{"$f":"J32+J40+J48+J56+J64+J71+J78+J86+J94+J101+J109+J117","v":170},{"$f":"K32+K40+K48+K56+K64+K71+K78+K86+K94+K101+K109+K117","v":279}]
[]
["TOTAL SEGURIDAD Y DEFENSA DOCENTE Y NO DOCENTE",{"$f":"+C22+F22+I22","v":452},{"$f":"+D22+E22","v":303},{"$f":"+D23+D24","v":237},{"$f":"+E23+E24","v":66},{"$f":"+G22+H22","v":53},{"$f":"+G23+G24","v":17},{"$f":"+H23+H24","v":36},{"$f":"+J22+K22","v":96},{"$f":"+J23+J24","v":85},{"$f":"+K23+K24","v":11}]
["Personal Docente Área Seguridad y Defensa",{"$f":"+C23+F23+I23","v":366},{"$f":"+D23+E23","v":273},{"$f":"SUM(D120:D124,D128:D132,D136:D140,D144:D148)","v":221},{"$f":"SUM(E120:E124,E128:E132,E136:E140,E144:E148)","v":52},{"$f":"+G23+H23","v":4},{"$f":"SUM(G120:G124,G128:G132,G136:G140,G144:G148)","v":3},{"$f":"SUM(H120:H124,H128:H132,H136:H140,H144:H148)","v":1},{"$f":"+J23+K23","v":89},{"$f":"SUM(J120:J124,J128:J132,J136:J140,J144:J148)","v":83},{"$f":"SUM(K120:K124,K128:K132,K136:K140,K144:K148)","v":6}]
["Personal NO Docente Área Seguridad y Defensa",{"$f":"+C24+F24+I24","v":86},{"$f":"+D24+E24","v":30},{"$f":"D125+D133+D141+D149","v":16},{"$f":"E125+E133+E141+E149","v":14},{"$f":"+G24+H24","v":49},{"$f":"G125+G133+G141+G149","v":14},{"$f":"H125+H133+H141+H149","v":35},{"$f":"+J24+K24","v":7},{"$f":"J125+J133+J141+J149","v":2},{"$f":"K125+K133+K141+K149","v":5}]
[]
["UCUDAL",{"$f":"C26+F26+I26","v":2337},{"$f":"+D26+E26","v":1742},{"$f":"SUM(D27:D32)","v":850},{"$f":"SUM(E27:E32)","v":892},{"$f":"+G26+H26","v":302},{"$f":"SUM(G27:G32)","v":139},{"$f":"SUM(H27:H32)","v":163},{"$f":"+J26+K26","v":293},{"$f":"SUM(J27:J32)","v":113},{"$f":"SUM(K27:K32)","v":180}]
["Personal Docente",1556,1556,792,764,0,0,0,0,0,0]
["Personal de Investigación y Extensión",55,48,9,39,7,1,6,0,0,0]
["Docente-Investigador",180,1,1,0,125,51,74,54,30,24]
["Personal de Gestión Universitaria",171,70,28,42,39,16,23,62,20,42]
["No desagregable por función",42,0,0,0,42,42,0,0,0,0]
["Personal no docente",333,67,20,47,89,29,60,177,63,114]
[]
["UNIVERSIDAD ORT URUGUAY ",{"$f":"C34+F34+I34","v":2625},{"$f":"+D34+E34","v":2177},{"$f":"SUM(D35:D40)","v":1422},{"$f":"SUM(E35:E40)","v":755},{"$f":"+G34+H34","v":233},{"$f":"SUM(G35:G40)","v":152},{"$f":"SUM(H35:H40)","v":81},{"$f":"+J34+K34","v":215},{"$f":"SUM(J35:J40)","v":102},{"$f":"SUM(K35:K40)","v":113}]
["Personal Docente",1784,1770,1159,611,13,6,7,1,0,1]
["Personal de Investigación y Extensión",43,32,23,9,10,7,3,1,0,1]
["Docente-Investigador",0,0,0,0,0,0,0,0,0,0]
["Personal de Gestión Universitaria",516,289,204,85,106,57,49,121,60,61]
["No desagregable por función",61,0,0,0,61,61,0,0,0,0]
["Personal no docente",221,86,36,50,43,21,22,92,42,50]
[]
["UNIVERSIDAD DE MONTEVIDEO",{"$f":"C42+F42+I42","v":800},{"$f":"+D42+E42","v":570},{"$f":"SUM(D43:D48)","v":366},{"$f":"SUM(E43:E48)","v":204},{"$f":"+G42+H42","v":79},{"$f":"SUM(G43:G48)","v":42},{"$f":"SUM(H43:H48)","v":37},{"$f":"+J42+K42","v":151},{"$f":"SUM(J43:J48)","v":70},{"$f":"SUM(K43:K48)","v":81}]
["Personal Docente",0,0,0,0,0,0,0,0,0,0]
["Personal de Investigación y Extensión",0,0,0,0,0,0,0,0,0,0]
["Docente-Investigador",655,561,358,203,36,23,13,58,38,20]
["Personal de Gestión Universitaria",0,0,0,0,0,0,0,0,0,0]
["No desagregable por función",0,0,0,0,0,0,0,0,0,0]
["Personal no docente",145,9,8,1,43,19,24,93,32,61]
[]
["UNIVERSIDAD DE LA EMPRESA",{"$f":"C50+F50+I50","v":843},{"$f":"+D50+E50","v":677},{"$f":"SUM(D51:D56)","v":421},{"$f":"SUM(E51:E56)","v":256},{"$f":"+G50+H50","v":89},{"$f":"SUM(G51:G56)","v":54},{"$f":"SUM(H51:H56)","v":35},{"$f":"+J50+K50","v":77},{"$f":"SUM(J51:J56)","v":32},{"$f":"SUM(K51:K56)","v":45}]
["Personal Docente",683,628,394,234,54,39,15,1,1,0]
["Personal de Investigación y Extensión",6,3,1,2,3,1,2,0,0,0]
["Docente-Investigador",20,11,6,5,9,5,4,0,0,0]
["Personal de Gestión Universitaria",9,1,0,1,3,1,2,5,2,3]
["No desagregable por función",3,0,0,0,3,3,0,0,0,0]
["Personal no docente",122,34,20,14,17,5,12,71,29,42]
[]
["INST UNIV ASOCIACIÓN CRISTIANA DE JÓVENES ",{"$f":"C58+F58+I58","v":202},{"$f":"+D58+E58","v":155},{"$f":"SUM(D59:D64)","v":74},{"$f":"SUM(E59:E64)","v":81},{"$f":"+G58+H58","v":34},{"$f":"SUM(G59:G64)","v":22},{"$f":"SUM(H59:H64)","v":12},{"$f":"+J58+K58","v":13},{"$f":"SUM(J59:J64)","v":7},{"$f":"SUM(K59:K64)","v":6}]
["Personal Docente",{"$f":"C59+F59+I59","v":166},{"$f":"+D59+E59","v":155},74,81,{"$f":"+G59+H59","v":9},5,4,{"$f":"+J59+K59","v":2},2,0]
["Personal de Investigación y Extensión",{"$f":"C60+F60+I60","v":3},{"$f":"+D60+E60","v":0},0,0,{"$f":"+G60+H60","v":3},2,1,{"$f":"+J60+K60","v":0},0,0]
["Docente-Investigador",{"$f":"C61+F61+I61","v":5},{"$f":"+D61+E61","v":0},0,0,{"$f":"+G61+H61","v":5},3,2,{"$f":"+J61+K61","v":0},0,0]
["Personal de Gestión Universitaria",5,{"$f":"+D62+E62","v":0},0,0,{"$f":"+G62+H62","v":2},1,1,{"$f":"+J62+K62","v":3},2,1]
["No desagregable por función",1,{"$f":"+D63+E63","v":0},0,0,{"$f":"+G63+H63","v":1},1,0,{"$f":"+J63+K63","v":0},0,0]
["Personal no docente",22,0,0,0,14,10,4,8,3,5]
[]
["INST UNIV CLAEH ",{"$f":"C66+F66+I66","v":297},{"$f":"+D66+E66","v":297},{"$f":"SUM(D67:D71)","v":135},{"$f":"SUM(E67:E71)","v":162},{"$f":"+G66+H66","v":0},{"$f":"SUM(G67:G71)","v":0},{"$f":"SUM(H67:H71)","v":0},{"$f":"+J66+K66","v":0},{"$f":"SUM(J67:J71)","v":0},{"$f":"SUM(K67:K71)","v":0}]
["Personal Docente",297,297,135,162,0,0,0,0,0,0]
["Personal de Investigación y Extensión",0,0,0,0,0,0,0,0,0,0]
["Docente-Investigador",0,0,0,0,0,0,0,0,0,0]
["Personal de Gestión Universitaria",0,0,0,0,0,0,0,0,0,0]
["Personal no docente",0,0,0,0,0,0,0,0,0,0]
[]
["INST METODISTA UNIV CRANDON ",{"$f":"C73+F73+I73","v":72},{"$f":"+D73+E73","v":72},{"$f":"SUM(D74:D78)","v":34},{"$f":"SUM(E74:E78)","v":38},{"$f":"+G73+H73","v":0},{"$f":"SUM(G74:G78)","v":0},{"$f":"SUM(H74:H78)","v":0},{"$f":"+J73+K73","v":0},{"$f":"SUM(J74:J78)","v":0},{"$f":"SUM(K74:K78)","v":0}]
["Personal Docente",72,72,34,38,0,0,0,0,0,0]
["Personal de Investigación y Extensión",0,0,0,0,0,0,0,0,0,0]
["Docente-Investigador",0,0,0,0,0,0,0,0,0,0]
["Personal de Gestión Universitaria",0,0,0,0,0,0,0,0,0,0]
["Personal no docente",0,0,0,0,0,0,0,0,0,0]
[]
["INST UNIV DE POSTGRADO EN PSICOANÁLISIS (APU)",{"$f":"C80+F80+I80","v":45},{"$f":"+D80+E80","v":45},{"$f":"SUM(D81:D86)","v":9},{"$f":"SUM(E81:E86)","v":36},{"$f":"+G80+H80","v":0},{"$f":"SUM(G81:G86)","v":0},{"$f":"SUM(H81:H86)","v":0},{"$f":"+J80+K80","v":0},{"$f":"SUM(J81:J86)","v":0},{"$f":"SUM(K81:K86)","v":0}]
["Personal Docente",0,0,0,0,0,0,0,0,0,0]
["Personal de Investigación y Extensión",0,0,0,0,0,0,0,0,0,0]
["Docente-Investigador",39,39,8,31,0,0,0,0,0,0]
["Personal de Gestión Universitaria",0,0,0,0,0,0,0,0,0,0]
["No desagregable por función",0,0,0,0,0,0,0,0,0,0]
["Personal no docente",6,6,1,5,0,0,0,0,0,0]
[]
["INST UNIV MONSEÑOR MARIANO SOLER ",{"$f":"C88+F88+I88","v":44},{"$f":"+D88+E88","v":37},{"$f":"SUM(D89:D94)","v":35},{"$f":"SUM(E89:E94)","v":2},{"$f":"+G88+H88","v":7},{"$f":"SUM(G89:G94)","v":2},{"$f":"SUM(H89:H94)","v":5},{"$f":"+J88+K88","v":0},{"$f":"SUM(J89:J94)","v":0},{"$f":"SUM(K89:K94)","v":0}]
["Personal Docente",37,37,35,2,0,0,0,0,0,0]
["Personal de Investigación y Extensión",0,0,0,0,0,0,0,0,0,0]
["Docente-Investigador",0,0,0,0,0,0,0,0,0,0]
["Personal de Gestión Universitaria",0,0,0,0,0,0,0,0,0,0]
["No desagregable por función",0,0,0,0,0,0,0,0,0,0]
["Personal no docente",7,0,0,0,7,2,5,0,0,0]
[]
["INST UNIV FRANCISCO DE ASIS ",{"$f":"C96+F96+I96","v":149},{"$f":"+D96+E96","v":149},{"$f":"SUM(D97:D101)","v":91},{"$f":"SUM(E97:E101)","v":58},{"$f":"+G96+H96","v":0},{"$f":"SUM(G97:G101)","v":0},{"$f":"SUM(H97:H101)","v":0},{"$f":"+J96+K96","v":0},{"$f":"SUM(J97:J101)","v":0},{"$f":"SUM(K97:K101)","v":0}]
["Personal Docente",118,118,82,36,0,0,0,0,0,0]
["Personal de Investigación y Extensión",0,0,0,0,0,0,0,0,0,0]
["Docente-Investigador",6,6,2,4,0,0,0,0,0,0]
["Personal de Gestión Universitaria",11,11,2,9,0,0,0,0,0,0]
["Personal no docente",14,14,5,9,0,0,0,0,0,0]
[]
["INST UNIV CEDIIAP",{"$f":"C103+F103+I103","v":75},{"$f":"+D103+E103","v":69},{"$f":"SUM(D104:D109)","v":15},{"$f":"SUM(E104:E109)","v":54},{"$f":"+G103+H103","v":2},{"$f":"SUM(G104:G109)","v":0},{"$f":"SUM(H104:H109)","v":2},{"$f":"+J103+K103","v":4},{"$f":"SUM(J104:J109)","v":0},{"$f":"SUM(K104:K109)","v":4}]
["Personal Docente",68,67,13,54,1,0,1,0,0,0]
["Personal de Investigación y Extensión",0,0,0,0,0,0,0,0,0,0]
["Docente-Investigador",2,2,2,0,0,0,0,0,0,0]
["Personal de Gestión Universitaria",0,0,0,0,0,0,0,0,0,0]
["No desagregable por función",0,0,0,0,0,0,0,0,0,0]
["Personal no docente",5,0,0,0,1,0,1,4,0,4]
[]
["Fundación Politécnico de Punta del Este",55,49,{"$f":"SUM(D112:D117)","v":30},{"$f":"SUM(E112:E117)","v":19},0,{"$f":"SUM(G112:G117)","v":0},{"$f":"SUM(H112:H117)","v":0},6,{"$f":"SUM(J112:J117)","v":3},{"$f":"SUM(K112:K117)","v":3}]
["Personal Docente",43,41,24,17,0,0,0,2,2,0]
["Personal de Investigación y Extensión",4,4,3,1,0,0,0,0,0,0]
["Docente-Investigador",4,4,3,1,0,0,0,0,0,0]
["Personal de Gestión Universitaria",0,0,0,0,0,0,0,0,0,0]
["No desagregable por función",0,0,0,0,0,0,0,0,0,0]
["Personal no docente",4,0,0,0,0,0,0,4,1,3]
[]
["Escuela Nacional de Policía",103,99,{"$f":"SUM(D120:D124)","v":77},{"$f":"SUM(E120:E124)","v":22},4,{"$f":"SUM(G120:G124)","v":3},{"$f":"SUM(H120:H124)","v":1},0,{"$f":"SUM(J120:J124)","v":0},{"$f":"SUM(K120:K124)","v":0}]
["Personal Docente",103,99,77,22,4,3,1,0,0,0]
["Personal de Investigación y Extensión",0,0,0,0,0,0,0,0,0,0]
["Docente-Investigador",0,0,0,0,0,0,0,0,0,0]
["Personal de Gestión Universitaria",0,0,0,0,0,0,0,0,0,0]
["No desagregable por función",0,0,0,0,0,0,0,0,0,0]
["Personal no docente",0,0,0,0,0,0,0,0,0,0]
[]
["Escuela Naval",{"$f":"C127+F127+I127","v":132},{"$f":"+D127+E127","v":44},{"$f":"SUM(D128:D133)","v":33},{"$f":"SUM(E128:E133)","v":11},{"$f":"+G127+H127","v":0},{"$f":"SUM(G128:G133)","v":0},{"$f":"SUM(H128:H133)","v":0},{"$f":"+J127+K127","v":88},{"$f":"SUM(J128:J133)","v":82},{"$f":"SUM(K128:K133)","v":6}]
["Personal Docente",132,44,33,11,0,0,0,88,82,6]
["Personal de Investigación y Extensión",0,0,0,0,0,0,0,0,0,0]
["Docente-Investigador",0,0,0,0,0,0,0,0,0,0]
["Personal de Gestión Universitaria",0,0,0,0,0,0,0,0,0,0]
["No desagregable por función",0,0,0,0,0,0,0,0,0,0]
["Personal no docente",0,0,0,0,0,0,0,0,0,0]
[]
["Centro de Altos Estudios Nacionales",{"$f":"C135+F135+I135","v":102},{"$f":"+D135+E135","v":46},{"$f":"SUM(D136:D141)","v":37},{"$f":"SUM(E136:E141)","v":9},{"$f":"+G135+H135","v":49},{"$f":"SUM(G136:G141)","v":14},{"$f":"SUM(H136:H141)","v":35},{"$f":"+J135+K135","v":7},{"$f":"SUM(J136:J141)","v":2},{"$f":"SUM(K136:K141)","v":5}]
["Personal Docente",46,46,37,9,0,0,0,0,0,0]
["Personal de Investigación y Extensión",0,0,0,0,0,0,0,0,0,0]
["Docente-Investigador",0,0,0,0,0,0,0,0,0,0]
["Personal de Gestión Universitaria",0,0,0,0,0,0,0,0,0,0]
["No desagregable por función",0,0,0,0,0,0,0,0,0,0]
["Personal no docente",56,0,0,0,49,14,35,7,2,5]
[]
["Escuela de Guerra Naval (ESGUE)",{"$f":"C143+F143+I143","v":115},{"$f":"D143+E143","v":114},{"$f":"SUM(D144:D149)","v":90},{"$f":"SUM(E144:E149)","v":24},{"$f":"G143+H143","v":0},{"$f":"SUM(G144:G149)","v":0},{"$f":"SUM(H144:H149)","v":0},{"$f":"J143+K143","v":1},{"$f":"SUM(J144:J149)","v":1},{"$f":"SUM(K144:K149)","v":0}]
["Personal Docente",{"$f":"C144+F144+I144","v":84},{"$f":"D144+E144","v":84},74,10,0,0,0,0,0,0]
["Personal de Investigación y Extensión",1,{"$f":"D145+E145","v":0},0,0,0,0,0,1,1,0]
["Docente-Investigador",0,0,0,0,0,0,0,0,0,0]
["Personal de Gestión Universitaria",0,0,0,0,0,0,0,0,0,0]
["No desagregable por función",0,0,0,0,0,0,0,0,0,0]
["Personal no docente",30,30,16,14,0,0,0,0,0,0]
[]
["Fuente: Oficinas Productoras de cada una de las Instituciones. "]
["Nota:* Padrón Setiembre 2013 - SECIU. No se dispone de la información discriminada por sexo. "]

{"sheet":"II-7.2.10 ","index":257,"n_rows":67,"n_cols":7,"rows_kept":67,"cut":false,"hidden":false,"merged":[[65,0,65,6],[66,0,66,7],[0,2,1,4],[4,0,4,6],[5,0,6,0],[5,1,6,1],[5,2,5,5],[64,0,64,6]]}
["UNIVERSIDADES PRIVADAS E INSTITUTOS UNIVERSITARIOS",null,"ALUMNOS MATRICULADOS"]
[]
["Cuadro Nº II-7.2.10"]
[]
["ALUMNOS INGRESADOS Y MATRICULADOS DE GRADO EN UNIVERSIDADES E INSTITUTOS UNIVERSITARIOS, SEGÚN INSTITUCIÓN Y LUGAR DE ORIGEN. AÑO 2013."]
["INSTITUCIÓN / FORMACIÓN","TOTAL","ORIGEN DE LOS ESTUDIANTES"]
[null,null,"Total Uruguay","Montevideo","Interior","Extranjero","Sin dato"]
[]
["UDELAR (*)"]
["Ingresados","s/d","s/d","s/d","s/d","s/d","s/d"]
["Matriculados",{"$f":"SUM(D11:G11)","v":85905},{"$f":"SUM(D11:E11)","v":85023},42763,42260,854,28]
[]
["UCUDAL"]
["Ingresados",{"$f":"SUM(D14:G14)","v":1261},{"$f":"SUM(D14:E14)","v":1228},799,429,33,0]
["Matriculados",{"$f":"SUM(D15:G15)","v":7027},{"$f":"SUM(D15:E15)","v":6803},4306,2497,224,0]
[]
["UNIVERSIDAD ORT URUGUAY"]
["Ingresados",{"$f":"SUM(D18:G18)","v":1084},{"$f":"SUM(D18:E18)","v":1065},820,245,19,0]
["Matriculados",{"$f":"SUM(D19:G19)","v":7489},{"$f":"SUM(D19:E19)","v":7371},5559,1812,115,3]
[]
["UNIVERSIDAD DE MONTEVIDEO"]
["Ingresados",{"$f":"SUM(D22:G22)","v":323},{"$f":"SUM(D22:E22)","v":318},212,106,5,0]
["Matriculados",{"$f":"SUM(D23:G23)","v":1608},{"$f":"SUM(D23:E23)","v":1589},1133,456,19,0]
[]
["UNIVERSIDAD DE LA EMPRESA"]
["Ingresados",{"$f":"SUM(D26:G26)","v":636},{"$f":"SUM(D26:E26)","v":630},469,161,6,0]
["Matriculados",{"$f":"SUM(D27:G27)","v":2872},{"$f":"SUM(D27:E27)","v":2862},2516,346,10,0]
[]
["INST UNIV ASOCIACIÓN CRISTIANA DE JÓVENES"]
["Ingresados",{"$f":"SUM(D30:F30)","v":102},{"$f":"SUM(D30:E30)","v":102},67,35,0,0]
["Matriculados",{"$f":"SUM(D31:G31)","v":483},{"$f":"SUM(D31:E31)","v":483},483,0,0,0]
[]
["INST UNIV CLAEH "]
["Ingresados",{"$f":"SUM(D34:G34)","v":98},{"$f":"SUM(D34:E34)","v":70},28,42,8,20]
["Matriculados",{"$f":"SUM(D35:G35)","v":433},{"$f":"SUM(D35:E35)","v":390},133,257,38,5]
[]
["INST METODISTA UNIV CRANDON **"]
["Ingresados",{"$f":"SUM(D38:G38)","v":0},{"$f":"SUM(D38:E38)","v":0},0,0,{"$f":"SUM(G38:H38)","v":0},{"$f":"SUM(H38:I38)","v":0}]
["Matriculados",{"$f":"SUM(D39:G39)","v":35},{"$f":"SUM(D39:E39)","v":35},33,2,{"$f":"SUM(G39:H39)","v":0},{"$f":"SUM(H39:I39)","v":0}]
[]
["INST UNIV MONSEÑOR MARIANO SOLER"]
["Ingresados",{"$f":"SUM(D42:G42)","v":21},{"$f":"SUM(D42:E42,G42)","v":13},10,3,8,0]
["Matriculados",{"$f":"SUM(D43:G43)","v":59},{"$f":"SUM(D43:E43,G43)","v":34},27,7,25,0]
[]
["INST UNIV FRANCISCO DE ASIS"]
["Ingresados",{"$f":"SUM(D46:G46)","v":36},{"$f":"SUM(D46:E46)","v":0},"s/d","s/d","s/d",36]
["Matriculados",{"$f":"SUM(D47:G47)","v":435},{"$f":"SUM(D47:E47)","v":0},"s/d","s/d","s/d",435]
[]
["INST UNIV CEDIIAP"]
["Ingresados",{"$f":"SUM(D50:G50)","v":25},{"$f":"SUM(D50:E50)","v":25},21,4,0,0]
["Matriculados",{"$f":"SUM(D51:G51)","v":260},{"$f":"SUM(D51:E51)","v":260},216,44,0,0]
[]
["FUNDACIÓN POLITÉCNICO DE PUNTA DEL ESTE"]
["Ingresados",{"$f":"SUM(D54:G54)","v":41},{"$f":"SUM(D54:E54)","v":41},11,30,0,0]
["Matriculados","s/d","s/d","s/d","s/d","s/d","s/d"]
[]
["ESCUELA NACIONAL DE POLICÍA"]
["Ingresados",{"$f":"SUM(D58:G58)","v":21},{"$f":"D58+E58","v":21},3,18,0,0]
["Matriculados",{"$f":"SUM(D59:G59)","v":52},{"$f":"D59+E59","v":52},22,30,0,0]
[]
["ESCUELA NAVAL"]
["Ingresados",{"$f":"SUM(D62:G62)","v":0},{"$f":"D62+E62","v":0},"s/d","s/d","s/d","s/d"]
["Matriculados",{"$f":"SUM(D63:G63)","v":0},{"$f":"D63+E63","v":0},"s/d","s/d","s/d","s/d"]
["Fuente: Oficinas Productoras de cada una de las Instituciones. "]
["Nota: Se excluye a las carreas cortas o tecnicaturas. La categoría \"Sin dato\" refiere a los  alumnos de los cuales no se cuenta con información de origen. "]
["* Censo de Estudiantes 2012 - UdelaR. El dato corresponde a la cantidad de personas."]
["** En la Licenciatura en Gestión de Empresas no hubo ingresos en el 2013 ya que se realizó una reestructura de la carrera"]

{"sheet":"EDUCACIÓN DE JÓVENES Y ADULTOS","index":258,"n_rows":0,"n_cols":0,"rows_kept":0,"cut":false,"hidden":false,"merged":[[37,0,37,4],[22,0,22,4],[26,0,26,4],[28,0,28,4],[30,0,30,4],[32,0,32,4],[34,0,34,4],[20,0,20,4],[10,0,10,4],[12,0,12,4],[14,0,14,4],[16,0,16,4],[18,0,18,4]]}

{"sheet":" II-8.1.1","index":259,"n_rows":33,"n_cols":10,"rows_kept":33,"cut":false,"hidden":false,"merged":[[6,7,7,7],[6,8,6,9],[0,2,0,4],[1,0,1,1],[2,2,3,3],[5,0,5,6],[6,0,7,0],[6,1,7,1],[6,2,6,3],[6,4,7,4],[6,5,6,6]]}
["ANEP",null,"ALUMNOS MATRICULADOS"]
["CODICEN – PROGRAMA NACIONAL DE JÓVENES Y ADULTOS"]
[]
["Cuadro Nº  II-8.1.1"]
[]
["ALUMNOS MATRICULADOS EN EDUCACIÓN PRIMARIA POR SEXO SEGÚN GRANDES ÁREAS Y DEPARTAMENTO. AÑO 2013."]
["GRANDES ÁREAS Y DEPARTAMENTOS","TOTAL","PRIMER  TRAMO: NIVEL I",null,"TOTAL","SEGUNDO TRAMO: NIVEL II",null,"TOTAL","CICLO PRIMARIO TOTAL"]
[null,null,"M","F",null,"M","F",null,"M","F"]
["TOTAL",{"$f":"+B10+B11","v":1097},{"$f":"+C10+C11","v":543},554,2039,1075,964,3136,1618,1518]
["MONTEVIDEO",{"$f":"C10+D10","v":538},276,262,{"$f":"F10+G10","v":1019},564,455,{"$f":"I10+J10","v":1557},840,717]
["RESTO DEL PAÍS",{"$f":"SUM(B12:B29)","v":559},{"$f":"SUM(C12:C29)","v":267},292,1020,511,509,1579,778,801]
["Artigas",{"$f":"C12+D12","v":14},6,8,{"$f":"F12+G12","v":36},10,26,{"$f":"I12+J12","v":50},16,34]
["Canelones",136,78,58,228,99,129,364,177,187]
["Cerro Largo",12,7,5,57,24,33,69,31,38]
["Colonia",47,16,31,25,12,13,72,28,44]
["Durazno",10,7,3,29,9,20,39,16,23]
["Flores","-","-","-","-","-","-","-","-","-"]
["Florida",18,7,11,19,10,9,37,17,20]
["Lavalleja",2,1,1,35,24,11,37,25,12]
["Maldonado",60,26,34,60,53,7,120,79,41]
["Paysandú",41,19,22,133,48,85,174,67,107]
["Río Negro",17,8,9,50,19,31,67,27,40]
["Rivera",32,10,22,75,23,52,107,33,74]
["Rocha",14,3,11,8,1,7,22,4,18]
["Salto",33,9,24,15,5,10,48,14,34]
["San José",38,26,12,149,118,31,187,144,43]
["Soriano",38,28,10,47,22,25,85,50,35]
["Tacuarembó",47,16,31,33,18,15,80,34,46]
["Treinta y Tres",{"$f":"C29+D29","v":0},0,0,21,16,5,21,16,5]
[]
["Fuente: ANEP - CODICEN - Dirección Sectorial de Educación de Adultos."]
["Observaciones: "]
["El departamento de Flores no cuenta con cargo de Maestro para el período 2013"]

{"sheet":" II-8.1.2","index":260,"n_rows":31,"n_cols":4,"rows_kept":31,"cut":false,"hidden":false,"merged":[[0,1,0,3],[1,0,1,1],[2,2,3,3],[5,0,6,0],[5,1,6,1],[5,2,5,3],[4,0,4,3]]}
["ANEP","ALUMNOS MATRICULADOS"]
["CODICEN – DIRECCIÓN SECTORIAL DE JÓVENES Y ADULTOSS"]
[]
["Cuadro Nº  II-8.1.2"]
["ALUMNOS MATRICULADOS EN TALLERES POR SEXO SEGÚN GRANDES ÁREAS Y DEPARTAMENTO.AÑO 2013"]
["GRANDES ÁREAS Y DEPARTAMENTOS","TOTAL","TALLERES"]
[null,null,"M","F"]
["TOTAL",{"$f":"+B9+B10","v":4065},{"$f":"C9+C10","v":1587},{"$f":"D9+D10","v":2478}]
["MONTEVIDEO",{"$f":"C9+D9","v":3248},1119,2129]
["RESTO DEL PAÍS",817,468,349]
["Artigas",0,"-","-"]
["Canelones",{"$f":"C12+D12","v":243},184,59]
["Cerro Largo",12,7,5]
["Colonia",33,9,24]
["Durazno",{"$f":"C15+D15","v":0},"-","-"]
["Flores",14,7,7]
["Florida",0,"-","-"]
["Lavalleja",67,22,45]
["Maldonado",18,18,0]
["Paysandú",13,9,4]
["Río Negro",12,11,1]
["Rivera",118,40,78]
["Rocha",0,"-","-"]
["Salto",{"$f":"C24+D24","v":148},84,64]
["San José",0,"-","-"]
["Soriano",37,22,15]
["Tacuarembó",102,55,47]
["Treinta y Tres",0,"-","-"]
["Fuente: ANEP - CODICEN - Dirección Sectorial de Educación de Adultos."]
["Observaciones: "]
["Los departamentos de Artigas, Durazno, Florida Rocha, San José y Treinta y Tres no cuentan con docentes de Talleres en el período 2013"]

{"sheet":"II-8.1.3","index":261,"n_rows":29,"n_cols":4,"rows_kept":29,"cut":false,"hidden":false,"merged":[[0,3,0,4],[29,0,29,6],[31,0,31,6],[2,0,2,4],[3,0,3,3],[4,0,6,0],[4,1,6,1],[4,2,4,3],[5,2,5,3]]}
["ANEP",null,null,"PRUEBAS DE ACREDITACIÓN"]
["CODICEN – DIRECCIÓN SECTORIAL DE EDUCACIÓN DE ADULTOS"]
["Cuadro Nº II-8.1.3"]
["CANTIDAD DE PRUEBAS DE ACREDITACIÓN SEGÚN SEXO, GRANDES ÁREAS Y DEPARTAMENTOS. AÑO 2013."]
["GRANDES ÁREAS Y DEPARTAMENTOS","TOTAL","Prueba de Acreditación"]
[null,null,"SEXO"]
[null,null,"M","F"]
["TOTAL",{"$f":"+B9+B10","v":1151},{"$f":"C9+C10","v":591},{"$f":"D9+D10","v":560}]
["MONTEVIDEO",{"$f":"C9+D9","v":263},134,129]
["RESTO DEL PAÍS",{"$f":"C10+D10","v":888},457,431]
["Artigas",{"$f":"C11+D11","v":34},4,30]
["Canelones",200,101,99]
["Cerro Largo",45,14,31]
["Colonia",21,9,12]
["Durazno",23,13,10]
["Flores",12,4,8]
["Florida",5,0,5]
["Lavalleja",9,2,7]
["Maldonado",61,39,22]
["Paysandú",82,31,51]
["Río Negro",17,7,10]
["Rivera",62,35,27]
["Rocha",26,7,19]
["Salto",18,5,13]
["San José",177,154,23]
["Soriano",34,12,22]
["Tacuarembó",44,12,32]
["Treinta y Tres",18,8,10]
["Fuente: ANEP - CODICEN - Dirección Sectorial de Educación de Adultos"]

{"sheet":"II-8.1.4","index":262,"n_rows":27,"n_cols":11,"rows_kept":27,"cut":false,"hidden":false,"merged":[[10,6,10,7],[10,9,10,10],[0,10,1,12],[4,0,4,12],[7,0,11,0],[7,2,9,4],[7,5,8,10],[9,6,9,7],[9,9,9,10],[10,2,11,2],[10,3,10,4]]}
["CONSEJO DE EDUCACIÓN TÉCNICO PROFESIONAL (U.T.U.)",null,null,null,null,null,null,null,null,null,"ALUMNOS MATRICULADOS"]
[]
["Cuadro Nº II-8.1.4"]
[]
["ALUMNOS MATRICULADOS EN CURSOS DE EDUCACIÓN TÉCNICA PARA JÓVENES Y ADULTOS POR GRANDES ÁREAS Y SEXO SEGÚN TIPO DE CURSO. AÑO 2013"]
[]
[]
["TIPO DE CURSO",null,"TOTAL",null,null,"GRANDES ÁREAS"]
[]
[null,"TOTAL ",null,null,null,null,"MONTEVIDEO ",null,null,"RESTO DEL PAÍS"]
[null,null,"Total","SEXO",null,null,"SEXO",null,null,"SEXO"]
[null,"Total ",null,"Masculino","Femenino","Total ","Masculino ","Femenino ","Total","Masculino ","Femenino"]
["TOTAL",null,{"$f":"SUM(C16:C26)","v":8632},{"$f":"SUM(D16:D26)","v":4286},4346,4034,2101,1933,4598,2185,2413]
[]
["Nivel Formación profesional "]
["Acreditación de saberes",null,{"$f":"+D16+E16","v":27},26,1,{"$f":"+G16+H16","v":27},26,1,{"$f":"+J16+K16","v":0},0,0]
["Capacitación Profesional",null,{"$f":"+D17+E17","v":4506},2274,2232,{"$f":"+G17+H17","v":1446},738,708,{"$f":"+J17+K17","v":3060},1536,1524]
["Capacitación Profesional (Conv.)",null,148,82,66,86,62,24,62,20,42]
["Capacitación Profundización Prof.",null,338,180,158,121,68,53,217,112,105]
["Capacitación Técnica",null,47,36,11,47,36,11,0,0,0]
["Curso Básico",null,638,304,334,512,205,307,126,99,27]
["Curso Básico Especialización",null,461,186,275,331,114,217,130,72,58]
["Form.Prof. en Artes y Artesanías",null,504,190,314,489,185,304,15,5,10]
["Formación Profesional Acelerada",null,4,2,2,4,2,2,0,0,0]
["Formación Profesional Básica",null,{"$f":"+D25+E25","v":1765},840,925,{"$f":"+G25+H25","v":777},499,278,{"$f":"+J25+K25","v":988},341,647]
["Formación Profesional Especializada",null,{"$f":"+D26+E26","v":194},166,28,{"$f":"+G26+H26","v":194},166,28,{"$f":"+J26+K26","v":0},0,0]
["Fuente: DE-CETP (UTU) "]

{"sheet":"II-8.1.5","index":263,"n_rows":21,"n_cols":13,"rows_kept":21,"cut":false,"hidden":true,"merged":[[0,11,1,13],[4,0,4,13],[5,0,6,0],[5,2,5,12],[5,1,6,1]]}
["CONSEJO DE EDUCACIÓN TÉCNICO PROFESIONAL (U.T.U.)",null,null,null,null,null,null,null,null,null,null,"ALUMNOS MATRICULADOS"]
[]
["Cuadro Nº II-8.1.5"]
[]
["ALUMNOS MATRICULADOS EN CURSOS DE EDUCACIÓN TÉCNICA PARA JÓVENES Y ADULTOS POR EDAD SEGÚN TIPO DE CURSO. AÑO 2012."]
["TIPO DE CURSO","TOTAL","EDAD"]
[null,null,"13 años","14 años","15 años","16 años","17 años","18años","19años","20 a 24 años","25 a 29 años","30 años y más","Edad desconocida"]
["TOTAL",{"$f":"SUM(B9:B19)","v":8632},6,72,781,995,1010,571,404,1153,736,2685,219]
["Acreditación de Saberes",{"$f":"+C9+D9+E9+F9+G9+H9+I9+J9+K9+L9+M9","v":27},0,0,0,2,1,0,1,1,2,20,0]
["Capacitación Profesional",{"$f":"+C10+D10+E10+F10+G10+H10+I10+J10+K10+L10+M10","v":4506},3,47,394,504,512,315,222,573,382,1395,159]
["Capacitación Profesional (Conv.)",148,2,3,12,10,7,2,4,10,5,33,60]
["Capacitación Profundización Prof.",338,0,1,2,16,25,14,16,78,43,143,0]
["Capacitación Técnica",47,0,0,0,1,1,4,5,13,9,14,0]
["Curso Básico",638,0,5,121,114,104,51,20,79,46,98,0]
["Curso Básico Especialización",461,0,0,4,55,78,46,32,75,32,139,0]
["Form.Prof. en Artes y Artesanías",504,0,0,6,9,17,16,18,91,71,276,0]
["Formación Profesional Acelerada",4,0,0,0,0,0,0,0,2,0,2,0]
["Formación Profesional Básica",{"$f":"+C18+D18+E18+F18+G18+H18+I18+J18+K18+L18+M18","v":1765},1,16,240,275,230,93,68,199,121,522,0]
["Formación Profesional Especializada",{"$f":"+C19+D19+E19+F19+G19+H19+I19+J19+K19+L19+M19","v":194},0,0,2,9,35,30,18,32,25,43,0]
[]
["Fuente: DE - CETP (UTU)"]

{"sheet":"II-8.1.5.","index":264,"n_rows":21,"n_cols":13,"rows_kept":21,"cut":false,"hidden":false,"merged":[[0,11,1,13],[4,0,4,13],[5,0,6,0],[5,1,6,1],[5,2,5,12]]}
["CONSEJO DE EDUCACIÓN TÉCNICO PROFESIONAL (U.T.U.)",null,null,null,null,null,null,null,null,null,null,"ALUMNOS MATRICULADOS"]
[]
["Cuadro Nº II-8.1.5"]
[]
["ALUMNOS MATRICULADOS EN CURSOS DE EDUCACIÓN TÉCNICA PARA JÓVENES Y ADULTOS POR EDAD SEGÚN TIPO DE CURSO. AÑO 2013."]
["TIPO DE CURSO","TOTAL","EDAD"]
[null,null,"13 años","14 años","15 años","16 años","17 años","18años","19años","20 a 24 años","25 a 29 años","30 años y más","Edad desconocida"]
["TOTAL",{"$f":"SUM(B9:B19)","v":8632},6,72,781,995,1010,571,404,1153,736,2685,219]
["Acreditación de Saberes",{"$f":"+C9+D9+E9+F9+G9+H9+I9+J9+K9+L9+M9","v":27},0,0,0,2,1,0,1,1,2,20,0]
["Capacitación Profesional",{"$f":"+C10+D10+E10+F10+G10+H10+I10+J10+K10+L10+M10","v":4506},3,47,394,504,512,315,222,573,382,1395,159]
["Capacitación Profesional (Conv.)",148,2,3,12,10,7,2,4,10,5,33,60]
["Capacitación Profundización Prof.",338,0,1,2,16,25,14,16,78,43,143,0]
["Capacitación Técnica",47,0,0,0,1,1,4,5,13,9,14,0]
["Curso Básico",638,0,5,121,114,104,51,20,79,46,98,0]
["Curso Básico Especialización",461,0,0,4,55,78,46,32,75,32,139,0]
["Form.Prof. en Artes y Artesanías",504,0,0,6,9,17,16,18,91,71,276,0]
["Formación Profesional Acelerada",4,0,0,0,0,0,0,0,2,0,2,0]
["Formación Profesional Básica",{"$f":"+C18+D18+E18+F18+G18+H18+I18+J18+K18+L18+M18","v":1765},1,16,240,275,230,93,68,199,121,522,0]
["Formación Profesional Especializada",{"$f":"+C19+D19+E19+F19+G19+H19+I19+J19+K19+L19+M19","v":194},0,0,2,9,35,30,18,32,25,43,0]
[]
["Fuente: DE - CETP (UTU)"]

{"sheet":"II-8.1.6","index":265,"n_rows":29,"n_cols":5,"rows_kept":29,"cut":false,"hidden":false,"merged":[[4,0,5,0],[4,1,5,1],[3,0,3,2],[0,4,0,6]]}
["CONSEJO DE EDUCACIÓN TÉCNICO PROFESIONAL (U.T.U.)",null,null,null,"ALUMNOS MATRICULADOS"]
[]
["Cuadro Nº II-8.1.6"]
["ALUMNOS MATRICULADOS EN EDUCACIÓN  TÉCNICA EN NIVEL DE FORMACION PROFESIONAL. AÑO 2013."]
["DEPARTAMENTO ","Total "]
[]
["TOTAL ",{"$f":"SUM(B8:B9)","v":8632}]
["MONTEVIDEO ",4034]
["RESTO DEL PAÍS",{"$f":"SUM(B10:B27)","v":4598}]
["Artigas",332]
["Canelones",971]
["Cerro Largo",272]
["Colonia",338]
["Durazno",168]
["Flores",104]
["Florida",53]
["Lavalleja",33]
["Maldonado",188]
["Paysandú",237]
["Rio Negro",61]
["Rivera",343]
["Rocha",196]
["Salto",351]
["San José",415]
["Soriano",199]
["Tacuarembó",207]
["Treinta y Tres",130]
[]
["Fuente: DE - CETP (UTU)"]

{"sheet":"II-8.1.7","index":266,"n_rows":45,"n_cols":3,"rows_kept":45,"cut":false,"hidden":false,"merged":[[0,0,1,1],[0,2,0,3],[4,0,4,3],[6,0,7,0],[6,1,7,1]]}
["CONSEJO DE EDUCACIÓN TÉCNICO PROFESIONAL (UTU)",null,"ALUMNOS MATRICULADOS"]
[]
["Cuadro Nº II-8.1.7"]
[]
["ALUMNOS MATRICULADOS EN EDUCACIÓN TÉCNICA POR TIPO DE CURSO SEGÚN ÁREAS Y SECTORES DE ESTUDIO AÑO 2013."]
[]
["ÁREAS Y SECTOR DE ESTUDIO","Total"]
[]
["TOTAL",{"$f":"B10+B14+B26+B28+B30+B33+B40","v":8632}]
["AGRICULTURA Y PESCA",{"$f":"SUM(B11:B13)","v":244}]
["Agropecuario",40]
["Hortifruticultura y jardinería",189]
["Pesca",15]
["INDUSTRIA",{"$f":"SUM(B15:B25)","v":3693}]
["Metal - mecánica",693]
["Electricidad y electrónica",437]
["Producción de alimentos",1366]
["Textil y confección de vestimenta",388]
["Caucho ,plástico y fibra de vidrio",107]
["Cuero y calzado",104]
["Madera y muebles",292]
["Gráficos",75]
["Cerámica",96]
["Mant, reparac y serv a la producción",16]
["Química, Termodinámica y Agro energía",119]
["MANTENIMIENTO Y REPARACIÓN DE VEHÍCULOS",{"$f":"B27","v":269}]
["Mantenimiento y reparación de vehículos",269]
["CONSTRUCCIÓN",{"$f":"B29","v":443}]
["Construcción y Arquitectura",443]
["COMERCIO,ADMINIST,INFORM Y COMUNICACIÓN",{"$f":"B31+B32","v":1600}]
["Comercio y administración",251]
["Informática",1349]
["SERVICIOS",{"$f":"SUM(B34:B39)","v":1397}]
["Idiomas",18]
["Hotelería"]
["Gastronomía",1043]
["Turismo"]
["Servicios personales",336]
["Protección al medio ambiente "]
["ARTES Y ARTESANÍAS",{"$f":"B41","v":986}]
["Artes y arteSANÍAS",986]
[]
["Fuente: DE - UTU"]
["Nota: El presente cuadro no incluye las Áreas y Sectores de Estudios contenidos en Educación "]
["      Media Básica y Superior, en tanto solo aplican para dichos niveles "]

{"sheet":"II-8.1.8","index":267,"n_rows":84,"n_cols":10,"rows_kept":84,"cut":false,"hidden":false,"merged":[[80,0,80,9],[0,5,1,7],[6,0,6,9],[7,0,9,0],[7,1,9,1],[7,2,7,3],[7,4,9,4],[7,5,7,6],[7,7,9,7],[7,8,7,9],[8,2,8,3],[8,5,8,6],[8,8,8,9],[77,0,77,9],[78,0,78,9],[79,0,79,9]]}
["MEC - DIRECCIÓN DE EDUCACIÓN",null,null,null,null,"ALUMNOS MATRICULADOS"]
["ÁREA DE EDUCACIÓN NO FORMAL"]
[]
[]
["Cuadro Nº II-8.1.8"]
[]
["ALUMNOS INGRESADOS, MATRICULADOS Y EGRESADOS EN CECAP POR SEXO, SEGÚN DEPARTAMENTO Y EDAD AÑO 2013"]
["DEPARTAMENTO Y EDAD","TOTAL ","INGRESADOS",null,"TOTAL *","MATRICULADOS",null,"TOTAL ","EGRESADOS"]
[null,null,"SEXO",null,null,"SEXO",null,null,"SEXO"]
[null,null,"M","F",null,"M","F",null,"M","F"]
["TOTAL",{"$f":"SUM(C11:D11)","v":1426},{"$f":"+C13+C17","v":777},{"$f":"+D13+D17","v":649},{"$f":"SUM(E13+E17)","v":2965},{"$f":"+F13+F17","v":1628},{"$f":"+G13+G17","v":1337},{"$f":"I11+J11","v":213},{"$f":"+I13+I17","v":112},{"$f":"+J13+J17","v":101}]
[]
["MONTEVIDEO",{"$f":"SUM(C13:D13)","v":306},{"$f":"C14+C15","v":145},{"$f":"D14+D15","v":161},{"$f":"F13+G13","v":737},{"$f":"F14+F15","v":370},{"$f":"G14+G15","v":367},{"$f":"I13+J13","v":92},{"$f":"I14+I15","v":45},{"$f":"J14+J15","v":47}]
["    14 a 17 años",{"$f":"SUM(C14:D14)","v":250},120,130,{"$f":"F14+G14","v":671},336,335,{"$f":"I14+J14","v":59},28,31]
["    18 años y más",{"$f":"SUM(C15:D15)","v":56},25,31,{"$f":"F15+G15","v":66},34,32,{"$f":"I15+J15","v":33},17,16]
[]
["RESTO DEL PAÍS",{"$f":"SUM(C17+D17)","v":1120},{"$f":"C18+C19","v":632},{"$f":"D18+D19","v":488},{"$f":"SUM(F17+G17)","v":2228},{"$f":"F18+F19","v":1258},{"$f":"G18+G19","v":970},{"$f":"I17+J17","v":121},{"$f":"I18+I19","v":67},{"$f":"J18+J19","v":54}]
["    14 a 17 años",{"$f":"C18+D18","v":983},{"$f":"C22+C27+C30+C33+C36+C40+C44+C48+C52+C56+C60+C64+C68+C72+C76","v":550},{"$f":"D22+D27+D30+D33+D36+D40+D44+D48+D52+D56+D60+D64+D68+D72+D76","v":433},{"$f":"SUM(F18+G18)","v":1939},{"$f":"F22+F27+F30+F33+F36+F40+F44+F48+F52+F56+F60+F64+F68+F72+F76","v":1088},{"$f":"G22+G27+G30+G33+G36+G40+G44+G48+G52+G56+G60+G64+G68+G72+G76","v":851},{"$f":"I18+J18","v":83},{"$f":"I22+I27+I30+I33+I36+I40+I44+I48+I52+I56+I60+I64+I68+I72+I76","v":49},{"$f":"J22+J27+J30+J33+J36+J40+J44+J48+J52+J56+J60+J64+J68+J72+J76","v":34}]
["    18 años y más",{"$f":"C19+D19","v":137},{"$f":"C23+C28+C31+C34+C37+C41+C45+C49+C53+C57+C61+C65+C69+C73+C77","v":82},{"$f":"D23+D28+D31+D34+D37+D41+D45+D49+D53+D57+D61+D65+D69+D73+D77","v":55},{"$f":"F19+G19","v":289},{"$f":"F23+F28+F31+F34+F37+F41+F45+F49+F53+F57+F61+F65+F69+F73+F77","v":170},{"$f":"G23+G28+G31+G34+G37+G41+G45+G49+G53+G57+G61+G65+G69+G73+G77","v":119},{"$f":"I19+J19","v":38},{"$f":"I23+I28+I31+I34+I37+I41+I45+I49+I53+I57+I61+I65+I69+I73+I77","v":18},{"$f":"J23+J28+J31+J34+J37+J41+J45+J49+J53+J57+J61+J65+J69+J73+J77","v":20}]
[]
["Artigas",50,{"$f":"C22+C23","v":36},{"$f":"D22+D23","v":24},88,{"$f":"F22+F23","v":81},{"$f":"G22+G23","v":54},{"$f":"I21+J21","v":10},{"$f":"I22+I23","v":7},{"$f":"J22+J23","v":3}]
["    14 a 17 años",{"$f":"C22+D22","v":24},14,10,{"$f":"F22+G22","v":54},32,22,{"$f":"I22+J22","v":4},3,1]
["    18 años y más",{"$f":"C23+D23","v":36},22,14,{"$f":"F23+G23","v":81},49,32,{"$f":"I23+J23","v":6},4,2]
[]
["Canelones",{"$f":"SUM(B26+B29)","v":123},{"$f":"C26+C29+C32+C35","v":126},{"$f":"D26+D29+D32+D35","v":120},{"$f":"SUM(E29+E26)","v":332},{"$f":"F26+F29+F32+F35","v":248},{"$f":"G26+G29+G32+G35","v":207},{"$f":"SUM(H26+H29)","v":16},{"$f":"I26+I29+I32+I35","v":10},{"$f":"J26+J29+J32+J35","v":6}]
["  Barros Blancos",{"$f":"C26+D26","v":62},{"$f":"C27+C28","v":34},{"$f":"D27+D28","v":28},{"$f":"F26+G26","v":169},{"$f":"F27+F28","v":95},{"$f":"G27+G28","v":74},{"$f":"I26+J26","v":10},{"$f":"I27+I28","v":8},{"$f":"J27+J28","v":2}]
["    14 a 17 años",59,33,26,160,92,68,10,8,2]
["    18 años y más",3,1,2,9,3,6,0,0,0]
["  La Paz",61,{"$f":"C30+C31","v":28},{"$f":"D30+D31","v":33},163,{"$f":"F30+F31","v":89},{"$f":"G30+G31","v":74},6,{"$f":"I30+I31","v":2},{"$f":"J30+J31","v":4}]
["    14 a 17 años",60,28,32,147,80,67,5,2,3]
["    18 años y más",1,0,1,16,9,7,{"$f":"I31+J31","v":1},0,1]
["Toledo",57,{"$f":"C33+C34","v":28},{"$f":"D33+D34","v":29},57,{"$f":"F33+F34","v":28},{"$f":"G33+G34","v":29},{"$f":"I32+J32","v":0},{"$f":"I33+I34","v":0},{"$f":"J33+J34","v":0}]
["    14 a 17 años",49,23,26,49,23,26,0,0,0]
["    18 años y más",8,5,3,8,5,3,0,0,0]
["Las Piedras",66,{"$f":"C36+C37","v":36},{"$f":"D36+D37","v":30},66,{"$f":"F36+F37","v":36},{"$f":"G36+G37","v":30},0,{"$f":"I36+I37","v":0},{"$f":"J36+J37","v":0}]
["    14 a 17 años",47,24,23,47,24,23,0,0,0]
["    18 años y más",19,12,7,19,12,7,0,0,0]
[]
["Colonia (incluye Rosario)",{"$f":"C39+D39","v":65},{"$f":"C40+C41","v":40},{"$f":"D40+D41","v":25},{"$f":"F39+G39","v":115},{"$f":"F40+F41","v":63},{"$f":"G40+G41","v":52},{"$f":"I39+J39","v":5},{"$f":"I40+I41","v":3},{"$f":"J40+J41","v":2}]
["    14 a 17 años",{"$f":"C40+D40","v":60},37,23,{"$f":"F40+G40","v":107},60,47,{"$f":"I40+J40","v":3},2,1]
["    18 años y más",{"$f":"C41+D41","v":5},3,2,{"$f":"F41+G41","v":8},3,5,{"$f":"I41+J41","v":2},1,1]
[null,null,null,null,{"$f":"F42+G42","v":0}]
["Durazno",{"$f":"C43+D43","v":59},31,28,72,{"$f":"F44+F45","v":53},{"$f":"G44+G45","v":19},{"$f":"I43+J43","v":0},{"$f":"SUM(I44:I45)","v":0},{"$f":"SUM(J44:J45)","v":0}]
["    14 a 17 años",39,29,10,61,47,14,0,0,0]
["    18 años y más",3,2,1,11,6,5,0,0,0]
[]
["Florida",{"$f":"C47+D47","v":51},{"$f":"C48+C49","v":24},{"$f":"D48+D49","v":27},{"$f":"F47+G47","v":147},{"$f":"F48+F49","v":78},{"$f":"G48+G49","v":69},{"$f":"I47+J47","v":9},{"$f":"I48+I49","v":5},{"$f":"J48+J49","v":4}]
["    14 a 17 años",{"$f":"C48+D48","v":47},23,24,{"$f":"F48+G48","v":139},75,64,{"$f":"I48+J48","v":7},4,3]
["    18 años y más",{"$f":"C49+D49","v":4},1,3,{"$f":"F49+G49","v":8},3,5,{"$f":"I49+J49","v":2},1,1]
[]
["Maldonado (incluye San Carlos) ",{"$f":"SUM(C51:D51)","v":80},{"$f":"SUM(C52+C53)","v":49},{"$f":"SUM(D52+D53)","v":31},{"$f":"SUM(F51:G51)","v":188},{"$f":"SUM(F52+F53)","v":124},{"$f":"SUM(G52+G53)","v":64},{"$f":"SUM(I51:J51)","v":3},{"$f":"SUM(I52+I53)","v":2},{"$f":"SUM(J52+J53)","v":1}]
["    14 a 17 años",{"$f":"C52+D52","v":80},49,31,{"$f":"F52+G52","v":188},124,64,{"$f":"I52+J52","v":3},2,1]
["    18 años y más",{"$f":"C53+D53","v":0},0,0,{"$f":"F53+G53","v":0},0,0,{"$f":"I53+J53","v":0},0,0]
[]
["Paysandú",{"$f":"C55+D55","v":87},{"$f":"C56+C57","v":49},{"$f":"D56+D57","v":38},{"$f":"F55+G55","v":157},{"$f":"F56+F57","v":88},{"$f":"G56+G57","v":69},{"$f":"I55+J55","v":9},{"$f":"I56+I57","v":5},{"$f":"J56+J57","v":4}]
["    14 a 17 años",{"$f":"C56+D56","v":81},45,36,{"$f":"F56+G56","v":139},78,61,{"$f":"I56+J56","v":7},4,3]
["    18 años y más",{"$f":"C57+D57","v":6},4,2,{"$f":"F57+G57","v":18},10,8,{"$f":"I57+J57","v":2},1,1]
[]
["Rocha",{"$f":"SUM(C59+D59)","v":40},{"$f":"C60+C61","v":25},{"$f":"D60+D61","v":15},{"$f":"F59+G59","v":65},{"$f":"F60+F61","v":40},{"$f":"G60+G61","v":25},{"$f":"SUM(I59+J59)","v":0},{"$f":"I60+I61","v":0},{"$f":"J60+J61","v":0}]
["14 a 17 años",{"$f":"SUM(C60+D60)","v":40},25,15,65,40,25,{"$f":"SUM(I60+J60)","v":0},0,0]
["18 años y más",{"$f":"SUM(C61+D61)","v":0},0,0,0,0,0,{"$f":"SUM(I61+J61)","v":0},0,0]
[]
["Río Negro (Young)",{"$f":"C63+D63","v":105},{"$f":"C64+C65","v":51},{"$f":"D64+D65","v":54},{"$f":"F63+G63","v":168},{"$f":"F64+F65","v":83},{"$f":"G64+G65","v":85},{"$f":"I63+J63","v":7},{"$f":"I64+I65","v":4},{"$f":"J64+J65","v":3}]
["    14 a 17 años",{"$f":"C64+D64","v":100},48,52,{"$f":"F64+G64","v":158},77,81,{"$f":"I64+J64","v":5},3,2]
["    18 años y más",{"$f":"C65+D65","v":5},3,2,{"$f":"F65+G65","v":10},6,4,{"$f":"I65+J65","v":2},1,1]
[]
["Rivera",{"$f":"C67+D67","v":130},{"$f":"C68+C69","v":73},{"$f":"D68+D69","v":57},{"$f":"F67+G67","v":232},{"$f":"F68+F69","v":135},{"$f":"G68+G69","v":97},{"$f":"I67+J67","v":35},{"$f":"I68+I69","v":15},{"$f":"J68+J69","v":20}]
["    14 a 17 años",{"$f":"C68+D68","v":111},63,48,{"$f":"F68+G68","v":191},107,84,{"$f":"I68+J68","v":22},9,13]
["    18 años y más",{"$f":"C69+D69","v":19},10,9,{"$f":"F69+G69","v":41},28,13,{"$f":"I69+J69","v":13},6,7]
[]
["Salto",{"$f":"C71+D71","v":101},{"$f":"C72+C73","v":61},{"$f":"D72+D73","v":40},{"$f":"F71+G71","v":268},{"$f":"F72+F73","v":131},{"$f":"G72+G73","v":137},{"$f":"I71+J71","v":10},{"$f":"I72+I73","v":4},{"$f":"J72+J73","v":6}]
["    14 a 17 años",{"$f":"C72+D72","v":92},55,37,{"$f":"F72+G72","v":246},121,125,{"$f":"I72+J72","v":5},3,2]
["    18 años y más",{"$f":"C73+D73","v":9},6,3,{"$f":"F73+G73","v":22},10,12,{"$f":"I73+J73","v":5},1,4]
[]
["Treinta y Tres",{"$f":"C75+D75","v":113},{"$f":"C76+C77","v":67},{"$f":"D76+D77","v":46},{"$f":"F75+G75","v":226},{"$f":"F76+F77","v":134},{"$f":"G76+G77","v":92},{"$f":"I75+J75","v":17},{"$f":"I76+I77","v":12},{"$f":"J76+J77","v":5}]
["    14 a 17 años",{"$f":"C76+D76","v":94},54,40,{"$f":"F76+G76","v":188},108,80,{"$f":"I76+J76","v":12},9,3]
["    18 años y más",{"$f":"C77+D77","v":19},13,6,{"$f":"F77+G77","v":38},26,12,{"$f":"I77+J77","v":5},3,2]
["Fuente:  Área de Educación No Formal, Dirección de Educación, MEC."]
["Nota: Ingresos: Todos los individuos que comenzaron a cursar la propuesta educativa en el primer o segundo semestre del año 2013."]
["        Matriculados: Todos los individuos que durante el año 2013 cursaron la propuesta educativa. "]
["        Egreso: Todos los individuos que culminaron durante el 2013 los cuatro semestres que prevee la propuesta educativa. "]
[]
["* Comprende la suma de matriculados del año más los ingresos. "]
["** Los datos de matriculados en Montevideo fueron calculados en base a ponderaciones de 2012 y datos 2013 . "]

{"sheet":"II-8.1.9 ","index":268,"n_rows":81,"n_cols":7,"rows_kept":81,"cut":false,"hidden":false,"merged":[[78,0,78,6],[79,0,79,6],[80,0,80,6],[0,5,1,7],[6,0,6,6],[7,0,9,0],[7,1,9,1],[7,2,7,3],[7,4,9,4],[7,5,7,6],[8,2,8,3],[8,5,8,6]]}
["MEC - DIRECCIÓN DE EDUCACIÓN",null,null,null,null,"ALUMNOS MATRICULADOS"]
["ÁREA DE EDUCACIÓN NO FORMAL"]
[]
[]
["Cuadro Nº II-8.1.9"]
[]
["ALUMNOS CON EGRESO ANTICIPADO Y DESVINCULADOS DE CECAP POR SEXO, SEGÚN DEPARTAMENTO Y EDAD. AÑO 2013."]
["DEPARTAMENTO Y EDAD","TOTAL ","EGRESO ANTICIPADO",null,"TOTAL ","DESVINCULADOS"]
[null,null,"SEXO",null,null,"SEXO"]
[null,null,"M","F",null,"M","F"]
["TOTAL",{"$f":"SUM(C11:D11)","v":170},{"$f":"+C12+C15","v":94},{"$f":"+D12+D15","v":76},{"$f":"SUM(F11:G11)","v":358},{"$f":"+F12+F15","v":213},{"$f":"+G12+G15","v":145}]
["MONTEVIDEO",34,{"$f":"SUM(C13+C14)","v":21},{"$f":"SUM(D13+D14)","v":13},49,{"$f":"SUM(F13+F14)","v":29},{"$f":"SUM(G13+G14)","v":20}]
["    14 a 17 años",23,13,10,36,21,15]
["    18 años y más",11,8,3,13,8,5]
["RESTO DEL PAÍS",136,{"$f":"C16+C17","v":73},{"$f":"D16+D17","v":63},309,{"$f":"F16+F17","v":184},{"$f":"G16+G17","v":125}]
["    14 a 17 años",97,{"$f":"C20+C25+C28+C31+C35+C40+C44+C48+C53+C57+C61+C65+C69+C73+C77","v":57},{"$f":"D20+D25+D28+D31+D35+D40+D44+D48+D53+D57+D61+D65+D69+D73+D77","v":40},251,{"$f":"F20+F25+F28+F31+F35+F40+F44+F48+F53+F57+F61+F65+F69+F73+F77","v":160},{"$f":"G20+G25+G28+G31+G35+G40+G44+G48+G53+G57+G61+G65+G69+G73+G77","v":91}]
["    18 años y más",39,{"$f":"C21+C26+C29+C32+C36+C41+C45+C49+C54+C58+C62+C66+C70+C74+C78","v":16},{"$f":"D21+D26+D29+D32+D36+D41+D45+D49+D54+D58+D62+D66+D70+D74+D78","v":23},58,{"$f":"F21+F26+F29+F32+F36+F41+F45+F49+F54+F58+F62+F66+F70+F74+F78","v":24},{"$f":"G21+G26+G29+G32+G36+G41+G45+G49+G54+G58+G62+G66+G70+G74+G78","v":34}]
[]
["Artigas",{"$f":"SUM(C19:D19)","v":5},{"$f":"SUM(C20:C21)","v":2},{"$f":"SUM(D20:D21)","v":3},{"$f":"SUM(F19:G19)","v":11},{"$f":"SUM(F20:F21)","v":8},{"$f":"SUM(G20:G21)","v":3}]
["    14 a 17 años",{"$f":"SUM(C20:D20)","v":2},1,1,{"$f":"SUM(F20:G20)","v":9},7,2]
["    18 años y más",{"$f":"SUM(C21:D21)","v":3},1,2,{"$f":"SUM(F21:G21)","v":2},1,1]
[]
["Canelones",{"$f":"SUM(C23:D23)","v":34},{"$f":"C24+C27+C30+C34","v":19},{"$f":"D24+D27+D30+D34","v":15},{"$f":"SUM(F23:G23)","v":109},{"$f":"F24+F27+F30+F34","v":59},{"$f":"G24+G27+G30+G34","v":50}]
["  Barros Blancos",2,{"$f":"SUM(C25:C26)","v":2},{"$f":"SUM(D25:D26)","v":0},35,{"$f":"SUM(F25:F26)","v":18},{"$f":"SUM(G25:G26)","v":17}]
["    14 a 17 años",2,2,0,32,18,14]
["    18 años y más",0,0,0,3,0,3]
["  La Paz",1,{"$f":"SUM(C28:C29)","v":1},{"$f":"SUM(D28:D29)","v":0},31,{"$f":"SUM(F28:F29)","v":17},{"$f":"SUM(G28:G29)","v":14}]
["    14 a 17 años",1,1,0,24,13,11]
["    18 años y más",0,0,0,7,4,3]
["Toledo",12,{"$f":"C31+C32","v":5},{"$f":"D31+D32","v":7},20,{"$f":"F31+F32","v":9},{"$f":"G31+G32","v":11}]
["    14 a 17 años",11,5,6,18,9,9]
["    18 años y más",1,0,1,2,0,2]
[]
["Las Piedras",{"$f":"SUM(C34:D34)","v":19},{"$f":"C35+C36","v":11},{"$f":"D35+D36","v":8},{"$f":"SUM(F34:G34)","v":23},{"$f":"F35+F36","v":15},{"$f":"G35+G36","v":8}]
["    14 a 17 años",{"$f":"SUM(C35:D35)","v":11},6,5,{"$f":"SUM(F35:G35)","v":20},12,8]
["    18 años y más",{"$f":"SUM(C36:D36)","v":8},5,3,{"$f":"SUM(F36:G36)","v":3},3,0]
[]
[]
["Colonia (incluye Rosario)",{"$f":"SUM(C39:D39)","v":10},{"$f":"SUM(C40:C41)","v":7},{"$f":"SUM(D40:D41)","v":3},{"$f":"SUM(F39:G39)","v":27},{"$f":"SUM(F40:F41)","v":16},{"$f":"SUM(G40:G41)","v":11}]
["    14 a 17 años",{"$f":"SUM(C40:D40)","v":9},7,2,{"$f":"SUM(F40:G40)","v":23},16,7]
["    18 años y más",{"$f":"SUM(C41:D41)","v":1},0,1,{"$f":"SUM(F41:G41)","v":4},0,4]
[]
["Durazno",{"$f":"SUM(C43:D43)","v":5},{"$f":"SUM(C44:C45)","v":1},{"$f":"SUM(D44:D45)","v":4},{"$f":"SUM(F43:G43)","v":1},{"$f":"SUM(F44:F45)","v":0},{"$f":"SUM(G44:G45)","v":1}]
["    14 a 17 años",{"$f":"SUM(C44:D44)","v":4},1,3,{"$f":"SUM(F44:G44)","v":1},0,1]
["    18 años y más",{"$f":"SUM(C45:D45)","v":1},0,1,{"$f":"SUM(F45:G45)","v":0},0,0]
[]
["Florida",{"$f":"SUM(C47:D47)","v":28},{"$f":"SUM(C48:C49)","v":14},{"$f":"SUM(D48:D49)","v":14},{"$f":"SUM(F47:G47)","v":25},{"$f":"SUM(F48:F49)","v":14},{"$f":"SUM(G48:G49)","v":11}]
["    14 a 17 años",{"$f":"SUM(C48:D48)","v":27},13,14,{"$f":"SUM(F48:G48)","v":23},14,9]
["    18 años y más",{"$f":"SUM(C49:D49)","v":1},1,0,{"$f":"SUM(F49:G49)","v":2},0,2]
[]
["Maldonado (San Carlos)",{"$f":"SUM(C51:D51)","v":8},{"$f":"C52","v":5},{"$f":"D52","v":3},{"$f":"SUM(F51:G51)","v":7},{"$f":"F52","v":4},{"$f":"G52","v":3}]
["San Carlos",8,{"$f":"C53+C54","v":5},{"$f":"D53+D54","v":3},7,{"$f":"F53+F54","v":4},{"$f":"G53+G54","v":3}]
["    14 a 17 años",4,3,1,5,4,1]
["    18 años y más",4,2,2,2,0,2]
[]
["Paysandú",{"$f":"SUM(C56:D56)","v":0},{"$f":"C57+C58","v":0},{"$f":"D57+D58","v":0},{"$f":"SUM(F56:G56)","v":39},{"$f":"F57+F58","v":28},{"$f":"G57+G58","v":11}]
["    14 a 17 años",{"$f":"SUM(C57:D57)","v":0},0,0,{"$f":"SUM(F57:G57)","v":36},26,10]
["    18 años y más",{"$f":"SUM(C58:D58)","v":0},0,0,{"$f":"SUM(F58:G58)","v":3},2,1]
[]
["Rocha",{"$f":"SUM(C60:D60)","v":1},{"$f":"C61+C62","v":0},{"$f":"D61+D62","v":1},{"$f":"SUM(F60:G60)","v":13},{"$f":"F61+F62","v":9},{"$f":"G61+G62","v":4}]
["14 a 17 años",{"$f":"SUM(C61:D61)","v":1},0,1,{"$f":"SUM(F61:G61)","v":13},9,4]
["18 años y más",{"$f":"SUM(C62:D62)","v":0},0,0,{"$f":"SUM(F62:G62)","v":0},0,0]
[]
["Río Negro (Young)",{"$f":"SUM(C64:D64)","v":4},{"$f":"C65+C66","v":3},{"$f":"D65+D66","v":1},{"$f":"SUM(F64:G64)","v":16},{"$f":"F65+F66","v":14},{"$f":"G65+G66","v":2}]
["    14 a 17 años",{"$f":"SUM(C65:D65)","v":3},3,0,{"$f":"SUM(F65:G65)","v":8},7,1]
["    18 años y más",{"$f":"SUM(C66:D66)","v":1},0,1,{"$f":"SUM(F66:G66)","v":8},7,1]
[]
["Rivera",{"$f":"SUM(C68:D68)","v":12},{"$f":"C69+C70","v":6},{"$f":"D69+D70","v":6},{"$f":"SUM(F68:G68)","v":26},{"$f":"F69+F70","v":11},{"$f":"G69+G70","v":15}]
["    14 a 17 años",{"$f":"SUM(C69:D69)","v":4},2,2,{"$f":"SUM(F69:G69)","v":15},8,7]
["    18 años y más",{"$f":"SUM(C70:D70)","v":8},4,4,{"$f":"SUM(F70:G70)","v":11},3,8]
[]
["Salto",{"$f":"SUM(C72:D72)","v":11},{"$f":"C73+C74","v":6},{"$f":"D73+D74","v":5},{"$f":"SUM(F72:G72)","v":15},{"$f":"F73+F74","v":7},{"$f":"G73+G74","v":8}]
["    14 a 17 años",{"$f":"SUM(C73:D73)","v":8},5,3,{"$f":"SUM(F73:G73)","v":8},5,3]
["    18 años y más",{"$f":"SUM(C74:D74)","v":3},1,2,{"$f":"SUM(F74:G74)","v":7},2,5]
[]
["Treinta y Tres",{"$f":"SUM(C76:D76)","v":18},{"$f":"C77+C78","v":10},{"$f":"D77+D78","v":8},{"$f":"SUM(F76:G76)","v":20},{"$f":"F77+F78","v":14},{"$f":"G77+G78","v":6}]
["    14 a 17 años",{"$f":"SUM(C77:D77)","v":10},8,2,{"$f":"SUM(F77:G77)","v":16},12,4]
["    18 años y más",{"$f":"SUM(C78:D78)","v":8},2,6,{"$f":"SUM(F78:G78)","v":4},2,2]
["Fuente:  Área de Educación No Formal, Dirección de Educación, MEC."]
["Nota:                                                                                                                                            Egreso Anticipado: Todos los individuos que durante el 2012 egresaron de CECAP para incorporarse a otra propuesta educativa o al mundo del trabajo, habiendo cursado un período menor a cuatro semestres."]
["Desvinculados: Todos los individuos que durante el 2012 dejaron de asistir a la propuesta."]

{"sheet":"II-8.1.10","index":269,"n_rows":62,"n_cols":10,"rows_kept":62,"cut":false,"hidden":false,"merged":[[6,5,6,6],[6,8,6,9],[0,5,1,8],[4,0,4,9],[5,0,7,0],[5,1,7,1],[5,2,5,3],[5,4,7,4],[5,5,5,6],[5,7,7,7],[5,8,5,9],[6,2,6,3]]}
["UNIVERSIDADES PRIVADAS: OFERTAS EDUCATIVAS NO TERCIARIAS",null,null,null,null,"ALUMNOS MATRICULADOS"]
[]
["Cuadro Nº II- 8.1.10"]
[]
["ALUMNOS INGRESADOS, MATRICULADOS Y EGRESADOS EN OFERTAS EDUCATIVAS NO TERCIARIAS DE UNIVERSIDADES PRIVADAS POR SEXO. AÑO 2013."]
["UNIVERSIDAD / ACREDITACIÓN","TOTAL","INGRESADOS",null,"TOTAL","MATRICULADOS",null,"TOTAL","EGRESADOS"]
[null,null,"SEXO",null,null,"SEXO",null,null,"SEXO"]
[null,null,"M","F",null,"M","F",null,"M","F"]
["TOTAL",{"$f":"SUM(C9:D9)","v":1401},{"$f":"+C11+C46","v":867},{"$f":"+D11+D46","v":534},{"$f":"SUM(F9:G9)","v":5039},{"$f":"+F11+F46","v":3340},{"$f":"+G11+G46","v":1699},{"$f":"SUM(I9:J9)","v":493},{"$f":"+I11+I46","v":302},{"$f":"+J11+J46","v":191}]
[]
["UNIVERSIDAD ORT URUGUAY ",{"$f":"SUM(C11:D11)","v":966},{"$f":"SUM(C12:C44)","v":656},{"$f":"SUM(D12:D44)","v":310},{"$f":"SUM(F11:G11)","v":4168},{"$f":"SUM(F12:F44)","v":2893},{"$f":"SUM(G12:G44)","v":1275},{"$f":"SUM(I11:J11)","v":348},{"$f":"SUM(I12:I44)","v":233},{"$f":"SUM(J12:J44)","v":115}]
["Analista en Marketing",{"$f":"+C12+D12","v":129},69,60,{"$f":"+F12+G12","v":427},219,208,{"$f":"+I12+J12","v":31},14,17]
["Analista Programador",173,141,32,531,455,76,46,39,7]
["Diseñador Gráfico",59,28,31,280,147,133,27,16,11]
["Secretariado Ejecutivo",0,0,0,12,0,12,0,0,0]
["Diseñador de Interiores",0,0,0,66,13,53,16,4,12]
["Técnico en Gerencia",55,27,28,276,147,129,12,2,10]
["Técnico en Realización Audiovisual",20,11,9,84,44,40,6,3,3]
["Analista en Publicidad",15,9,6,77,38,39,1,0,1]
["Técnico en Animación Digital",0,0,0,8,6,2,0,0,0]
["Técnico en Electrónica Informática",6,6,0,60,57,3,36,36,0]
["Programador de Páginas Web",0,0,0,1,1,0,0,0,0]
["Diseñador de Páginas Web",0,0,0,0,0,0,15,7,8]
["Técnico en Gerencia Turística",17,2,15,82,31,51,8,2,6]
["Técnico en Diseño de Sonido",44,37,7,179,158,21,8,8,0]
["Analista en Comunicación Corporativa y Relaciones Públicas",30,9,21,156,40,116,16,1,15]
["Técnico en Periodismo Deportivo",0,0,0,9,8,1,0,0,0]
["Técnico en Relaciones Públicas y Organización de Eventos",15,4,11,83,21,62,15,6,9]
["Analista en Tecnologías de la Información",116,103,13,662,593,69,22,20,2]
["Técnico en Electro Electrónica",14,13,1,62,61,1,9,9,0]
["Técnico en Gerencia Comercial",27,21,6,106,69,37,2,2,0]
["Técnico en Sistemas Operativos y Redes",66,64,2,373,355,18,29,29,0]
["Analista en Comercio Exterior",59,37,22,175,95,80,15,5,10]
["Analista Programador de Aplicaciones Web",0,0,0,96,79,17,5,4,1]
["Programador Web - Camino TICs",0,0,0,1,1,0,0,0,0]
["Programador Orientado a Objetos - Camino TICs",0,0,0,17,12,5,0,0,0]
["Técnico en Electro Electrónica - Camino TICs",0,0,0,3,3,0,0,0,0]
["Técnico en Producción Musical",{"$f":"+C38+D38","v":8},8,0,{"$f":"+F38+G38","v":36},32,4,{"$f":"+I38+J38","v":3},2,1]
["Técnico en Diseño Web",28,16,12,97,66,31,3,1,2]
["Técnico en Soporte Informático",26,21,5,80,70,10,13,13,0]
["Instalación y mantenimiento de redes",11,10,1,46,44,2,10,10,0]
["Técnico en Sistemas Eléctricos y Electrónicos",8,8,0,16,14,2,0,0,0]
["Productor de Modas",22,1,21,47,3,44,0,0,0]
["Analista en Redes Sociales y Community Management",18,11,7,20,11,9,0,0,0]
[]
["UNIVERSIDAD DE LA EMPRESA",{"$f":"SUM(C46:D46)","v":435},{"$f":"SUM(C47:C60)","v":211},{"$f":"SUM(D47:D60)","v":224},{"$f":"SUM(F46:G46)","v":871},{"$f":"SUM(F47:F60)","v":447},{"$f":"SUM(G47:G60)","v":424},{"$f":"SUM(I46:J46)","v":145},{"$f":"SUM(I47:I60)","v":69},{"$f":"SUM(J47:J60)","v":76}]
["Analista en Comercio Exterior",{"$f":"+C47+D47","v":33},19,14,{"$f":"+F47+G47","v":76},39,37,{"$f":"+I47+J47","v":7},2,5]
["Analista en Marketing",102,44,58,229,116,113,59,27,32]
["Analista en Recursos Humanos",102,23,79,114,24,90,23,3,20]
["Analista en Relaciones Públicas",0,0,0,9,3,6,0,0,0]
["Analista en e-Negocios y Marketing Digital",14,11,3,14,11,3,3,2,1]
["Técnico en Diseño Gráfico",29,13,16,59,29,30,4,3,1]
["Técnico en Diseño de Interiores",13,1,12,41,2,39,3,0,3]
["Técnico en Turismo",8,3,5,8,3,5,0,0,0]
["Técnico Agropecuario",70,56,14,119,91,28,17,13,4]
["Técnico Veterinario",22,11,11,30,14,16,10,4,6]
["Técnico Forestal",9,8,1,28,26,2,9,9,0]
["Analista en Publicidad",0,0,0,26,13,13,0,0,0]
["Analista en Tecnología Informática",12,9,3,17,13,4,2,1,1]
["Técnico en Gerencia",21,13,8,101,63,38,8,5,3]
[]
["Fuente: Oficinas Productoras de cada una de las Instituciones. "]

{"sheet":"II-8.2.1","index":270,"n_rows":87,"n_cols":6,"rows_kept":87,"cut":false,"hidden":false,"merged":[[86,0,86,6],[0,4,1,5],[4,0,4,5],[5,0,8,0],[5,1,8,1],[5,2,5,5],[6,2,6,3],[6,4,6,5],[7,2,7,5]]}
["MEC - DIRECCIÓN DE EDUCACIÓN",null,null,null,"PERSONAL DOCENTE"]
["ÁREA DE EDUCACIÓN NO FORMAL"]
[]
["Cuadro Nº II-8.2.1"]
["PERSONAL DOCENTE DE CECAP,TITULADO Y NO TITULADO, POR SEXO, REGIÓN Y DEPARTAMENTO SEGÚN CARGA HORARIA SEMANAL. AÑO 2013."]
["Dedicación","TOTAL ","DOCENTES"]
[null,null,"TITULADOS",null,"NO TITULADOS"]
[null,null,"SEXO"]
[null,null,"M","F","M","F"]
["TOTAL",{"$f":"SUM(C10:F10)","v":387},{"$f":"+C11+C16","v":29},{"$f":"+D11+D16","v":163},{"$f":"+E11+E16","v":88},{"$f":"+F11+F16","v":107}]
["MONTEVIDEO",{"$f":"SUM(C11:F11)","v":53},{"$f":"SUM(C12:C14)","v":8},{"$f":"SUM(D12:D14)","v":25},{"$f":"SUM(E12:E14)","v":11},{"$f":"SUM(F12:F14)","v":9}]
["Hasta 19 hs semanales",{"$f":"SUM(C12:F12)","v":18},0,5,4,9]
["De 20 hs a 39 hs semanales",{"$f":"SUM(C13:F13)","v":30},8,16,6,0]
["De 40 hs y más semanales",{"$f":"SUM(C14:F14)","v":5},0,4,1,0]
[]
["RESTO DEL PAÍS",{"$f":"SUM(C16:F16)","v":334},{"$f":"SUM(C17:C19)","v":21},{"$f":"SUM(D17:D19)","v":138},{"$f":"SUM(E17:E19)","v":77},{"$f":"SUM(F17:F19)","v":98}]
["Hasta 19 hs semanales",214,{"$f":"C21+C26+C30+C34+C38+C42+C46+C50+C55+C59+C63+C67+C71+C75+C79+C83","v":13},{"$f":"D21+D26+D30+D34+D38+D42+D46+D50+D55+D59+D63+D67+D71+D75+D79+D83","v":56},{"$f":"E21+E26+E30+E34+E38+E42+E46+E50+E55+E59+E63+E67+E71+E75+E79+E83","v":47},98]
["De 20 hs a 39 hs semanales",107,{"$f":"C22+C27+C31+C35+C39+C43+C47+C51+C56+C60+C64+C68+C72+C76+C80+C84","v":8},71,28,0]
["De 40 hs y más semanales",13,{"$f":"C23+C28+C32+C36+C40+C44+C48+C52+C57+C61+C65+C69+C73+C77+C81+C85","v":0},11,2,0]
["Artigas",28,{"$f":"SUM(C21:C23)","v":1},{"$f":"SUM(D21:D23)","v":12},{"$f":"SUM(E21:E23)","v":6},{"$f":"SUM(F21:F23)","v":9}]
["Hasta 19 hs semanales",20,1,5,5,9]
["De 20 hs a 39 hs semanales",8,0,7,1,0]
["De 40 hs y más semanales",0,0,0,0,0]
["Canelones",65,{"$f":"+C25+C29+C33+C37","v":1},{"$f":"+D25+D29+D33+D37","v":27},{"$f":"+E25+E29+E33+E37","v":17},{"$f":"+F25+F29+F33+F37","v":20}]
["  Barros Blancos",11,{"$f":"SUM(C26:C28)","v":0},{"$f":"SUM(D26:D28)","v":5},{"$f":"SUM(E26:E28)","v":4},{"$f":"SUM(F26:F28)","v":2}]
["Hasta 19 hs semanales",5,0,1,2,2]
["De 20 hs a 39 hs semanales",6,0,4,2,0]
["De 40 hs y más semanales",0,0,0,0,0]
["  La Paz",13,{"$f":"SUM(C30:C32)","v":1},{"$f":"SUM(D30:D32)","v":4},{"$f":"SUM(E30:E32)","v":5},{"$f":"SUM(F30:F32)","v":3}]
["Hasta 19 hs semanales",8,1,0,4,3]
["De 20 hs a 39 hs semanales",5,0,4,1,0]
["De 40 hs y más semanales",0,0,0,0,0]
["  Las Piedras",17,{"$f":"SUM(C34:C36)","v":0},{"$f":"SUM(D34:D36)","v":10},{"$f":"SUM(E34:E36)","v":1},{"$f":"SUM(F34:F36)","v":6}]
["Hasta 19 hs semanales",12,0,5,1,6]
["De 20 hs a 39 hs semanales",5,0,5,0,0]
["De 40 hs y más semanales",0,0,0,0,0]
["  Toledo",24,{"$f":"SUM(C38:C40)","v":0},{"$f":"SUM(D38:D40)","v":8},{"$f":"SUM(E38:E40)","v":7},{"$f":"SUM(F38:F40)","v":9}]
["Hasta 19 hs semanales",19,0,5,5,9]
["De 20 hs a 39 hs semanales",5,0,3,2,0]
["De 40 hs y más semanales",0,0,0,0,0]
["Colonia (incluye Rosario)",{"$f":"SUM(C41:F41)","v":20},{"$f":"SUM(C42:C44)","v":0},{"$f":"SUM(D42:D44)","v":8},{"$f":"SUM(E42:E44)","v":4},{"$f":"SUM(F42:F44)","v":8}]
["Hasta 19 hs semanales",14,0,3,3,8]
["De 20 hs a 39 hs semanales",3,0,2,1,0]
["De 40 hs y más semanales",3,0,3,0,0]
["Durazno",16,{"$f":"SUM(C46:C48)","v":0},{"$f":"SUM(D46:D48)","v":8},{"$f":"SUM(E46:E48)","v":3},{"$f":"SUM(F46:F48)","v":5}]
["Hasta 19 hs semanales",10,0,3,2,5]
["De 20 hs a 39 hs semanales",6,0,5,1,0]
["De 40 hs y más semanales",0,0,0,0,0]
["Florida",27,{"$f":"SUM(C50:C52)","v":3},{"$f":"SUM(D50:D52)","v":13},{"$f":"SUM(E50:E52)","v":5},{"$f":"SUM(F50:F52)","v":6}]
["Hasta 19 hs semanales",19,0,8,5,6]
["De 20 hs a 39 hs semanales",8,3,5,0,0]
["De 40 hs y más semanales",0,0,0,0,0]
["Maldonado",{"$f":"B54+B58","v":37},{"$f":"C54+C58","v":2},{"$f":"D54+D58","v":12},{"$f":"E54+E58","v":9},{"$f":"F54+F58","v":14}]
["Maldonado",{"$f":"SUM(C54:F54)","v":23},{"$f":"SUM(C55:C57)","v":0},{"$f":"SUM(D55:D57)","v":6},{"$f":"SUM(E55:E57)","v":8},{"$f":"SUM(F55:F57)","v":9}]
["Hasta 19 hs semanales",17,0,3,5,9]
["De 20 hs a 39 hs semanales",6,0,3,3,0]
["De 40 hs y más semanales",0,0,0,0,0]
["San Carlos",14,{"$f":"SUM(C59:C61)","v":2},{"$f":"SUM(D59:D61)","v":6},{"$f":"SUM(E59:E61)","v":1},{"$f":"SUM(F59:F61)","v":5}]
["Hasta 19 hs semanales",9,1,2,1,5]
["De 20 hs a 39 hs semanales",5,1,4,0,0]
["De 40 hs y más semanales",0,0,0,0,0]
["Paysandú",21,{"$f":"SUM(C63:C65)","v":2},{"$f":"SUM(D63:D65)","v":8},{"$f":"SUM(E63:E65)","v":5},{"$f":"SUM(F63:F65)","v":6}]
["Hasta 19 hs semanales",14,2,2,4,6]
["De 20 hs a 39 hs semanales",7,0,6,1,0]
["De 40 hs y más semanales",0,0,0,0,0]
["Río Negro (Young)",17,{"$f":"SUM(C67:C69)","v":1},{"$f":"SUM(D67:D69)","v":10},{"$f":"SUM(E67:E69)","v":2},{"$f":"SUM(F67:F69)","v":4}]
["Hasta 19 hs semanales",10,1,4,1,4]
["De 20 hs a 39 hs semanales",4,0,3,1,0]
["De 40 hs y más semanales",3,0,3,0,0]
["Rivera",23,{"$f":"SUM(C71:C73)","v":4},{"$f":"SUM(D71:D73)","v":8},{"$f":"SUM(E71:E73)","v":9},{"$f":"SUM(F71:F73)","v":2}]
["Hasta 19 hs semanales",4,0,2,0,2]
["De 20 hs a 39 hs semanales",17,4,5,8,0]
["De 40 hs y más semanales",2,0,1,1,0]
["Rocha",17,{"$f":"SUM(C75:C77)","v":2},{"$f":"SUM(D75:D77)","v":5},{"$f":"SUM(E75:E77)","v":4},{"$f":"SUM(F75:F77)","v":6}]
["Hasta 19 hs semanales",11,2,0,3,6]
["De 20 hs a 39 hs semanales",6,0,5,1,0]
["De 40 hs y más semanales",0,0,0,0,0]
["Salto",44,{"$f":"SUM(C79:C81)","v":5},{"$f":"SUM(D79:D81)","v":19},{"$f":"SUM(E79:E81)","v":6},{"$f":"SUM(F79:F81)","v":14}]
["Hasta 19 hs semanales",32,5,11,2,14]
["De 20 hs a 39 hs semanales",8,0,5,3,0]
["De 40 hs y más semanales",4,0,3,1,0]
["Treinta y Tres",19,{"$f":"SUM(C83:C85)","v":0},{"$f":"SUM(D83:D85)","v":8},{"$f":"SUM(E83:E85)","v":7},{"$f":"SUM(F83:F85)","v":4}]
["Hasta 19 hs semanales",10,0,2,4,4]
["De 20 hs a 39 hs semanales",8,0,5,3,0]
["De 40 hs y más semanales",1,0,1,0,0]
[]
["Fuente: Procesamiento propio en base a datos proporcionados por el  Área de Educación No Formal, Dirección de Educación, MEC."]

{"sheet":"ll-8.2.2","index":271,"n_rows":29,"n_cols":4,"rows_kept":29,"cut":false,"hidden":false,"merged":[[5,0,6,0],[5,1,6,1],[3,0,3,3],[5,2,5,3],[0,1,0,3],[1,0,1,1]]}
["ANEP","PERSONAL DOCENTE",null,"PRUEBAS DE ACREDITACIÓN"]
["CODICEN – DIRECCIÓN SECTORIAL DE EDUCACIÓN DE ADULTOS"]
["Cuadro Nº II-8.2.2"]
["DOCENTES POR SEXO SEGÚN GRANDES ÁREAS Y DEPARTAMENTO.AÑO 2013 "]
[]
["GRANDES ÁREAS Y DEPARTAMENTOS",null,"DOCENTES"]
[null,null,"M","F"]
["TOTAL",{"$f":"+B9+B10","v":433},{"$f":"+C9+C10","v":91},342]
["MONTEVIDEO",{"$f":"C9+D9","v":261},59,202]
["RESTO DEL PAÍS",{"$f":"C10+D10","v":172},32,140]
["Artigas",{"$f":"C11+D11","v":5},0,5]
["Canelones",46,7,39]
["Cerro Largo",7,1,6]
["Colonia",8,0,8]
["Durazno",4,0,4]
["Flores",1,0,1]
["Florida",3,0,3]
["Lavalleja",7,2,5]
["Maldonado",9,4,5]
["Paysandú",12,2,10]
["Río Negro",5,1,4]
["Rivera",14,4,10]
["Rocha",3,1,2]
["Salto",13,4,9]
["San José",9,2,7]
["Soriano",12,2,10]
["Tacuarembó",13,2,11]
["Treinta y Tres",1,0,1]
["Fuente: ANEP - CODICEN - Dirección Sectorial de Educación de Adultos"]

{"sheet":"II-8.3.1  ","index":272,"n_rows":24,"n_cols":12,"rows_kept":24,"cut":false,"hidden":false,"merged":[[0,0,0,1],[0,4,1,11],[6,0,6,11],[7,0,10,0],[7,1,8,2],[7,3,10,3],[7,4,8,5],[7,6,8,11],[9,1,10,1],[9,2,10,2],[9,4,9,5],[9,6,10,6],[9,7,9,8],[9,9,10,9],[9,10,9,11]]}
["Consejo de Capacitación Profesional (COCAP)",null,null,null,"CURSOS, ALUMNOS MATRICULADOS Y RECURSOS HUMANOS"]
[]
[]
[]
["Cuadro Nº II-8.3.1"]
[]
["CANTIDAD DE CURSOS, DE HORAS Y DE ALUMNOS MATRICULADOS SEGÚN TIPO DE CURSO Y ÁREA DE FORMACIÓN COCAP. AÑO 2013."]
["TIPO DE CURSO Y ÁREA DE FORMACIÓN","CURSOS",null,"TOTAL","ALUMNOS MATRICULADOS",null,"RECURSOS HUMANOS"]
[]
[null,"CANTIDAD","HORAS",null,"SEXO",null,"TOTAL","DOCENTES",null,"TOTAL","FUNCIONARIOS"]
[null,null,null,null,"M","F",null,"M","F",null,"M","F"]
["TOTAL",{"$f":"B13+B18","v":35},{"$f":"SUM(C13+C18)","v":2988},{"$f":"E12+F12","v":940},{"$f":"SUM(E13,E18)","v":897},{"$f":"SUM(F13,F18)","v":43},{"$f":"H12+I12","v":30},{"$f":"H13+H18","v":28},{"$f":"I13+I18","v":2},{"$f":"K12+L12","v":16},{"$f":"K13+K18","v":6},{"$f":"L13+L18","v":10}]
["   Cursos Abiertos",{"$f":"SUM(B14:B17)","v":30},{"$f":"SUM(C14:C17)","v":2586},{"$f":"E13+F13","v":833},{"$f":"SUM(E14:E17)","v":823},{"$f":"SUM(F14:F17)","v":10},{"$f":"H13+I13","v":28},{"$f":"SUM(H14:H17)","v":26},{"$f":"SUM(I14:I17)","v":2},{"$f":"K13+L13","v":16},6,10]
["    Industrial",30,2586,833,823,10,{"$f":"H14+I14","v":28},26,2,0,0,0]
["    Hotelería / Gastronomía",0,0,0,0,0,0,0,0,0,0,0]
["    Administración y Servicios",0,0,0,0,0,0,0,0,0,0,0]
["    Agropecuario",0,0,0,0,0,0,0,0,0,0,0]
["   Cursos Cerrados",{"$f":"SUM(B19:B22)","v":5},{"$f":"SUM(C19:C22)","v":402},107,{"$f":"SUM(E19:E22)","v":74},{"$f":"SUM(F19:F22)","v":33},2,{"$f":"SUM(H19:H22)","v":2},{"$f":"SUM(I19:I22)","v":0},0,0,0]
["    Industrial",5,402,107,74,33,2,2,0,0,0,0]
["    Hotelería / Gastronomía",0,0,0,0,0,0,0,0,0,0,0]
["    Administración y Servicios",0,0,0,0,0,0,0,0,0,0,0]
["    Agropecuario",0,0,0,0,0,0,0,0,0,0,0]
[]
["Fuente: COCAP"]

{"sheet":"II-8.4.1","index":273,"n_rows":479,"n_cols":14,"rows_kept":479,"cut":false,"hidden":false,"merged":[[477,0,477,4],[478,0,478,4],[7,13,7,17],[8,13,8,15],[1,3,2,4],[5,0,5,4],[6,3,6,4],[7,3,7,4]]}
[]
["MEC",null,null,"CENSO EDUCACIÓN TÉCNICA Y TECNOLÓGICA"]
["Área de Investigación y Estadística"]
[]
["Cuadro Nº II.8.4.1"]
["MATRÍCULA Y PERSONAL DOCENTE DEL RELEVAMIENTO DE INSTITUCIONES DE FORMACIÓN TÉCNICO-PROFESIONALPOR SEXO SEGÚN TIPO DE INSTITUCIÓN, ÁREAS DE CONOCIMIENTO E INSTITUCIONES. AÑO 2013."]
["TIPO DE INSTITUCIÓN / ÁREAS DE CONOCIMIENTO /  INSTITUCIONES","MATRÍCULA","TOTAL DOCENTES","DOCENTES"]
[null,null,null,"SEXO",null,null,null,null,null,null,null,null,null,"Fuente: Elaboración propia en base a la información del Relevamiento de Instituciones de Formación Técnico-Profesional. Realizado por el Área de Investigación y Estadística."]
[null,null,null,"M","F",null,null,null,null,null,null,null,null,"Nota: Las instituciones fueron clasificadas por área de conocimiento principal."]
["TOTAL",{"$f":"B11+B54","v":93228},{"$f":"C11+C54","v":5185},{"$f":"D11+D54","v":2867},{"$f":"E11+E54","v":2318}]
["PÚBLICO",{"$f":"SUM(B13+B15+B18+B20+B24+B26+B28+B30+B33+B36+B39)","v":5184},{"$f":"SUM(D11+E11)","v":1314},{"$f":"D13+D15+D18+D20+D24+D26+D28+D30+D33+D36+D39","v":1146},{"$f":"E13+E15+E18+E20+E24+E26+E28+E30+E33+E36+E39","v":168}]
[]
["ADMINISTRACIÓN-COMERCIALIZACIÓN",{"$f":"SUM(B14)","v":23},{"$f":"SUM(D13+E13)","v":4},{"$f":"SUM(D14)","v":3},{"$f":"SUM(E14)","v":1}]
["Centro de Instrucción y Logística del Ejército- CILE   ",23,4,3,1]
["AERONÁUTICA",{"$f":"SUM(B16:B17)","v":138},192,{"$f":"D16+D17","v":161},{"$f":"E16+E17","v":31}]
["Escuela de Aviación Naval *",10,47,44,3]
["Escuela Técnica de Aeronáutica *",128,145,117,28]
["ARTES - ARTESANIAS",48]
["UDELAR *",48,"s/d","s/d","s/d"]
["CAPACITACIONES LABORALES",{"$f":"B21+B22+B23","v":485},{"$f":"SUM(D20+E20)","v":104},{"$f":"D21+D22","v":89},{"$f":"E21+E22","v":15}]
["Centro de Instrucción de Ingenieros *",70,90,75,15]
["Servicio de Material y Armamento",164,14,14,0]
["Escuela Técnica de Aeronáutica",251]
["GASTRONOMÍA",22,108,{"$f":"D25","v":54},{"$f":"E25","v":54}]
["Servicio de Intendencia del Ejército",22,108,54,54]
["IDIOMAS",369,229,{"$f":"D27","v":209},{"$f":"E27","v":20}]
["Instituto Militar de Estudios Superiores *",369,229,209,20]
["INFORMÁTICA",28]
["Escuela Técnica de Aeronáutica",28]
["MARÍTIMA",29,{"$f":"SUM(D30+E30)","v":25},{"$f":"D31+D32","v":21},{"$f":"E31+E32","v":4}]
["Centro de Instrucción de la Armada",20,25,21,4]
["Centro de Instrucción de Logística del Ejército",9,0]
["QUÍMICA",{"$f":"B34+B35","v":211}]
["Centro de Instrucción de Ingenieros",25]
["UDELAR",186]
["SALUD SEGURIDAD E HIGIENE",{"$f":"B37+B38","v":290}]
["Centro de Instrucción de Ingenieros",15]
["UDELAR",275]
["OTROS",{"$f":"SUM(B40:B53)","v":3541},{"$f":"SUM(D39+E39)","v":652},{"$f":"SUM(D40:D53)","v":609},{"$f":"SUM(E40:E53)","v":43}]
["Centro de Altos Estudios Nacionales - CALEN",412,{"$f":"SUM(D40+E40)","v":40},32,8]
["Centro de Instrucción de Artillería de Campaña y Antiaérea",178,{"$f":"SUM(D41+E41)","v":60},60,0]
["Centro de Instrucción de Blindados y Mecanizados",253,180,176,4]
["Centro de Instrucción de Ingenieros",153]
["Centro de Instrucción de Logística del Ejército",22]
["ECEMA",98,54,48,6]
["Escuela de Buceo y Salvamento de la Armada",50,54,54,0]
["Escuela de Aviación Naval",25]
["Escuela de Especialidades de la Armada (ESESP)",1213,45,36,9]
["Escuela de Fusileros Navales",713,191,190,1]
["Instituto Militar de Estudios Superiores",127]
["Servicio de Transporte del Ejército",140,6,4,2]
["Servicio de Veterinaria y Remonta",93,22,9,13]
["UDELAR",64]
["PRIVADO",{"$f":"B56+B106+B110+B118+B123+B144+B160+B170+B180+B189+B201+B207+B225+B228+B240+B327+B370+B373+B375+B379+B384+B394+B410+B420+B426+B431","v":88044},{"$f":"SUM(D54+E54)","v":3871},{"$f":"D56+D106+D110+D118+D123+D144+D160+D170+D180+D189+D201+D207+D225+D228+D240+D327+D370+D373+D375+D379+D384+D394+D410+D420+D426+D431","v":1721},{"$f":"E56+E106+E110+E118+E123+E144+E160+E170+E180+E189+E201+E207+E225+E228+E240+E327+E370+E373+E375+E379+E384+E394+E410+E420+E426+E431","v":2150}]
[]
["ADMINISTRACIÓN-COMERCIALIZACIÓN",{"$f":"SUM(B57:B105)","v":10835},{"$f":"SUM(D56+E56)","v":1515},{"$f":"SUM(D57:D105)","v":858},{"$f":"SUM(E57:E105)","v":657}]
["Academia Alfa *",17,12,2,10]
["Academia Giovannini *",422,0]
["Academia ISEC ",16,12,0,12]
["Academia Wolf",217,8,3,5]
["Asociación Cultural y Técnica - CADI",38,19,2,17]
["Bentancor Perez, Noemi       (Instituto P.I.E.M.C.E.)",974,24,8,16]
["Casa de la Mujer",211,42,14,28]
["CEI*",43,27,22,5]
["EMI educa",25,10,2,8]
["Escuela de Formación Profesional en Comercio Exterior y Aduana",184,59,38,21]
["Escuela Francesa de Negocios",117,10,5,5]
["Escuela MA-PA *",177,81,54,27]
["Escuela Sacramento de Enfermería",65,9,3,6]
["Fundación de Cultura Informática",144,93,60,33]
["Fundación Ecuménica de Desarrollo del Uruguay",455,4,1,3]
["Gato Dumas",10,32,22,10]
["Giazzu S.A. *",3130,422,252,170]
["Grameen Uruguay *",90,6,2,4]
["Gustavo Antonio Perdomo Perez",23,2,1,1]
["HEROL S.R.L. - CITEF *",91,9,5,4]
["IEAC Carmelo",12,2,0,2]
["Instituto Aldey",40,18,8,10]
["Instituto Ametrano & Asociados",20,48,12,36]
["Insituto Cultural Gaboto",3,0,0,0]
["Instituto de Capacitación Empresarial (ICE) ",10,13,3,10]
["Instituto de Enseñanza del Uruguay",88,14,7,7]
["Instituto Ganem",44,6,2,4]
["Instituto Kolping",211,0]
["Instituto Lacuesta",13,5,3,2]
["Instituto Metodista Universitario Crandon",68,50,14,36]
["Instituto Mundo Nuevo",79,21,6,15]
["Instituto Orgi",24,1,1,0]
["Instituto Tecnológico CTC",5,2,1,1]
["Instituto Tecnológico del Uruguay Ltda.",1,15,5,10]
["Instituto Tercer Milenio",44,9,4,5]
["Juventud para Cristo",20,27,10,17]
["LOGTRA",1449,4,4,0]
["MEGASOFT",41,1,0,1]
["Mundo Informático",32,13,3,10]
["Pitágoras Plot",40,4,2,2]
["Red Qualitas - Ciudad de la Costa",86,0]
["Red Qualitas Filial Tarariras",25,4,2,2]
["Ricardo Cravotto (IAC Capacitación)",55,31,15,16]
["SERINF *",42,29,18,11]
["Taller de Informática - Centro",266,15,7,8]
["Taller de Informática SRL - Pocitos",104,18,15,3]
["Unión Informática Ltda.",145,6,4,2]
["Universidad de la Empresa*",534,278,216,62]
["Universidad ORT del Uruguay *",885,0,0,0]
["AERONÁUTICA",{"$f":"SUM(B107:B109)","v":58},72,{"$f":"SUM(D107:D109)","v":69},{"$f":"SUM(E107:E109)","v":3}]
["Circulo Aerodeportivo \"Montevideo\"",11,56,56,0]
["Aeroclub Escuela del Aire",25,1,1,0]
["Punta del Este Flight School",22,15,12,3]
["AGRARIA",{"$f":"SUM(B111:B117)","v":975},97,{"$f":"SUM(D111:D117)","v":56},{"$f":"SUM(E111:E117)","v":41}]
["Acción Promocional 18 de Julio",192,29,16,13]
["Academia Ailoma",45,34,18,16]
["Centro Cooperativista Uruguayo",103,19,12,7]
["Escuela MA-PA",179]
["IFYCrrhh *",60,{"$f":"SUM(D115+E115)","v":15},10,5]
["SERINF",219]
["Universidad de la Empresa",177]
["ANIMACIÓN SOCIOCULTURAL",{"$f":"B119+B120+B121+B122","v":290},{"$f":"D118+E118","v":108},{"$f":"SUM(D119:D122)","v":37},{"$f":"SUM(E119:E122)","v":71}]
["Centro Juvenil Movimiento Volpe *",25,{"$f":"D119+E119","v":10},5,5]
["El Abrojo *",96,{"$f":"D120+E120","v":87},24,63]
["Instituto Aldey",12]
["Instituto FEC SRL",157,{"$f":"D122+E122","v":11},8,3]
["ARTES-ARTESANIAS",{"$f":"SUM(B124:B143)","v":4781},{"$f":"SUM(D123+E123)","v":316},{"$f":"SUM(D124:D143)","v":162},{"$f":"SUM(E124:E143)","v":154}]
["Academia de Danza Eufória",110,1,0,1]
["Aquelarre - Escuela de Fotografía",258,8,5,3]
["Arte Club",130,3,3,0]
["Centro de Estudios Amadeus",69,2,2,0]
["EMM - Formación Musical",455,21,16,5]
["Escuela de Actuación Integral",98,10,0,10]
["Escuela de Cine del Uruguay",167,86,60,26]
["Escuela de Comedia Musical - Luis Trochón",774,31,11,20]
["Espacio de Desarrollo Armónico",320,11,3,8]
["Fundación Pro Música",150,10,7,3]
["Instituto de Actuación de Montevideo",162,42,19,23]
["Instituto de Danzas \"Verónica Samurio\" *",507,4,0,4]
["Instituto de restauración y conservación de bienes culturales",55,2,1,1]
["LURAMA SRL",59,2,0,2]
["Patronato da Cultura Galega",132,14,4,10]
["Salados Escuela de Música - Centro de Artes",425,12,10,2]
["Taller Azabache (Arte Taller Celsa)",42,3,1,2]
["Taller Para Las Artes",107,5,1,4]
["UNI 3 Uruguay *",407,49,19,30]
["Universidad ORT del Uruguay",354,0]
["CAPACITACIONES LABORALES",{"$f":"SUM(B145:B159)","v":3205},239,{"$f":"SUM(D145:D159)","v":97},{"$f":"SUM(E145:E159)","v":142}]
["Academia Mario Rodriguez Contabilidades S.C.I.",74,3,0,3]
["Centro de Capacitación Serrano",72,13,7,6]
["CIEDUR *",1172,85,27,58]
["El Abrojo",178,0]
["Escuela MA-PA",890,0]
["Fundación Plenario de Mujeres el Uruguay",80,12,3,9]
["Grameen Uruguay",40,0]
["IFYCrrhh",60,0]
["Instituto Caprice",210,5,0,5]
["Instituto de Enseñanza LC",95,28,11,17]
["Instituto Kolping",84,35,23,12]
["ITEM",125,12,2,10]
["Mundo Informático",25,0]
["ONG Manos Libres: Trabajo por la Inclusión Social",66,46,24,22]
["Taller de Informática SRL ",34,0]
["COMUNICACIONES",{"$f":"SUM(B161:B169)","v":970},54,{"$f":"SUM(D161:D169)","v":24},{"$f":"SUM(E161:E169)","v":30}]
["El Abrojo",73,0]
["Escuela Integral de Diseño Pablo Gimenez *",23,10,3,7]
["Escuela Ma-Pa",24,0]
["GIAZZU S.A",239,0]
["Instituto Gastronomico Beatriz Marino",203,3,0,3]
["Instituto Mundo Nuevo ",78,21,6,15]
["Instituto Profesional de Enseñanza Periodística",259,20,15,5]
["Taller de Informática SRL",36,0]
["Universidad de la Empresa",35,0]
["CONSTRUCCIÓN-ARQUITECTURA",{"$f":"SUM(B171:B179)","v":1270},24,{"$f":"SUM(D171:D179)","v":21},{"$f":"SUM(E171:E179)","v":3}]
["Escuelas IADE",10,8,8,0]
["A+ Escuela de Artes Visuales",247,14,11,3]
["Academia Ailoma",60,0]
["Academia Giovannini",12,0]
["Acción Promocional \"18 de Julio\"",464,0]
["Centro de Entrenamiento Kalya",75,2,2,0]
["Escuela Ma-Pa",342,0]
["GIAZZU S.A",40,0]
["HEROL S.R.L. - CITEF",20,0]
["DEPORTES Y AFINES",{"$f":"SUM(B181:B188)","v":1062},32,{"$f":"SUM(D181:D188)","v":21},{"$f":"SUM(E181:E188)","v":11}]
["Alpha Sports Center",238,9,3,6]
["Centro Juvenil Movimiento Volpe",26,0]
["Instituto de Danzas \"Verónica Samurio\"",67,0]
["Instituto Tecnologico del Uruguay ltda.",37,0]
["Instituto Universitario Asociación Cristiana de Jóvenes",292,18,15,3]
["SERPAJ *",90,5,3,2]
["UNI 3 Uruguay",303,{"$f":"SUM(D187+E187)","v":0}]
["Universidad ORT del Uruguay",9,0]
["DISEÑO",{"$f":"SUM(B190:B200)","v":2224},7,{"$f":"SUM(D190:D200)","v":2},{"$f":"SUM(E190:E200)","v":5}]
["ARS-Escuela de Interiorismo",23,3,1,2]
["Escuela Integral de Diseño Pablo Gimenez",46,0]
["Taller de Informática SRL",14,0]
["Instituto Tecnológico CTC",9,0]
["Instituto de Enseñanza del Uruguay",13,4,1,3]
["Escuela Ma-Pa",21,0]
["Ricardo Ravotto (IAC Capacitación)",55,0]
["Universidad de la Empresa",100,0]
["Universidad ORT del Uruguay",66,0]
["GIAZZU S.A",1774,0]
["Unión Informática Ltda. *",103,0]
["ELECTROTECNIA Y ELECTRÓNICA",{"$f":"SUM(B202:B206)","v":379},0,{"$f":"SUM(D205:D206)","v":0},{"$f":"SUM(E205:E206)","v":0}]
["Centro Juvenil Movimiento Volpe",21,0]
["Escuela Ma-Pa",179,0]
["Escuelas IADE",42,0]
["Taller de Informática",130,0]
["Unión Informática Ltda.",7,0]
["GASTRONOMÍA",{"$f":"SUM(B208:B224)","v":2174},128,{"$f":"SUM(D208:D224)","v":65},{"$f":"SUM(E208:E224)","v":63}]
["Asociación Uruguaya de Barmen",82,14,13,1]
["Centro de Capacitación Serrano",38,0]
["Centro de Industriales Panaderos del Uruguay (CIPU)",145,11,6,5]
["Centro Juvenil Movimiento Volpe",28,0]
["EMAUS Nuevo París",34,3,1,2]
["Escuela de Hotelería y Gastronomía Del Plata *",199,12,3,9]
["Escuela Ma-Pa",365,0]
["FISE - Fundación de Integración Socio Educativa",201,29,11,18]
["Fundación Pablo de Tarso",88,13,5,8]
["Gato Dumas",493,0]
["Instituto Aldey",55,0]
["Instituto de Enseñanza LC",6,0]
["Instituto de Gastronomía UG",115,14,7,7]
["Instituto Kolping",150,0]
["ITHU- Instituto Politécnico de Montevideo*",59,32,19,13]
["Juventud para Cristo",21,0]
["SERPAJ",95,0]
["GRÁFICOS",{"$f":"B226+B227","v":47},0]
["Escuela Ma-Pa",7,0]
["Taller de Informática SRL",40,0]
["HOTELERÍA Y TURISMO",{"$f":"SUM(B229:B239)","v":920},0,{"$f":"SUM(D229:D239)","v":0},{"$f":"SUM(E229:E239)","v":0}]
["Casa de la Mujer",35,0]
["CEI",17,0]
["CIEDUR",412,0]
["Escuela de Hotelería y Gastronomía Del Plata",116,0]
["Escuela Ma-Pa",69,0]
["GIAZZU S.A",51,0]
["Instituto Kolping",53,0]
["Instituto Lacuesta",16,0]
["ITHU- Instituto Politécnico de Montevideo",61,0]
["Universidad de la Empresa",8,0]
["Universidad ORT del Uruguay",82,0]
["IDIOMAS",{"$f":"SUM(B241:B326)","v":22546},864,{"$f":"SUM(D241:D326)","v":142},{"$f":"SUM(E241:E326)","v":722}]
["Academia Alfa *",116,0]
["Academia Wolf",8,0]
["Alianza Colonia",262,13,1,12]
["Alianza Cultural San Ramón",151,4,0,4]
["Alianza Cultural Uruguay - Estados Unidos",3534,31,2,29]
["Alianza Durazno",74,1,0,1]
["Alianza Francesa",975,19,3,16]
["Alianza Fray Bentos",272,14,0,14]
["Alianza Juan Lacaze",144,3,1,2]
["Alianza Las Piedras",171,3,1,2]
["Alianza Melo",264,{"$f":"SUM(D251+E251)","v":10},0,10]
["Alianza Minas",168,5,0,5]
["Alianza Pando",215,3,0,3]
["Alianza Rivera",157,3,0,3]
["American Language Institute",190,10,0,10]
["American Language Institute Paysandú",96,3,0,3]
["Anglo Cerro",184,8,2,6]
["Anglo Colonia",218,5,0,5]
["Anglo La Blanqueada",198,14,3,11]
["Anglo Sarandí Grande",100,8,1,7]
["Blive - Punta Carretas",102,2,0,2]
["Brasil Club SRL",388,8,3,5]
["Britannia Centre ",297,13,13,0]
["Business English, Inc",177,14,4,10]
["CEDI",120,18,11,7]
["Centro Anglo Colón",78,5,1,4]
["Centro Anglo La Teja",146,12,0,12]
["Centro Anglo Maldonado",1079,28,0,28]
["Centro Cultural Anglo Uruguayo",121,7,1,6]
["Centro Cultural Anglo Uruguayo de San José",545,38,0,38]
["Centro Cultural Anglo-Uruguayo - Pando",131,3,0,3]
["Centro Queen´s",100,2,1,1]
["Decker Insitutte",49,6,2,4]
["EMI Educa",246,0]
["Emily Dickinson Educational Center",308,6,1,5]
["Empire English Center",100,5,2,3]
["Escuela de Formación Profesional en Comercio Exterior y Aduana",9,0]
["Essential English Institute S.R.L ",250,3,3,0]
["\"Eureka\"  - Jonathan Miles Prentice Coe",94,19,10,9]
["Executive Uruguay",612,18,0,18]
[" Family English Institute",93,28,0,28]
["Gabriela Rodríguez Instituto de Inglés",69,2,0,2]
["Goethe-Institut Uruguay",1111,12,1,11]
["HEROL S.R.L. - CITEF",30,0]
["High Flyers Institute ",54,4,1,3]
["Highlands School Artigas",54,2,0,2]
["Highlands School Maldonado",51,3,1,2]
["Highlight Centre",90,2,1,1]
["ICEDU - Netwide SRL",58,4,4,0]
["IECO",116,5,0,5]
["INC English Services-Remedi Correa y Moscardi Garcia ",107,22,4,18]
["Instituto Brighton (Enseñanza de Inglés)",136,4,1,3]
["Instituto Cultural Anglo Uruguayo",2054,84,9,75]
["Instituto Cultural Anglo Uruguayo de Las Piedras",222,12,1,11]
["Insitutto Cultural Anglo Uruguayo de Rivera",497,12,0,12]
["Instituto Cultural Gaboto",1,0]
["Instituto de Inglés EPT",80,1,0,1]
["Instituto Dickens SRL",712,127,26,101]
["Instituto Evolución",53,2,0,2]
["Instituto Kolping",43,0]
["Instituto Lacuesta",36,0]
["Instituto Michigan",170,20,0,20]
["Instituto ORGI",3,0]
["Instituto Orwell",47,3,1,2]
["Instituto Tecnológico Ecilda Paullier",110,2,0,2]
["Instituto URUBRIT",73,2,1,1]
["Instituto Vinicius de Moraes",144,2,0,2]
["International House Montevideo",1100,38,13,25]
["Kent Institute",164,6,0,6]
["Kingston",32,2,0,2]
["Kingston Language Centre",102,1,0,1]
["Monaco Campos Verónica - IDE Institute",106,5,1,4]
["Mundo Informático",49,0]
["New School Institute",90,4,0,4]
["Patronato da Cultura Galega",30,{"$f":"SUM(D315+E315)","v":0}]
["Queen Victoria Institute",119,7,3,4]
["Ricardo Ravotto - IAC Capacitación",10,0]
["Saint Mary´s English School",81,2,0,2]
["Seaside English Center",55,1,0,1]
["Sociedad de Cultura Inglesa Anglo Florida",694,30,1,29]
["SUMMIT",169,8,4,4]
["The British Institute",210,4,0,4]
["The English Institute",69,13,0,13]
["UNI 3 Uruguay",264,0]
["Yes! Institute SRL",29,2,0,2]
["4D Content English",510,22,3,19]
["INFORMÁTICA",{"$f":"SUM(B328:B369)","v":12811},52,{"$f":"SUM(D328:D369)","v":21},{"$f":"SUM(E328:E369)","v":31}]
["Academia Alfa",56,0]
["Academia Giovannini",45,0]
["Academia ISEC (Sosa Banchero Ana Silvia)",45,0]
["Academia Wolf",25,0]
["Acción Promocional \"18 de Julio\"",116,0]
["CEI",60,0]
["Centro Juvenil Movimiento Volpe",24,0]
["CIEDUR",541,0]
["EMAUS Nuevo París",9,0]
["EMI Educa",424,0]
["Escuela Ma-Pa",93,0]
["Escuelas IADE",10,0]
["Fundación de Cultura Informática",36,0]
["Giazzu S.A",4772,0]
["Gustavo Antonio Perdomo Perez",67,0]
["HEROL S.R.L. - CITEF",85,0]
["ICEDU - Netwide SRL",56,0]
["IEAC Carmelo",54,0]
["INADI - Instituto Nacional de Informática",257,3,2,1]
["Informática 2000",106,2,1,1]
["Instituto de Enseñanza del Uruguay",41,0]
["Instituto Ganem",88,6,2,4]
["Instituto Mundo Nuevo",54,0]
["Instituto ORGI",12,0]
["Instituto Superior de Informática",776,11,4,7]
["Instituto Tecnológico CTC",29,0]
["MEGASOFT",4,1,0,1]
["Mundo Informático",150,0]
["Qualitas Red Tecnológica",255,3,0,3]
["Red Qualitas - Ciudad de la Costa",127,22,10,12]
["Red Qualitas Fray Bentos",197,3,1,2]
["RedQualitas Filial Tarariras",108,0]
["Ricardo Ravotto IAC Capacitación",325,0]
["SERPAJ",123,0]
["Silicomp Enseñanza",26,1,1,0]
["SUMMIT",51,0]
["Taller de Informática",205,0]
["Taller de Informática SRL",318,0]
["UNI 3 Uruguay",23,0]
["Unión Informática  LTDA.",347,0]
["Universidad de la Empresa",17,0]
["Universidad ORT del Uruguay",2654,0]
["LÚDICA",{"$f":"B371+B372","v":88},13,1,12]
["Club de Niños Los Caramelos",63,13,1,12]
["Centro Juvenil Movimiento Volpe",25,0]
["MARÍTIMA",{"$f":"SUM(B374:B374)","v":158},24,{"$f":"SUM(D374:D374)","v":24},{"$f":"SUM(E374:E374)","v":0}]
["Instituto de Capacitación - Centro de Navegación ",158,24,24,0]
["MEJORAMIENTO DE LAS CONDICIONES DE VIDA",{"$f":"SUM(B376:B378)","v":493},0]
["ITEM",20,0]
["Escuela Ma-Pa",57,0]
["UNI 3 Uruguay",416,0]
["METAL-MECÁNICA",{"$f":"SUM(B380:B383)","v":744},{"$f":"SUM(D379+E379)","v":0}]
["Academia Ailoma",12,0]
["Escuela Ma-Pa",426,0]
["Escuela IADE",254,0]
["Ricardo Ravotto IAC Capacitación",52,0]
["PROMOCIÓN COMUNITARIA",{"$f":"SUM(B385:B393)","v":713},6,1,5]
["Acción Promocional \"18 de Julio\"",116,0]
["Casa de la Mujer",250,0]
["Centro Juvenil Movimiento Volpe",25,0]
["El Abrojo",90,0]
["Instituto de Comunicación y Desarrollo (ICD)",21,6,1,5]
["Instituto Tecnologico del Uruguay ltda.",71,0]
["SERPAJ",50,0]
["UNI 3 Uruguay",70,0]
["Universidad ORT del Uruguay",20,0]
["SALUD, SEGURIDAD E HIGIENE",{"$f":"SUM(B395:B409)","v":2787},55,{"$f":"SUM(D395:D409)","v":12},{"$f":"SUM(E395:E409)","v":43}]
["Acción Promocional \"18 de Julio\"",13,0]
["Casa de la Mujer",27,0]
["Centro de Industriales Panaderos del Uruguay (CIPU)",98,0]
["CIEDUR",1082,0]
["Decker Insitutte",15,0]
["E.F.A.E.S.",111,11,0,11]
["Escuela de Auxiliares de Enfermeria y Servicios Tacuarembó",110,11,3,8]
["Escuela de Enfermería IDECAS",594,24,7,17]
["Escuela Ma-Pa",35,0]
["Escuela Montevideo de Enfermería ",342,1,0,1]
["Escuela Sacramento de Enfermería ",173,0]
["Fundación Centro de Educación Popular",40,6,1,5]
["Instituto Ametrano & Asociados",67,0]
["Instituto de Educación Centro DEI",66,2,1,1]
["Instituto Mundo Nuevo",14,0]
["SERVICIOS PERSONALES-ESTÉTICA",{"$f":"SUM(B411:B419)","v":1654},17,{"$f":"SUM(D411:D419)","v":0},{"$f":"SUM(E411:E419)","v":17}]
["Alta Capacitación Profesional",931,8,0,8]
["Centro Juvenil Movimiento Volpe",32,0]
["EMAUS Nuevo París",20,0]
["EMI Educa",44,0]
["Escuela de Capacitación SRL",257,9,0,9]
["Escuela Ma-Pa",214,0]
["Instituto Aldey",120,0]
["Instituto Cultural Gaboto",5,0]
["Instituto Kolping",31,0]
["TECNOLÓGICA",{"$f":"SUM(B421:B425)","v":209},2,2,0]
["Academia Ailoma",12,0]
["Cforma",31,2,2,0]
["Instituto de Enseñanza del Uruguay",8,0]
["Instituto Ametrano & Asociados",60,0]
["Universidad ORT del Uruguay",98,0]
["VESTIMENTA",{"$f":"SUM(B427:B430)","v":131},0,{"$f":"SUM(D427:D430)","v":0},{"$f":"SUM(E427:E430)","v":0}]
["Escuela Ma-Pa",83,0]
["Giazzu SA",28]
["Instituto Aldey",6,{"$f":"SUM(D429+E429)","v":0}]
["Instituto de Enseñanza del Uruguay",14,0]
["OTROS",{"$f":"SUM(B432:B477)","v":16520},246,{"$f":"SUM(D437:D477)","v":106},{"$f":"SUM(E432:E477)","v":140}]
["Academia Ailoma",42,0]
["Academia Giovannini",226,0]
["Academia ISEC (Sosa Banchero Ana Silvia)",5,0]
["Academia Wolf",41,0]
["Acción Promocional \"18 de Julio\"",137,0]
["Alianza Colonia",142,0]
["Alta Capacitación Profesional",44,0]
["AS.IM.SA",91,12,4,8]
["Asociación Canaria de Autismo y TGD Uruguay",33,10,1,9]
["Asociación Cultural y Técnica - CADI",34]
["Asociación Uruguaya de Ceremonial y Protocolo",81,{"$f":"SUM(D442+E442)","v":25},12,13]
["CEDIIAP",25,7,1,6]
["Centro Integral Iguazú",21,7,0,7]
["Centro Juvenil Movimiento Volpe",23,0]
["Cforma",112,0]
["CIEDUR",1013,0]
["Escuela de Formación Profesional en Comercio Exterior y Aduana",64,0]
["Escuela de Hotelería y Gastronomía Del Plata",50,0]
["Foto Club Uruguayo",618,9,7,2]
["Fundación Pablo de Tarso",75,0]
["FUNDASOL",4899,33,19,14]
["Giazzu SA",350,0]
["IETI Pinar",189,4,2,2]
["Instituto Aldey",70,0]
["Instituto Ciencias Exactas y Empresariales",878,9,5,4]
["Instituto Cultural Gaboto",148,0]
["Instituto de Capacitación - Centro de Navegación ",29,0]
["Instituto de Capacitación Empresarial (ICE) ",17,0]
["Instituto de Comunicación y Desarrollo (ICD)",100,0]
["Instituto de Enseñanza del Uruguay SA",14,0]
["Instituto de Enseñanza LC",19,0]
["Instituto Mundo Nuevo",74,0]
["Instituto ORGI",8,0]
["Instituto Uruguayo de Normas Técnicas - UNIT",4005,73,43,30]
["ITHU- Instituto Politécnico del Uruguay",96,0]
["Juventud para Cristo",39,0]
["ONG Manos Libres: Trabajo por la Inclusión Social",36,0]
["Patronato da Cultura Galega",72,0]
["Pitágoras Plot",28,0]
["Proyect Management Institute- Capitulo Montevideo",186,10,7,3]
["Queen Victoria Institute",13,0]
["REPAPEL",1480,10,4,6]
["Taller de Informática",18,0]
["Taller de Informática SRL",26,0]
["Taller Preescolar Chiquilladas",203,37,1,36]
["UNI 3 Uruguay",646,0]
["Fuente: Elaboración propia en base a la información del Relevamiento de Instituciones de Formación Técnico-Profesional. Realizado por el Área de Investigación y Estadística."]
["Nota: las instituciones seguidas de un asterisco es donde se suman la totalidad de docentes, ya que no se tiene la desagregación de los mismos por área de conocimiento"]

{"sheet":"II-8.4.2 ","index":274,"n_rows":109,"n_cols":5,"rows_kept":109,"cut":false,"hidden":false,"merged":[[0,2,1,3],[4,0,4,1],[5,0,5,1],[6,0,6,4],[103,0,103,4]]}
["MEC",null,"CENSO EDUCACIÓN TÉCNICA Y TECNOLÓGICA"]
["Área de Investigación y Estadística"]
[]
[]
[]
["Cuadro Nº II-8.4.2"]
["INGRESADOS, MATRÍCULA, DESVINCULADOS Y EGRESADOS DEL RELEVAMIENTO DE INSTITUCIONES DE FORMACIÓN TÉCNICO-PROFESIONAL SEGÚN REGIÓN Y ÁREAS DE CONOCIMIENTO. AÑO 2013."]
[]
["REGIÓN/AREAS DE CONOCIMENTO","INGRESADOS","MATRÍCULA","EGRESADOS","DESVINCULADOS"]
["TOTAL",{"$f":"B11+B39+B59+B69+B79+B95","v":78840},{"$f":"C11+C39+C59+C69+C79+C95","v":93228},{"$f":"D11+D39+D59+D69+D79+D95","v":58947},{"$f":"E11+E39+E59+E69+E79+E95","v":10283}]
["MONTEVIDEO",{"$f":"SUM(B12:B38)","v":61026},{"$f":"SUM(C12:C38)","v":71322},{"$f":"SUM(D12:D38)","v":42258},{"$f":"SUM(E12:E38)","v":8671}]
["Administración-Comercialización",8341,9570,6209,1072]
["Aeronáutica",34,36,32,2]
["Agraria",448,524,133,89]
["Animación Sociocultural",281,290,99,22]
["Artes-Artesanías",3036,4089,1192,789]
["Capacitaciones Laborales",2552,2645,2350,275]
["Comunicaciones",798,854,699,65]
["Construcción-Arquitectura",1250,1250,589,133]
["Deportes y Afines",745,720,349,125]
["Diseños",1602,1917,1089,348]
["Electrotecnia y Electrónica",347,360,257,77]
["Gastronomía",1715,1922,949,407]
["Gráficos",47,47,38,10]
["Hotelería y Turismo",819,879,722,72]
["Idiomas",13151,15247,11400,2512]
["Informática",7393,9792,4912,879]
["Lúdica",18,88,10,7]
["Marítima",184,187,159,12]
["Mejoramiento de las condiciones de vida",794,460,324,136]
["Metal-Mecánica",662,662,440,221]
["Promoción Comunitaria",500,502,266,48]
["Química",186,186,136,0]
["Salud, Seguridad e Higiene",2239,2594,1674,207]
["Servicios personales-Estética",1655,1599,1295,291]
["Tecnológica",113,189,72,20]
["Vestimenta",117,131,67,42]
["Otros",11999,14582,6796,810]
["REGIÓN SUR",{"$f":"SUM(B40:B58)","v":9979},{"$f":"SUM(C40:C58)","v":11884},{"$f":"SUM(D40:D58)","v":8332},{"$f":"SUM(E40:E58)","v":910}]
["Administración-Comercialización",913,905,574,220]
["Aeronáutica",182,160,143,18]
["Agraria",70,70,66,5]
["Artes-Artesanías",70,111,41,8]
["Capacitaciones Laborales",630,708,628,72]
["Deportes y Afines",256,275,250,100]
["Diseños",261,298,187,53]
["Gastronomía",230,230,136,22]
["Hotelería y Turismo",42,41,34,1]
["Idiomas",2818,4032,2354,141]
["Informática",1708,1875,1233,144]
["Mejoramiento de las condiciones de vida",20,20,19,1]
["Metal-Mecánica",66,72,14,6]
["Promoción Comunitaria",150,211,119,20]
["Química",25,25,25,0]
["Salud, Seguridad e Higiene",283,359,189,43]
["Servicios personales-Estética",55,55,53,2]
["Tecnológica",20,20,15,5]
["Otros",2180,2417,2252,49]
["REGIÓN ESTE",{"$f":"SUM(B60:B68)","v":746},{"$f":"SUM(C60:C68)","v":827},691,{"$f":"SUM(E60:E68)","v":48}]
["Administración-Comercialización",5,5,5,0]
["Agraria",24,24,22,2]
["Capacitaciones Laborales",101,101,79,22]
["Diseños",9,9,6,1]
["Gastronomía",38,38,15,4]
["Hotelería y Turismo",16,0,0,0]
["Idiomas",149,306,225,16]
["Informática",85,85,80,3]
["Otros",319,259,259,0]
["REGIÓN CENTRAL",{"$f":"SUM(B70:B78)","v":2332},{"$f":"SUM(C70:C78)","v":2425},{"$f":"SUM(D70:D78)","v":2093},{"$f":"SUM(E70:E78)","v":60}]
["Administración-Comercialización",90,90,56,0]
["Agraria",150,150,145,5]
["Artes-Artesanías",12,12,12,0]
["Capacitaciones Laborales",205,107,105,2]
["Comunicaciones",20,20,16,16]
["Gastronomía",6,6,6,0]
["Idiomas",820,868,857,9]
["Salud, Seguridad e Higiene",110,110,37,17]
["Otros",919,1062,859,11]
["REGIÓN LITORAL",{"$f":"SUM(B80:B94)","v":2785},{"$f":"SUM(C80:C94)","v":3997},{"$f":"SUM(D80:D94)","v":3412},{"$f":"SUM(E80:E94)","v":462}]
["Administración-Comercialización",247,244,189,42]
["Agraria",180,180,155,25]
["Artes-Artesanías",148,507,448,59]
["Capacitaciones Laborales",55,55,41,14]
["Comunicaciones",78,78,68,10]
["Construcción-Arquitectura",20,20,0,0]
["Deportes y Afines",18,67,51,16]
["Diseños",8,0,7,1]
["Electrotecnia y Electrónica",19,19,15,4]
["Idiomas",544,1059,1067,49]
["Informática",820,999,756,220]
["Mejoramiento de las condiciones de vida",13,13,5,8]
["Metal-Mecánica",10,10,10,0]
["Salud, Seguridad e Higiene",14,14,14,0]
["Otros",611,732,586,14]
["REGIÓN NORTE",{"$f":"SUM(B96:B103)","v":1972},{"$f":"SUM(C96:C103)","v":2773},{"$f":"SUM(D96:D103)","v":2161},{"$f":"SUM(E96:E103)","v":132}]
["Administración-Comercialización",46,44,44,2]
["Agraria",27,27,20,7]
["Artes-Artesanías",74,110,78,32]
["Capacitaciones Laborales",74,74,58,16]
["Comunicaciones",18,18,15,3]
["Idiomas",633,1403,849,69]
["Informática",91,88,88,3]
["Otros",1009,1009,1009,0]
["Fuente: Elaboración propia en base a la información del Relevamiento de Instituciones de Formación Técnico-Profesional. Realizado por el Área de Investigación y Estadística."]
["Nota: Región Sur: Canelones, Colonia, Maldonado y San José"]
["Región Este: Lavalleja, Rocha y Treinta y Tres"]
["Región Central: Durazno, Florida y Tacuarembó"]
["Región Litoral: Flores, Paysandú, Río Negro, Salto y Soriano"]
["Región Norte: Artigas, Cerro Largo y Rivera"]